{"text_format":"1","workbook":"xlsx","n_sheets":17,"sheets":["Users Manual","Flugdurchführungsplan (n. DFS)","Flugdurchführungsplan (schmal)","Flugzeuge","W&B C172 N","Startstrecke C172 N","W&B C172 P","Startstrecke C172 P","Startstrecke C172 S","W&B C152","Startstrecke C152","W&B C172 S","Sonnenuntergang","Flugplätze","Funknavigation","Funknav Auswahl","Morse"],"not_rendered":{"charts":16,"images":1,"macros":1,"external_links":0,"defined_names":120,"comments":0,"pivot_tables":0},"unopened":[],"bounds":{"document_bytes":16777216,"sheet_cells":100000,"rows_first":2000,"rows_last":500,"rows_between":2000,"halvings":0,"cell_chars":16384,"cell_head_chars":4096},"cells_cut":0,"cells_raw":0,"read":"whole","date_system":"1900"}

{"sheet":"Users Manual","index":0,"n_rows":27,"n_cols":2,"rows_kept":27,"cut":false,"hidden":false,"merged":[]}
["Bedienungsanleitung / Users Manual"]
[]
["Beschreibung der einzelnen Sheets:"]
["Flugdurchführungsplan","Flight Log im DFS Format - in diesem sheet werden die Daten der Flugplanung eingegeben"]
["Flugdurchführungsplan schmal","Flight Log im DIN A5 Format, passend fürs Kniebrett, hier können/sollen nur bei 'Bemerkungen' Eingaben gemacht werden "]
["Flugzeuge","Um den Funktionsumfang voll zu nutzen, sollte das verwendete Flugzeug in diesem sheet mit allen Daten angelegt sein"]
["W&B C172 N","Weight & Balance Berechnung; die Daten werden - ja nach Flugzeugauswahl - im Flight Log verwendet"]
["Startstrecke C 172 N","Startstreckenberechnung; die Daten werden - ja nach Flugzeugauswahl - im Flight Log verwendet"]
["W&B C172 P","dito"]
["Startstrecke C 172 P","dito"]
["W&B C172 S","dito"]
["Startstrecke C 172 S","dito"]
["W&B C152","dito"]
["Startstrecke C 152","dito"]
[]
["Anleitung"]
["1. Verwendetes Flugzeug in 'Flugzeuge' anlegen, inkl. Kennzeichen, Basisdaten und Zuordnung der W&B sowie Startstreckenberechnung. Hierfür ab Spalte Z mit '=Z…' aus der Berechnungszeile unten verlinken. "]
["2. Im 'Flugdurchführungsplan' ganz normal den Flug planen, beginnend mit Start und Zielflughafen lt ICAO (4-Buchstaben-Kürzel) und Flugzeugkennzeichen"]
["3. W&B-Berechnung im zugehörigen Sheet vornehmen (das Flugzeugkennzeichen/Flugzeug muss hierfür im 'Flugdurchführungsplan' ausgewählt sein)"]
["4. Startstreckenberechnung im zugehörigen Sheet durchführen (das Flugzeugkennzeichen/Flugzeug muss hierfür im 'Flugdurchführungsplan' ausgewählt sein, W&B muss berechnet sein)"]
["5. Eingaben prüfen, Plausibilitätscheck bei allen Rechenergebnissen durchführen"]
["6. Drucken: Flugdurchführungsplan, Startstreckenberechnung, W&B"]
[]
["Bemerkungen:"]
["Im 'Flugdurchführungsplan (n. DFS)' sind alle berechneten/automatischen Werte rot, alle Eingaben dunkelblau"]
["Im 'Flugdurchführungsplan (schmal)' sind alle Eingaben und Berechnungen dunkelblau"]
["Die Sheets sind im allgemeinen so angelegt, dass man fehlende Informationen auch handschriftlich nachtragen kann, berechenbare Felder aber dennoch berechnet werden"]

{"sheet":"Flugdurchführungsplan (n. DFS)","index":1,"n_rows":102,"n_cols":51,"rows_kept":102,"cut":false,"hidden":false,"merged":[[17,46,17,49],[19,50,20,50],[21,50,22,50],[23,50,24,50],[25,50,26,50],[27,50,28,50],[29,50,30,50],[31,50,32,50],[33,50,34,50],[35,50,36,50],[37,50,38,50],[39,50,40,50],[41,50,42,50],[43,50,44,50],[45,50,46,50],[47,50,48,50],[49,50,50,50],[51,50,52,50],[53,50,54,50],[55,50,56,50],[57,50,58,50],[59,50,60,50],[61,50,62,50],[63,41,63,44],[64,41,64,44],[65,41,65,44],[66,41,66,44],[55,45,56,45],[57,45,58,45],[59,45,60,45],[55,41,56,44],[57,41,58,44],[59,41,60,44],[61,41,62,44],[61,45,62,45],[67,41,67,44],[68,41,68,44],[69,41,69,44],[98,2,99,2],[98,3,98,4],[98,7,98,8],[98,9,98,10],[98,19,98,20],[99,3,99,4],[99,7,99,8],[99,9,99,10],[99,19,99,20],[96,3,96,4],[96,7,96,8],[96,9,96,10],[96,19,96,20],[97,2,97,5],[97,7,97,8],[97,9,97,10],[97,19,97,20],[94,3,94,4],[94,7,94,8],[94,9,94,10],[94,19,94,20],[95,3,95,4],[95,7,95,8],[95,9,95,10],[95,19,95,20],[92,3,92,4],[92,7,92,8],[92,9,92,10],[92,19,92,20],[93,3,93,4],[93,7,93,8],[93,9,93,10],[93,19,93,20],[90,3,90,4],[90,7,90,8],[90,9,90,10],[90,19,90,20],[91,3,91,4],[91,7,91,8],[91,9,91,10],[91,19,91,20],[88,3,88,4],[88,7,88,8],[88,9,88,10],[88,19,88,20],[89,3,89,4],[89,7,89,8],[89,9,89,10],[89,19,89,20],[81,31,81,36],[82,3,82,4],[82,5,82,6],[82,7,82,8],[82,9,82,10],[82,24,82,25],[82,28,82,30],[82,31,82,36],[81,3,81,4],[81,5,81,6],[81,7,81,8],[81,9,81,10],[81,24,81,25],[81,28,81,30],[79,7,79,8],[79,9,79,10],[79,24,79,25],[79,26,79,27],[79,28,79,30],[84,7,84,8],[87,3,87,4],[87,7,87,8],[87,9,87,10],[87,19,87,20],[85,7,85,20],[87,22,87,25],[64,2,64,36],[65,2,65,36],[66,2,66,36],[55,23,56,23],[55,24,56,24],[55,25,56,25],[55,26,56,26],[55,27,56,27],[55,28,56,28],[55,17,56,17],[55,18,56,18],[55,19,56,19],[55,20,56,20],[55,21,56,21],[55,22,56,22],[55,9,56,9],[55,10,56,10],[55,11,56,11],[55,12,56,12],[55,15,56,15],[55,16,56,16],[55,2,56,2],[55,3,56,3],[55,5,56,5],[55,6,56,6],[55,7,56,7],[55,8,56,8],[51,27,52,27],[51,28,52,28],[51,33,52,36],[55,30,56,30],[55,31,56,31],[55,33,56,36],[52,1,53,1],[52,2,53,2],[52,3,53,3],[52,30,53,30],[52,31,53,31],[51,21,52,21],[51,22,52,22],[51,23,52,23],[51,24,52,24],[51,25,52,25],[51,26,52,26],[51,15,52,15],[51,16,52,16],[51,17,52,17],[51,18,52,18],[51,19,52,19],[51,20,52,20],[51,7,52,7],[51,8,52,8],[51,9,52,9],[51,10,52,10],[51,11,52,11],[51,12,52,12],[49,27,50,27],[49,28,50,28],[49,33,50,36],[50,1,51,1],[50,2,51,2],[50,3,51,3],[50,30,51,30],[50,31,51,31],[51,5,52,5],[51,6,52,6],[49,21,50,21],[49,22,50,22],[49,23,50,23],[49,24,50,24],[49,25,50,25],[49,26,50,26],[49,15,50,15],[49,16,50,16],[49,17,50,17],[49,18,50,18],[49,19,50,19],[49,20,50,20],[49,7,50,7],[49,8,50,8],[49,9,50,9],[49,10,50,10],[49,11,50,11],[49,12,50,12],[47,27,48,27],[47,28,48,28],[47,33,48,36],[47,12,48,12],[48,1,49,1],[48,2,49,2],[48,3,49,3],[48,30,49,30],[48,31,49,31],[49,5,50,5],[49,6,50,6],[47,21,48,21],[47,22,48,22],[47,23,48,23],[47,24,48,24],[47,25,48,25],[47,26,48,26],[47,15,48,15],[47,16,48,16],[47,17,48,17],[47,18,48,18],[47,19,48,19],[47,20,48,20],[47,7,48,7],[47,8,48,8],[47,9,48,9],[47,10,48,10],[47,11,48,11],[45,27,46,27],[45,10,46,10],[45,11,46,11],[45,12,46,12],[45,14,46,14],[47,14,48,14],[45,28,46,28],[45,33,46,36],[46,1,47,1],[46,2,47,2],[46,3,47,3],[46,30,47,30],[46,31,47,31],[47,5,48,5],[47,6,48,6],[45,21,46,21],[45,22,46,22],[45,23,46,23],[45,24,46,24],[45,25,46,25],[45,26,46,26],[45,15,46,15],[45,16,46,16],[45,17,46,17],[45,18,46,18],[45,19,46,19],[45,20,46,20],[45,7,46,7],[45,8,46,8],[45,9,46,9],[43,27,44,27],[43,28,44,28],[43,33,44,36],[44,1,45,1],[44,2,45,2],[44,3,45,3],[44,30,45,30],[44,31,45,31],[45,5,46,5],[45,6,46,6],[43,21,44,21],[43,22,44,22],[43,23,44,23],[43,24,44,24],[43,25,44,25],[43,26,44,26],[43,15,44,15],[43,16,44,16],[43,17,44,17],[43,18,44,18],[43,7,44,7],[43,8,44,8],[43,9,44,9],[43,10,44,10],[43,11,44,11],[43,12,44,12],[41,26,42,26],[41,9,42,9],[41,10,42,10],[41,11,42,11],[41,13,42,13],[43,13,44,13],[43,14,44,14],[41,33,42,36],[42,2,43,2],[42,3,43,3],[42,30,43,30],[42,31,43,31],[43,5,44,5],[43,6,44,6],[41,20,42,20],[41,21,42,21],[41,22,42,22],[41,23,42,23],[41,24,42,24],[41,25,42,25],[41,12,42,12],[41,15,42,15],[41,16,42,16],[41,17,42,17],[41,18,42,18],[41,19,42,19],[41,6,42,6],[41,7,42,7],[41,8,42,8],[43,19,44,19],[43,20,44,20],[40,2,41,2],[40,3,41,3],[40,30,41,30],[40,31,41,31],[41,5,42,5],[39,19,40,19],[39,20,40,20],[39,21,40,21],[39,22,40,22],[39,23,40,23],[39,24,40,24],[39,11,40,11],[39,12,40,12],[39,15,40,15],[39,16,40,16],[39,17,40,17],[39,18,40,18],[39,5,40,5],[39,6,40,6],[41,27,42,27],[41,28,42,28],[39,8,40,8],[39,9,40,9],[39,10,40,10],[37,25,38,25],[37,26,38,26],[37,27,38,27],[37,28,38,28],[37,33,38,36],[39,25,40,25],[39,26,40,26],[39,27,40,27],[39,28,40,28],[39,33,40,36],[38,1,39,1],[38,2,39,2],[38,3,39,3],[38,30,39,30],[38,31,39,31],[37,19,38,19],[37,20,38,20],[37,21,38,21],[37,22,38,22],[37,23,38,23],[37,24,38,24],[37,11,38,11],[37,12,38,12],[37,15,38,15],[37,16,38,16],[37,17,38,17],[37,18,38,18],[37,5,38,5],[37,6,38,6],[37,7,38,7],[37,8,38,8],[37,9,38,9],[37,10,38,10],[39,7,40,7],[33,33,34,36],[35,25,36,25],[35,26,36,26],[35,27,36,27],[35,28,36,28],[35,33,36,36],[36,1,37,1],[36,2,37,2],[36,3,37,3],[36,30,37,30],[36,31,37,31],[35,19,36,19],[35,20,36,20],[35,21,36,21],[35,22,36,22],[35,23,36,23],[35,24,36,24],[35,11,36,11],[35,12,36,12],[35,15,36,15],[35,16,36,16],[35,17,36,17],[35,18,36,18],[35,5,36,5],[34,1,35,1],[34,2,35,2],[30,3,31,3],[29,5,30,5],[34,30,35,30],[34,31,35,31],[33,19,34,19],[33,20,34,20],[33,21,34,21],[33,22,34,22],[33,23,34,23],[33,24,34,24],[33,11,34,11],[33,12,34,12],[33,15,34,15],[33,16,34,16],[33,17,34,17],[33,18,34,18],[33,25,34,25],[33,26,34,26],[33,27,34,27],[33,28,34,28],[34,3,35,3],[33,5,34,5],[33,6,34,6],[33,7,34,7],[33,8,34,8],[33,9,34,9],[33,10,34,10],[35,7,36,7],[35,6,36,6],[35,8,36,8],[35,9,36,9],[35,10,36,10],[29,33,30,36],[31,25,32,25],[31,26,32,26],[31,27,32,27],[31,28,32,28],[31,33,32,36],[32,1,33,1],[32,2,33,2],[32,3,33,3],[32,30,33,30],[32,31,33,31],[31,19,32,19],[31,20,32,20],[31,21,32,21],[31,22,32,22],[31,23,32,23],[31,24,32,24],[31,11,32,11],[31,12,32,12],[31,15,32,15],[31,16,32,16],[31,17,32,17],[31,18,32,18],[31,5,32,5],[30,30,31,30],[30,31,31,31],[29,19,30,19],[29,20,30,20],[29,21,30,21],[29,22,30,22],[29,23,30,23],[29,24,30,24],[29,11,30,11],[29,12,30,12],[29,15,30,15],[29,16,30,16],[29,17,30,17],[29,18,30,18],[28,30,29,30],[28,31,29,31],[29,27,30,27],[29,28,30,28],[29,25,30,25],[29,26,30,26],[29,13,30,13],[31,13,32,13],[30,1,31,1],[26,1,27,1],[26,2,27,2],[25,8,26,8],[25,9,26,9],[25,10,26,10],[27,7,28,7],[29,6,30,6],[29,7,30,7],[29,8,30,8],[29,9,30,9],[29,10,30,10],[30,2,31,2],[31,7,32,7],[31,6,32,6],[31,8,32,8],[31,9,32,9],[31,10,32,10],[28,1,29,1],[28,2,29,2],[28,3,29,3],[27,5,28,5],[25,33,26,36],[27,25,28,25],[27,26,28,26],[27,27,28,27],[27,28,28,28],[27,33,28,36],[27,6,28,6],[27,8,28,8],[27,9,28,9],[27,10,28,10],[27,19,28,19],[27,20,28,20],[27,21,28,21],[27,22,28,22],[27,23,28,23],[27,24,28,24],[27,11,28,11],[27,12,28,12],[27,15,28,15],[27,16,28,16],[27,17,28,17],[27,18,28,18],[25,13,26,13],[27,13,28,13],[22,1,23,1],[22,2,23,2],[26,3,27,3],[26,30,27,30],[26,31,27,31],[25,19,26,19],[25,20,26,20],[25,21,26,21],[25,22,26,22],[25,23,26,23],[25,24,26,24],[25,11,26,11],[25,12,26,12],[25,15,26,15],[25,16,26,16],[25,17,26,17],[25,18,26,18],[25,5,26,5],[25,6,26,6],[25,7,26,7],[25,25,26,25],[25,26,26,26],[25,27,26,27],[25,28,26,28],[21,33,22,36],[23,25,24,25],[23,26,24,26],[23,27,24,27],[23,28,24,28],[23,33,24,36],[24,1,25,1],[24,2,25,2],[24,3,25,3],[24,30,25,30],[24,31,25,31],[23,19,24,19],[23,20,24,20],[23,21,24,21],[23,22,24,22],[23,23,24,23],[23,24,24,24],[23,11,24,11],[23,12,24,12],[23,15,24,15],[23,16,24,16],[23,17,24,17],[23,18,24,18],[23,5,24,5],[21,5,22,5],[21,6,22,6],[21,7,22,7],[21,8,22,8],[21,9,22,9],[21,10,22,10],[23,7,24,7],[21,25,22,25],[21,26,22,26],[23,6,24,6],[23,8,24,8],[23,9,24,9],[23,10,24,10],[22,31,23,31],[21,19,22,19],[21,20,22,20],[21,21,22,21],[21,22,22,22],[21,23,22,23],[21,24,22,24],[21,11,22,11],[21,12,22,12],[21,15,22,15],[21,16,22,16],[21,17,22,17],[21,18,22,18],[21,13,22,13],[23,13,24,13],[21,14,22,14],[23,14,24,14],[20,1,21,1],[20,2,21,2],[20,3,21,3],[20,30,21,30],[20,31,21,31],[19,19,20,19],[19,20,20,20],[19,21,20,21],[19,22,20,22],[19,23,20,23],[19,24,20,24],[19,11,20,11],[19,12,20,12],[19,15,20,15],[19,16,20,16],[19,17,20,17],[19,18,20,18],[18,1,19,1],[18,2,19,2],[18,3,19,3],[21,27,22,27],[21,28,22,28],[22,3,23,3],[22,30,23,30],[19,5,20,5],[19,6,20,6],[19,7,20,7],[19,8,20,8],[19,9,20,9],[19,10,20,10],[14,34,14,35],[15,2,15,33],[16,2,17,2],[16,5,17,5],[16,6,17,6],[16,7,17,7],[16,8,16,9],[16,30,16,31],[16,32,16,36],[19,25,20,25],[19,26,20,26],[19,27,20,27],[19,28,20,28],[19,33,20,36],[17,33,17,34],[19,13,20,13],[19,14,20,14],[14,4,14,5],[12,8,12,9],[12,19,12,21],[12,25,12,31],[13,19,13,21],[13,25,13,31],[14,19,14,21],[14,25,14,31],[9,2,9,25],[9,28,9,31],[10,2,10,25],[10,28,10,31],[12,4,12,5],[13,4,13,5],[10,34,10,36],[5,2,5,36],[6,26,6,30],[6,33,6,35],[8,2,8,25],[8,28,8,31],[8,34,8,36],[7,33,7,34],[7,2,7,4],[7,5,7,8],[7,9,7,20],[6,9,6,20],[6,5,6,8],[6,21,6,23],[7,26,7,29],[3,21,3,23],[3,24,3,26],[0,2,0,3],[0,5,0,6],[0,7,0,8],[3,5,3,8],[3,9,3,20],[4,24,4,25],[4,10,4,19],[4,6,4,7],[4,22,4,23],[4,2,4,4],[3,2,3,3],[37,41,38,44],[39,41,40,44],[41,41,42,44],[43,41,44,44],[45,41,46,44],[47,41,48,44],[49,41,50,44],[51,41,52,44],[53,41,54,44],[37,46,38,49],[39,46,40,49],[41,46,42,49],[43,46,44,49],[45,46,46,49],[47,46,48,49],[49,46,50,49],[51,46,52,49],[19,46,20,49],[21,46,22,49],[23,46,24,49],[25,46,26,49],[27,46,28,49],[29,46,30,49],[31,46,32,49],[33,46,34,49],[35,46,36,49],[37,45,38,45],[39,45,40,45],[41,45,42,45],[43,45,44,45],[45,45,46,45],[47,45,48,45],[49,45,50,45],[51,45,52,45],[53,45,54,45],[19,41,20,44],[21,41,22,44],[23,41,24,44],[25,41,26,44],[27,41,28,44],[29,41,30,44],[31,41,32,44],[33,41,34,44],[35,41,36,44],[19,45,20,45],[21,45,22,45],[23,45,24,45],[25,45,26,45],[27,45,28,45],[29,45,30,45],[31,45,32,45],[33,45,34,45],[35,45,36,45],[57,39,58,39],[59,39,60,39],[61,39,62,39],[19,40,20,40],[21,40,22,40],[23,40,24,40],[25,40,26,40],[27,40,28,40],[29,40,30,40],[31,40,32,40],[33,40,34,40],[35,40,36,40],[37,40,38,40],[57,40,58,40],[59,40,60,40],[61,40,62,40],[39,40,40,40],[41,40,42,40],[43,40,44,40],[45,40,46,40],[47,40,48,40],[49,40,50,40],[51,40,52,40],[37,39,38,39],[3,28,3,31],[4,29,4,31],[53,40,54,40],[55,40,56,40],[55,39,56,39],[39,39,40,39],[41,39,42,39],[43,39,44,39],[45,39,46,39],[47,39,48,39],[49,39,50,39],[51,39,52,39],[53,39,54,39],[19,39,20,39],[21,39,22,39],[23,39,24,39],[25,39,26,39],[27,39,28,39],[29,39,30,39],[31,39,32,39],[33,39,34,39],[35,39,36,39],[9,34,9,36],[18,33,18,36],[25,14,26,14],[27,14,28,14],[29,14,30,14],[31,14,32,14],[33,14,34,14],[35,14,36,14],[37,14,38,14],[39,14,40,14],[41,14,42,14],[49,14,50,14],[51,14,52,14],[55,14,56,14],[33,13,34,13],[35,13,36,13],[37,13,38,13],[39,13,40,13],[45,13,46,13],[47,13,48,13],[49,13,50,13],[51,13,52,13],[55,13,56,13],[97,22,97,25],[98,22,98,25],[99,22,99,25],[60,7,60,8],[61,7,61,8],[60,9,60,10],[61,9,61,10],[88,22,88,25],[89,22,89,25],[90,22,90,25],[91,22,91,25],[92,22,92,25],[93,22,93,25],[94,22,94,25],[95,22,95,25],[96,22,96,25],[67,2,67,36],[68,2,68,36],[69,2,69,36],[72,3,72,36],[73,2,73,36],[74,2,74,36],[79,31,79,36],[80,3,80,4],[60,3,60,5],[61,3,61,5],[61,23,61,24],[61,28,61,30],[87,35,87,36],[87,33,87,34],[87,30,87,32],[87,26,87,29],[88,26,88,29],[88,33,88,34],[85,26,85,32],[85,33,85,36],[85,22,85,25],[80,5,80,6],[80,7,80,8],[80,9,80,10],[80,24,80,25],[80,28,80,30],[80,31,80,36],[75,2,75,36],[76,2,76,36],[77,2,77,36],[79,3,79,4],[79,5,79,6],[98,26,98,29],[99,26,99,29],[88,30,88,32],[89,30,89,32],[91,30,91,32],[92,30,92,32],[93,30,93,32],[94,30,94,32],[95,30,95,32],[96,30,96,32],[97,30,97,32],[98,30,98,32],[99,30,99,32],[90,26,90,32],[89,26,89,29],[91,26,91,29],[92,26,92,29],[93,26,93,29],[94,26,94,29],[95,26,95,29],[96,26,96,29],[97,26,97,29],[98,33,98,34],[99,33,99,34],[88,35,88,36],[89,35,89,36],[91,35,91,36],[92,35,92,36],[93,35,93,36],[94,35,94,36],[95,35,95,36],[96,35,96,36],[97,35,97,36],[98,35,98,36],[99,35,99,36],[90,33,90,36],[89,33,89,34],[91,33,91,34],[92,33,92,34],[93,33,93,34],[94,33,94,34],[95,33,95,34],[96,33,96,34],[97,33,97,34]]}
[null,null,{"$f":"TODAY()","v":"2018-02-12"},null,null,{"$f":"C1+1","v":"2018-02-13"},null,{"$f":"Sonnenuntergang!D21","v":"Datum fehlt!"}]
[]
[null,null,"F l u g d u r c h f ü h r u n g s p l a n       /       F l i g h t    L o g",null,null,null,null,null,null,null,null,null,null,null,null,null,null,null,null,null,null,null,null,null,null,null,null,null,null,null,null,null,null,null,null,null,"Seite 1"]
[null,null,null,null,null,null,null,null,null,null,null,null,null,null,null,null,null,null,null,null,null,{"$f":"IF(ISERROR(VLOOKUP('Flugdurchführungsplan (n. DFS)'!Y4,Flugzeuge!$B$6:$X$40,2,FALSE)),\"\",VLOOKUP('Flugdurchführungsplan (n. DFS)'!Y4,Flugzeuge!$B$6:$X$40,2,FALSE))","v":""},null,null,null,null,null,null,"Markus Born"]
[null,null,"Datum:",null,null,"von:",{"$f":"IF(ISERROR(Flugplätze!AE4),\"\",Flugplätze!AE4)","v":""},null,{"$f":"IF(ISERROR(Flugplätze!AB6),\"\",\"(\"&Flugplätze!AB6&\" ft)\")","v":""},{"$f":"\"nach:  \"&IF(ISERROR(Flugplätze!AJ4),\"\",Flugplätze!AJ4)","v":"nach:  "},{"$f":"IF(ISERROR(Flugplätze!AJ4),\"\",Flugplätze!AJ4)","v":""},null,null,null,null,null,null,null,null,null,{"$f":"IF(ISERROR(Flugplätze!AG6),\"\",\"(\"&Flugplätze!AG6&\" ft)\")","v":""},"LFZ-Muster",{"$f":"IF(Y4=\"\",\"\",IF(ISERROR(VLOOKUP('Flugdurchführungsplan (n. DFS)'!Y4,Flugzeuge!$B$6:$X$40,2,FALSE)),\"(nicht bekannt)\",\"\"))","v":""},null,"LFZ-Kennzeichen",null,null,null,"Pilot",null,null,null,null,{"$f":"IF(IFERROR(Flugplätze!AD25,1)=1,\"\",\"Distance =\")","v":""},{"$f":"IF(IFERROR(Flugplätze!AD25,1)=1,\"\",Flugplätze!AD25)","v":""},{"$f":"IF(IFERROR(Flugplätze!AD26,1)=1,\"\",\"TC =\")","v":""},{"$f":"IF(IFERROR(Flugplätze!AD26,1)=1,\"\",Flugplätze!AD26)","v":""}]
[]
[null,null,"Freigaben / Wetter / Info ",null,null,null,null,null,null,null,null,null,null,null,null,null,null,null,null,null,null,null,null,null,null,null,"Frequenzen/Frequencies\nStartflugplatz / AD of Departure",null,null,null,null,{"$f":"IF(F4<>\"\",F4&\"\n\"&G5,\"\")","v":""},null,"Frequenzen/Frequencies\nZielflugplatz / Destination",null,null,{"$f":"IF(J4<>\"\",J4&\" \n\"&K5,\"\")","v":""}]
[null,null,{"$f":"IF(Flugplätze!AN7<>\"\",Flugplätze!AO4&\" ATIS: \"&Flugplätze!AN7&\" MHz\",\"\")","v":""},null,null,{"$f":"IF(Flugplätze!AD7<>\"\",Flugplätze!AE4&\" ATIS: \"&Flugplätze!AD7&\" MHz\",\"\")","v":""},null,null,null,{"$f":"IF(Flugplätze!AI7<>\"\",Flugplätze!AJ4&\" ATIS: \"&Flugplätze!AI7&\" MHz\",\"\")","v":""},null,null,null,null,null,null,null,null,null,null,null,null,null,null,null,null,{"$f":"IF(ISERROR(Flugplätze!AB7),\"\",Flugplätze!AB7)","v":""},null,null,null,{"$f":"IF(ISERROR(Flugplätze!AD6),\"\",Flugplätze!AD6)","v":""},{"$f":"IF(AE8<>\"\",\"MHz\",\"\")","v":""},null,{"$f":"IF(ISERROR(Flugplätze!AG7),\"\",Flugplätze!AG7)","v":""},null,{"$f":"IF(ISERROR(Flugplätze!AI6),\"\",Flugplätze!AI6)","v":""},{"$f":"IF(AJ8<>\"\",\"MHz\",\"\")","v":""}]
[null,null,"München Information (Süd) 126.950  / München Information (Nord) 120.650  /  Notfrequenz 121.500  /  alle Militär-Tower 122.100   ",null,null,null,null,null,null,null,null,null,null,null,null,null,null,null,null,null,null,null,null,null,null,null,"Rollkontr. /\nGround",null,null,null,null,null,null,"Rollkontr. /\nGround"]
[null,null,"ATIS München 123.125  /  ATIS Augsburg 124.575",null,null,null,null,null,null,null,null,null,null,null,null,null,null,null,null,null,null,null,null,null,null,null,"Turm/\nTWR",null,null,null,null,null,null,"Turm/\nTWR"]
[null,null,null,null,null,null,null,null,null,null,null,null,null,null,null,null,null,null,null,null,null,null,null,null,null,null,"INFO",null,null,null,null,null,null,"INFO"]
[]
[null,null,"ATIS Platzwetter","Code","Startbahn\nRunway in use",null,"Überg. FL\nTrans. FL","Zeit\nTime (UTC)","Wind\nDirection / Speed",null,"Sicht\nVisibility",null,null,null,null,null,null,null,null,"Wolken\nClouds",null,null,"Temp.\n","Taupunkt\nDew Point","QNH","Tendenz/Weitere Informationen",null,null,null,null,null,null,null,"EDT",null,"ATD"]
[null,null,null,null,null,null,null,null,null,null,null,null,null,null,null,null,null,null,null,null,null,null,null,null,null,null,null,null,null,null,null,null,null,"ETA",{"$f":"IF(AI13<>\"\",AI13+TIME(0,ROUNDUP(AB18,0),0),\"\")","v":""},"ATA"]
[null,null,null,null,null,null,null,null,null,null,null,null,null,null,null,null,null,null,null,null,null,null,null,null,null,null,null,null,null,null,null,null,null,"SS:",null,null,{"$f":"\"(UTC\"&IF(K5<>\"\",\" in \"&J4,\"\")&\")\"","v":"(UTC)"}]
[]
[null,null,"Startflugplatz / Kontrollpunkt \n\nAerodrome of Departure / Check Point","VOR, NDB",null,"Sicherh.-\nhöhe\nSafe Alt.","Gepl. Flugh. \no. FL\nPlanned Cruis. Alt.","VE\n\nTAS","Wind",null,"rwK \n\nTC","Zeit im Steigflug","Zeit im Reiseflug","Zeit im Steigflug OHNE Wind","Zeit im Reiseflug OHNE WIND","Windwinkel","Cross Wind component","Headwind Component","TH","L\n\nWCA","MW\n\nVAR\n","mwST\n\nMH","mwK\n\nMC","Entf.\n\nDistance","Entf.\ngesamt Distance\naccum.","VG\n\nGS","Zeiten\nAbschn.\nTimes\nLeg",null,"Zeiten\ngesamt\nTimes\naccum.",null,{"$f":"D100","v":"0 : 10 "},null,"Sichere Flugzeit\nmax. Flugzeit minus 30 Min."]
[null,null,null,null,null,null,null,null,"Direction","Speed",null,"AUSBLENDEN",null,"AUSBLENDEN",null,"AUSBLENDEN",null,"AUSBLENDEN",null,null,null,null,null,null,{"$f":"IF(SUM(X20:X53)<>0,SUM(X20:X53),\"\")","v":""},null,null,{"$f":"SUM(AA20:AA53)","v":0},{"$f":"IF(AND(AB18<>\"\",ISNUMBER(AB18),AA20<>\"\"),ROUNDDOWN((AB18)/60,0)&\" : \"&IF(ROUNDUP(MOD(AB18,60),0)<10,0,\"\")&ROUNDUP(MOD(AB18,60),0)&\" \",\"\")","v":""},{"$f":"MAX(AD19:AD53)","v":17},null,null,null,{"$f":"IF(AND(F97<>\"\",NOT(A89)),\"(mit \"&F97&\" Litern ausfliegbar)\",\"\")","v":"(mit 92 Litern ausfliegbar)"},null,null,null,null,null,null,null,null,null,false,false,null,"Vorschau der Kopie in die Bemerkungsspalte"]
[null,null,{"$f":"IF(F4<>\"\",F4,\"\")","v":""},null,2,"FL / ft","FL / ft","kt","degrees / °","kt","degrees / °",{"$f":"SUM(L20:L53)","v":0},{"$f":"SUM(M20:M53)","v":0},{"$f":"SUM(N20:N53)","v":0},{"$f":"SUM(O20:O53)","v":0},null,"kt","kt",null,"degrees / °","degrees / °","degrees / °","degrees / °","NM","NM","kt","Minutes",null,"HH:MM",null,false,null,null,"Bemerkungen /Remarks /Freq.",null,null,null,null,null,null,0,"Funknavigationsanlagen (Auswahl)",null,true,true]
[null,null,null,null,1,null,null,null,null,null,null,{"$f":"IF(OR(G20=\"SF\",G20=\"climb\",G20=\"Steigflug\",G20=\"climb flight\"),AA20,0)","v":0},{"$f":"IF(L20=0,AA20,0)","v":""},{"$f":"IF(OR(G20=\"SF\",G20=\"climb\",G20=\"Steigflug\",G20=\"climb flight\"),IF(AND(X20<>\"\",H20<>\"\"),IF(H20<=0,\"Speed!!\",X20*60/H20),\"\"),0)","v":0},{"$f":"IF(L20=0,IF(AND(X20<>\"\",H20<>\"\"),IF(H20<=0,\"Speed!!\",X20*60/H20),\"\"),0)","v":""},{"$f":"I20-K20","v":0},{"$f":"ROUND(J20*SIN((P20)*PI()/180),1)","v":0},{"$f":"ROUND(J20*COS((P20)*PI()/180),1)","v":0},{"$f":"IF(T20<>\"\",K20+T20,\"\")","v":""},{"$f":"IF(AND(J20<>\"\",K20<>\"\"),IF(ISERROR(ROUND(180*ASIN(SIN(P20*PI()/180)*J20/H20)/PI(),1)),\"\",ROUND(180*ASIN(SIN(P20*PI()/180)*J20/H20)/PI(),1)),\"\")","v":""},null,{"$f":"IF(AND(T20<>\"\",W20<>\"\"),IF(W20+T20>360,W20+T20-360,IF(W20+T20<0,W20+T20+360,W20+T20)),\"\")","v":""},{"$f":"IF(K20<>\"\",IF(K20-U20>360,K20-U20-360,IF(K20-U20<0,K20-U20+360,K20-U20)),\"\")","v":""},null,{"$f":"IF(X20<>\"\",Y18-X20,\"\")","v":""},{"$f":"IF(T20<>\"\",ROUND(H20*COS(T20*PI()/180)-R20,1),\"\")","v":""},{"$f":"IF(AND(X20<>\"\",Z20<>\"\"),IF(Z20<=0,\"Speed!!\",X20*60/Z20),\"\")","v":""},{"$f":"AB18-AA20","v":{"$error":"#VALUE!"}},{"$f":"IF(AND(AA20<>\"\",ISNUMBER(AA20)),ROUNDDOWN((AB20)/60,0)&\" : \"&IF(ROUNDUP(MOD(AB20,60),0)<10,0,\"\")&ROUNDUP(MOD(AB20,60),0)&\" \",\"\")","v":""},null,"ETO","ATO",null,null,null,null,null,null,null,true,{"$f":"IF(AN20,AO19+1,\"\")","v":1},{"$f":"'Funknav Auswahl'!J18","v":{"$error":"#N/A"}},null,null,null,1,{"$f":"IF(ISERROR(VLOOKUP(AT20,$AO$20:$AS$70,2,FALSE)),\"\",VLOOKUP(AT20,$AO$20:$AS$70,2,FALSE))","v":""},null,null,null,true]
[null,null,null,null,1,null,null,null,null,null,null,null,null,null,null,null,null,null,null,null,null,null,null,null,null,null,null,null,null,{"$f":"IF(AE21<>\"\",1,0)","v":1},{"$f":"IF(AND(AI13<>0,AA20<>\"\",ISNUMBER(AA20)),AI13+TIME(0,ROUND(AA20,0),0),\":\")","v":":"},":"]
[null,null,null,null,2,null,null,null,null,null,null,{"$f":"IF(OR(G22=\"SF\",G22=\"climb\",G22=\"Steigflug\",G22=\"climb flight\"),AA22,0)","v":0},{"$f":"IF(L22=0,AA22,0)","v":""},{"$f":"IF(OR(G22=\"SF\",G22=\"climb\",G22=\"Steigflug\",G22=\"climb flight\"),IF(AND(X22<>\"\",H22<>\"\"),IF(H22<=0,\"Speed!!\",X22*60/H22),\"\"),0)","v":0},{"$f":"IF(L22=0,IF(AND(X22<>\"\",H22<>\"\"),IF(H22<=0,\"Speed!!\",X22*60/H22),\"\"),0)","v":""},{"$f":"I22-K22","v":0},{"$f":"ROUND(J22*SIN((P22)*PI()/180),1)","v":0},{"$f":"ROUND(J22*COS((P22)*PI()/180),1)","v":0},{"$f":"IF(T22<>\"\",K22+T22,\"\")","v":""},{"$f":"IF(AND(J22<>\"\",K22<>\"\"),IF(ISERROR(ROUND(180*ASIN(SIN(P22*PI()/180)*J22/H22)/PI(),1)),\"\",ROUND(180*ASIN(SIN(P22*PI()/180)*J22/H22)/PI(),1)),\"\")","v":""},null,{"$f":"IF(AND(T22<>\"\",W22<>\"\"),IF(W22+T22>360,W22+T22-360,IF(W22+T22<0,W22+T22+360,W22+T22)),\"\")","v":""},{"$f":"IF(K22<>\"\",IF(K22-U22>360,K22-U22-360,IF(K22-U22<0,K22-U22+360,K22-U22)),\"\")","v":""},null,{"$f":"IF(X22<>\"\",Y20-X22,\"\")","v":""},{"$f":"IF(T22<>\"\",ROUND(H22*COS(T22*PI()/180)-R22,1),\"\")","v":""},{"$f":"IF(AND(X22<>\"\",Z22<>\"\"),IF(Z22<=0,\"Speed!!\",X22*60/Z22),\"\")","v":""},{"$f":"AB20-AA22","v":{"$error":"#VALUE!"}},{"$f":"IF(AND(AA22<>\"\",ISNUMBER(AA22),AC20<>\"\"),ROUNDDOWN((AB22)/60,0)&\" : \"&IF(ROUNDUP(MOD(AB22,60),0)<10,0,\"\")&ROUNDUP(MOD(AB22,60),0)&\" \",\"\")","v":""},{"$f":"IF(AE21<>\"\",1,0)","v":1},null,null,null,null,null,null,null,null,null,true,{"$f":"IF(AN22,MAX(AO$19:AO21)+1,\"\")","v":2},{"$f":"'Funknav Auswahl'!J19","v":{"$error":"#N/A"}},null,null,null,2,{"$f":"IF(ISERROR(VLOOKUP(AT22,$AO$20:$AS$70,2,FALSE)),\"\",VLOOKUP(AT22,$AO$20:$AS$70,2,FALSE))","v":""},null,null,null,true]
[null,null,null,null,2,null,null,null,null,null,null,null,null,null,null,null,null,null,null,null,null,null,null,null,null,null,null,null,null,{"$f":"IF(AE23<>\"\",2,0)","v":2},{"$f":"IF(AND($AE$19,AE21<>0,AA22<>\"\",ISNUMBER(AA22),ISNUMBER(AE21)),AE21+TIME(0,ROUND(AA22,0),0),\":\")","v":":"},":"]
[null,null,null,null,1,null,null,null,null,null,null,{"$f":"IF(OR(G24=\"SF\",G24=\"climb\",G24=\"Steigflug\",G24=\"climb flight\"),AA24,0)","v":0},{"$f":"IF(L24=0,AA24,0)","v":""},{"$f":"IF(OR(G24=\"SF\",G24=\"climb\",G24=\"Steigflug\",G24=\"climb flight\"),IF(AND(X24<>\"\",H24<>\"\"),IF(H24<=0,\"Speed!!\",X24*60/H24),\"\"),0)","v":0},{"$f":"IF(L24=0,IF(AND(X24<>\"\",H24<>\"\"),IF(H24<=0,\"Speed!!\",X24*60/H24),\"\"),0)","v":""},{"$f":"I24-K24","v":0},{"$f":"ROUND(J24*SIN((P24)*PI()/180),1)","v":0},{"$f":"ROUND(J24*COS((P24)*PI()/180),1)","v":0},{"$f":"IF(T24<>\"\",K24+T24,\"\")","v":""},{"$f":"IF(AND(J24<>\"\",K24<>\"\"),IF(ISERROR(ROUND(180*ASIN(SIN(P24*PI()/180)*J24/H24)/PI(),1)),\"\",ROUND(180*ASIN(SIN(P24*PI()/180)*J24/H24)/PI(),1)),\"\")","v":""},null,{"$f":"IF(AND(T24<>\"\",W24<>\"\"),IF(W24+T24>360,W24+T24-360,IF(W24+T24<0,W24+T24+360,W24+T24)),\"\")","v":""},{"$f":"IF(K24<>\"\",IF(K24-U24>360,K24-U24-360,IF(K24-U24<0,K24-U24+360,K24-U24)),\"\")","v":""},null,{"$f":"IF(X24<>\"\",Y22-X24,\"\")","v":""},{"$f":"IF(T24<>\"\",ROUND(H24*COS(T24*PI()/180)-R24,1),\"\")","v":""},{"$f":"IF(AND(X24<>\"\",Z24<>\"\"),IF(Z24<=0,\"Speed!!\",X24*60/Z24),\"\")","v":""},{"$f":"AB22-AA24","v":{"$error":"#VALUE!"}},{"$f":"IF(AND(AA24<>\"\",ISNUMBER(AA24),AC22<>\"\"),ROUNDDOWN((AB24)/60,0)&\" : \"&IF(ROUNDUP(MOD(AB24,60),0)<10,0,\"\")&ROUNDUP(MOD(AB24,60),0)&\" \",\"\")","v":""},{"$f":"IF(AE23<>\"\",2,0)","v":2},null,null,null,null,null,null,null,null,null,true,{"$f":"IF(AN24,MAX(AO$19:AO23)+1,\"\")","v":3},{"$f":"'Funknav Auswahl'!J20","v":{"$error":"#N/A"}},null,null,null,3,{"$f":"IF(ISERROR(VLOOKUP(AT24,$AO$20:$AS$70,2,FALSE)),\"\",VLOOKUP(AT24,$AO$20:$AS$70,2,FALSE))","v":""},null,null,null,true]
[null,null,null,null,1,null,null,null,null,null,null,null,null,null,null,null,null,null,null,null,null,null,null,null,null,null,null,null,null,{"$f":"IF(AE25<>\"\",3,0)","v":3},{"$f":"IF(AND($AE$19,AE23<>0,AA24<>\"\",ISNUMBER(AA24),ISNUMBER(AE23)),AE23+TIME(0,ROUND(AA24,0),0),\":\")","v":":"},":"]
[null,null,null,null,2,null,null,null,null,null,null,{"$f":"IF(OR(G26=\"SF\",G26=\"climb\",G26=\"Steigflug\",G26=\"climb flight\"),AA26,0)","v":0},{"$f":"IF(L26=0,AA26,0)","v":""},{"$f":"IF(OR(G26=\"SF\",G26=\"climb\",G26=\"Steigflug\",G26=\"climb flight\"),IF(AND(X26<>\"\",H26<>\"\"),IF(H26<=0,\"Speed!!\",X26*60/H26),\"\"),0)","v":0},{"$f":"IF(L26=0,IF(AND(X26<>\"\",H26<>\"\"),IF(H26<=0,\"Speed!!\",X26*60/H26),\"\"),0)","v":""},{"$f":"I26-K26","v":0},{"$f":"ROUND(J26*SIN((P26)*PI()/180),1)","v":0},{"$f":"ROUND(J26*COS((P26)*PI()/180),1)","v":0},{"$f":"IF(T26<>\"\",K26+T26,\"\")","v":""},{"$f":"IF(AND(J26<>\"\",K26<>\"\"),IF(ISERROR(ROUND(180*ASIN(SIN(P26*PI()/180)*J26/H26)/PI(),1)),\"\",ROUND(180*ASIN(SIN(P26*PI()/180)*J26/H26)/PI(),1)),\"\")","v":""},null,{"$f":"IF(AND(T26<>\"\",W26<>\"\"),IF(W26+T26>360,W26+T26-360,IF(W26+T26<0,W26+T26+360,W26+T26)),\"\")","v":""},{"$f":"IF(K26<>\"\",IF(K26-U26>360,K26-U26-360,IF(K26-U26<0,K26-U26+360,K26-U26)),\"\")","v":""},null,{"$f":"IF(X26<>\"\",Y24-X26,\"\")","v":""},{"$f":"IF(T26<>\"\",ROUND(H26*COS(T26*PI()/180)-R26,1),\"\")","v":""},{"$f":"IF(AND(X26<>\"\",Z26<>\"\"),IF(Z26<=0,\"Speed!!\",X26*60/Z26),\"\")","v":""},{"$f":"AB24-AA26","v":{"$error":"#VALUE!"}},{"$f":"IF(AND(AA26<>\"\",ISNUMBER(AA26),AC24<>\"\"),ROUNDDOWN((AB26)/60,0)&\" : \"&IF(ROUNDUP(MOD(AB26,60),0)<10,0,\"\")&ROUNDUP(MOD(AB26,60),0)&\" \",\"\")","v":""},{"$f":"IF(AE25<>\"\",3,0)","v":3},null,null,null,null,null,null,null,null,null,true,{"$f":"IF(AN26,MAX(AO$19:AO25)+1,\"\")","v":4},{"$f":"'Funknav Auswahl'!J21","v":{"$error":"#N/A"}},null,null,null,4,{"$f":"IF(ISERROR(VLOOKUP(AT26,$AO$20:$AS$70,2,FALSE)),\"\",VLOOKUP(AT26,$AO$20:$AS$70,2,FALSE))","v":""},null,null,null,true]
[null,null,null,null,2,null,null,null,null,null,null,null,null,null,null,null,null,null,null,null,null,null,null,null,null,null,null,null,null,{"$f":"IF(AE27<>\"\",4,0)","v":4},{"$f":"IF(AND($AE$19,AE25<>0,AA26<>\"\",ISNUMBER(AA26),ISNUMBER(AE25)),AE25+TIME(0,ROUND(AA26,0),0),\":\")","v":":"},":"]
[null,null,null,null,1,null,null,null,null,null,null,{"$f":"IF(OR(G28=\"SF\",G28=\"climb\",G28=\"Steigflug\",G28=\"climb flight\"),AA28,0)","v":0},{"$f":"IF(L28=0,AA28,0)","v":""},{"$f":"IF(OR(G28=\"SF\",G28=\"climb\",G28=\"Steigflug\",G28=\"climb flight\"),IF(AND(X28<>\"\",H28<>\"\"),IF(H28<=0,\"Speed!!\",X28*60/H28),\"\"),0)","v":0},{"$f":"IF(L28=0,IF(AND(X28<>\"\",H28<>\"\"),IF(H28<=0,\"Speed!!\",X28*60/H28),\"\"),0)","v":""},{"$f":"I28-K28","v":0},{"$f":"ROUND(J28*SIN((P28)*PI()/180),1)","v":0},{"$f":"ROUND(J28*COS((P28)*PI()/180),1)","v":0},{"$f":"IF(T28<>\"\",K28+T28,\"\")","v":""},{"$f":"IF(AND(J28<>\"\",K28<>\"\"),IF(ISERROR(ROUND(180*ASIN(SIN(P28*PI()/180)*J28/H28)/PI(),1)),\"\",ROUND(180*ASIN(SIN(P28*PI()/180)*J28/H28)/PI(),1)),\"\")","v":""},null,{"$f":"IF(AND(T28<>\"\",W28<>\"\"),IF(W28+T28>360,W28+T28-360,IF(W28+T28<0,W28+T28+360,W28+T28)),\"\")","v":""},{"$f":"IF(K28<>\"\",IF(K28-U28>360,K28-U28-360,IF(K28-U28<0,K28-U28+360,K28-U28)),\"\")","v":""},null,{"$f":"IF(X28<>\"\",Y26-X28,\"\")","v":""},{"$f":"IF(T28<>\"\",ROUND(H28*COS(T28*PI()/180)-R28,1),\"\")","v":""},{"$f":"IF(AND(X28<>\"\",Z28<>\"\"),IF(Z28<=0,\"Speed!!\",X28*60/Z28),\"\")","v":""},{"$f":"AB26-AA28","v":{"$error":"#VALUE!"}},{"$f":"IF(AND(AA28<>\"\",ISNUMBER(AA28),AC26<>\"\"),ROUNDDOWN((AB28)/60,0)&\" : \"&IF(ROUNDUP(MOD(AB28,60),0)<10,0,\"\")&ROUNDUP(MOD(AB28,60),0)&\" \",\"\")","v":""},{"$f":"IF(AE27<>\"\",4,0)","v":4},null,null,null,null,null,null,null,null,null,true,{"$f":"IF(AN28,MAX(AO$19:AO27)+1,\"\")","v":5},{"$f":"'Funknav Auswahl'!J22","v":{"$error":"#N/A"}},null,null,null,5,{"$f":"IF(ISERROR(VLOOKUP(AT28,$AO$20:$AS$70,2,FALSE)),\"\",VLOOKUP(AT28,$AO$20:$AS$70,2,FALSE))","v":""},null,null,null,true]
[null,null,null,null,1,null,null,null,null,null,null,null,null,null,null,null,null,null,null,null,null,null,null,null,null,null,null,null,null,{"$f":"IF(AE29<>\"\",5,0)","v":5},{"$f":"IF(AND($AE$19,AE27<>0,AA28<>\"\",ISNUMBER(AA28),ISNUMBER(AE27)),AE27+TIME(0,ROUND(AA28,0),0),\":\")","v":":"},":"]
[null,null,null,null,2,null,null,null,null,null,null,{"$f":"IF(OR(G30=\"SF\",G30=\"climb\",G30=\"Steigflug\",G30=\"climb flight\"),AA30,0)","v":0},{"$f":"IF(L30=0,AA30,0)","v":""},{"$f":"IF(OR(G30=\"SF\",G30=\"climb\",G30=\"Steigflug\",G30=\"climb flight\"),IF(AND(X30<>\"\",H30<>\"\"),IF(H30<=0,\"Speed!!\",X30*60/H30),\"\"),0)","v":0},{"$f":"IF(L30=0,IF(AND(X30<>\"\",H30<>\"\"),IF(H30<=0,\"Speed!!\",X30*60/H30),\"\"),0)","v":""},{"$f":"I30-K30","v":0},{"$f":"ROUND(J30*SIN((P30)*PI()/180),1)","v":0},{"$f":"ROUND(J30*COS((P30)*PI()/180),1)","v":0},{"$f":"IF(T30<>\"\",K30+T30,\"\")","v":""},{"$f":"IF(AND(J30<>\"\",K30<>\"\"),IF(ISERROR(ROUND(180*ASIN(SIN(P30*PI()/180)*J30/H30)/PI(),1)),\"\",ROUND(180*ASIN(SIN(P30*PI()/180)*J30/H30)/PI(),1)),\"\")","v":""},null,{"$f":"IF(AND(T30<>\"\",W30<>\"\"),IF(W30+T30>360,W30+T30-360,IF(W30+T30<0,W30+T30+360,W30+T30)),\"\")","v":""},{"$f":"IF(K30<>\"\",IF(K30-U30>360,K30-U30-360,IF(K30-U30<0,K30-U30+360,K30-U30)),\"\")","v":""},null,{"$f":"IF(X30<>\"\",Y28-X30,\"\")","v":""},{"$f":"IF(T30<>\"\",ROUND(H30*COS(T30*PI()/180)-R30,1),\"\")","v":""},{"$f":"IF(AND(X30<>\"\",Z30<>\"\"),IF(Z30<=0,\"Speed!!\",X30*60/Z30),\"\")","v":""},{"$f":"AB28-AA30","v":{"$error":"#VALUE!"}},{"$f":"IF(AND(AA30<>\"\",ISNUMBER(AA30),AC28<>\"\"),ROUNDDOWN((AB30)/60,0)&\" : \"&IF(ROUNDUP(MOD(AB30,60),0)<10,0,\"\")&ROUNDUP(MOD(AB30,60),0)&\" \",\"\")","v":""},{"$f":"IF(AE29<>\"\",5,0)","v":5},null,null,null,null,null,null,null,null,null,true,{"$f":"IF(AN30,MAX(AO$19:AO29)+1,\"\")","v":6},{"$f":"'Funknav Auswahl'!J23","v":{"$error":"#N/A"}},null,null,null,6,{"$f":"IF(ISERROR(VLOOKUP(AT30,$AO$20:$AS$70,2,FALSE)),\"\",VLOOKUP(AT30,$AO$20:$AS$70,2,FALSE))","v":""},null,null,null,true]
[null,null,null,null,2,null,null,null,null,null,null,null,null,null,null,null,null,null,null,null,null,null,null,null,null,null,null,null,null,{"$f":"IF(AE31<>\"\",6,0)","v":6},{"$f":"IF(AND($AE$19,AE29<>0,AA30<>\"\",ISNUMBER(AA30),ISNUMBER(AE29)),AE29+TIME(0,ROUND(AA30,0),0),\":\")","v":":"},":"]
[null,null,null,null,1,null,null,null,null,null,null,{"$f":"IF(OR(G32=\"SF\",G32=\"climb\",G32=\"Steigflug\",G32=\"climb flight\"),AA32,0)","v":0},{"$f":"IF(L32=0,AA32,0)","v":""},{"$f":"IF(OR(G32=\"SF\",G32=\"climb\",G32=\"Steigflug\",G32=\"climb flight\"),IF(AND(X32<>\"\",H32<>\"\"),IF(H32<=0,\"Speed!!\",X32*60/H32),\"\"),0)","v":0},{"$f":"IF(L32=0,IF(AND(X32<>\"\",H32<>\"\"),IF(H32<=0,\"Speed!!\",X32*60/H32),\"\"),0)","v":""},{"$f":"I32-K32","v":0},{"$f":"ROUND(J32*SIN((P32)*PI()/180),1)","v":0},{"$f":"ROUND(J32*COS((P32)*PI()/180),1)","v":0},{"$f":"IF(T32<>\"\",K32+T32,\"\")","v":""},{"$f":"IF(AND(J32<>\"\",K32<>\"\"),IF(ISERROR(ROUND(180*ASIN(SIN(P32*PI()/180)*J32/H32)/PI(),1)),\"\",ROUND(180*ASIN(SIN(P32*PI()/180)*J32/H32)/PI(),1)),\"\")","v":""},null,{"$f":"IF(AND(T32<>\"\",W32<>\"\"),IF(W32+T32>360,W32+T32-360,IF(W32+T32<0,W32+T32+360,W32+T32)),\"\")","v":""},{"$f":"IF(K32<>\"\",IF(K32-U32>360,K32-U32-360,IF(K32-U32<0,K32-U32+360,K32-U32)),\"\")","v":""},null,{"$f":"IF(X32<>\"\",Y30-X32,\"\")","v":""},{"$f":"IF(T32<>\"\",ROUND(H32*COS(T32*PI()/180)-R32,1),\"\")","v":""},{"$f":"IF(AND(X32<>\"\",Z32<>\"\"),IF(Z32<=0,\"Speed!!\",X32*60/Z32),\"\")","v":""},{"$f":"AB30-AA32","v":{"$error":"#VALUE!"}},{"$f":"IF(AND(AA32<>\"\",ISNUMBER(AA32),AC30<>\"\"),ROUNDDOWN((AB32)/60,0)&\" : \"&IF(ROUNDUP(MOD(AB32,60),0)<10,0,\"\")&ROUNDUP(MOD(AB32,60),0)&\" \",\"\")","v":""},{"$f":"IF(AE31<>\"\",6,0)","v":6},null,null,null,null,null,null,null,null,null,true,{"$f":"IF(AN32,MAX(AO$19:AO31)+1,\"\")","v":7},{"$f":"'Funknav Auswahl'!J24","v":{"$error":"#N/A"}},null,null,null,7,{"$f":"IF(ISERROR(VLOOKUP(AT32,$AO$20:$AS$70,2,FALSE)),\"\",VLOOKUP(AT32,$AO$20:$AS$70,2,FALSE))","v":""},null,null,null,true]
[null,null,null,null,1,null,null,null,null,null,null,null,null,null,null,null,null,null,null,null,null,null,null,null,null,null,null,null,null,{"$f":"IF(AE33<>\"\",7,0)","v":7},{"$f":"IF(AND($AE$19,AE31<>0,AA32<>\"\",ISNUMBER(AA32),ISNUMBER(AE31)),AE31+TIME(0,ROUND(AA32,0),0),\":\")","v":":"},":"]
[null,null,null,null,2,null,null,null,null,null,null,{"$f":"IF(OR(G34=\"SF\",G34=\"climb\",G34=\"Steigflug\",G34=\"climb flight\"),AA34,0)","v":0},{"$f":"IF(L34=0,AA34,0)","v":""},{"$f":"IF(OR(G34=\"SF\",G34=\"climb\",G34=\"Steigflug\",G34=\"climb flight\"),IF(AND(X34<>\"\",H34<>\"\"),IF(H34<=0,\"Speed!!\",X34*60/H34),\"\"),0)","v":0},{"$f":"IF(L34=0,IF(AND(X34<>\"\",H34<>\"\"),IF(H34<=0,\"Speed!!\",X34*60/H34),\"\"),0)","v":""},{"$f":"I34-K34","v":0},{"$f":"ROUND(J34*SIN((P34)*PI()/180),1)","v":0},{"$f":"ROUND(J34*COS((P34)*PI()/180),1)","v":0},{"$f":"IF(T34<>\"\",K34+T34,\"\")","v":""},{"$f":"IF(AND(J34<>\"\",K34<>\"\"),IF(ISERROR(ROUND(180*ASIN(SIN(P34*PI()/180)*J34/H34)/PI(),1)),\"\",ROUND(180*ASIN(SIN(P34*PI()/180)*J34/H34)/PI(),1)),\"\")","v":""},null,{"$f":"IF(AND(T34<>\"\",W34<>\"\"),IF(W34+T34>360,W34+T34-360,IF(W34+T34<0,W34+T34+360,W34+T34)),\"\")","v":""},{"$f":"IF(K34<>\"\",IF(K34-U34>360,K34-U34-360,IF(K34-U34<0,K34-U34+360,K34-U34)),\"\")","v":""},null,{"$f":"IF(X34<>\"\",Y32-X34,\"\")","v":""},{"$f":"IF(T34<>\"\",ROUND(H34*COS(T34*PI()/180)-R34,1),\"\")","v":""},{"$f":"IF(AND(X34<>\"\",Z34<>\"\"),IF(Z34<=0,\"Speed!!\",X34*60/Z34),\"\")","v":""},{"$f":"AB32-AA34","v":{"$error":"#VALUE!"}},{"$f":"IF(AND(AA34<>\"\",ISNUMBER(AA34),AC32<>\"\"),ROUNDDOWN((AB34)/60,0)&\" : \"&IF(ROUNDUP(MOD(AB34,60),0)<10,0,\"\")&ROUNDUP(MOD(AB34,60),0)&\" \",\"\")","v":""},{"$f":"IF(AE33<>\"\",7,0)","v":7},null,null,null,null,null,null,null,null,null,true,{"$f":"IF(AN34,MAX(AO$19:AO33)+1,\"\")","v":8},{"$f":"'Funknav Auswahl'!J25","v":{"$error":"#N/A"}},null,null,null,8,{"$f":"IF(ISERROR(VLOOKUP(AT34,$AO$20:$AS$70,2,FALSE)),\"\",VLOOKUP(AT34,$AO$20:$AS$70,2,FALSE))","v":""},null,null,null,true]
[null,null,null,null,2,null,null,null,null,null,null,null,null,null,null,null,null,null,null,null,null,null,null,null,null,null,null,null,null,{"$f":"IF(AE35<>\"\",8,0)","v":8},{"$f":"IF(AND($AE$19,AE33<>0,AA34<>\"\",ISNUMBER(AA34),ISNUMBER(AE33)),AE33+TIME(0,ROUND(AA34,0),0),\":\")","v":":"},":"]
[null,null,null,null,1,null,null,null,null,null,null,{"$f":"IF(OR(G36=\"SF\",G36=\"climb\",G36=\"Steigflug\",G36=\"climb flight\"),AA36,0)","v":0},{"$f":"IF(L36=0,AA36,0)","v":""},{"$f":"IF(OR(G36=\"SF\",G36=\"climb\",G36=\"Steigflug\",G36=\"climb flight\"),IF(AND(X36<>\"\",H36<>\"\"),IF(H36<=0,\"Speed!!\",X36*60/H36),\"\"),0)","v":0},{"$f":"IF(L36=0,IF(AND(X36<>\"\",H36<>\"\"),IF(H36<=0,\"Speed!!\",X36*60/H36),\"\"),0)","v":""},{"$f":"I36-K36","v":0},{"$f":"ROUND(J36*SIN((P36)*PI()/180),1)","v":0},{"$f":"ROUND(J36*COS((P36)*PI()/180),1)","v":0},{"$f":"IF(T36<>\"\",K36+T36,\"\")","v":""},{"$f":"IF(AND(J36<>\"\",K36<>\"\"),IF(ISERROR(ROUND(180*ASIN(SIN(P36*PI()/180)*J36/H36)/PI(),1)),\"\",ROUND(180*ASIN(SIN(P36*PI()/180)*J36/H36)/PI(),1)),\"\")","v":""},null,{"$f":"IF(AND(T36<>\"\",W36<>\"\"),IF(W36+T36>360,W36+T36-360,IF(W36+T36<0,W36+T36+360,W36+T36)),\"\")","v":""},{"$f":"IF(K36<>\"\",IF(K36-U36>360,K36-U36-360,IF(K36-U36<0,K36-U36+360,K36-U36)),\"\")","v":""},null,{"$f":"IF(X36<>\"\",Y34-X36,\"\")","v":""},{"$f":"IF(T36<>\"\",ROUND(H36*COS(T36*PI()/180)-R36,1),\"\")","v":""},{"$f":"IF(AND(X36<>\"\",Z36<>\"\"),IF(Z36<=0,\"Speed!!\",X36*60/Z36),\"\")","v":""},{"$f":"AB34-AA36","v":{"$error":"#VALUE!"}},{"$f":"IF(AND(AA36<>\"\",ISNUMBER(AA36),AC34<>\"\"),ROUNDDOWN((AB36)/60,0)&\" : \"&IF(ROUNDUP(MOD(AB36,60),0)<10,0,\"\")&ROUNDUP(MOD(AB36,60),0)&\" \",\"\")","v":""},{"$f":"IF(AE35<>\"\",8,0)","v":8},null,null,null,null,null,null,null,null,null,true,{"$f":"IF(AN36,MAX(AO$19:AO35)+1,\"\")","v":9},{"$f":"'Funknav Auswahl'!J26","v":{"$error":"#N/A"}},null,null,null,9,{"$f":"IF(ISERROR(VLOOKUP(AT36,$AO$20:$AS$70,2,FALSE)),\"\",VLOOKUP(AT36,$AO$20:$AS$70,2,FALSE))","v":""},null,null,null,true]
[null,null,null,null,1,null,null,null,null,null,null,null,null,null,null,null,null,null,null,null,null,null,null,null,null,null,null,null,null,{"$f":"IF(AE37<>\"\",9,0)","v":9},{"$f":"IF(AND($AE$19,AE35<>0,AA36<>\"\",ISNUMBER(AA36),ISNUMBER(AE35)),AE35+TIME(0,ROUND(AA36,0),0),\":\")","v":":"},":"]
[null,null,null,null,2,null,null,null,null,null,null,{"$f":"IF(OR(G38=\"SF\",G38=\"climb\",G38=\"Steigflug\",G38=\"climb flight\"),AA38,0)","v":0},{"$f":"IF(L38=0,AA38,0)","v":""},{"$f":"IF(OR(G38=\"SF\",G38=\"climb\",G38=\"Steigflug\",G38=\"climb flight\"),IF(AND(X38<>\"\",H38<>\"\"),IF(H38<=0,\"Speed!!\",X38*60/H38),\"\"),0)","v":0},{"$f":"IF(L38=0,IF(AND(X38<>\"\",H38<>\"\"),IF(H38<=0,\"Speed!!\",X38*60/H38),\"\"),0)","v":""},{"$f":"I38-K38","v":0},{"$f":"ROUND(J38*SIN((P38)*PI()/180),1)","v":0},{"$f":"ROUND(J38*COS((P38)*PI()/180),1)","v":0},"",{"$f":"IF(AND(J38<>\"\",K38<>\"\"),IF(ISERROR(ROUND(180*ASIN(SIN(P38*PI()/180)*J38/H38)/PI(),1)),\"\",ROUND(180*ASIN(SIN(P38*PI()/180)*J38/H38)/PI(),1)),\"\")","v":""},null,{"$f":"IF(AND(T38<>\"\",W38<>\"\"),IF(W38+T38>360,W38+T38-360,IF(W38+T38<0,W38+T38+360,W38+T38)),\"\")","v":""},{"$f":"IF(K38<>\"\",IF(K38-U38>360,K38-U38-360,IF(K38-U38<0,K38-U38+360,K38-U38)),\"\")","v":""},null,{"$f":"IF(X38<>\"\",Y36-X38,\"\")","v":""},{"$f":"IF(T38<>\"\",ROUND(H38*COS(T38*PI()/180)-R38,1),\"\")","v":""},{"$f":"IF(AND(X38<>\"\",Z38<>\"\"),IF(Z38<=0,\"Speed!!\",X38*60/Z38),\"\")","v":""},{"$f":"AB36-AA38","v":{"$error":"#VALUE!"}},{"$f":"IF(AND(AA38<>\"\",ISNUMBER(AA38),AC36<>\"\"),ROUNDDOWN((AB38)/60,0)&\" : \"&IF(ROUNDUP(MOD(AB38,60),0)<10,0,\"\")&ROUNDUP(MOD(AB38,60),0)&\" \",\"\")","v":""},{"$f":"IF(AE37<>\"\",9,0)","v":9},null,null,null,"",null,null,null,null,null,true,{"$f":"IF(AN38,MAX(AO$19:AO37)+1,\"\")","v":10},{"$f":"'Funknav Auswahl'!J27","v":{"$error":"#N/A"}},null,null,null,10,{"$f":"IF(ISERROR(VLOOKUP(AT38,$AO$20:$AS$70,2,FALSE)),\"\",VLOOKUP(AT38,$AO$20:$AS$70,2,FALSE))","v":""},null,null,null,true]
[null,null,null,null,2,null,null,null,null,null,null,null,null,null,null,null,null,null,null,null,null,null,null,null,null,null,null,null,null,{"$f":"IF(AE39<>\"\",10,0)","v":10},{"$f":"IF(AND($AE$19,AE37<>0,AA38<>\"\",ISNUMBER(AA38),ISNUMBER(AE37)),AE37+TIME(0,ROUND(AA38,0),0),\":\")","v":":"},":"]
[null,null,null,null,1,null,null,null,null,null,null,{"$f":"IF(OR(G40=\"SF\",G40=\"climb\",G40=\"Steigflug\",G40=\"climb flight\"),AA40,0)","v":0},{"$f":"IF(L40=0,AA40,0)","v":""},{"$f":"IF(OR(G40=\"SF\",G40=\"climb\",G40=\"Steigflug\",G40=\"climb flight\"),IF(AND(X40<>\"\",H40<>\"\"),IF(H40<=0,\"Speed!!\",X40*60/H40),\"\"),0)","v":0},{"$f":"IF(L40=0,IF(AND(X40<>\"\",H40<>\"\"),IF(H40<=0,\"Speed!!\",X40*60/H40),\"\"),0)","v":""},{"$f":"I40-K40","v":0},{"$f":"ROUND(J40*SIN((P40)*PI()/180),1)","v":0},{"$f":"ROUND(J40*COS((P40)*PI()/180),1)","v":0},{"$f":"IF(T40<>\"\",K40+T40,\"\")","v":""},{"$f":"IF(AND(J40<>\"\",K40<>\"\"),IF(ISERROR(ROUND(180*ASIN(SIN(P40*PI()/180)*J40/H40)/PI(),1)),\"\",ROUND(180*ASIN(SIN(P40*PI()/180)*J40/H40)/PI(),1)),\"\")","v":""},null,{"$f":"IF(AND(T40<>\"\",W40<>\"\"),IF(W40+T40>360,W40+T40-360,IF(W40+T40<0,W40+T40+360,W40+T40)),\"\")","v":""},{"$f":"IF(K40<>\"\",IF(K40-U40>360,K40-U40-360,IF(K40-U40<0,K40-U40+360,K40-U40)),\"\")","v":""},null,"",{"$f":"IF(T40<>\"\",ROUND(H40*COS(T40*PI()/180)-R40,1),\"\")","v":""},{"$f":"IF(AND(X40<>\"\",Z40<>\"\"),IF(Z40<=0,\"Speed!!\",X40*60/Z40),\"\")","v":""},{"$f":"AB38-AA40","v":{"$error":"#VALUE!"}},{"$f":"IF(AND(AA40<>\"\",ISNUMBER(AA40),AC38<>\"\"),ROUNDDOWN((AB40)/60,0)&\" : \"&IF(ROUNDUP(MOD(AB40,60),0)<10,0,\"\")&ROUNDUP(MOD(AB40,60),0)&\" \",\"\")","v":""},{"$f":"IF(AE39<>\"\",10,0)","v":10},null,null,null,"",null,null,null,null,null,true,{"$f":"IF(AN40,MAX(AO$19:AO39)+1,\"\")","v":11},{"$f":"'Funknav Auswahl'!J28","v":{"$error":"#N/A"}},null,null,null,11,{"$f":"IF(ISERROR(VLOOKUP(AT40,$AO$20:$AS$70,2,FALSE)),\"\",VLOOKUP(AT40,$AO$20:$AS$70,2,FALSE))","v":""},null,null,null,true]
[null,null,null,null,1,null,null,null,null,null,null,null,null,null,null,null,null,null,null,null,null,null,null,null,null,null,null,null,null,{"$f":"IF(AE41<>\"\",11,0)","v":11},{"$f":"IF(AND($AE$19,AE39<>0,AA40<>\"\",ISNUMBER(AA40),ISNUMBER(AE39)),AE39+TIME(0,ROUND(AA40,0),0),\":\")","v":":"},":"]
[null,null,null,null,2,null,null,null,null,null,null,{"$f":"IF(OR(G42=\"SF\",G42=\"climb\",G42=\"Steigflug\",G42=\"climb flight\"),AA42,0)","v":0},{"$f":"IF(L42=0,AA42,0)","v":""},{"$f":"IF(OR(G42=\"SF\",G42=\"climb\",G42=\"Steigflug\",G42=\"climb flight\"),IF(AND(X42<>\"\",H42<>\"\"),IF(H42<=0,\"Speed!!\",X42*60/H42),\"\"),0)","v":0},{"$f":"IF(L42=0,IF(AND(X42<>\"\",H42<>\"\"),IF(H42<=0,\"Speed!!\",X42*60/H42),\"\"),0)","v":""},{"$f":"I42-K42","v":0},{"$f":"ROUND(J42*SIN((P42)*PI()/180),1)","v":0},{"$f":"ROUND(J42*COS((P42)*PI()/180),1)","v":0},{"$f":"IF(T42<>\"\",K42+T42,\"\")","v":""},{"$f":"IF(AND(J42<>\"\",K42<>\"\"),IF(ISERROR(ROUND(180*ASIN(SIN(P42*PI()/180)*J42/H42)/PI(),1)),\"\",ROUND(180*ASIN(SIN(P42*PI()/180)*J42/H42)/PI(),1)),\"\")","v":""},null,{"$f":"IF(AND(T42<>\"\",W42<>\"\"),IF(W42+T42>360,W42+T42-360,IF(W42+T42<0,W42+T42+360,W42+T42)),\"\")","v":""},{"$f":"IF(K42<>\"\",IF(K42-U42>360,K42-U42-360,IF(K42-U42<0,K42-U42+360,K42-U42)),\"\")","v":""},null,"",{"$f":"IF(T42<>\"\",ROUND(H42*COS(T42*PI()/180)-R42,1),\"\")","v":""},{"$f":"IF(AND(X42<>\"\",Z42<>\"\"),IF(Z42<=0,\"Speed!!\",X42*60/Z42),\"\")","v":""},{"$f":"AB40-AA42","v":{"$error":"#VALUE!"}},{"$f":"IF(AND(AA42<>\"\",ISNUMBER(AA42),AC40<>\"\"),ROUNDDOWN((AB42)/60,0)&\" : \"&IF(ROUNDUP(MOD(AB42,60),0)<10,0,\"\")&ROUNDUP(MOD(AB42,60),0)&\" \",\"\")","v":""},{"$f":"IF(AE41<>\"\",11,0)","v":11},null,null,null,"",null,null,null,null,null,true,{"$f":"IF(AN42,MAX(AO$19:AO41)+1,\"\")","v":12},{"$f":"'Funknav Auswahl'!J29","v":{"$error":"#N/A"}},null,null,null,12,{"$f":"IF(ISERROR(VLOOKUP(AT42,$AO$20:$AS$70,2,FALSE)),\"\",VLOOKUP(AT42,$AO$20:$AS$70,2,FALSE))","v":""},null,null,null,true]
[null,null,null,null,2,null,null,null,null,null,null,null,null,null,null,null,null,null,null,null,null,null,null,null,null,null,null,null,null,{"$f":"IF(AE43<>\"\",12,0)","v":12},{"$f":"IF(AND($AE$19,AE41<>0,AA42<>\"\",ISNUMBER(AA42),ISNUMBER(AE41)),AE41+TIME(0,ROUND(AA42,0),0),\":\")","v":":"},":"]
[null,null,null,null,1,null,null,null,null,null,null,{"$f":"IF(OR(G44=\"SF\",G44=\"climb\",G44=\"Steigflug\",G44=\"climb flight\"),AA44,0)","v":0},{"$f":"IF(L44=0,AA44,0)","v":""},{"$f":"IF(OR(G44=\"SF\",G44=\"climb\",G44=\"Steigflug\",G44=\"climb flight\"),IF(AND(X44<>\"\",H44<>\"\"),IF(H44<=0,\"Speed!!\",X44*60/H44),\"\"),0)","v":0},{"$f":"IF(L44=0,IF(AND(X44<>\"\",H44<>\"\"),IF(H44<=0,\"Speed!!\",X44*60/H44),\"\"),0)","v":""},{"$f":"I44-K44","v":0},{"$f":"ROUND(J44*SIN((P44)*PI()/180),1)","v":0},{"$f":"ROUND(J44*COS((P44)*PI()/180),1)","v":0},{"$f":"IF(T44<>\"\",K44+T44,\"\")","v":""},{"$f":"IF(AND(J44<>\"\",K44<>\"\"),IF(ISERROR(ROUND(180*ASIN(SIN(P44*PI()/180)*J44/H44)/PI(),1)),\"\",ROUND(180*ASIN(SIN(P44*PI()/180)*J44/H44)/PI(),1)),\"\")","v":""},null,{"$f":"IF(AND(T44<>\"\",W44<>\"\"),IF(W44+T44>360,W44+T44-360,IF(W44+T44<0,W44+T44+360,W44+T44)),\"\")","v":""},{"$f":"IF(K44<>\"\",IF(K44-U44>360,K44-U44-360,IF(K44-U44<0,K44-U44+360,K44-U44)),\"\")","v":""},null,"",{"$f":"IF(T44<>\"\",ROUND(H44*COS(T44*PI()/180)-R44,1),\"\")","v":""},{"$f":"IF(AND(X44<>\"\",Z44<>\"\"),IF(Z44<=0,\"Speed!!\",X44*60/Z44),\"\")","v":""},{"$f":"AB42-AA44","v":{"$error":"#VALUE!"}},{"$f":"IF(AND(AA44<>\"\",ISNUMBER(AA44),AC42<>\"\"),ROUNDDOWN((AB44)/60,0)&\" : \"&IF(ROUNDUP(MOD(AB44,60),0)<10,0,\"\")&ROUNDUP(MOD(AB44,60),0)&\" \",\"\")","v":""},{"$f":"IF(AE43<>\"\",12,0)","v":12},null,null,null,"",null,null,null,null,null,true,{"$f":"IF(AN44,MAX(AO$19:AO43)+1,\"\")","v":13},{"$f":"'Funknav Auswahl'!J30","v":{"$error":"#N/A"}},null,null,null,13,{"$f":"IF(ISERROR(VLOOKUP(AT44,$AO$20:$AS$70,2,FALSE)),\"\",VLOOKUP(AT44,$AO$20:$AS$70,2,FALSE))","v":""},null,null,null,true]
[null,null,null,null,1,null,null,null,null,null,null,null,null,null,null,null,null,null,null,null,null,null,null,null,null,null,null,null,null,{"$f":"IF(AE45<>\"\",13,0)","v":13},{"$f":"IF(AND($AE$19,AE43<>0,AA44<>\"\",ISNUMBER(AA44),ISNUMBER(AE43)),AE43+TIME(0,ROUND(AA44,0),0),\":\")","v":":"},":"]
[null,null,null,null,2,null,null,null,null,null,null,{"$f":"IF(OR(G46=\"SF\",G46=\"climb\",G46=\"Steigflug\",G46=\"climb flight\"),AA46,0)","v":0},{"$f":"IF(L46=0,AA46,0)","v":""},{"$f":"IF(OR(G46=\"SF\",G46=\"climb\",G46=\"Steigflug\",G46=\"climb flight\"),IF(AND(X46<>\"\",H46<>\"\"),IF(H46<=0,\"Speed!!\",X46*60/H46),\"\"),0)","v":0},{"$f":"IF(L46=0,IF(AND(X46<>\"\",H46<>\"\"),IF(H46<=0,\"Speed!!\",X46*60/H46),\"\"),0)","v":""},{"$f":"I46-K46","v":0},{"$f":"ROUND(J46*SIN((P46)*PI()/180),1)","v":0},{"$f":"ROUND(J46*COS((P46)*PI()/180),1)","v":0},{"$f":"IF(T46<>\"\",K46+T46,\"\")","v":""},{"$f":"IF(AND(J46<>\"\",K46<>\"\"),IF(ISERROR(ROUND(180*ASIN(SIN(P46*PI()/180)*J46/H46)/PI(),1)),\"\",ROUND(180*ASIN(SIN(P46*PI()/180)*J46/H46)/PI(),1)),\"\")","v":""},null,{"$f":"IF(AND(T46<>\"\",W46<>\"\"),IF(W46+T46>360,W46+T46-360,IF(W46+T46<0,W46+T46+360,W46+T46)),\"\")","v":""},{"$f":"IF(K46<>\"\",IF(K46-U46>360,K46-U46-360,IF(K46-U46<0,K46-U46+360,K46-U46)),\"\")","v":""},null,"",{"$f":"IF(T46<>\"\",ROUND(H46*COS(T46*PI()/180)-R46,1),\"\")","v":""},{"$f":"IF(AND(X46<>\"\",Z46<>\"\"),IF(Z46<=0,\"Speed!!\",X46*60/Z46),\"\")","v":""},{"$f":"AB44-AA46","v":{"$error":"#VALUE!"}},{"$f":"IF(AND(AA46<>\"\",ISNUMBER(AA46),AC44<>\"\"),ROUNDDOWN((AB46)/60,0)&\" : \"&IF(ROUNDUP(MOD(AB46,60),0)<10,0,\"\")&ROUNDUP(MOD(AB46,60),0)&\" \",\"\")","v":""},{"$f":"IF(AE45<>\"\",13,0)","v":13},null,null,null,"",null,null,null,null,null,true,{"$f":"IF(AN46,MAX(AO$19:AO45)+1,\"\")","v":14},{"$f":"'Funknav Auswahl'!J31","v":{"$error":"#N/A"}},null,null,null,14,{"$f":"IF(ISERROR(VLOOKUP(AT46,$AO$20:$AS$70,2,FALSE)),\"\",VLOOKUP(AT46,$AO$20:$AS$70,2,FALSE))","v":""},null,null,null,true]
[null,null,null,null,2,null,null,null,null,null,null,null,null,null,null,null,null,null,null,null,null,null,null,null,null,null,null,null,null,{"$f":"IF(AE47<>\"\",14,0)","v":14},{"$f":"IF(AND($AE$19,AE45<>0,AA46<>\"\",ISNUMBER(AA46),ISNUMBER(AE45)),AE45+TIME(0,ROUND(AA46,0),0),\":\")","v":":"},":"]
[null,null,null,null,1,null,null,null,null,null,null,{"$f":"IF(OR(G48=\"SF\",G48=\"climb\",G48=\"Steigflug\",G48=\"climb flight\"),AA48,0)","v":0},{"$f":"IF(L48=0,AA48,0)","v":""},{"$f":"IF(OR(G48=\"SF\",G48=\"climb\",G48=\"Steigflug\",G48=\"climb flight\"),IF(AND(X48<>\"\",H48<>\"\"),IF(H48<=0,\"Speed!!\",X48*60/H48),\"\"),0)","v":0},{"$f":"IF(L48=0,IF(AND(X48<>\"\",H48<>\"\"),IF(H48<=0,\"Speed!!\",X48*60/H48),\"\"),0)","v":""},{"$f":"I48-K48","v":0},{"$f":"ROUND(J48*SIN((P48)*PI()/180),1)","v":0},{"$f":"ROUND(J48*COS((P48)*PI()/180),1)","v":0},{"$f":"IF(T48<>\"\",K48+T48,\"\")","v":""},{"$f":"IF(AND(J48<>\"\",K48<>\"\"),IF(ISERROR(ROUND(180*ASIN(SIN(P48*PI()/180)*J48/H48)/PI(),1)),\"\",ROUND(180*ASIN(SIN(P48*PI()/180)*J48/H48)/PI(),1)),\"\")","v":""},null,{"$f":"IF(AND(T48<>\"\",W48<>\"\"),IF(W48+T48>360,W48+T48-360,IF(W48+T48<0,W48+T48+360,W48+T48)),\"\")","v":""},{"$f":"IF(K48<>\"\",IF(K48-U48>360,K48-U48-360,IF(K48-U48<0,K48-U48+360,K48-U48)),\"\")","v":""},null,"",{"$f":"IF(T48<>\"\",ROUND(H48*COS(T48*PI()/180)-R48,1),\"\")","v":""},{"$f":"IF(AND(X48<>\"\",Z48<>\"\"),IF(Z48<=0,\"Speed!!\",X48*60/Z48),\"\")","v":""},{"$f":"AB46-AA48","v":{"$error":"#VALUE!"}},{"$f":"IF(AND(AA48<>\"\",ISNUMBER(AA48),AC46<>\"\"),ROUNDDOWN((AB48)/60,0)&\" : \"&IF(ROUNDUP(MOD(AB48,60),0)<10,0,\"\")&ROUNDUP(MOD(AB48,60),0)&\" \",\"\")","v":""},{"$f":"IF(AE47<>\"\",14,0)","v":14},null,null,null,"",null,null,null,null,null,true,{"$f":"IF(AN48,MAX(AO$19:AO47)+1,\"\")","v":15},{"$f":"'Funknav Auswahl'!J32","v":{"$error":"#N/A"}},null,null,null,15,{"$f":"IF(ISERROR(VLOOKUP(AT48,$AO$20:$AS$70,2,FALSE)),\"\",VLOOKUP(AT48,$AO$20:$AS$70,2,FALSE))","v":""},null,null,null,true]
[null,null,null,null,1,null,null,null,null,null,null,null,null,null,null,null,null,null,null,null,null,null,null,null,null,null,null,null,null,{"$f":"IF(AE49<>\"\",15,0)","v":15},{"$f":"IF(AND($AE$19,AE47<>0,AA48<>\"\",ISNUMBER(AA48),ISNUMBER(AE47)),AE47+TIME(0,ROUND(AA48,0),0),\":\")","v":":"},":"]
[null,null,null,null,2,null,null,null,null,null,null,{"$f":"IF(OR(G50=\"SF\",G50=\"climb\",G50=\"Steigflug\",G50=\"climb flight\"),AA50,0)","v":0},{"$f":"IF(L50=0,AA50,0)","v":""},{"$f":"IF(OR(G50=\"SF\",G50=\"climb\",G50=\"Steigflug\",G50=\"climb flight\"),IF(AND(X50<>\"\",H50<>\"\"),IF(H50<=0,\"Speed!!\",X50*60/H50),\"\"),0)","v":0},{"$f":"IF(L50=0,IF(AND(X50<>\"\",H50<>\"\"),IF(H50<=0,\"Speed!!\",X50*60/H50),\"\"),0)","v":""},{"$f":"I50-K50","v":0},{"$f":"ROUND(J50*SIN((P50)*PI()/180),1)","v":0},{"$f":"ROUND(J50*COS((P50)*PI()/180),1)","v":0},"",{"$f":"IF(AND(J50<>\"\",K50<>\"\"),IF(ISERROR(ROUND(180*ASIN(SIN(P50*PI()/180)*J50/H50)/PI(),1)),\"\",ROUND(180*ASIN(SIN(P50*PI()/180)*J50/H50)/PI(),1)),\"\")","v":""},null,{"$f":"IF(AND(T50<>\"\",W50<>\"\"),IF(W50+T50>360,W50+T50-360,IF(W50+T50<0,W50+T50+360,W50+T50)),\"\")","v":""},{"$f":"IF(K50<>\"\",IF(K50-U50>360,K50-U50-360,IF(K50-U50<0,K50-U50+360,K50-U50)),\"\")","v":""},null,"",{"$f":"IF(T50<>\"\",ROUND(H50*COS(T50*PI()/180)-R50,1),\"\")","v":""},{"$f":"IF(AND(X50<>\"\",Z50<>\"\"),IF(Z50<=0,\"Speed!!\",X50*60/Z50),\"\")","v":""},{"$f":"AB48-AA50","v":{"$error":"#VALUE!"}},{"$f":"IF(AND(AA50<>\"\",ISNUMBER(AA50),AC48<>\"\"),ROUNDDOWN((AB50)/60,0)&\" : \"&IF(ROUNDUP(MOD(AB50,60),0)<10,0,\"\")&ROUNDUP(MOD(AB50,60),0)&\" \",\"\")","v":""},{"$f":"IF(AE49<>\"\",15,0)","v":15},null,null,null,"",null,null,null,null,null,true,{"$f":"IF(AN50,MAX(AO$19:AO49)+1,\"\")","v":16},{"$f":"'Funknav Auswahl'!J33","v":{"$error":"#N/A"}},null,null,null,16,{"$f":"IF(ISERROR(VLOOKUP(AT50,$AO$20:$AS$70,2,FALSE)),\"\",VLOOKUP(AT50,$AO$20:$AS$70,2,FALSE))","v":""},null,null,null,true]
[null,null,null,null,2,null,null,null,null,null,null,null,null,null,null,null,null,null,null,null,null,null,null,null,null,null,null,null,null,{"$f":"IF(AE51<>\"\",16,0)","v":16},{"$f":"IF(AND($AE$19,AE49<>0,AA50<>\"\",ISNUMBER(AA50),ISNUMBER(AE49)),AE49+TIME(0,ROUND(AA50,0),0),\":\")","v":":"},":"]
[null,null,null,null,1,null,null,null,null,null,null,{"$f":"IF(OR(G52=\"SF\",G52=\"climb\",G52=\"Steigflug\",G52=\"climb flight\"),AA52,0)","v":0},{"$f":"IF(L52=0,AA52,0)","v":""},{"$f":"IF(OR(G52=\"SF\",G52=\"climb\",G52=\"Steigflug\",G52=\"climb flight\"),IF(AND(X52<>\"\",H52<>\"\"),IF(H52<=0,\"Speed!!\",X52*60/H52),\"\"),0)","v":0},{"$f":"IF(L52=0,IF(AND(X52<>\"\",H52<>\"\"),IF(H52<=0,\"Speed!!\",X52*60/H52),\"\"),0)","v":""},{"$f":"I52-K52","v":0},{"$f":"ROUND(J52*SIN((P52)*PI()/180),1)","v":0},{"$f":"ROUND(J52*COS((P52)*PI()/180),1)","v":0},"",{"$f":"IF(AND(J52<>\"\",K52<>\"\"),IF(ISERROR(ROUND(180*ASIN(SIN(P52*PI()/180)*J52/H52)/PI(),1)),\"\",ROUND(180*ASIN(SIN(P52*PI()/180)*J52/H52)/PI(),1)),\"\")","v":""},null,{"$f":"IF(AND(T52<>\"\",W52<>\"\"),IF(W52+T52>360,W52+T52-360,IF(W52+T52<0,W52+T52+360,W52+T52)),\"\")","v":""},{"$f":"IF(K52<>\"\",IF(K52-U52>360,K52-U52-360,IF(K52-U52<0,K52-U52+360,K52-U52)),\"\")","v":""},null,"",{"$f":"IF(T52<>\"\",ROUND(H52*COS(T52*PI()/180)-R52,1),\"\")","v":""},{"$f":"IF(AND(X52<>\"\",Z52<>\"\"),IF(Z52<=0,\"Speed!!\",X52*60/Z52),\"\")","v":""},{"$f":"AB50-AA52","v":{"$error":"#VALUE!"}},{"$f":"IF(AND(AA52<>\"\",ISNUMBER(AA52),AC50<>\"\"),ROUNDDOWN((AB52)/60,0)&\" : \"&IF(ROUNDUP(MOD(AB52,60),0)<10,0,\"\")&ROUNDUP(MOD(AB52,60),0)&\" \",\"\")","v":""},{"$f":"IF(AE51<>\"\",16,0)","v":16},null,null,null,"",null,null,null,null,null,true,{"$f":"IF(AN52,MAX(AO$19:AO51)+1,\"\")","v":17},{"$f":"'Funknav Auswahl'!J34","v":{"$error":"#N/A"}},null,null,null,17,{"$f":"IF(ISERROR(VLOOKUP(AT52,$AO$20:$AS$70,2,FALSE)),\"\",VLOOKUP(AT52,$AO$20:$AS$70,2,FALSE))","v":""},null,null,null,true]
[null,null,null,null,1,null,null,null,null,null,null,null,null,null,null,null,null,null,null,null,null,null,null,null,null,null,null,null,null,{"$f":"IF(AE53<>\"\",17,0)","v":17},{"$f":"IF(AND($AE$19,AE51<>0,AA52<>\"\",ISNUMBER(AA52),ISNUMBER(AE51)),AE51+TIME(0,ROUND(AA52,0),0),\":\")","v":":"},":"]
[null,null,null,null,null,null,null,null,null,null,null,null,null,null,null,null,null,null,null,null,null,null,null,null,null,null,null,null,null,{"$f":"IF(AE53<>\"\",17,0)","v":17},null,null,null,null,null,null,null,null,null,true,{"$f":"IF(AN54,MAX(AO$19:AO53)+1,\"\")","v":18},{"$f":"'Funknav Auswahl'!J35","v":{"$error":"#N/A"}},null,null,null,null,null,null,null,null,true]
[null,null,"Ausweichflugplatz / Alternate:"]
[null,null,null,null,2,null,null,null,null,null,null,null,null,null,null,{"$f":"I56-K56","v":0},{"$f":"ROUND(J56*SIN((P56)*PI()/180),1)","v":0},{"$f":"ROUND(J56*COS((P56)*PI()/180),1)","v":0},{"$f":"IF(T56<>\"\",K56+T56,\"\")","v":""},{"$f":"IF(AND(J56<>\"\",K56<>\"\"),IF(ISERROR(ROUND(180*ASIN(SIN(P56*PI()/180)*J56/H56)/PI(),1)),\"\",ROUND(180*ASIN(SIN(P56*PI()/180)*J56/H56)/PI(),1)),\"\")","v":""},null,{"$f":"IF(AND(T56<>\"\",W56<>\"\"),IF(W56+T56>360,W56+T56-360,IF(W56+T56<0,W56+T56+360,W56+T56)),\"\")","v":""},{"$f":"IF(K56<>\"\",IF(K56-U56>360,K56-U56-360,IF(K56-U56<0,K56-U56+360,K56-U56)),\"\")","v":""},null,null,{"$f":"IF(T56<>\"\",ROUND(H56*COS(T56*PI()/180)-R56,1),\"\")","v":""},{"$f":"IF(AND(X56<>\"\",Z56<>\"\"),X56*60/Z56,\"\")","v":""},{"$f":"IF(AA56<>\"\",AA56+AB54,0)","v":0},null,null,null,null,null,null,null,null,null,null,null,true,{"$f":"IF(AN56,MAX(AO$19:AO55)+1,\"\")","v":19},{"$f":"'Funknav Auswahl'!J36","v":{"$error":"#N/A"}},null,null,null,null,null,null,null,null,true]
[]
[null,null,null,null,null,null,null,null,null,null,null,null,null,null,null,null,null,null,null,null,null,null,null,null,null,null,null,null,null,null,null,null,null,null,null,null,null,null,null,true,{"$f":"IF(AN58,MAX(AO$19:AO57)+1,\"\")","v":20},{"$f":"'Funknav Auswahl'!J37","v":{"$error":"#N/A"}},null,null,null,null,null,null,null,null,true]
[null,null,"© by Dr. Markus Born"]
[null,null,null,null,null,null,null,null,null,null,null,null,null,null,null,null,null,null,null,null,null,null,null,null,null,null,null,null,null,null,null,null,null,null,null,null,null,null,null,true,{"$f":"IF(AN60,MAX(AO$19:AO59)+1,\"\")","v":21},{"$f":"'Funknav Auswahl'!J38","v":{"$error":"#N/A"}},null,null,null,null,null,null,null,null,true]
[null,null,"Flugdurchführungsplan / Flight Log ","Pilot:",null,null,null,"LFZ-Muster",null,"LFZ-Kennzeichen",null,null,null,null,null,null,null,null,null,null,null,null,"von:",null,null,null,"nach:",null,null,null,null,null,null,null,null,null,"Seite 2"]
[null,null,{"$f":"IF(C4<>\"\",C4,\"\")","v":""},{"$f":"IF(AC4<>\"\",AC4,\"\")","v":"Markus Born"},null,null,null,{"$f":"IF(V4<>\"\",V4,\"\")","v":""},null,{"$f":"IF(Y4<>\"\",Y4,\"\")","v":""},null,null,null,null,null,null,null,null,null,null,null,null,{"$f":"IF(F4<>\"\",F4,\"\")","v":""},{"$f":"IF(G5<>\"\",\"(\"&G5&\")\",\"\")","v":""},null,null,{"$f":"IF(J4<>\"\",J4,\"\")","v":""},null,{"$f":"IF(K5<>\"\",\"(\"&K5&\")\",\"\")","v":""},null,null,null,null,null,null,null,null,null,null,true,{"$f":"IF(AN62,MAX(AO$19:AO61)+1,\"\")","v":22},{"$f":"'Funknav Auswahl'!J39","v":{"$error":"#N/A"}},null,null,null,null,null,null,null,null,true]
[]
[null,null,"Flugberatung",null,null,null,null,null,null,null,null,null,null,null,null,null,null,null,null,null,null,null,null,null,null,null,null,null,null,null,null,null,null,null,null,null,null,null,null,true,{"$f":"IF(AN64,MAX(AO$19:AO63)+1,\"\")","v":23},{"$f":"'Funknav Auswahl'!J41","v":{"$error":"#N/A"}},null,null,null,null,null,null,null,null,true]
[null,null,null,null,null,null,null,null,null,null,null,null,null,null,null,null,null,null,null,null,null,null,null,null,null,null,null,null,null,null,null,null,null,null,null,null,null,null,null,true,{"$f":"IF(AN65,MAX(AO$19:AO64)+1,\"\")","v":24},{"$f":"'Funknav Auswahl'!J42","v":{"$error":"#N/A"}},null,null,null,null,null,null,null,null,true]
[null,null,null,null,null,null,null,null,null,null,null,null,null,null,null,null,null,null,null,null,null,null,null,null,null,null,null,null,null,null,null,null,null,null,null,null,null,null,null,true,{"$f":"IF(AN66,MAX(AO$19:AO65)+1,\"\")","v":25},{"$f":"'Funknav Auswahl'!J43","v":{"$error":"#N/A"}},null,null,null,null,null,null,null,null,true]
[null,null,null,null,null,null,null,null,null,null,null,null,null,null,null,null,null,null,null,null,null,null,null,null,null,null,null,null,null,null,null,null,null,null,null,null,null,null,null,true,{"$f":"IF(AN67,MAX(AO$19:AO66)+1,\"\")","v":26},{"$f":"'Funknav Auswahl'!J44","v":{"$error":"#N/A"}},null,null,null,null,null,null,null,null,true]
[null,null,null,null,null,null,null,null,null,null,null,null,null,null,null,null,null,null,null,null,null,null,null,null,null,null,null,null,null,null,null,null,null,null,null,null,null,null,null,true,{"$f":"IF(AN68,MAX(AO$19:AO67)+1,\"\")","v":27},{"$f":"'Funknav Auswahl'!J45","v":{"$error":"#N/A"}},null,null,null,null,null,null,null,null,true]
[null,null,null,null,null,null,null,null,null,null,null,null,null,null,null,null,null,null,null,null,null,null,null,null,null,null,null,null,null,null,null,null,null,null,null,null,null,null,null,true,{"$f":"IF(AN69,MAX(AO$19:AO68)+1,\"\")","v":28},{"$f":"'Funknav Auswahl'!J46","v":{"$error":"#N/A"}},null,null,null,null,null,null,null,null,true]
[null,null,null,null,null,null,null,null,null,null,null,null,null,null,null,null,null,null,null,null,null,null,null,null,null,null,null,null,null,null,null,null,null,null,null,null,null,null,null,true,{"$f":"IF(AN70,MAX(AO$19:AO69)+1,\"\")","v":29},{"$f":"'Funknav Auswahl'!J47","v":{"$error":"#N/A"}},null,null,null,null,null,null,null,null,true]
[]
[null,null,"Wetterberatung"]
[null,null,"GAFOR o, gültig (UTC):\nIndividuelle Beratung:"]
[]
[]
[]
[]
[]
[]
[null,null,"Flugplatzdaten aus AIP","Bahn  \nRWY in use",null,"Länge",null,"Strecke 15 m",null,"Hohe ft\nElevation ft",null,null,null,null,null,null,null,null,null,"Temp\n°C","Taupunkt °C","Wind \nrichtung\ndirection","Wind\nSpeed\nkt","Bahn-neigung\n+/-","Belag",null,"Gras-bahn",null,"Oberflächenzustand",null,null,"Beschränkungen"]
[null,null,{"$f":"IF(F4<>\"\",F4,\"\")","v":""}]
[null,null,{"$f":"IF(J4<>\"\",J4,\"\")","v":""}]
[null,null,{"$f":"IF(C56<>\"\",C56,\"\")","v":""}]
[]
[null,null,"Verbrauch Reiseflug (Liter pro Stunde)",null,null,{"$f":"Flugzeuge!D2","v":""}]
[null,null,"Verbrauch Steigflug (Liter pro Stunde)",null,null,{"$f":"Flugzeuge!E2","v":""},null,{"$f":"Flugzeuge!AX2","v":""},null,null,null,null,null,null,null,null,null,null,null,null,null,null,{"$f":"IF(AND(AA100<>\"\",AE100<>\"\"),IF(AND(AA89>AA100,AE90>AE100),\"Startstrecke OK!\",\"Startstrecke zu kurz!\"),\"\")","v":""},null,null,null,"START",null,null,null,null,null,null,"LANDUNG"]
[]
[false,null,"Kraftstoffberechnung","Flugzeit (Min)",null,"Kraftstoff (l)",null,"Masse-/ Schwerpunktberechnung",null,"Masse (kg) / Gewicht (kp)",null,null,null,null,null,null,null,null,null,"Moment",null,null,"Start- und Landestreckenberechnung",null,null,null,"Rollstrecke",null,null,null,"Startstrecke",null,null,"Landestrecke",null,"Rollstrecke"]
[false,null,"Reiseflug",{"$f":"IF($A$89,\"\",IF($A$88,ROUNDUP($O$19,0),ROUNDUP($M$19,0)))","v":0},null,{"$f":"IF(F85=\"\",\"\",IF($A$89,\"\",ROUNDUP($F$85/60*D89,0)))","v":""},null,"Leermasse",null,{"$f":"IF(Flugzeuge!Z2<>0,Flugzeuge!Z2,\"\")","v":""},null,null,null,null,null,null,null,null,null,{"$f":"IF(Flugzeuge!AL2<>0,Flugzeuge!AL2,\"\")","v":""},null,null,"Vorhandene Bahnlänge (aus AIP)",null,null,null,{"$f":"Flugzeuge!AZ2","v":""},null,null,null,null,null,null,null,null,null,null,null,2]
[null,null,"Zuschlag Anlassen/Rollen (ca. 5 Min.)",5,null,{"$f":"IF(F85=\"\",\"\",IF($A$89,\"\",ROUNDUP($F$85/60*D90,0)))","v":""},null,"Kraftstoff, nichtausfliegbar",null,{"$f":"IF(Flugzeuge!AA2<>0,Flugzeuge!AA2,\"\")","v":""},null,null,null,null,null,null,null,null,null,{"$f":"IF(Flugzeuge!AM2<>0,Flugzeuge!AM2,\"\")","v":""},null,null,"Vorhandene Startstrecke ü. 15 m",null,null,null,null,null,null,null,{"$f":"Flugzeuge!BA2","v":""},null,null,null,null,null,null,null,3]
[null,null,"Steigflug",{"$f":"IF($A$89,\"\",IF($A$88,ROUNDUP($N$19,0),ROUNDUP($L$19,0)))","v":0},null,{"$f":"IF(F86=\"\",\"\",IF($A$89,\"\",ROUNDUP($F$86/60*D91,0)))","v":""},null,"Schmierstoff",null,{"$f":"IF(Flugzeuge!AB2<>0,Flugzeuge!AB2,\"\")","v":""},null,null,null,null,null,null,null,null,null,{"$f":"IF(Flugzeuge!AN2<>0,Flugzeuge!AN2,\"\")","v":""},null,null,"aus Flughandbuch:",null,null,null,{"$f":"Flugzeuge!BB2","v":""},null,null,null,null,null,null,null,null,null,null,null,4]
[null,null,"An- und Abflug (min 10 Min.)",10,null,{"$f":"IF(F85=\"\",\"\",IF($A$89,\"\",ROUNDUP($F$85/60*D92,0)))","v":""},null,"=Grundmasse",null,{"$f":"IF(Flugzeuge!AC2<>0,Flugzeuge!AC2,\"\")","v":""},null,null,null,null,null,null,null,null,null,{"$f":"IF(Flugzeuge!AO2<>0,Flugzeuge!AO2,\"\")","v":""},null,null,"Grundstrecke",null,null,null,{"$f":"Flugzeuge!BC2","v":""},null,null,null,{"$f":"Flugzeuge!BL2","v":""},null,null,null,null,null,null,null,5]
[null,null,"Ausweichflugplatz",{"$f":"IF($A$89,\"\",IF($AA$56<>\"\",ROUNDUP($AA$56,0),0))","v":0},null,{"$f":"IF(F85=\"\",\"\",IF($A$89,\"\",IF($AA$56<>\"\",ROUNDUP($F$85/60*D93,0),0)))","v":""},null,"Sitzreihe 1",null,{"$f":"IF(Flugzeuge!AD2<>0,Flugzeuge!AD2,\"\")","v":""},null,null,null,null,null,null,null,null,null,{"$f":"IF(Flugzeuge!AP2<>0,Flugzeuge!AP2,\"\")","v":""},null,null,"Höhenzuschlag",null,null,null,{"$f":"Flugzeuge!BD2","v":""},null,null,null,{"$f":"Flugzeuge!BM2","v":""},null,null,null,null,null,null,null,6]
[null,null,"Reserve (min. 30 Min.)",30,null,{"$f":"IF(F85=\"\",\"\",IF($A$89,\"\",ROUNDUP($F$85/60*D94,0)))","v":""},null,"Sitzreihe 2",null,{"$f":"IF(Flugzeuge!AE2<>0,Flugzeuge!AE2,\"\")","v":""},null,null,null,null,null,null,null,null,null,{"$f":"IF(Flugzeuge!AQ2<>0,Flugzeuge!AQ2,\"\")","v":""},null,null,"Temperaturzuschlag",null,null,null,{"$f":"Flugzeuge!BE2","v":""},null,null,null,{"$f":"Flugzeuge!BN2","v":""},null,null,null,null,null,null,null,7]
[null,null,"Mindest-Kraftstoffbedarf",null,null,{"$f":"IF($A$89,\"\",SUM(F89:F94))","v":0},null,"Sitzreihe 3",null,{"$f":"IF(Flugzeuge!AF2<>0,Flugzeuge!AF2,\"\")","v":""},null,null,null,null,null,null,null,null,null,{"$f":"IF(Flugzeuge!AR2<>0,Flugzeuge!AR2,\"\")","v":""},null,null,"Windeinfluss",null,null,null,{"$f":"Flugzeuge!BF2","v":""},null,null,null,{"$f":"Flugzeuge!BO2","v":""},null,null,null,null,null,null,null,8]
[null,null,"Extra Kraftstoff",{"$f":"IF(F85=\"\",\"\",IF($A$89,\"\",ROUNDDOWN(F96/F85*60,0)))","v":""},null,{"$f":"IF($A$89,\"\",F97-F95)","v":92},null,"Gepäckraum 1",null,{"$f":"IF(Flugzeuge!AG2<>0,Flugzeuge!AG2,\"\")","v":""},null,null,null,null,null,null,null,null,null,{"$f":"IF(Flugzeuge!AS2<>0,Flugzeuge!AS2,\"\")","v":""},null,null,"Neigungszuschlag",null,null,null,{"$f":"Flugzeuge!BG2","v":""},null,null,null,{"$f":"Flugzeuge!BP2","v":""},null,null,null,null,null,null,null,9]
[null,null,"Kraftstoff-Vorrat (ausfliegbar)",{"$f":"IF($A$89,\"\",IF(D96=\"\",0,D96)+D94+D93+D92+D91+D89)","v":40},null,92,{"$f":"IF(Y4<>\"\",\"max.\"&Flugzeuge!G2,\"\")","v":""},"Gepäckraum 2",null,{"$f":"IF(Flugzeuge!AH2<>0,Flugzeuge!AH2,\"\")","v":""},null,null,null,null,null,null,null,null,null,{"$f":"IF(Flugzeuge!AT2<>0,Flugzeuge!AT2,\"\")","v":""},null,null,"Grasbahnzuschlag",null,null,null,{"$f":"Flugzeuge!BH2","v":""},null,null,null,{"$f":"Flugzeuge!BQ2","v":""},null,null,null,null,null,null,null,10]
[null,null,{"$f":"IF(D96<0,\"ZU WENIG KRAFTSTOFF!!\",\"\")","v":""},null,null,null,null,"Gepäckraum 3",null,{"$f":"IF(Flugzeuge!AI2<>0,Flugzeuge!AI2,\"\")","v":""},null,null,null,null,null,null,null,null,null,{"$f":"IF(Flugzeuge!AU2<>0,Flugzeuge!AU2,\"\")","v":""},null,null,"Oberflächenzuschlag",null,null,null,{"$f":"Flugzeuge!BI2","v":""},null,null,null,{"$f":"Flugzeuge!BR2","v":""},null,null,null,null,null,null,null,11]
[null,null,"Sichere Flugzeit \n(=max. Flugzeit minus 30 Min.)",{"$f":"IF($A$89,\"\",D97-30)","v":10},null,"Minuten",null,"Kraftstoff, ausfliegbar",null,{"$f":"IF(Flugzeuge!AJ2<>0,Flugzeuge!AJ2,\"\")","v":""},null,null,null,null,null,null,null,null,null,{"$f":"IF(Flugzeuge!AV2<>0,Flugzeuge!AV2,\"\")","v":""},null,null,"Weitere Zuschläge",null,null,null,{"$f":"Flugzeuge!BJ2","v":""},null,null,null,{"$f":"Flugzeuge!BS2","v":""},null,null,null,null,null,null,null,12]
[null,null,null,{"$f":"IF(ISNUMBER(D99),ROUNDDOWN((D99)/60,0)&\" : \"&IF(ROUNDUP(MOD(D99,60),0)<10,0,\"\")&ROUNDUP(MOD(D99,60),0)&\" \",\"\")","v":"0 : 10 "},null,"HH:MM",null,"Startmasse \nStartmoment",null,{"$f":"IF(Flugzeuge!AK2<>0,Flugzeuge!AK2,\"\")","v":""},null,null,null,null,null,null,null,null,null,{"$f":"IF(Flugzeuge!AW2<>0,Flugzeuge!AW2,\"\")","v":""},null,null,"Benötigte Strecke",null,null,null,{"$f":"Flugzeuge!BK2","v":""},null,null,null,{"$f":"Flugzeuge!BT2","v":""},null,null,{"$f":"IF(SUM(AH92:AI99)<>0,SUM(AH92:AI99),\"\")","v":""},null,{"$f":"IF(SUM(AJ92:AK99)<>0,SUM(AJ92:AK99),\"\")","v":""},null,null,13]
[null,null,null,null,null,null,null,null,null,null,null,null,null,null,null,null,null,null,null,null,null,null,null,null,null,null,null,null,null,null,null,null,null,null,null,null,null,null,14]
[null,null,null,null,null,null,null,null,null,null,null,null,null,null,null,null,null,null,null,null,null,null,null,null,null,null,null,null,null,null,null,null,null,null,null,null,null,null,15]

{"sheet":"Flugdurchführungsplan (schmal)","index":2,"n_rows":64,"n_cols":20,"rows_kept":64,"cut":false,"hidden":false,"merged":[[6,4,6,6],[6,7,6,9],[5,10,6,11],[3,13,3,14],[4,13,4,14],[48,17,49,17],[50,17,51,17],[52,17,53,17],[54,17,55,17],[22,1,22,11],[26,1,27,1],[5,1,5,2],[5,4,5,5],[5,7,5,8],[53,8,54,8],[47,8,48,8],[44,1,45,1],[36,1,37,1],[32,1,33,1],[27,5,28,5],[27,6,28,6],[27,8,28,8],[27,4,28,4],[31,5,32,5],[28,1,29,1],[29,4,30,4],[27,9,28,9],[55,4,56,4],[49,4,50,4],[33,5,34,5],[48,1,49,1],[47,4,48,4],[49,10,50,10],[47,7,48,7],[34,1,35,1],[35,4,36,4],[33,4,34,4],[10,1,12,11],[13,1,15,11],[16,1,18,11],[7,12,9,12],[10,12,18,12],[20,1,20,11],[21,1,21,11],[7,10,7,11],[8,10,8,11],[63,17,64,17],[30,17,31,17],[32,17,33,17],[34,17,35,17],[36,17,37,17],[38,17,39,17],[40,17,41,17],[42,17,43,17],[44,17,45,17],[46,17,47,17],[56,17,57,17],[58,17,59,17],[60,17,61,17],[52,13,53,13],[52,14,53,14],[55,7,56,7],[59,9,60,9],[59,10,60,10],[59,5,60,5],[55,9,56,9],[57,11,58,11],[49,5,50,5],[49,6,50,6],[49,7,50,7],[53,7,54,7],[48,13,49,13],[48,14,49,14],[47,6,48,6],[47,9,48,9],[47,10,48,10],[47,5,48,5],[49,8,50,8],[49,9,50,9],[60,14,61,14],[55,11,56,11],[47,11,48,11],[49,11,50,11],[59,4,60,4],[60,13,61,13],[56,1,57,1],[56,13,57,13],[56,14,57,14],[55,5,56,5],[55,6,56,6],[55,10,56,10],[31,4,32,4],[41,5,42,5],[41,6,42,6],[41,8,42,8],[46,1,47,1],[45,5,46,5],[45,6,46,6],[45,8,46,8],[42,1,43,1],[43,6,44,6],[43,8,44,8],[33,6,34,6],[33,8,34,8],[30,1,31,1],[59,8,60,8],[55,8,56,8],[63,1,64,1],[59,11,60,11],[60,1,61,1],[24,3,25,3],[57,7,58,7],[59,7,60,7],[63,7,64,7],[3,1,3,3],[4,1,4,3],[3,4,3,6],[3,7,3,9],[3,10,3,11],[4,10,4,11],[27,7,28,7],[29,7,30,7],[31,7,32,7],[33,7,34,7],[35,7,36,7],[37,7,38,7],[39,7,40,7],[41,7,42,7],[43,7,44,7],[59,6,60,6],[31,6,32,6],[63,13,64,13],[63,14,64,14],[63,8,64,8],[63,9,64,9],[63,10,64,10],[63,11,64,11],[63,5,64,5],[63,6,64,6],[63,4,64,4],[58,1,59,1],[58,13,59,13],[58,14,59,14],[57,5,58,5],[57,6,58,6],[57,8,58,8],[54,1,55,1],[54,13,55,13],[54,14,55,14],[57,9,58,9],[57,10,58,10],[57,4,58,4],[53,5,54,5],[53,9,54,9],[52,1,53,1],[53,4,54,4],[51,9,52,9],[51,10,52,10],[51,11,52,11],[53,10,54,10],[53,11,54,11],[51,6,52,6],[53,6,54,6],[51,7,52,7],[50,13,51,13],[50,14,51,14],[51,8,52,8],[51,4,52,4],[51,5,52,5],[50,1,51,1],[40,1,41,1],[41,4,42,4],[39,9,40,9],[39,10,40,10],[39,11,40,11],[39,5,40,5],[38,1,39,1],[39,6,40,6],[37,6,38,6],[44,13,45,13],[44,14,45,14],[43,5,44,5],[41,10,42,10],[41,11,42,11],[36,13,37,13],[40,13,41,13],[40,14,41,14],[38,13,39,13],[33,11,34,11],[37,8,38,8],[37,9,38,9],[35,9,36,9],[35,10,36,10],[35,5,36,5],[37,4,38,4],[35,11,36,11],[37,10,38,10],[37,11,38,11],[38,14,39,14],[39,8,40,8],[39,4,40,4],[37,5,38,5],[45,11,46,11],[45,9,46,9],[45,10,46,10],[45,4,46,4],[45,7,46,7],[43,9,44,9],[43,4,44,4],[43,11,44,11],[41,9,42,9],[36,14,37,14],[46,13,47,13],[46,14,47,14],[43,10,44,10],[42,13,43,13],[42,14,43,14],[30,13,31,13],[30,14,31,14],[29,5,30,5],[29,6,30,6],[29,8,30,8],[29,9,30,9],[34,13,35,13],[34,14,35,14],[35,6,36,6],[35,8,36,8],[31,10,32,10],[31,11,32,11],[32,13,33,13],[33,9,34,9],[33,10,34,10],[32,14,33,14],[31,9,32,9],[31,8,32,8],[29,10,30,10],[29,11,30,11],[28,13,29,13],[28,14,29,14],[27,10,28,10],[27,11,28,11],[42,19,43,19],[63,19,64,19],[44,19,45,19],[46,19,47,19],[48,19,49,19],[50,19,51,19],[52,19,53,19],[54,19,55,19],[56,19,57,19],[58,19,59,19],[60,19,61,19],[0,16,8,16],[26,19,27,19],[28,19,29,19],[30,19,31,19],[32,19,33,19],[34,19,35,19],[36,19,37,19],[38,19,39,19],[40,19,41,19],[26,17,27,17],[28,17,29,17]]}
[null,null,null,null,null,null,null,null,null,null,null,null,null,null,null,null,"HIER NACH HINTEN KNICKEN"]
[]
[null,"F l u g d u r c h f ü h r u n g s p l a n / F l i g h t    L o g"]
[null,{"$f":"IF('Flugdurchführungsplan (n. DFS)'!C4<>\"\",'Flugdurchführungsplan (n. DFS)'!C4,\"\")","v":""},null,null,{"$f":"IF('Flugdurchführungsplan (n. DFS)'!F4<>\"\",'Flugdurchführungsplan (n. DFS)'!F4,\"\")","v":""},null,null,{"$f":"IF('Flugdurchführungsplan (n. DFS)'!J4<>\"\",'Flugdurchführungsplan (n. DFS)'!J4,\"\")","v":""},null,null,{"$f":"IF('Flugdurchführungsplan (n. DFS)'!V4<>\"\",'Flugdurchführungsplan (n. DFS)'!V4,\"\")","v":""},null,null,{"$f":"IF('Flugdurchführungsplan (n. DFS)'!Y4<>\"\",'Flugdurchführungsplan (n. DFS)'!Y4,\"\")","v":""}]
[null,"Datum:",null,null,"von:",{"$f":"'Flugdurchführungsplan (n. DFS)'!G5","v":""},{"$f":"'Flugdurchführungsplan (n. DFS)'!I5","v":""},{"$f":"\"nach:  \"&IF(ISERROR(Flugplätze!AI3),\"\",Flugplätze!AI3)","v":"nach:  "},{"$f":"'Flugdurchführungsplan (n. DFS)'!K5","v":""},{"$f":"'Flugdurchführungsplan (n. DFS)'!U5","v":""},"LFZ-Muster",null,null,"LFZ-Kennzeichen"]
[null,{"$f":"IF('Flugdurchführungsplan (n. DFS)'!AC4<>\"\",'Flugdurchführungsplan (n. DFS)'!AC4,\"\")","v":"Markus Born"},null,"(Pilot)",{"$f":"'Flugdurchführungsplan (n. DFS)'!AE8","v":""},null,{"$f":"IF(E6<>\"\",\"MHz\",\"\")","v":""},{"$f":"'Flugdurchführungsplan (n. DFS)'!AJ8","v":""},null,{"$f":"IF(H6<>\"\",\"MHz\",\"\")","v":""},{"$f":"'Flugdurchführungsplan (n. DFS)'!AE17","v":"0 : 10 "},null,null,null,null,null,null,"Funkspruch "]
[null,null,null,null,{"$f":"IF('Flugdurchführungsplan (n. DFS)'!AA8<>\"\",'Flugdurchführungsplan (n. DFS)'!AA8,\"\")","v":""},null,null,{"$f":"IF('Flugdurchführungsplan (n. DFS)'!AH8<>\"\",'Flugdurchführungsplan (n. DFS)'!AH8,\"\")","v":""},null,null,null,null,null,"max. Tankfüll. (L)",{"$f":"Flugzeuge!G2","v":""}]
[null,{"$f":"IF('Flugdurchführungsplan (n. DFS)'!J8<>\"\",'Flugdurchführungsplan (n. DFS)'!J8,\"\")","v":""},null,null,"Ground",{"$f":"IF('Flugdurchführungsplan (n. DFS)'!AC9<>\"\",'Flugdurchführungsplan (n. DFS)'!AC9,\"\")","v":""},{"$f":"IF(F8<>\"\",\"MHz\",\"\")","v":""},"Ground",{"$f":"IF('Flugdurchführungsplan (n. DFS)'!AI9<>\"\",'Flugdurchführungsplan (n. DFS)'!AI9,\"\")","v":""},{"$f":"IF(I8<>\"\",\"MHz\",\"\")","v":""},"Sichere Flugzeit (hh:mm)",null,"Kraftstoff","Verbrauch (L/h)",{"$f":"IF(ISERROR('Flugdurchführungsplan (n. DFS)'!F85),\"\",'Flugdurchführungsplan (n. DFS)'!F85)","v":""},null,null,{"$f":"\"WER?     \"&IF(N4<>\"\",N4,\"D-E .. .. .. \")&\",  \"&IF(Flugzeuge!Y2<>\"\",Flugzeuge!Y2,\"Flugzeugtyp\")","v":"WER?     D-E .. .. .. ,  Flugzeugtyp"}]
[null,{"$f":"IF('Flugdurchführungsplan (n. DFS)'!F8<>\"\",'Flugdurchführungsplan (n. DFS)'!F8,\"\")","v":""},null,null,"TWR",{"$f":"IF('Flugdurchführungsplan (n. DFS)'!AC10<>\"\",'Flugdurchführungsplan (n. DFS)'!AC10,\"\")","v":""},{"$f":"IF(F9<>\"\",\"MHz\",\"\")","v":""},"TWR",{"$f":"IF('Flugdurchführungsplan (n. DFS)'!AI10<>\"\",'Flugdurchführungsplan (n. DFS)'!AI10,\"\")","v":""},{"$f":"IF(I9<>\"\",\"MHz\",\"\")","v":""},"(Max. Flugzeit minus 30 Min.)",null,null,"ausfliegb. Vorrat (L)",{"$f":"IF(ISERROR('Flugdurchführungsplan (n. DFS)'!F97),\"\",IF('Flugdurchführungsplan (n. DFS)'!F97=\"\",\"\",'Flugdurchführungsplan (n. DFS)'!F97))","v":92},null,null,{"$f":"\"WIE?      VFR von \"&IF(F5<>\"\",F5,\"   …     \")&\" nach \"&IF(I5<>\"\",I5,\"    …     \")&\"  via     …    \"","v":"WIE?      VFR von    …      nach     …       via     …    "}]
[null,{"$f":"IF('Flugdurchführungsplan (n. DFS)'!C8<>\"\",'Flugdurchführungsplan (n. DFS)'!C8,\"\")","v":""},null,null,"INFO",{"$f":"IF('Flugdurchführungsplan (n. DFS)'!AC11<>\"\",'Flugdurchführungsplan (n. DFS)'!AC11,\"\")","v":""},{"$f":"IF(F10<>\"\",\"MHz\",\"\")","v":""},"INFO",{"$f":"IF('Flugdurchführungsplan (n. DFS)'!AI11<>\"\",'Flugdurchführungsplan (n. DFS)'!AI11,\"\")","v":""},{"$f":"IF(I10<>\"\",\"MHz\",\"\")","v":""},null,null,null,"Mindestbedarf (L)",{"$f":"IF(ISERROR('Flugdurchführungsplan (n. DFS)'!F95),\"\",'Flugdurchführungsplan (n. DFS)'!F95)","v":0},null,null,"WO?      Position (z.B. 5 Min. südlich), Höhe (z.B. 3000 ft)"]
[null,{"$f":"IF('Flugdurchführungsplan (n. DFS)'!C9<>\"\",'Flugdurchführungsplan (n. DFS)'!C9,\"\")","v":"München Information (Süd) 126.950  / München Information (Nord) 120.650  /  Notfrequenz 121.500  /  alle Militär-Tower 122.100   "},null,null,null,null,null,null,null,null,null,null,"Speeds in kt IAS",{"$f":"\"Bestes Gleiten\"","v":"Bestes Gleiten"},{"$f":"IF(Flugzeuge!X2<>\"\",Flugzeuge!X2,\"\")","v":""},null,null,"[POB      n Personen an Bord] (nur bei Militärplätzen)"]
[null,null,null,null,null,null,null,null,null,null,null,null,null,"Bestes Gleiten 30°",{"$f":"IF(Flugzeuge!W2<>\"\",Flugzeuge!W2,\"\")","v":""},null,null,"Wx         Information [Kennbuchstabe]  (ATIS)"]
[null,null,null,null,null,null,null,null,null,null,null,null,null,"Maneuv. Speed VA",{"$f":"IF(Flugzeuge!P2<>\"\",Flugzeuge!P2,\"\")","v":""},null,null,"WAS?     Zur Landung, zum Aufsetzen und Durchstarten,  "]
[null,{"$f":"IF('Flugdurchführungsplan (n. DFS)'!C10<>\"\",'Flugdurchführungsplan (n. DFS)'!C10,\"\")","v":"ATIS München 123.125  /  ATIS Augsburg 124.575"},null,null,null,null,null,null,null,null,null,null,null,"Climb 10° Flaps",{"$f":"IF(Flugzeuge!N2<>\"\",Flugzeuge!N2,\"\")","v":""},null,null,"              erbitte Rollinformationen, zum Tiefanflug, "]
[null,null,null,null,null,null,null,null,null,null,null,null,null,"Climb no Flaps",{"$f":"IF(Flugzeuge!O2<>\"\",Flugzeuge!O2,\"\")","v":""},null,null,"              erbitte Durchflug durch Kontrollzone von .. "]
[null,null,null,null,null,null,null,null,null,null,null,null,null,"Steilstes Steigen VX",{"$f":"IF(Flugzeuge!S2<>\"\",Flugzeuge!S2,\"\")","v":""},null,null,"              nach .. via ..."]
[null,{"$f":"IF('Flugdurchführungsplan (n. DFS)'!C11<>\"\",'Flugdurchführungsplan (n. DFS)'!C11,\"\")","v":""},null,null,null,null,null,null,null,null,null,null,null,"Beste Steigrate VY",{"$f":"IF(Flugzeuge!T2<>\"\",Flugzeuge!T2,\"\")","v":""}]
[null,null,null,null,null,null,null,null,null,null,null,null,null,"Minimum Speed VS",{"$f":"IF(Flugzeuge!U2<>\"\",Flugzeuge!U2,\"\")","v":""}]
[]
[null,"Bemerkungen/Notizen:",null,null,{"$f":"E4&IF(E4<>\"\",\" -> \",\"\")","v":""},{"$f":"H4&IF(G20<>\"\",\" TC=\",\"\")","v":""},{"$f":"'Flugdurchführungsplan (n. DFS)'!AK5","v":""},{"$f":"'Flugdurchführungsplan (n. DFS)'!AI5","v":""},null,null,null,null,null,"Landings:"]
[null,null,null,null,null,null,null,null,null,null,null,null,null,"OFF BLOCK","AIR-BORNE"]
[null,null,null,null,null,null,null,null,null,null,null,null,"FROM",":",":"]
[null,null,null,null,null,null,null,null,null,null,null,null,"UNTIL",":",":"]
[]
[null,"Kontrollpunkt \n\nCheck Point",null,"Sicherh.-\nhöhe\nSafe Alt./ Planned Cruis. Alt","rwK \n\nTC","mwST\n\nMH","mwK\n\nMC","VG\n\nGS","Entf.\n\nDistance","Entf.\ngesamt Distance\naccum.","Zeiten\nAbschn.\nTimes\nLeg","Zeiten\ngesamt\nTimes\naccum.",null,{"$f":"\"SS\n\"&\"(UTC\"&IF(I5<>\"\",\" in \"&H4,\"\")&\")\"","v":"SS\n(UTC)"},{"$f":"IF('Flugdurchführungsplan (n. DFS)'!AI15<>\"\",'Flugdurchführungsplan (n. DFS)'!AI15,\"\")","v":""},null,null,"Kontrollpunkt \n\nCheck Point",null,"Bemerkungen\n\nRemarks"]
[null,null,null,null,null,null,null,null,null,{"$f":"IF('Flugdurchführungsplan (n. DFS)'!Y18<>\"\",'Flugdurchführungsplan (n. DFS)'!Y18,\"\")","v":""},null,{"$f":"IF('Flugdurchführungsplan (n. DFS)'!AC18<>\"\",'Flugdurchführungsplan (n. DFS)'!AC18,\"\")","v":""},null,"ADT"]
[null,{"$f":"IF('Flugdurchführungsplan (n. DFS)'!C19<>\"\",'Flugdurchführungsplan (n. DFS)'!C19,\"\")","v":""},2,"FL / ft","degrees / °","degrees / °","degrees / °","kt","NM","NM","Minutes","HH:MM",null,null,null,null,null,{"$f":"IF('Flugdurchführungsplan (n. DFS)'!C19<>\"\",'Flugdurchführungsplan (n. DFS)'!C19,\"\")","v":""},null,{"$f":"IF('Flugdurchführungsplan (n. DFS)'!AH20<>\"\",'Flugdurchführungsplan (n. DFS)'!AH20,\"\")","v":""}]
[null,null,1,{"$f":"IF('Flugdurchführungsplan (n. DFS)'!F20<>\"\",'Flugdurchführungsplan (n. DFS)'!F20,\"\")","v":""},{"$f":"IF('Flugdurchführungsplan (n. DFS)'!K20<>\"\",'Flugdurchführungsplan (n. DFS)'!K20,\"\")","v":""},{"$f":"IF('Flugdurchführungsplan (n. DFS)'!V20<>\"\",'Flugdurchführungsplan (n. DFS)'!V20,\"\")","v":""},{"$f":"IF('Flugdurchführungsplan (n. DFS)'!W20<>\"\",'Flugdurchführungsplan (n. DFS)'!W20,\"\")","v":""},{"$f":"IF('Flugdurchführungsplan (n. DFS)'!Z20<>\"\",'Flugdurchführungsplan (n. DFS)'!Z20,\"\")","v":""},{"$f":"IF('Flugdurchführungsplan (n. DFS)'!X20<>\"\",'Flugdurchführungsplan (n. DFS)'!X20,\"\")","v":""},{"$f":"IF('Flugdurchführungsplan (n. DFS)'!Y20<>\"\",'Flugdurchführungsplan (n. DFS)'!Y20,\"\")","v":""},{"$f":"IF('Flugdurchführungsplan (n. DFS)'!AA20<>\"\",'Flugdurchführungsplan (n. DFS)'!AA20,\"\")","v":""},{"$f":"IF('Flugdurchführungsplan (n. DFS)'!AC20<>\"\",'Flugdurchführungsplan (n. DFS)'!AC20,\"\")","v":""},null,"ETO","ATO"]
[null,{"$f":"IF('Flugdurchführungsplan (n. DFS)'!C21<>\"\",'Flugdurchführungsplan (n. DFS)'!C21,\"\")","v":""},1,{"$f":"IF('Flugdurchführungsplan (n. DFS)'!G20<>\"\",'Flugdurchführungsplan (n. DFS)'!G20,\"\")","v":""},null,null,null,null,null,null,null,null,null,{"$f":"IF('Flugdurchführungsplan (n. DFS)'!AE21<>\"\",'Flugdurchführungsplan (n. DFS)'!AE21,\":\")","v":":"},":",null,null,{"$f":"IF('Flugdurchführungsplan (n. DFS)'!C21<>\"\",'Flugdurchführungsplan (n. DFS)'!C21,\"\")","v":""},null,{"$f":"IF('Flugdurchführungsplan (n. DFS)'!AH22<>\"\",'Flugdurchführungsplan (n. DFS)'!AH22,\"\")","v":""}]
[null,null,2,{"$f":"IF('Flugdurchführungsplan (n. DFS)'!F22<>\"\",'Flugdurchführungsplan (n. DFS)'!F22,\"\")","v":""},{"$f":"IF('Flugdurchführungsplan (n. DFS)'!K22<>\"\",'Flugdurchführungsplan (n. DFS)'!K22,\"\")","v":""},{"$f":"IF('Flugdurchführungsplan (n. DFS)'!V22<>\"\",'Flugdurchführungsplan (n. DFS)'!V22,\"\")","v":""},{"$f":"IF('Flugdurchführungsplan (n. DFS)'!W22<>\"\",'Flugdurchführungsplan (n. DFS)'!W22,\"\")","v":""},{"$f":"IF('Flugdurchführungsplan (n. DFS)'!Z22<>\"\",'Flugdurchführungsplan (n. DFS)'!Z22,\"\")","v":""},{"$f":"IF('Flugdurchführungsplan (n. DFS)'!X22<>\"\",'Flugdurchführungsplan (n. DFS)'!X22,\"\")","v":""},{"$f":"IF('Flugdurchführungsplan (n. DFS)'!Y22<>\"\",'Flugdurchführungsplan (n. DFS)'!Y22,\"\")","v":""},{"$f":"IF('Flugdurchführungsplan (n. DFS)'!AA22<>\"\",'Flugdurchführungsplan (n. DFS)'!AA22,\"\")","v":""},{"$f":"IF('Flugdurchführungsplan (n. DFS)'!AC22<>\"\",'Flugdurchführungsplan (n. DFS)'!AC22,\"\")","v":""}]
[null,{"$f":"IF('Flugdurchführungsplan (n. DFS)'!C23<>\"\",'Flugdurchführungsplan (n. DFS)'!C23,\"\")","v":""},2,{"$f":"IF('Flugdurchführungsplan (n. DFS)'!G22<>\"\",'Flugdurchführungsplan (n. DFS)'!G22,\"\")","v":""},null,null,null,null,null,null,null,null,null,{"$f":"IF('Flugdurchführungsplan (n. DFS)'!AE23<>\"\",'Flugdurchführungsplan (n. DFS)'!AE23,\":\")","v":":"},":",null,null,{"$f":"IF('Flugdurchführungsplan (n. DFS)'!C23<>\"\",'Flugdurchführungsplan (n. DFS)'!C23,\"\")","v":""},null,{"$f":"IF('Flugdurchführungsplan (n. DFS)'!AH24<>\"\",'Flugdurchführungsplan (n. DFS)'!AH24,\"\")","v":""}]
[null,null,1,{"$f":"IF('Flugdurchführungsplan (n. DFS)'!F24<>\"\",'Flugdurchführungsplan (n. DFS)'!F24,\"\")","v":""},{"$f":"IF('Flugdurchführungsplan (n. DFS)'!K24<>\"\",'Flugdurchführungsplan (n. DFS)'!K24,\"\")","v":""},{"$f":"IF('Flugdurchführungsplan (n. DFS)'!V24<>\"\",'Flugdurchführungsplan (n. DFS)'!V24,\"\")","v":""},{"$f":"IF('Flugdurchführungsplan (n. DFS)'!W24<>\"\",'Flugdurchführungsplan (n. DFS)'!W24,\"\")","v":""},{"$f":"IF('Flugdurchführungsplan (n. DFS)'!Z24<>\"\",'Flugdurchführungsplan (n. DFS)'!Z24,\"\")","v":""},{"$f":"IF('Flugdurchführungsplan (n. DFS)'!X24<>\"\",'Flugdurchführungsplan (n. DFS)'!X24,\"\")","v":""},{"$f":"IF('Flugdurchführungsplan (n. DFS)'!Y24<>\"\",'Flugdurchführungsplan (n. DFS)'!Y24,\"\")","v":""},{"$f":"IF('Flugdurchführungsplan (n. DFS)'!AA24<>\"\",'Flugdurchführungsplan (n. DFS)'!AA24,\"\")","v":""},{"$f":"IF('Flugdurchführungsplan (n. DFS)'!AC24<>\"\",'Flugdurchführungsplan (n. DFS)'!AC24,\"\")","v":""}]
[null,{"$f":"IF('Flugdurchführungsplan (n. DFS)'!C25<>\"\",'Flugdurchführungsplan (n. DFS)'!C25,\"\")","v":""},1,{"$f":"IF('Flugdurchführungsplan (n. DFS)'!G24<>\"\",'Flugdurchführungsplan (n. DFS)'!G24,\"\")","v":""},null,null,null,null,null,null,null,null,null,{"$f":"IF('Flugdurchführungsplan (n. DFS)'!AE25<>\"\",'Flugdurchführungsplan (n. DFS)'!AE25,\":\")","v":":"},":",null,null,{"$f":"IF('Flugdurchführungsplan (n. DFS)'!C25<>\"\",'Flugdurchführungsplan (n. DFS)'!C25,\"\")","v":""},null,{"$f":"IF('Flugdurchführungsplan (n. DFS)'!AH26<>\"\",'Flugdurchführungsplan (n. DFS)'!AH26,\"\")","v":""}]
[null,null,2,{"$f":"IF('Flugdurchführungsplan (n. DFS)'!F26<>\"\",'Flugdurchführungsplan (n. DFS)'!F26,\"\")","v":""},{"$f":"IF('Flugdurchführungsplan (n. DFS)'!K26<>\"\",'Flugdurchführungsplan (n. DFS)'!K26,\"\")","v":""},{"$f":"IF('Flugdurchführungsplan (n. DFS)'!V26<>\"\",'Flugdurchführungsplan (n. DFS)'!V26,\"\")","v":""},{"$f":"IF('Flugdurchführungsplan (n. DFS)'!W26<>\"\",'Flugdurchführungsplan (n. DFS)'!W26,\"\")","v":""},{"$f":"IF('Flugdurchführungsplan (n. DFS)'!Z26<>\"\",'Flugdurchführungsplan (n. DFS)'!Z26,\"\")","v":""},{"$f":"IF('Flugdurchführungsplan (n. DFS)'!X26<>\"\",'Flugdurchführungsplan (n. DFS)'!X26,\"\")","v":""},{"$f":"IF('Flugdurchführungsplan (n. DFS)'!Y26<>\"\",'Flugdurchführungsplan (n. DFS)'!Y26,\"\")","v":""},{"$f":"IF('Flugdurchführungsplan (n. DFS)'!AA26<>\"\",'Flugdurchführungsplan (n. DFS)'!AA26,\"\")","v":""},{"$f":"IF('Flugdurchführungsplan (n. DFS)'!AC26<>\"\",'Flugdurchführungsplan (n. DFS)'!AC26,\"\")","v":""}]
[null,{"$f":"IF('Flugdurchführungsplan (n. DFS)'!C27<>\"\",'Flugdurchführungsplan (n. DFS)'!C27,\"\")","v":""},2,{"$f":"IF('Flugdurchführungsplan (n. DFS)'!G26<>\"\",'Flugdurchführungsplan (n. DFS)'!G26,\"\")","v":""},null,null,null,null,null,null,null,null,null,{"$f":"IF('Flugdurchführungsplan (n. DFS)'!AE27<>\"\",'Flugdurchführungsplan (n. DFS)'!AE27,\":\")","v":":"},":",null,null,{"$f":"IF('Flugdurchführungsplan (n. DFS)'!C27<>\"\",'Flugdurchführungsplan (n. DFS)'!C27,\"\")","v":""},null,{"$f":"IF('Flugdurchführungsplan (n. DFS)'!AH28<>\"\",'Flugdurchführungsplan (n. DFS)'!AH28,\"\")","v":""}]
[null,null,1,{"$f":"IF('Flugdurchführungsplan (n. DFS)'!F28<>\"\",'Flugdurchführungsplan (n. DFS)'!F28,\"\")","v":""},{"$f":"IF('Flugdurchführungsplan (n. DFS)'!K28<>\"\",'Flugdurchführungsplan (n. DFS)'!K28,\"\")","v":""},{"$f":"IF('Flugdurchführungsplan (n. DFS)'!V28<>\"\",'Flugdurchführungsplan (n. DFS)'!V28,\"\")","v":""},{"$f":"IF('Flugdurchführungsplan (n. DFS)'!W28<>\"\",'Flugdurchführungsplan (n. DFS)'!W28,\"\")","v":""},{"$f":"IF('Flugdurchführungsplan (n. DFS)'!Z28<>\"\",'Flugdurchführungsplan (n. DFS)'!Z28,\"\")","v":""},{"$f":"IF('Flugdurchführungsplan (n. DFS)'!X28<>\"\",'Flugdurchführungsplan (n. DFS)'!X28,\"\")","v":""},{"$f":"IF('Flugdurchführungsplan (n. DFS)'!Y28<>\"\",'Flugdurchführungsplan (n. DFS)'!Y28,\"\")","v":""},{"$f":"IF('Flugdurchführungsplan (n. DFS)'!AA28<>\"\",'Flugdurchführungsplan (n. DFS)'!AA28,\"\")","v":""},{"$f":"IF('Flugdurchführungsplan (n. DFS)'!AC28<>\"\",'Flugdurchführungsplan (n. DFS)'!AC28,\"\")","v":""}]
[null,{"$f":"IF('Flugdurchführungsplan (n. DFS)'!C29<>\"\",'Flugdurchführungsplan (n. DFS)'!C29,\"\")","v":""},1,{"$f":"IF('Flugdurchführungsplan (n. DFS)'!G28<>\"\",'Flugdurchführungsplan (n. DFS)'!G28,\"\")","v":""},null,null,null,null,null,null,null,null,null,{"$f":"IF('Flugdurchführungsplan (n. DFS)'!AE29<>\"\",'Flugdurchführungsplan (n. DFS)'!AE29,\":\")","v":":"},":",null,null,{"$f":"IF('Flugdurchführungsplan (n. DFS)'!C29<>\"\",'Flugdurchführungsplan (n. DFS)'!C29,\"\")","v":""},null,{"$f":"IF('Flugdurchführungsplan (n. DFS)'!AH30<>\"\",'Flugdurchführungsplan (n. DFS)'!AH30,\"\")","v":""}]
[null,null,2,{"$f":"IF('Flugdurchführungsplan (n. DFS)'!F30<>\"\",'Flugdurchführungsplan (n. DFS)'!F30,\"\")","v":""},{"$f":"IF('Flugdurchführungsplan (n. DFS)'!K30<>\"\",'Flugdurchführungsplan (n. DFS)'!K30,\"\")","v":""},{"$f":"IF('Flugdurchführungsplan (n. DFS)'!V30<>\"\",'Flugdurchführungsplan (n. DFS)'!V30,\"\")","v":""},{"$f":"IF('Flugdurchführungsplan (n. DFS)'!W30<>\"\",'Flugdurchführungsplan (n. DFS)'!W30,\"\")","v":""},{"$f":"IF('Flugdurchführungsplan (n. DFS)'!Z30<>\"\",'Flugdurchführungsplan (n. DFS)'!Z30,\"\")","v":""},{"$f":"IF('Flugdurchführungsplan (n. DFS)'!X30<>\"\",'Flugdurchführungsplan (n. DFS)'!X30,\"\")","v":""},{"$f":"IF('Flugdurchführungsplan (n. DFS)'!Y30<>\"\",'Flugdurchführungsplan (n. DFS)'!Y30,\"\")","v":""},{"$f":"IF('Flugdurchführungsplan (n. DFS)'!AA30<>\"\",'Flugdurchführungsplan (n. DFS)'!AA30,\"\")","v":""},{"$f":"IF('Flugdurchführungsplan (n. DFS)'!AC30<>\"\",'Flugdurchführungsplan (n. DFS)'!AC30,\"\")","v":""}]
[null,{"$f":"IF('Flugdurchführungsplan (n. DFS)'!C31<>\"\",'Flugdurchführungsplan (n. DFS)'!C31,\"\")","v":""},2,{"$f":"IF('Flugdurchführungsplan (n. DFS)'!G30<>\"\",'Flugdurchführungsplan (n. DFS)'!G30,\"\")","v":""},null,null,null,null,null,null,null,null,null,{"$f":"IF('Flugdurchführungsplan (n. DFS)'!AE31<>\"\",'Flugdurchführungsplan (n. DFS)'!AE31,\":\")","v":":"},":",null,null,{"$f":"IF('Flugdurchführungsplan (n. DFS)'!C31<>\"\",'Flugdurchführungsplan (n. DFS)'!C31,\"\")","v":""},null,{"$f":"IF('Flugdurchführungsplan (n. DFS)'!AH32<>\"\",'Flugdurchführungsplan (n. DFS)'!AH32,\"\")","v":""}]
[null,null,1,{"$f":"IF('Flugdurchführungsplan (n. DFS)'!F32<>\"\",'Flugdurchführungsplan (n. DFS)'!F32,\"\")","v":""},{"$f":"IF('Flugdurchführungsplan (n. DFS)'!K32<>\"\",'Flugdurchführungsplan (n. DFS)'!K32,\"\")","v":""},{"$f":"IF('Flugdurchführungsplan (n. DFS)'!V32<>\"\",'Flugdurchführungsplan (n. DFS)'!V32,\"\")","v":""},{"$f":"IF('Flugdurchführungsplan (n. DFS)'!W32<>\"\",'Flugdurchführungsplan (n. DFS)'!W32,\"\")","v":""},{"$f":"IF('Flugdurchführungsplan (n. DFS)'!Z32<>\"\",'Flugdurchführungsplan (n. DFS)'!Z32,\"\")","v":""},{"$f":"IF('Flugdurchführungsplan (n. DFS)'!X32<>\"\",'Flugdurchführungsplan (n. DFS)'!X32,\"\")","v":""},{"$f":"IF('Flugdurchführungsplan (n. DFS)'!Y32<>\"\",'Flugdurchführungsplan (n. DFS)'!Y32,\"\")","v":""},{"$f":"IF('Flugdurchführungsplan (n. DFS)'!AA32<>\"\",'Flugdurchführungsplan (n. DFS)'!AA32,\"\")","v":""},{"$f":"IF('Flugdurchführungsplan (n. DFS)'!AC32<>\"\",'Flugdurchführungsplan (n. DFS)'!AC32,\"\")","v":""}]
[null,{"$f":"IF('Flugdurchführungsplan (n. DFS)'!C33<>\"\",'Flugdurchführungsplan (n. DFS)'!C33,\"\")","v":""},1,{"$f":"IF('Flugdurchführungsplan (n. DFS)'!G32<>\"\",'Flugdurchführungsplan (n. DFS)'!G32,\"\")","v":""},null,null,null,null,null,null,null,null,null,{"$f":"IF('Flugdurchführungsplan (n. DFS)'!AE33<>\"\",'Flugdurchführungsplan (n. DFS)'!AE33,\":\")","v":":"},":",null,null,{"$f":"IF('Flugdurchführungsplan (n. DFS)'!C33<>\"\",'Flugdurchführungsplan (n. DFS)'!C33,\"\")","v":""},null,{"$f":"IF('Flugdurchführungsplan (n. DFS)'!AH34<>\"\",'Flugdurchführungsplan (n. DFS)'!AH34,\"\")","v":""}]
[null,null,2,{"$f":"IF('Flugdurchführungsplan (n. DFS)'!F34<>\"\",'Flugdurchführungsplan (n. DFS)'!F34,\"\")","v":""},{"$f":"IF('Flugdurchführungsplan (n. DFS)'!K34<>\"\",'Flugdurchführungsplan (n. DFS)'!K34,\"\")","v":""},{"$f":"IF('Flugdurchführungsplan (n. DFS)'!V34<>\"\",'Flugdurchführungsplan (n. DFS)'!V34,\"\")","v":""},{"$f":"IF('Flugdurchführungsplan (n. DFS)'!W34<>\"\",'Flugdurchführungsplan (n. DFS)'!W34,\"\")","v":""},{"$f":"IF('Flugdurchführungsplan (n. DFS)'!Z34<>\"\",'Flugdurchführungsplan (n. DFS)'!Z34,\"\")","v":""},{"$f":"IF('Flugdurchführungsplan (n. DFS)'!X34<>\"\",'Flugdurchführungsplan (n. DFS)'!X34,\"\")","v":""},{"$f":"IF('Flugdurchführungsplan (n. DFS)'!Y34<>\"\",'Flugdurchführungsplan (n. DFS)'!Y34,\"\")","v":""},{"$f":"IF('Flugdurchführungsplan (n. DFS)'!AA34<>\"\",'Flugdurchführungsplan (n. DFS)'!AA34,\"\")","v":""},{"$f":"IF('Flugdurchführungsplan (n. DFS)'!AC34<>\"\",'Flugdurchführungsplan (n. DFS)'!AC34,\"\")","v":""}]
[null,{"$f":"IF('Flugdurchführungsplan (n. DFS)'!C35<>\"\",'Flugdurchführungsplan (n. DFS)'!C35,\"\")","v":""},2,{"$f":"IF('Flugdurchführungsplan (n. DFS)'!G34<>\"\",'Flugdurchführungsplan (n. DFS)'!G34,\"\")","v":""},null,null,null,null,null,null,null,null,null,{"$f":"IF('Flugdurchführungsplan (n. DFS)'!AE35<>\"\",'Flugdurchführungsplan (n. DFS)'!AE35,\":\")","v":":"},":",null,null,{"$f":"IF('Flugdurchführungsplan (n. DFS)'!C35<>\"\",'Flugdurchführungsplan (n. DFS)'!C35,\"\")","v":""},null,{"$f":"IF('Flugdurchführungsplan (n. DFS)'!AH36<>\"\",'Flugdurchführungsplan (n. DFS)'!AH36,\"\")","v":""}]
[null,null,1,{"$f":"IF('Flugdurchführungsplan (n. DFS)'!F36<>\"\",'Flugdurchführungsplan (n. DFS)'!F36,\"\")","v":""},{"$f":"IF('Flugdurchführungsplan (n. DFS)'!K36<>\"\",'Flugdurchführungsplan (n. DFS)'!K36,\"\")","v":""},{"$f":"IF('Flugdurchführungsplan (n. DFS)'!V36<>\"\",'Flugdurchführungsplan (n. DFS)'!V36,\"\")","v":""},{"$f":"IF('Flugdurchführungsplan (n. DFS)'!W36<>\"\",'Flugdurchführungsplan (n. DFS)'!W36,\"\")","v":""},{"$f":"IF('Flugdurchführungsplan (n. DFS)'!Z36<>\"\",'Flugdurchführungsplan (n. DFS)'!Z36,\"\")","v":""},{"$f":"IF('Flugdurchführungsplan (n. DFS)'!X36<>\"\",'Flugdurchführungsplan (n. DFS)'!X36,\"\")","v":""},{"$f":"IF('Flugdurchführungsplan (n. DFS)'!Y36<>\"\",'Flugdurchführungsplan (n. DFS)'!Y36,\"\")","v":""},{"$f":"IF('Flugdurchführungsplan (n. DFS)'!AA36<>\"\",'Flugdurchführungsplan (n. DFS)'!AA36,\"\")","v":""},{"$f":"IF('Flugdurchführungsplan (n. DFS)'!AC36<>\"\",'Flugdurchführungsplan (n. DFS)'!AC36,\"\")","v":""}]
[null,{"$f":"IF('Flugdurchführungsplan (n. DFS)'!C37<>\"\",'Flugdurchführungsplan (n. DFS)'!C37,\"\")","v":""},1,{"$f":"IF('Flugdurchführungsplan (n. DFS)'!G36<>\"\",'Flugdurchführungsplan (n. DFS)'!G36,\"\")","v":""},null,null,null,null,null,null,null,null,null,{"$f":"IF('Flugdurchführungsplan (n. DFS)'!AE37<>\"\",'Flugdurchführungsplan (n. DFS)'!AE37,\":\")","v":":"},":",null,null,{"$f":"IF('Flugdurchführungsplan (n. DFS)'!C37<>\"\",'Flugdurchführungsplan (n. DFS)'!C37,\"\")","v":""},null,{"$f":"IF('Flugdurchführungsplan (n. DFS)'!AH38<>\"\",'Flugdurchführungsplan (n. DFS)'!AH38,\"\")","v":""}]
[null,null,2,{"$f":"IF('Flugdurchführungsplan (n. DFS)'!F38<>\"\",'Flugdurchführungsplan (n. DFS)'!F38,\"\")","v":""},{"$f":"IF('Flugdurchführungsplan (n. DFS)'!K38<>\"\",'Flugdurchführungsplan (n. DFS)'!K38,\"\")","v":""},{"$f":"IF('Flugdurchführungsplan (n. DFS)'!V38<>\"\",'Flugdurchführungsplan (n. DFS)'!V38,\"\")","v":""},{"$f":"IF('Flugdurchführungsplan (n. DFS)'!W38<>\"\",'Flugdurchführungsplan (n. DFS)'!W38,\"\")","v":""},{"$f":"IF('Flugdurchführungsplan (n. DFS)'!Z38<>\"\",'Flugdurchführungsplan (n. DFS)'!Z38,\"\")","v":""},{"$f":"IF('Flugdurchführungsplan (n. DFS)'!X38<>\"\",'Flugdurchführungsplan (n. DFS)'!X38,\"\")","v":""},{"$f":"IF('Flugdurchführungsplan (n. DFS)'!Y38<>\"\",'Flugdurchführungsplan (n. DFS)'!Y38,\"\")","v":""},{"$f":"IF('Flugdurchführungsplan (n. DFS)'!AA38<>\"\",'Flugdurchführungsplan (n. DFS)'!AA38,\"\")","v":""},{"$f":"IF('Flugdurchführungsplan (n. DFS)'!AC38<>\"\",'Flugdurchführungsplan (n. DFS)'!AC38,\"\")","v":""}]
[null,{"$f":"IF('Flugdurchführungsplan (n. DFS)'!C39<>\"\",'Flugdurchführungsplan (n. DFS)'!C39,\"\")","v":""},2,{"$f":"IF('Flugdurchführungsplan (n. DFS)'!G38<>\"\",'Flugdurchführungsplan (n. DFS)'!G38,\"\")","v":""},null,null,null,null,null,null,null,null,null,{"$f":"IF('Flugdurchführungsplan (n. DFS)'!AE39<>\"\",'Flugdurchführungsplan (n. DFS)'!AE39,\":\")","v":":"},":",null,null,{"$f":"IF('Flugdurchführungsplan (n. DFS)'!C39<>\"\",'Flugdurchführungsplan (n. DFS)'!C39,\"\")","v":""},null,{"$f":"IF('Flugdurchführungsplan (n. DFS)'!AH40<>\"\",'Flugdurchführungsplan (n. DFS)'!AH40,\"\")","v":""}]
[null,null,1,{"$f":"IF('Flugdurchführungsplan (n. DFS)'!F40<>\"\",'Flugdurchführungsplan (n. DFS)'!F40,\"\")","v":""},{"$f":"IF('Flugdurchführungsplan (n. DFS)'!K40<>\"\",'Flugdurchführungsplan (n. DFS)'!K40,\"\")","v":""},{"$f":"IF('Flugdurchführungsplan (n. DFS)'!V40<>\"\",'Flugdurchführungsplan (n. DFS)'!V40,\"\")","v":""},{"$f":"IF('Flugdurchführungsplan (n. DFS)'!W40<>\"\",'Flugdurchführungsplan (n. DFS)'!W40,\"\")","v":""},{"$f":"IF('Flugdurchführungsplan (n. DFS)'!Z40<>\"\",'Flugdurchführungsplan (n. DFS)'!Z40,\"\")","v":""},{"$f":"IF('Flugdurchführungsplan (n. DFS)'!X40<>\"\",'Flugdurchführungsplan (n. DFS)'!X40,\"\")","v":""},{"$f":"IF('Flugdurchführungsplan (n. DFS)'!Y40<>\"\",'Flugdurchführungsplan (n. DFS)'!Y40,\"\")","v":""},{"$f":"IF('Flugdurchführungsplan (n. DFS)'!AA40<>\"\",'Flugdurchführungsplan (n. DFS)'!AA40,\"\")","v":""},{"$f":"IF('Flugdurchführungsplan (n. DFS)'!AC40<>\"\",'Flugdurchführungsplan (n. DFS)'!AC40,\"\")","v":""}]
[null,{"$f":"IF('Flugdurchführungsplan (n. DFS)'!C41<>\"\",'Flugdurchführungsplan (n. DFS)'!C41,\"\")","v":""},1,{"$f":"IF('Flugdurchführungsplan (n. DFS)'!G40<>\"\",'Flugdurchführungsplan (n. DFS)'!G40,\"\")","v":""},null,null,null,null,null,null,null,null,null,{"$f":"IF('Flugdurchführungsplan (n. DFS)'!AE41<>\"\",'Flugdurchführungsplan (n. DFS)'!AE41,\":\")","v":":"},":",null,null,{"$f":"IF('Flugdurchführungsplan (n. DFS)'!C41<>\"\",'Flugdurchführungsplan (n. DFS)'!C41,\"\")","v":""},null,{"$f":"IF('Flugdurchführungsplan (n. DFS)'!AH42<>\"\",'Flugdurchführungsplan (n. DFS)'!AH42,\"\")","v":""}]
[null,null,2,{"$f":"IF('Flugdurchführungsplan (n. DFS)'!F42<>\"\",'Flugdurchführungsplan (n. DFS)'!F42,\"\")","v":""},{"$f":"IF('Flugdurchführungsplan (n. DFS)'!K42<>\"\",'Flugdurchführungsplan (n. DFS)'!K42,\"\")","v":""},{"$f":"IF('Flugdurchführungsplan (n. DFS)'!V42<>\"\",'Flugdurchführungsplan (n. DFS)'!V42,\"\")","v":""},{"$f":"IF('Flugdurchführungsplan (n. DFS)'!W42<>\"\",'Flugdurchführungsplan (n. DFS)'!W42,\"\")","v":""},{"$f":"IF('Flugdurchführungsplan (n. DFS)'!Z42<>\"\",'Flugdurchführungsplan (n. DFS)'!Z42,\"\")","v":""},{"$f":"IF('Flugdurchführungsplan (n. DFS)'!X42<>\"\",'Flugdurchführungsplan (n. DFS)'!X42,\"\")","v":""},{"$f":"IF('Flugdurchführungsplan (n. DFS)'!Y42<>\"\",'Flugdurchführungsplan (n. DFS)'!Y42,\"\")","v":""},{"$f":"IF('Flugdurchführungsplan (n. DFS)'!AA42<>\"\",'Flugdurchführungsplan (n. DFS)'!AA42,\"\")","v":""},{"$f":"IF('Flugdurchführungsplan (n. DFS)'!AC42<>\"\",'Flugdurchführungsplan (n. DFS)'!AC42,\"\")","v":""}]
[null,{"$f":"IF('Flugdurchführungsplan (n. DFS)'!C43<>\"\",'Flugdurchführungsplan (n. DFS)'!C43,\"\")","v":""},2,{"$f":"IF('Flugdurchführungsplan (n. DFS)'!G42<>\"\",'Flugdurchführungsplan (n. DFS)'!G42,\"\")","v":""},null,null,null,null,null,null,null,null,null,{"$f":"IF('Flugdurchführungsplan (n. DFS)'!AE43<>\"\",'Flugdurchführungsplan (n. DFS)'!AE43,\":\")","v":":"},":",null,null,{"$f":"IF('Flugdurchführungsplan (n. DFS)'!C43<>\"\",'Flugdurchführungsplan (n. DFS)'!C43,\"\")","v":""},null,{"$f":"IF('Flugdurchführungsplan (n. DFS)'!AH44<>\"\",'Flugdurchführungsplan (n. DFS)'!AH44,\"\")","v":""}]
[null,null,1,{"$f":"IF('Flugdurchführungsplan (n. DFS)'!F44<>\"\",'Flugdurchführungsplan (n. DFS)'!F44,\"\")","v":""},{"$f":"IF('Flugdurchführungsplan (n. DFS)'!K44<>\"\",'Flugdurchführungsplan (n. DFS)'!K44,\"\")","v":""},{"$f":"IF('Flugdurchführungsplan (n. DFS)'!V44<>\"\",'Flugdurchführungsplan (n. DFS)'!V44,\"\")","v":""},{"$f":"IF('Flugdurchführungsplan (n. DFS)'!W44<>\"\",'Flugdurchführungsplan (n. DFS)'!W44,\"\")","v":""},{"$f":"IF('Flugdurchführungsplan (n. DFS)'!Z44<>\"\",'Flugdurchführungsplan (n. DFS)'!Z44,\"\")","v":""},{"$f":"IF('Flugdurchführungsplan (n. DFS)'!X44<>\"\",'Flugdurchführungsplan (n. DFS)'!X44,\"\")","v":""},{"$f":"IF('Flugdurchführungsplan (n. DFS)'!Y44<>\"\",'Flugdurchführungsplan (n. DFS)'!Y44,\"\")","v":""},{"$f":"IF('Flugdurchführungsplan (n. DFS)'!AA44<>\"\",'Flugdurchführungsplan (n. DFS)'!AA44,\"\")","v":""},{"$f":"IF('Flugdurchführungsplan (n. DFS)'!AC44<>\"\",'Flugdurchführungsplan (n. DFS)'!AC44,\"\")","v":""}]
[null,{"$f":"IF('Flugdurchführungsplan (n. DFS)'!C45<>\"\",'Flugdurchführungsplan (n. DFS)'!C45,\"\")","v":""},1,{"$f":"IF('Flugdurchführungsplan (n. DFS)'!G44<>\"\",'Flugdurchführungsplan (n. DFS)'!G44,\"\")","v":""},null,null,null,null,null,null,null,null,null,{"$f":"IF('Flugdurchführungsplan (n. DFS)'!AE45<>\"\",'Flugdurchführungsplan (n. DFS)'!AE45,\":\")","v":":"},":",null,null,{"$f":"IF('Flugdurchführungsplan (n. DFS)'!C45<>\"\",'Flugdurchführungsplan (n. DFS)'!C45,\"\")","v":""},null,{"$f":"IF('Flugdurchführungsplan (n. DFS)'!AH46<>\"\",'Flugdurchführungsplan (n. DFS)'!AH46,\"\")","v":""}]
[null,null,2,{"$f":"IF('Flugdurchführungsplan (n. DFS)'!F46<>\"\",'Flugdurchführungsplan (n. DFS)'!F46,\"\")","v":""},{"$f":"IF('Flugdurchführungsplan (n. DFS)'!K46<>\"\",'Flugdurchführungsplan (n. DFS)'!K46,\"\")","v":""},{"$f":"IF('Flugdurchführungsplan (n. DFS)'!V46<>\"\",'Flugdurchführungsplan (n. DFS)'!V46,\"\")","v":""},{"$f":"IF('Flugdurchführungsplan (n. DFS)'!W46<>\"\",'Flugdurchführungsplan (n. DFS)'!W46,\"\")","v":""},{"$f":"IF('Flugdurchführungsplan (n. DFS)'!Z46<>\"\",'Flugdurchführungsplan (n. DFS)'!Z46,\"\")","v":""},{"$f":"IF('Flugdurchführungsplan (n. DFS)'!X46<>\"\",'Flugdurchführungsplan (n. DFS)'!X46,\"\")","v":""},{"$f":"IF('Flugdurchführungsplan (n. DFS)'!Y46<>\"\",'Flugdurchführungsplan (n. DFS)'!Y46,\"\")","v":""},{"$f":"IF('Flugdurchführungsplan (n. DFS)'!AA46<>\"\",'Flugdurchführungsplan (n. DFS)'!AA46,\"\")","v":""},{"$f":"IF('Flugdurchführungsplan (n. DFS)'!AC46<>\"\",'Flugdurchführungsplan (n. DFS)'!AC46,\"\")","v":""}]
[null,{"$f":"IF('Flugdurchführungsplan (n. DFS)'!C47<>\"\",'Flugdurchführungsplan (n. DFS)'!C47,\"\")","v":""},2,{"$f":"IF('Flugdurchführungsplan (n. DFS)'!G46<>\"\",'Flugdurchführungsplan (n. DFS)'!G46,\"\")","v":""},null,null,null,null,null,null,null,null,null,{"$f":"IF('Flugdurchführungsplan (n. DFS)'!AE47<>\"\",'Flugdurchführungsplan (n. DFS)'!AE47,\":\")","v":":"},":",null,null,{"$f":"IF('Flugdurchführungsplan (n. DFS)'!C47<>\"\",'Flugdurchführungsplan (n. DFS)'!C47,\"\")","v":""},null,{"$f":"IF('Flugdurchführungsplan (n. DFS)'!AH48<>\"\",'Flugdurchführungsplan (n. DFS)'!AH48,\"\")","v":""}]
[null,null,1,{"$f":"IF('Flugdurchführungsplan (n. DFS)'!F48<>\"\",'Flugdurchführungsplan (n. DFS)'!F48,\"\")","v":""},{"$f":"IF('Flugdurchführungsplan (n. DFS)'!K48<>\"\",'Flugdurchführungsplan (n. DFS)'!K48,\"\")","v":""},{"$f":"IF('Flugdurchführungsplan (n. DFS)'!V48<>\"\",'Flugdurchführungsplan (n. DFS)'!V48,\"\")","v":""},{"$f":"IF('Flugdurchführungsplan (n. DFS)'!W48<>\"\",'Flugdurchführungsplan (n. DFS)'!W48,\"\")","v":""},{"$f":"IF('Flugdurchführungsplan (n. DFS)'!Z48<>\"\",'Flugdurchführungsplan (n. DFS)'!Z48,\"\")","v":""},{"$f":"IF('Flugdurchführungsplan (n. DFS)'!X48<>\"\",'Flugdurchführungsplan (n. DFS)'!X48,\"\")","v":""},{"$f":"IF('Flugdurchführungsplan (n. DFS)'!Y48<>\"\",'Flugdurchführungsplan (n. DFS)'!Y48,\"\")","v":""},{"$f":"IF('Flugdurchführungsplan (n. DFS)'!AA48<>\"\",'Flugdurchführungsplan (n. DFS)'!AA48,\"\")","v":""},{"$f":"IF('Flugdurchführungsplan (n. DFS)'!AC48<>\"\",'Flugdurchführungsplan (n. DFS)'!AC48,\"\")","v":""}]
[null,{"$f":"IF('Flugdurchführungsplan (n. DFS)'!C49<>\"\",'Flugdurchführungsplan (n. DFS)'!C49,\"\")","v":""},1,{"$f":"IF('Flugdurchführungsplan (n. DFS)'!G48<>\"\",'Flugdurchführungsplan (n. DFS)'!G48,\"\")","v":""},null,null,null,null,null,null,null,null,null,{"$f":"IF('Flugdurchführungsplan (n. DFS)'!AE49<>\"\",'Flugdurchführungsplan (n. DFS)'!AE49,\":\")","v":":"},":",null,null,{"$f":"IF('Flugdurchführungsplan (n. DFS)'!C49<>\"\",'Flugdurchführungsplan (n. DFS)'!C49,\"\")","v":""},null,{"$f":"IF('Flugdurchführungsplan (n. DFS)'!AH50<>\"\",'Flugdurchführungsplan (n. DFS)'!AH50,\"\")","v":""}]
[null,null,2,{"$f":"IF('Flugdurchführungsplan (n. DFS)'!F50<>\"\",'Flugdurchführungsplan (n. DFS)'!F50,\"\")","v":""},{"$f":"IF('Flugdurchführungsplan (n. DFS)'!K50<>\"\",'Flugdurchführungsplan (n. DFS)'!K50,\"\")","v":""},{"$f":"IF('Flugdurchführungsplan (n. DFS)'!V50<>\"\",'Flugdurchführungsplan (n. DFS)'!V50,\"\")","v":""},{"$f":"IF('Flugdurchführungsplan (n. DFS)'!W50<>\"\",'Flugdurchführungsplan (n. DFS)'!W50,\"\")","v":""},{"$f":"IF('Flugdurchführungsplan (n. DFS)'!Z50<>\"\",'Flugdurchführungsplan (n. DFS)'!Z50,\"\")","v":""},{"$f":"IF('Flugdurchführungsplan (n. DFS)'!X50<>\"\",'Flugdurchführungsplan (n. DFS)'!X50,\"\")","v":""},{"$f":"IF('Flugdurchführungsplan (n. DFS)'!Y50<>\"\",'Flugdurchführungsplan (n. DFS)'!Y50,\"\")","v":""},{"$f":"IF('Flugdurchführungsplan (n. DFS)'!AA50<>\"\",'Flugdurchführungsplan (n. DFS)'!AA50,\"\")","v":""},{"$f":"IF('Flugdurchführungsplan (n. DFS)'!AC50<>\"\",'Flugdurchführungsplan (n. DFS)'!AC50,\"\")","v":""}]
[null,{"$f":"IF('Flugdurchführungsplan (n. DFS)'!C51<>\"\",'Flugdurchführungsplan (n. DFS)'!C51,\"\")","v":""},2,{"$f":"IF('Flugdurchführungsplan (n. DFS)'!G50<>\"\",'Flugdurchführungsplan (n. DFS)'!G50,\"\")","v":""},null,null,null,null,null,null,null,null,null,{"$f":"IF('Flugdurchführungsplan (n. DFS)'!AE51<>\"\",'Flugdurchführungsplan (n. DFS)'!AE51,\":\")","v":":"},":",null,null,{"$f":"IF('Flugdurchführungsplan (n. DFS)'!C51<>\"\",'Flugdurchführungsplan (n. DFS)'!C51,\"\")","v":""},null,{"$f":"IF('Flugdurchführungsplan (n. DFS)'!AH52<>\"\",'Flugdurchführungsplan (n. DFS)'!AH52,\"\")","v":""}]
[null,null,1,{"$f":"IF('Flugdurchführungsplan (n. DFS)'!F52<>\"\",'Flugdurchführungsplan (n. DFS)'!F52,\"\")","v":""},{"$f":"IF('Flugdurchführungsplan (n. DFS)'!K52<>\"\",'Flugdurchführungsplan (n. DFS)'!K52,\"\")","v":""},{"$f":"IF('Flugdurchführungsplan (n. DFS)'!V52<>\"\",'Flugdurchführungsplan (n. DFS)'!V52,\"\")","v":""},{"$f":"IF('Flugdurchführungsplan (n. DFS)'!W52<>\"\",'Flugdurchführungsplan (n. DFS)'!W52,\"\")","v":""},{"$f":"IF('Flugdurchführungsplan (n. DFS)'!Z52<>\"\",'Flugdurchführungsplan (n. DFS)'!Z52,\"\")","v":""},{"$f":"IF('Flugdurchführungsplan (n. DFS)'!X52<>\"\",'Flugdurchführungsplan (n. DFS)'!X52,\"\")","v":""},{"$f":"IF('Flugdurchführungsplan (n. DFS)'!Y52<>\"\",'Flugdurchführungsplan (n. DFS)'!Y52,\"\")","v":""},{"$f":"IF('Flugdurchführungsplan (n. DFS)'!AA52<>\"\",'Flugdurchführungsplan (n. DFS)'!AA52,\"\")","v":""},{"$f":"IF('Flugdurchführungsplan (n. DFS)'!AC52<>\"\",'Flugdurchführungsplan (n. DFS)'!AC52,\"\")","v":""}]
[null,{"$f":"IF('Flugdurchführungsplan (n. DFS)'!C53<>\"\",'Flugdurchführungsplan (n. DFS)'!C53,\"\")","v":""},1,{"$f":"IF('Flugdurchführungsplan (n. DFS)'!G52<>\"\",'Flugdurchführungsplan (n. DFS)'!G52,\"\")","v":""},null,null,null,null,null,null,null,null,null,{"$f":"IF('Flugdurchführungsplan (n. DFS)'!AE53<>\"\",'Flugdurchführungsplan (n. DFS)'!AE53,\":\")","v":":"},":",null,null,{"$f":"IF('Flugdurchführungsplan (n. DFS)'!C53<>\"\",'Flugdurchführungsplan (n. DFS)'!C53,\"\")","v":""},null,{"$f":"IF('Flugdurchführungsplan (n. DFS)'!AH54<>\"\",'Flugdurchführungsplan (n. DFS)'!AH54,\"\")","v":""}]
[]
[null,"Ausweichflugplatz / Alternate:",null,null,null,null,null,null,null,null,null,null,null,null,null,null,null,"Ausweichflugplatz / Alternate:"]
[null,{"$f":"IF('Flugdurchführungsplan (n. DFS)'!C56<>\"\",'Flugdurchführungsplan (n. DFS)'!C56,\"\")","v":""},2,{"$f":"IF('Flugdurchführungsplan (n. DFS)'!F56<>\"\",'Flugdurchführungsplan (n. DFS)'!F56,\"\")","v":""},{"$f":"IF('Flugdurchführungsplan (n. DFS)'!K56<>\"\",'Flugdurchführungsplan (n. DFS)'!K56,\"\")","v":""},{"$f":"IF('Flugdurchführungsplan (n. DFS)'!V56<>\"\",'Flugdurchführungsplan (n. DFS)'!V56,\"\")","v":""},{"$f":"IF('Flugdurchführungsplan (n. DFS)'!W56<>\"\",'Flugdurchführungsplan (n. DFS)'!W56,\"\")","v":""},{"$f":"IF('Flugdurchführungsplan (n. DFS)'!Z56<>\"\",'Flugdurchführungsplan (n. DFS)'!Z56,\"\")","v":""},{"$f":"IF('Flugdurchführungsplan (n. DFS)'!X56<>\"\",'Flugdurchführungsplan (n. DFS)'!X56,\"\")","v":""},{"$f":"IF('Flugdurchführungsplan (n. DFS)'!Y56<>\"\",'Flugdurchführungsplan (n. DFS)'!Y56,\"\")","v":""},{"$f":"IF('Flugdurchführungsplan (n. DFS)'!AA56<>\"\",'Flugdurchführungsplan (n. DFS)'!AA56,\"\")","v":""},{"$f":"IF('Flugdurchführungsplan (n. DFS)'!AC56<>\"\",'Flugdurchführungsplan (n. DFS)'!AC56,\"\")","v":""},null,null,null,null,null,{"$f":"IF('Flugdurchführungsplan (n. DFS)'!C56<>\"\",'Flugdurchführungsplan (n. DFS)'!C56,\"\")","v":""},null,{"$f":"IF('Flugdurchführungsplan (n. DFS)'!AH56<>\"\",'Flugdurchführungsplan (n. DFS)'!AH56,\"\")","v":""}]

{"sheet":"Flugzeuge","index":3,"n_rows":45,"n_cols":72,"rows_kept":45,"cut":false,"hidden":false,"merged":[]}
[]
[null,{"$f":"'Flugdurchführungsplan (n. DFS)'!Y4","v":0},{"$f":"IF($B$3=\"Fehler\",\"\",VLOOKUP($B$2,$B$6:$X$40,COLUMN()-COLUMN($B$2)+1,FALSE))","v":""},{"$f":"IF($B$3=\"Fehler\",\"\",VLOOKUP($B$2,$B$6:$X$40,COLUMN()-COLUMN($B$2)+1,FALSE))","v":""},"","","","","","","","","","","","","","","","","","","",{"$f":"IF($B$3=\"Fehler\",\"\",VLOOKUP($B$2,$B$6:$X$40,COLUMN()-COLUMN($B$2)+1,FALSE))","v":""},{"$f":"IF($B$3=\"Fehler\",\"\",VLOOKUP($B$2,$B$6:$Y$40,COLUMN()-COLUMN($B$2)+1,FALSE))","v":""},{"$f":"IF($B$3=\"Fehler\",\"\",VLOOKUP($B$2,$B$6:$AX$40,COLUMN()-COLUMN($B$2)+1,FALSE))","v":""},{"$f":"IF($B$3=\"Fehler\",\"\",VLOOKUP($B$2,$B$6:$AX$40,COLUMN()-COLUMN($B$2)+1,FALSE))","v":""},"","","","","","","","","","","","","","","","","","","","","","","",{"$f":"B2","v":0},{"$f":"IF($B$3=\"Fehler\",\"\",VLOOKUP($B$2,$AY$6:$BT$40,COLUMN()-COLUMN($AY$2)+1,FALSE))","v":""},{"$f":"IF($B$3=\"Fehler\",\"\",VLOOKUP($B$2,$AY$6:$BT$40,COLUMN()-COLUMN($AY$2)+1,FALSE))","v":""},"","","","","","","","","","","","","","","","","","",""]
[null,{"$f":"IF(ISERROR(VLOOKUP($B$2,$B$6:$X$40,1,FALSE)),\"Fehler\",\"OK\")","v":"Fehler"},null,null,null,null,null,null,null,null,null,null,null,null,null,null,null,null,null,null,null,null,null,null,null,1,2,3,4,5,6,7,8,9,10,11,12,1,2,3,4,5,6,7,8,9,10,11,12]
[null,"Hier bitte Daten aus dem Flughandbuch eintragen!",null,null,null,null,null,null,null,null,null,null,null,null,null,null,null,null,null,null,null,null,null,null,null,"Hier werden die Berechnungen für Weight and Balance gesammelt und in den Flugdurchführungsplan übertragen",null,null,null,null,null,null,null,null,null,null,null,null,null,null,null,null,null,null,null,null,null,null,null,null,null,null,null,null,"Startrollstrecke",null,null,null,null,null,null,null,null,"Startstrecke"]
[null,"Kennzeichen","Typ","Verbrauch Reiseflug Liter/h","Verbrauch Steigflug Liter/h","Tankvolumen (Liter)","davon ausfliegbar (Liter) ","Leergewicht (kg oder kp)","Leermoment","Wägung vom DD:MM:YYYY","MTOW (kg oder kp)","Max Moment","V r\n(Rotation)\n","V Climb (10° Flps)\n","V Climb (no Flaps)\n","VA (KIAS)\nManöver ","VNE (KIAS) Maximum Speed","VFE  (KIAS)\nMax mit Klappen","VX (KIAS) Steilstes Steigen ","VY (KIAS) Beste Steigrate ","VS (KIAS) Minimum Speed","VS0 (KIAS) Minimum  30° Klappen","V (KIAS) Bestes Gleiten 30°","V (KIAS) Bestes Gleiten","Typ (kurz)","Leermasse","Kraftstoff, nichtausfliegbar","Schmierstoff","=Grundmasse","Sitzreihe 1","Sitzreihe 2","Sitzreihe 3","Gepäckraum 1","Gepäckraum 2","Gepäckraum 3","Kraftstoff, ausfliegbar","Startmasse \nStartmoment","Leermoment","Moment Kraftstoff, nichtausfliegbar","Schmierstoff","=Moment der Grundmasse","Sitzreihe 1 Moment","Sitzreihe 2","Sitzreihe 3","Gepäckraum 1","Gepäckraum 2","Gepäckraum 3","Kraftstoff, ausfliegbar","Gesamtmoment","Bewertung","Kennzeichen","Vorhandene Bahnlänge (aus AIP)","Vorhandene Startstrecke ü. 15 m","Daten:","Grundstrecken","Höhenzuschlag","Temperaturzuschlag","Windeinfluss","Neigungszuschlag","Grasbahnzuschlag","Oberflächenzuschlag","Weitere Zuschläge","Benötigte RollStrecke","Grundstrecken","Höhenzuschlag","Temperaturzuschlag","Windeinfluss","Neigungszuschlag","Grasbahnzuschlag","Oberflächenzuschlag","Weitere Zuschläge","Benötigte Strecke"]
[null,"D-C152 other","Cessna 152",25,35,98,93,535,429,"laut Handbuch",758,651,55,60,70,"93-104",140,85,55,66,40,35,60,70,"Cessna 152",{"$f":"Z42","v":0},{"$f":"AA42","v":0},{"$f":"AB42","v":0},{"$error":"#N/A"},160,0,0,10,0,0,66.239999999999995,{"$error":"#N/A"},0,0,0,{"$error":"#N/A"},160,0,0,10,0,0,66.239999999999995,{"$error":"#N/A"},{"$f":"AX42","v":{"$error":"#N/A"}},{"$f":"B6","v":"D-C152 other"},{"$f":"AZ42","v":425},738,{"$f":"BB42","v":"Platzhöhe 1862ft, QNH=1013,2hPa, Druckhöhe=1862ft, T=20°C"},{"$f":"BC42","v":273},"(eingerechnet)","(eingerechnet)",0,0,0,0,0,273,508,"(eingerechnet)","(eingerechnet)",0,0,0,0,0,508]
[null,"D-EOKK","Cessna 152",25,35,98,93,544,436,"laut Handbuch",758,651,55,60,70,"93-104",140,85,55,66,40,35,60,70,"Cessna 152",{"$f":"Z42","v":0},{"$f":"AA42","v":0},{"$f":"AB42","v":0},{"$error":"#N/A"},160,0,0,10,0,0,66.239999999999995,{"$error":"#N/A"},0,0,0,{"$error":"#N/A"},160,0,0,10,0,0,66.239999999999995,{"$error":"#N/A"},{"$f":"AX42","v":{"$error":"#N/A"}},{"$f":"B7","v":"D-EOKK"},{"$f":"AZ42","v":425},738,{"$f":"BB42","v":"Platzhöhe 1862ft, QNH=1013,2hPa, Druckhöhe=1862ft, T=20°C"},{"$f":"BC42","v":273},"(eingerechnet)","(eingerechnet)",0,0,0,0,0,273,508,"(eingerechnet)","(eingerechnet)",0,0,0,0,0,508]
[null,"D-ETCR","Cessna 152",25,35,98,93,537,422,"laut Handbuch",758,651,55,60,70,"93-104",140,85,55,66,40,35,60,70,"Cessna 152",{"$f":"Z42","v":0},{"$f":"AA42","v":0},{"$f":"AB42","v":0},{"$error":"#N/A"},160,0,0,10,0,0,66.239999999999995,{"$error":"#N/A"},0,0,0,{"$error":"#N/A"},160,0,0,10,0,0,66.239999999999995,{"$error":"#N/A"},{"$f":"AX42","v":{"$error":"#N/A"}},"D-ETCR",{"$f":"AZ42","v":425},738,{"$f":"BB42","v":"Platzhöhe 1862ft, QNH=1013,2hPa, Druckhöhe=1862ft, T=20°C"},{"$f":"BC42","v":273},"(eingerechnet)","(eingerechnet)",0,0,0,0,0,273,508,"(eingerechnet)","(eingerechnet)",0,0,0,0,0,508]
[null,"D-EDMJ","Cessna 152",25,35,98,93,null,null,null,758,651,55,60,70,"93-104",140,85,55,66,40,35,60,70,"Cessna 152",{"$f":"Z42","v":0},{"$f":"AA42","v":0},0,{"$error":"#N/A"},160,0,0,10,0,0,66.239999999999995,{"$error":"#N/A"},0,0,0,{"$error":"#N/A"},160,0,0,10,0,0,66.239999999999995,{"$error":"#N/A"},{"$error":"#N/A"},"D-EDMJ",425,738,{"$f":"BB43","v":"Platzhöhe 1862ft, QNH=1013,25hPa, Druckhöhe=1862ft, T=15°C"},{"$error":"#N/A"},"(eingerechnet)","(eingerechnet)",0,0,0,0,0,{"$f":"BK42","v":273},{"$f":"BL42","v":508},"(eingerechnet)","(eingerechnet)",0,0,0,0,{"$f":"BS42","v":0},{"$f":"BT42","v":508}]
[null,"D-C172 other","Cessna 172",35,45,151.4,151.4,null,null,null,null,null,null,60,70,null,null,null,null,null,null,null,null,70,"Cessna 172",null,null,null,null,null,null,null,null,null,null,null,null,null,null,null,null,null,null,null,null,null,null,null,null,null,"D-C172 other"]
[null,"D-EHCP","Cessna 172 N",35,45,204,189,647,636,"laut Handbuch",1043,1190,null,60,70,"80-97",160,85,59,73,47,41,"n.a.","(65) 70","Cessna 172",{"$f":"Z43","v":0},{"$f":"AA43","v":0},0,{"$error":"#N/A"},170,4,0,3,2,0,66.239999999999995,{"$error":"#N/A"},0,0,0,{"$error":"#N/A"},159.79999999999998,7.42,0,7.2420000000000009,6.16,0,80.441855999999987,{"$error":"#N/A"},{"$f":"AX43","v":{"$error":"#N/A"}},"D-EHCP",{"$f":"AZ43","v":425},738,{"$f":"BB43","v":"Platzhöhe 1862ft, QNH=1013,25hPa, Druckhöhe=1862ft, T=15°C"},{"$f":"BC43","v":{"$error":"#N/A"}},"(eingerechnet)","(eingerechnet)",0,0,0,0,0,{"$error":"#N/A"},{"$error":"#N/A"},"(eingerechnet)","(eingerechnet)",0,0,0,0,{"$error":"#N/A"},{"$error":"#N/A"}]
[null,"D-EEFW","Cessna 172 P",35,45,204,189,712,740,"laut Handbuch",1089,1236,null,60,70,"80-97",160,85,59,73,47,41,"n.a.",70,"Cessna 172",{"$f":"Z44","v":0},0,0,{"$error":"#N/A"},170,5,0,0,0,0,66.239999999999995,{"$error":"#N/A"},0,0,0,{"$error":"#N/A"},159.79999999999998,9.25,0,0,0,0,81.475199999999987,{"$error":"#N/A"},{"$f":"AX44","v":{"$error":"#N/A"}},"D-EEFW",{"$f":"AZ44","v":425},738,{"$f":"BB44","v":"Platzhöhe 1861ft, QNH=1013,25hPa, Druckhöhe=1861ft, T=15°C"},{"$f":"BC44","v":{"$error":"#N/A"}},"(eingerechnet)","(eingerechnet)",{"$error":"#N/A"},0,0,0,0,{"$error":"#N/A"},{"$error":"#N/A"},"(eingerechnet)","(eingerechnet)",{"$error":"#N/A"},0,0,0,0,{"$error":"#N/A"}]
[null,"D-EFTT","Cessna 172 S",35,45,null,null,null,null,null,null,null,null,60,70,"n.a.","n.a.","n.a.","n.a.","n.a.","n.a.","n.a.","n.a.",70,"Cessna 172",0,0,0,659.4,180,65,0,0,0,0,136.07999999999998,1040.48,0,0,0,66.400000000000006,16.919999999999998,12.057500000000001,0,0,0,0,16.525555199999996,111.90305520000001,{"$f":"AX45","v":{"$error":"#N/A"}},"D-EFTT"]
[null,"D-EMPR","Piper PA 28-181",null,null,null,null,null,null,null,null,null,null,null,null,null,null,null,null,null,null,null,null,null,"Piper PA 28",null,null,null,null,null,null,null,null,null,null,null,null,null,null,null,null,null,null,null,null,null,null,null,null,null,"D-EMPR"]
[null,null,null,null,null,null,null,null,null,null,null,null,null,null,null,null,null,null,null,null,null,null,null,null,null,null,null,null,null,null,null,null,null,null,null,null,null,null,null,null,null,null,null,null,null,null,null,null,null,null,0]
[null,null,null,null,null,null,null,null,null,null,null,null,null,null,null,null,null,null,null,null,null,null,null,null,null,null,null,null,null,null,null,null,null,null,null,null,null,null,null,null,null,null,null,null,null,null,null,null,null,null,0]
[null,null,null,null,null,null,null,null,null,null,null,null,null,null,null,null,null,null,null,null,null,null,null,null,null,null,null,null,null,null,null,null,null,null,null,null,null,null,null,null,null,null,null,null,null,null,null,null,null,null,0]
[null,null,null,null,null,null,null,null,null,null,null,null,null,null,null,null,null,null,null,null,null,null,null,null,null,null,null,null,null,null,null,null,null,null,null,null,null,null,null,null,null,null,null,null,null,null,null,null,null,null,0]
[null,null,null,null,null,null,null,null,null,null,null,null,null,null,null,null,null,null,null,null,null,null,null,null,null,null,null,null,null,null,null,null,null,null,null,null,null,null,null,null,null,null,null,null,null,null,null,null,null,null,0]
[null,null,null,null,null,null,null,null,null,null,null,null,null,null,null,null,null,null,null,null,null,null,null,null,null,null,null,null,null,null,null,null,null,null,null,null,null,null,null,null,null,null,null,null,null,null,null,null,null,null,0]
[null,null,null,null,null,null,null,null,null,null,null,null,null,null,null,null,null,null,null,null,null,null,null,null,null,null,null,null,null,null,null,null,null,null,null,null,null,null,null,null,null,null,null,null,null,null,null,null,null,null,0]
[null,null,null,null,null,null,null,null,null,null,null,null,null,null,null,null,null,null,null,null,null,null,null,null,null,null,null,null,null,null,null,null,null,null,null,null,null,null,null,null,null,null,null,null,null,null,null,null,null,null,0]
[null,null,null,null,null,null,null,null,null,null,null,null,null,null,null,null,null,null,null,null,null,null,null,null,null,null,null,null,null,null,null,null,null,null,null,null,null,null,null,null,null,null,null,null,null,null,null,null,null,null,0]
[null,null,null,null,null,null,null,null,null,null,null,null,null,null,null,null,null,null,null,null,null,null,null,null,null,null,null,null,null,null,null,null,null,null,null,null,null,null,null,null,null,null,null,null,null,null,null,null,null,null,0]
[null,null,null,null,null,null,null,null,null,null,null,null,null,null,null,null,null,null,null,null,null,null,null,null,null,null,null,null,null,null,null,null,null,null,null,null,null,null,null,null,null,null,null,null,null,null,null,null,null,null,0]
[null,null,null,null,null,null,null,null,null,null,null,null,null,null,null,null,null,null,null,null,null,null,null,null,null,null,null,null,null,null,null,null,null,null,null,null,null,null,null,null,null,null,null,null,null,null,null,null,null,null,0]
[null,null,null,null,null,null,null,null,null,null,null,null,null,null,null,null,null,null,null,null,null,null,null,null,null,null,null,null,null,null,null,null,null,null,null,null,null,null,null,null,null,null,null,null,null,null,null,null,null,null,0]
[null,null,null,null,null,null,null,null,null,null,null,null,null,null,null,null,null,null,null,null,null,null,null,null,null,null,null,null,null,null,null,null,null,null,null,null,null,null,null,null,null,null,null,null,null,null,null,null,null,null,0]
[null,null,null,null,null,null,null,null,null,null,null,null,null,null,null,null,null,null,null,null,null,null,null,null,null,null,null,null,null,null,null,null,null,null,null,null,null,null,null,null,null,null,null,null,null,null,null,null,null,null,0]
[null,null,null,null,null,null,null,null,null,null,null,null,null,null,null,null,null,null,null,null,null,null,null,null,null,null,null,null,null,null,null,null,null,null,null,null,null,null,null,null,null,null,null,null,null,null,null,null,null,null,0]
[null,null,null,null,null,null,null,null,null,null,null,null,null,null,null,null,null,null,null,null,null,null,null,null,null,null,null,null,null,null,null,null,null,null,null,null,null,null,null,null,null,null,null,null,null,null,null,null,null,null,0]
[null,null,null,null,null,null,null,null,null,null,null,null,null,null,null,null,null,null,null,null,null,null,null,null,null,null,null,null,null,null,null,null,null,null,null,null,null,null,null,null,null,null,null,null,null,null,null,null,null,null,0]
[null,null,null,null,null,null,null,null,null,null,null,null,null,null,null,null,null,null,null,null,null,null,null,null,null,null,null,null,null,null,null,null,null,null,null,null,null,null,null,null,null,null,null,null,null,null,null,null,null,null,0]
[null,null,null,null,null,null,null,null,null,null,null,null,null,null,null,null,null,null,null,null,null,null,null,null,null,null,null,null,null,null,null,null,null,null,null,null,null,null,null,null,null,null,null,null,null,null,null,null,null,null,0]
[null,null,null,null,null,null,null,null,null,null,null,null,null,null,null,null,null,null,null,null,null,null,null,null,null,null,null,null,null,null,null,null,null,null,null,null,null,null,null,null,null,null,null,null,null,null,null,null,null,null,0]
[null,null,null,null,null,null,null,null,null,null,null,null,null,null,null,null,null,null,null,null,null,null,null,null,null,null,null,null,null,null,null,null,null,null,null,null,null,null,null,null,null,null,null,null,null,null,null,null,null,null,0]
[null,null,null,null,null,null,null,null,null,null,null,null,null,null,null,null,null,null,null,null,null,null,null,null,null,null,null,null,null,null,null,null,null,null,null,null,null,null,null,null,null,null,null,null,null,null,null,null,null,null,0]
[null,null,null,null,null,null,null,null,null,null,null,null,null,null,null,null,null,null,null,null,null,null,null,null,null,null,null,null,null,null,null,null,null,null,null,null,null,null,null,null,null,null,null,null,null,null,null,null,null,null,0]
[null,null,null,null,null,null,null,null,null,null,null,null,null,null,null,null,null,null,null,null,null,null,null,null,null,null,null,null,null,null,null,null,null,null,null,null,null,null,null,null,null,null,null,null,null,null,null,null,null,null,0]
[null,null,null,null,null,null,null,null,null,null,null,null,null,null,null,null,null,null,null,null,null,null,null,null,null,null,null,null,null,null,null,null,null,null,null,null,null,null,null,null,null,null,null,null,null,null,null,null,null,null,0]
[null,null,null,null,null,null,null,null,null,null,null,null,null,null,null,null,null,null,null,null,null,null,null,"W&B",null,null,null,null,null,null,null,null,null,null,null,null,null,null,null,null,null,null,null,null,null,null,null,null,null,null,null,"Startstreckenberechnung"]
[null,null,null,null,null,null,null,null,null,null,null,null,null,null,null,null,null,null,null,null,null,null,null,"C 152",null,null,null,null,{"$f":"'W&B C152'!E8","v":{"$error":"#N/A"}},{"$f":"'W&B C152'!E11","v":160},{"$f":"'W&B C152'!E10","v":0},null,{"$f":"'W&B C152'!E12","v":10},{"$f":"'W&B C152'!E13","v":0},null,{"$f":"'W&B C152'!E9","v":66.239999999999995},{"$f":"'W&B C152'!E14","v":{"$error":"#N/A"}},null,null,null,{"$f":"'W&B C152'!F8","v":{"$error":"#N/A"}},{"$f":"'W&B C152'!E11","v":160},{"$f":"'W&B C152'!E10","v":0},null,{"$f":"'W&B C152'!E12","v":10},{"$f":"'W&B C152'!E13","v":0},null,{"$f":"'W&B C152'!E9","v":66.239999999999995},{"$f":"'W&B C152'!F14","v":{"$error":"#N/A"}},{"$f":"'W&B C152'!A94","v":{"$error":"#N/A"}},null,{"$f":"'Startstrecke C152'!G62","v":425},{"$f":"'Startstrecke C152'!H62","v":738},{"$f":"\"Platzhöhe \"&'Startstrecke C152'!D9&\"ft, QNH=\"&'Startstrecke C152'!D8&\"hPa, Druckhöhe=\"&'Startstrecke C152'!D10&\"ft, T=\"&'Startstrecke C152'!D7&\"°C\"","v":"Platzhöhe 1862ft, QNH=1013,2hPa, Druckhöhe=1862ft, T=20°C"},{"$f":"'Startstrecke C152'!G50","v":273},"(eingerechnet)","(eingerechnet)",{"$f":"'Startstrecke C152'!G53","v":0},{"$f":"'Startstrecke C152'!G54","v":0},{"$f":"'Startstrecke C152'!G55","v":0},{"$f":"'Startstrecke C152'!G56","v":0},{"$f":"SUM('Startstrecke C152'!G58:G60)","v":0},{"$f":"'Startstrecke C152'!G61","v":273},{"$f":"'Startstrecke C152'!H51","v":508},"(eingerechnet)","(eingerechnet)",{"$f":"'Startstrecke C152'!H53","v":0},{"$f":"'Startstrecke C152'!H54","v":0},{"$f":"'Startstrecke C152'!H55","v":0},{"$f":"'Startstrecke C152'!H56","v":0},{"$f":"SUM('Startstrecke C152'!H57:H60)","v":0},{"$f":"'Startstrecke C152'!H61","v":508}]
[null,null,null,null,null,null,null,null,null,null,null,null,null,null,null,null,null,null,null,null,null,null,null,"C 172 N",null,null,null,null,{"$f":"'W&B C172 N'!$E$8","v":{"$error":"#N/A"}},{"$f":"'W&B C172 N'!$E$11","v":170},{"$f":"'W&B C172 N'!$E$12","v":4},{"$f":"'W&B C172 N'!$E$10","v":0},{"$f":"'W&B C172 N'!$E$13","v":3},{"$f":"'W&B C172 N'!$E$14","v":2},null,{"$f":"'W&B C172 N'!$E$9","v":66.239999999999995},{"$f":"'W&B C172 N'!$E$15","v":{"$error":"#N/A"}},null,null,null,{"$f":"'W&B C172 N'!$F$8","v":{"$error":"#N/A"}},{"$f":"'W&B C172 N'!$F$11","v":159.79999999999998},{"$f":"'W&B C172 N'!$F$12","v":7.42},{"$f":"'W&B C172 N'!$F$10","v":0},{"$f":"'W&B C172 N'!$F$13","v":7.2420000000000009},{"$f":"'W&B C172 N'!$F$14","v":6.16},null,{"$f":"'W&B C172 N'!$F$9","v":80.441855999999987},{"$f":"'W&B C172 N'!$F$15","v":{"$error":"#N/A"}},{"$f":"'W&B C172 N'!A95","v":{"$error":"#N/A"}},null,{"$f":"'Startstrecke C172 N'!G85","v":425},{"$f":"'Startstrecke C172 N'!H85","v":738},{"$f":"\"Platzhöhe \"&'Startstrecke C172 N'!D9&\"ft, QNH=\"&'Startstrecke C172 N'!D8&\"hPa, Druckhöhe=\"&'Startstrecke C172 N'!D10&\"ft, T=\"&'Startstrecke C172 N'!D7&\"°C\"","v":"Platzhöhe 1862ft, QNH=1013,25hPa, Druckhöhe=1862ft, T=15°C"},{"$f":"'Startstrecke C172 N'!G73","v":{"$error":"#N/A"}},"(eingerechnet)","(eingerechnet)",{"$f":"'Startstrecke C172 N'!G76","v":0},{"$f":"'Startstrecke C172 N'!G77","v":0},{"$f":"'Startstrecke C172 N'!G78","v":0},{"$f":"'Startstrecke C172 N'!G79","v":0},{"$f":"SUM('Startstrecke C172 N'!G81:G83)","v":0},{"$f":"'Startstrecke C172 N'!G84","v":{"$error":"#N/A"}},{"$f":"'Startstrecke C172 N'!H74","v":{"$error":"#N/A"}},"(eingerechnet)","(eingerechnet)",{"$f":"'Startstrecke C172 N'!H76","v":0},{"$f":"'Startstrecke C172 N'!H77","v":0},{"$f":"'Startstrecke C172 N'!H78","v":0},{"$f":"'Startstrecke C172 N'!H79","v":0},{"$f":"SUM('Startstrecke C172 N'!H80:H83)","v":{"$error":"#N/A"}},{"$f":"'Startstrecke C172 N'!H84","v":{"$error":"#N/A"}}]
[null,null,null,null,null,null,null,null,null,null,null,null,null,null,null,null,null,null,null,null,null,null,null,"C 172 P",null,null,null,null,{"$f":"'W&B C172 P'!$E$8","v":{"$error":"#N/A"}},{"$f":"'W&B C172 P'!$E$11","v":170},{"$f":"'W&B C172 P'!$E$12","v":5},{"$f":"'W&B C172 P'!$E$10","v":0},{"$f":"'W&B C172 P'!$E$13","v":0},{"$f":"'W&B C172 P'!$E$14","v":0},null,{"$f":"'W&B C172 P'!$E$9","v":66.239999999999995},{"$f":"'W&B C172 P'!$E$15","v":{"$error":"#N/A"}},null,null,null,{"$f":"'W&B C172 P'!$F$8","v":{"$error":"#N/A"}},{"$f":"'W&B C172 P'!$F$11","v":159.79999999999998},{"$f":"'W&B C172 P'!$F$12","v":9.25},{"$f":"'W&B C172 P'!$F$10","v":0},{"$f":"'W&B C172 P'!$F$13","v":0},{"$f":"'W&B C172 P'!$F$14","v":0},null,{"$f":"'W&B C172 P'!$F$9","v":81.475199999999987},{"$f":"'W&B C172 P'!$F$15","v":{"$error":"#N/A"}},{"$f":"'W&B C172 P'!A95","v":{"$error":"#N/A"}},null,{"$f":"'Startstrecke C172 P'!G74","v":425},{"$f":"'Startstrecke C172 P'!H74","v":738},{"$f":"\"Platzhöhe \"&'Startstrecke C172 P'!D9&\"ft, QNH=\"&'Startstrecke C172 P'!D8&\"hPa, Druckhöhe=\"&'Startstrecke C172 P'!D10&\"ft, T=\"&'Startstrecke C172 P'!D7&\"°C\"","v":"Platzhöhe 1861ft, QNH=1013,25hPa, Druckhöhe=1861ft, T=15°C"},{"$f":"'Startstrecke C172 P'!G62","v":{"$error":"#N/A"}},"(eingerechnet)","(eingerechnet)",{"$f":"'Startstrecke C172 P'!G65","v":{"$error":"#N/A"}},{"$f":"'Startstrecke C172 P'!G66","v":0},{"$f":"'Startstrecke C172 P'!G67","v":0},{"$f":"'Startstrecke C172 P'!G68","v":0},{"$f":"SUM('Startstrecke C172 P'!G70:G72)","v":0},{"$f":"'Startstrecke C172 P'!G73","v":{"$error":"#N/A"}},{"$f":"'Startstrecke C172 P'!H63","v":{"$error":"#N/A"}},"(eingerechnet)","(eingerechnet)",{"$f":"'Startstrecke C172 P'!H65","v":{"$error":"#N/A"}},{"$f":"'Startstrecke C172 P'!H66","v":0},{"$f":"'Startstrecke C172 P'!H67","v":0},{"$f":"'Startstrecke C172 P'!H68","v":0},{"$f":"SUM('Startstrecke C172 P'!H69:H72)","v":0},{"$f":"'Startstrecke C172 P'!H73","v":{"$error":"#N/A"}}]
[null,null,null,null,null,null,null,null,null,null,null,null,null,null,null,null,null,null,null,null,null,null,null,"C 172 S",null,null,null,null,{"$f":"'W&B C172 S'!$E$8","v":659.4},{"$f":"'W&B C172 S'!$E$11","v":180},{"$f":"'W&B C172 S'!$E$12","v":65},{"$f":"'W&B C172 S'!$E$10","v":0},{"$f":"'W&B C172 S'!$E$13","v":0},{"$f":"'W&B C172 S'!$E$14","v":0},null,{"$f":"'W&B C172 S'!$E$9","v":136.07999999999998},{"$f":"'W&B C172 S'!$E$15","v":1040.48},null,null,null,{"$f":"'W&B C172 S'!$F$8","v":66.400000000000006},{"$f":"'W&B C172 S'!$F$11","v":16.919999999999998},{"$f":"'W&B C172 S'!$F$12","v":12.057500000000001},{"$f":"'W&B C172 S'!$F$10","v":0},{"$f":"'W&B C172 S'!$F$13","v":0},{"$f":"'W&B C172 S'!$F$14","v":0},null,{"$f":"'W&B C172 S'!$F$9","v":16.525555199999996},{"$f":"'W&B C172 S'!$F$15","v":111.90305520000001},{"$f":"'W&B C172 S'!A95","v":{"$error":"#N/A"}}]

{"sheet":"W&B C172 N","index":4,"n_rows":97,"n_cols":22,"rows_kept":97,"cut":false,"hidden":false,"merged":[]}
[]
["Weight & Balance C 172 N",null,{"$f":"IF(VLOOKUP('Flugdurchführungsplan (n. DFS)'!Y4,Flugzeuge!$B$6:$X$40,2,FALSE)=\"Cessna 172 N\",'Flugdurchführungsplan (n. DFS)'!Y4,\"falscher Flugzeugtyp für diese Berechnung!\")","v":{"$error":"#N/A"}},null,null,null,null,null,null,null,null,{"$f":"IF(VLOOKUP('Flugdurchführungsplan (n. DFS)'!Y4,Flugzeuge!$B$6:$X$40,2,FALSE)=\"Cessna 172 N\",\"OK\",1)","v":{"$error":"#N/A"}}]
[]
["Berechnung des Beladungszustands","Musterflugzeug/Beispiel",null,null,{"$f":"IF(VLOOKUP('Flugdurchführungsplan (n. DFS)'!Y4,Flugzeuge!$B$6:$X$40,2,FALSE)=\"Cessna 172 N\",'Flugdurchführungsplan (n. DFS)'!Y4,\"bitte LFZ-Kennzeichen im Flugdurchführungsplan ändern oder im Sheet Flugzeuge korrigieren!\")","v":{"$error":"#N/A"}}]
[null,"Gewicht","Moment",null,"Gewicht","Moment"]
["C -172","in kp","in mkp",null,"in kp","in mkp",null,null,"max Gewicht"]
[]
["1. Grundgewicht",695,660,null,{"$f":"IF(VLOOKUP('Flugdurchführungsplan (n. DFS)'!Y4,Flugzeuge!$B$6:$X$40,2,FALSE)=\"Cessna 172 N\",VLOOKUP('Flugdurchführungsplan (n. DFS)'!Y4,Flugzeuge!$B$6:$X$40,7,FALSE),\"Fehler\")","v":{"$error":"#N/A"}},{"$f":"IF(VLOOKUP('Flugdurchführungsplan (n. DFS)'!Y4,Flugzeuge!$B$6:$X$40,2,FALSE)=\"Cessna 172 N\",VLOOKUP('Flugdurchführungsplan (n. DFS)'!Y4,Flugzeuge!$B$6:$X$40,8,FALSE),\"Fehler\")","v":{"$error":"#N/A"}},null,null,null,null,null,null,null,{"$f":"C8/B8","v":0.94964028776978415},{"$f":"N8*1000","v":949.64028776978421}]
["2. Kraftstoff, ausfliegbar (bei 0,72 kg/l) und",109,132,null,{"$f":"G9*0.72","v":66.239999999999995},{"$f":"E9*P36","v":80.441855999999987},{"$f":"'Flugdurchführungsplan (n. DFS)'!F97","v":92},null,{"$f":"189*0.72","v":136.07999999999998},{"$f":"IF(VLOOKUP('Flugdurchführungsplan (n. DFS)'!Y4,Flugzeuge!$B$6:$X$40,2,FALSE)=\"Cessna 172 N\",VLOOKUP('Flugdurchführungsplan (n. DFS)'!Y4,Flugzeuge!$B$6:$X$40,5,FALSE),\"Fehler\")","v":{"$error":"#N/A"}},null,null,null,{"$f":"C9/B9","v":1.2110091743119267},{"$f":"N9*1000","v":1211.0091743119267}]
["    Fallschirm",null,null,null,0,{"$f":"E10*P36","v":0},null,null,null,null,null,null,null,{"$f":"N9","v":1.2110091743119267},1211.0091743119267]
["3. Pilot und vorderer Fluggast",154.30000000000001,145,null,170,{"$f":"E11*P33","v":159.79999999999998},null,null,null,null,null,null,null,0.9397278029812054,939.7278029812054]
["4. Hintere Fluggäste",77.099999999999994,143,null,4,{"$f":"E12*P39","v":7.42},null,null,null,null,null,null,null,1.8547341115434501,1854.7341115434501]
["5. Gepäckbereich 1",43.5,110,null,3,{"$f":"E13*P42","v":7.2420000000000009},null,null,54,null,null,null,null,2.5287356321839081,2528.7356321839079]
["6. Gepäckbereich 2",null,null,null,2,{"$f":"E14*P45","v":6.16},null,null,23,null,null,null,null,0.30782608695652175,307.82608695652175]
["7. Startgewicht (max. 1043 kp) und Moment",1043,{"$f":"SUM(C8:C14)","v":1190},null,{"$f":"SUM(E8:E14)","v":{"$error":"#N/A"}},{"$f":"SUM(F8:F14)","v":{"$error":"#N/A"}},null,null,1043.03]
[]
["(Leergewicht und -moment basiert auf der letzten Wägung vom                         )"]
[]
[]
[]
[]
[]
[]
[]
[]
[]
[]
[]
[]
[null,null,null,null,null,null,null,null,null,null,null,null,null,"Gewicht","Moment","Hebel"]
[null,null,null,null,null,null,null,null,null,null,null,null,null,"Pilot, Fluggast"]
[null,null,null,null,null,null,null,null,null,null,null,null,null,0,0]
[null,null,null,null,null,null,null,null,null,null,null,null,null,200,{"$f":"N33*P33","v":188},0.94]
[null,null,null,null,null,null,null,null,null,null,null,null,null,"Kraftstoff (Standrdtanks) 0,72 kp/l und Fallschirm"]
[null,null,null,null,null,null,null,null,null,null,null,null,null,0,0]
[null,null,null,null,null,null,null,null,null,null,null,null,null,{"$f":"189*0.72","v":136.07999999999998},{"$f":"N36*P36","v":165.25555199999997},1.2143999999999999]
[null,null,null,null,null,null,null,null,null,null,null,null,null,"Hintere Fluggäste"]
[null,null,null,null,null,null,null,null,null,null,null,null,null,0,0]
[null,null,null,null,null,null,null,null,null,null,null,null,null,188,{"$f":"N39*P39","v":348.74},1.855]
[null,null,null,null,null,null,null,null,null,null,null,null,null,"Gepäck im Gepäckbereich 1 (oder Fluggast auf Kindersitz)"]
[null,null,null,null,null,null,null,null,null,null,null,null,null,0,0]
[null,null,null,null,null,null,null,null,null,null,null,null,null,54,{"$f":"N42*P42","v":130.35599999999999},2.4140000000000001]
[null,null,null,null,null,null,null,null,null,null,null,null,null,"Gepäck im Gepäckbereich 2, max. 23 kp"]
[null,null,null,null,null,null,null,null,null,null,null,null,null,0,0]
[null,null,null,null,null,null,null,null,null,null,null,null,null,23,{"$f":"N45*P45","v":70.84},3.08]
[]
[]
[]
[]
[]
[]
[]
[]
[]
[]
[]
[]
[]
[]
[]
[null,null,null,null,null,"zu schwer"]
[]
[]
[]
[null,null,null,null,null,null,null,null,null,null,null,null,null,"Nutzflugzeug"]
[null,null,null,null,null,null,null,null,null,null,null,null,null,{"$f":"N78","v":700},695]
[null,null,null,null,null,null,null,null,null,null,null,null,null,910,935]
[null,null,null,null,null,null,null,null,null,null,null,null,null,"Nutzflugzeug oben"]
[null,"zu frontlastig",null,null,null,null,null,null,null,null,null,null,null,910,820,null,null,null,null,"kp","max"]
[null,null,null,null,null,null,null,null,null,null,null,null,null,910,935,null,null,null,null,{"$f":"E8","v":{"$error":"#N/A"}},{"$f":"I8","v":0},{"$f":"IF(AND(U70>0,U70<T70),\"Grundgewicht überschritten!  \",\"\")","v":{"$error":"#N/A"}}]
[null,null,null,"zulässig",null,null,null,null,null,null,null,null,null,null,null,null,null,null,null,{"$f":"E9","v":66.239999999999995},{"$f":"I9","v":136.07999999999998},{"$f":"IF(AND(U71>0,U71<T71),\"Kraftstoffmenge zu hoch!  \",\"\")","v":""}]
[null,null,null,null,null,null,null,null,null,null,null,null,null,null,null,null,null,null,null,{"$f":"E11","v":170},{"$f":"I11","v":0},{"$f":"IF(AND(U72>0,U72<T72),\"\",\"\")","v":""}]
[null,null,null,null,null,null,null,null,null,null,null,null,null,"y","x",null,null,null,null,{"$f":"E13","v":3},{"$f":"I13","v":54},{"$f":"IF(AND(U73>0,U73<T73),\"Gepäckbereich 1 überladen!  \",\"\")","v":""}]
[null,null,null,null,null,null,null,null,null,null,null,null,null,"IST-Wert",null,null,null,null,null,{"$f":"E14","v":2},{"$f":"I14","v":23},{"$f":"IF(AND(U74>0,U74<T74),\"Gepäckbereich 2 überladen!  \",\"\")","v":""}]
[null,null,null,null,null,null,null,null,null,null,null,null,null,{"$f":"E15","v":{"$error":"#N/A"}},{"$f":"F15","v":{"$error":"#N/A"}},null,null,null,null,{"$f":"T74+T73","v":5},54,{"$f":"IF(AND(U75>0,U75<T75),\"Gepäckbereich in Summe überladen!  \",\"\")","v":""}]
[null,null,null,null,null,null,null,null,null,null,null,null,null,"Vordere Grenze",null,null,null,null,null,{"$f":"E15","v":{"$error":"#N/A"}},{"$f":"I15","v":1043.03},{"$f":"IF(AND(U76>0,U76<T76),\"Gesamtgewicht zu hoch!  \",\"\")","v":{"$error":"#N/A"}}]
[null,null,null,null,null,null,null,null,null,null,null,null,null,"Gewicht VG","Moment VG",null,"y=ax+c","x=(y-c)/a",null,700,{"$f":"IF($N$75<T77,$N$75,0)","v":{"$error":"#N/A"}},{"$f":"IF(U77>0,IF(U77<T77,\"Gewicht prüfen - zu gering?  \",\"\"),\"\")","v":{"$error":"#N/A"}}]
[null,null,null,null,null,null,null,null,null,null,null,null,null,700,600]
[null,null,null,null,null,null,null,null,null,null,null,null,null,890,780,null,"a=",{"$f":"(N79-N78)/(O79-O78)","v":1.0555555555555556},"c=",{"$f":"N78-O78*R79","v":66.666666666666629},{"$f":"IF(AND($N$75<=N79,$N$75>=N78),$N$75,0)","v":{"$error":"#N/A"}},{"$f":"IF(U79>0,IF($O$75<(U79-T79)/R79,\"zu vorderlastig!  \",IF($O$75>(U79-$T$84)/$R$84,\"zu hecklastig beladen!  \",\"OK\")),\"\")","v":{"$error":"#N/A"}}]
[null,"zulässig",null,null,null,null,null,null,null,null,null,null,null,{"$f":"N84","v":1043.04},1015,null,"a=",{"$f":"(N80-N79)/(O80-O79)","v":0.65123404255319128},"c=",{"$f":"N79-O79*R80","v":382.03744680851082},{"$f":"IF(AND($N$75<=N80,$N$75>=N79),$N$75,0)","v":{"$error":"#N/A"}},{"$f":"IF(U80>0,IF($O$75<(U80-T80)/R80,\"Zu vorderlastig!  \",IF($O$75>(U80-$T$84)/$R$84,\"Zu hecklastig beladen!  \",\"OK\")),\"\")","v":{"$error":"#N/A"}}]
[null,null,null,null,null,null,null,null,null,null,null,null,null,"Hintere Grenze",null,null,null,null,null,null,null,{"$f":"IF(U81>0,\"Maximalgewicht überschritten!  \",\"\")","v":""}]
[null,null,null,null,null,"zu hecklastig",null,null,null,null,null,null,null,"Gewicht HG","Moment HG",null,null,null,null,null,null,{"$f":"V70&V71&V72&V73&V74&V76&V77&V79&V80&V75","v":{"$error":"#N/A"}}]
[null,null,null,null,null,null,null,null,null,null,null,null,null,700,810]
[null,null,null,null,null,null,null,null,null,null,null,null,null,1043.04,1250,null,"a=",{"$f":"(N84-N83)/(O84-O83)","v":0.77963636363636357},"c=",{"$f":"N83-O83*R84","v":68.49454545454546}]
[null,null,null,null,null,null,null,null,null,null,null,null,null,"Obere Grenze"]
[null,null,null,null,null,null,null,null,null,null,null,null,null,"Gewicht OG","Moment OG"]
[null,null,null,null,null,null,null,null,null,null,null,null,null,{"$f":"N80","v":1043.04},1015]
[null,null,null,null,null,null,null,null,null,null,null,null,null,{"$f":"N87","v":1043.04},{"$f":"O84","v":1250}]
[]
[]
[]
[]
[]
[]
[{"$f":"IF(L2=\"OK\",IF(V82=\"OK\",\" Weight & Balance OK!\",V82),\"FEHLER!\")","v":{"$error":"#N/A"}}]
[]
["Luftfahrzeugführer",null,"Datum",null,null,"Unterschrift"]

{"sheet":"Startstrecke C172 N","index":5,"n_rows":117,"n_cols":42,"rows_kept":117,"cut":false,"hidden":false,"merged":[[3,1,3,2],[4,1,4,2],[6,1,6,2],[6,7,6,8],[7,1,7,2],[7,7,7,8],[8,1,8,2],[8,7,8,8],[9,1,9,2],[9,7,9,8],[10,1,10,2],[10,7,10,8],[16,6,16,15],[31,14,31,15],[40,2,40,3],[40,6,40,15],[41,6,41,7],[41,8,41,9],[41,10,41,11],[41,12,41,13],[41,14,41,15],[17,6,17,7],[17,8,17,9],[17,10,17,11],[17,12,17,13],[30,6,30,15],[31,6,31,7],[31,8,31,9],[72,1,72,5],[73,1,73,5],[11,1,11,2],[12,1,12,2],[13,1,13,2],[14,1,14,2],[16,2,16,3],[31,10,31,11],[31,12,31,13],[17,14,17,15],[76,1,76,5],[85,1,85,15],[84,1,84,5],[80,1,80,5],[81,1,81,5],[82,1,82,5],[83,1,83,5],[78,1,78,5],[74,1,74,5],[75,1,75,5],[77,1,77,5],[79,1,79,5],[30,2,30,3]]}
[]
[null,"Startstreckenberechnung Cessna 172 N (Kurzstart)"]
[]
[null,"LFZ-Muster",null,"C 172 N",null,null,null,null,null,"MTOW: 1043 kp"]
[null,"Kennzeichen",null,{"$f":"IF(VLOOKUP('Flugdurchführungsplan (n. DFS)'!Y4,Flugzeuge!$B$6:$X$40,2,FALSE)=\"Cessna 172 N\",'Flugdurchführungsplan (n. DFS)'!Y4,\"falscher Flugzeugtyp für diese Berechnung!\")","v":{"$error":"#N/A"}}]
[]
[null,"Temperatur",null,15,null,null,null,"Leergewicht ",null,{"$f":"'W&B C172 N'!E8","v":{"$error":"#N/A"}}]
[null,"QNH in hPa",null,1013.25,null,null,null,"Zuladung",null,{"$f":"SUM('W&B C172 N'!E10:E14)","v":179}]
[null,"Platzhöhe ü.NN in ft",null,1862,null,{"$f":"IF('Flugdurchführungsplan (n. DFS)'!I5<>\"\",\"(\"&Flugplätze!AB4&\" \"&Flugplätze!AB6&\"ft)\",\"\")","v":""},null,"Treibstoff",null,{"$f":"'W&B C172 N'!E9","v":66.239999999999995}]
[null,"Druckhöhe",null,{"$f":"ROUND(-(D8-1013.25)*27+D9,0)","v":1862}]
[null,"Windrichtung",null,270,null,null,null,"Abfluggewicht",null,{"$f":"'W&B C172 N'!E15","v":{"$error":"#N/A"}},null,"Bedingungen:"]
[null,"Windgeschwindigkeit",null,7,null,null,null,null,null,null,null,"- Klappen 0°"]
[null,"Bahnrichtung",null,25,null,{"$f":"IF(D13<=18,D13+18,D13-18)","v":7},null,null,null,null,null,"- Vollgas vor dem Lösen der Bremsen"]
[null,"Gegenwind",null,{"$f":"D12*COS((D11-(10*D13))*PI()/180)","v":6.5778483455013586},null,{"$f":"D12*COS((D11-(10*F13))*PI()/180)","v":-6.5778483455013586},"(negative Werte = Rückenwind)",null,null,null,null,"- Befestigte, trockene und ebene Startbahn"]
[null,"Seitenwind",null,{"$f":"D12*SIN((D11-(10*D13))*PI()/180)","v":2.3941410032796808},null,{"$f":"D12*SIN((D11-(10*F13))*PI()/180)","v":-2.3941410032796808},"(pos. Werte = von rechts, neg. = von links)",null,null,null,null,"- Windstille"]
[null,null,null,null,null,null,{"$f":"IF(OR($AI$20=G18,$AK$20=G18),1,0)","v":0},{"$f":"IF(OR($AI$20=G18,$AK$20=G18),1,0)","v":0},{"$f":"IF(OR($AI$20=I18,$AK$20=I18),1,0)","v":1},{"$f":"IF(OR($AI$20=I18,$AK$20=I18),1,0)","v":1},{"$f":"IF(OR($AI$20=K18,$AK$20=K18),1,0)","v":1},{"$f":"IF(OR($AI$20=K18,$AK$20=K18),1,0)","v":1},{"$f":"IF(OR($AI$20=M18,$AK$20=M18),1,0)","v":0},{"$f":"IF(OR($AI$20=M18,$AK$20=M18),1,0)","v":0},{"$f":"IF(OR($AI$20=O18,$AK$20=O18),1,0)","v":0},{"$f":"IF(OR($AI$20=O18,$AK$20=O18),1,0)","v":0}]
[null,"Flug-gewicht","Startgeschwindigkeit ",null,null,"Druckhöhe","Startlauf und Startstrecke über 15 m Höhe in Metern in Abhängikeit von der Temperatur",null,null,null,null,null,null,null,null,null,null,null,null,0,10,20,30,40,null,null,0,10,20,30,40]
[null,null,"beim Abheben","in 15 m Höhe",null,null,0,null,10,null,20,null,30,null,40,null,null,null,null,"Startlauf","Startlauf","Startlauf","Startlauf","Startlauf",null,null,"Str. ü. 15 m","Str. ü. 15 m","Str. ü. 15 m","Str. ü. 15 m","Str. ü. 15 m",null,"Startlauf","Startlauf","Startlauf","Startlauf","Startlauf","Str. ü. 15 m","Str. ü. 15 m","Str. ü. 15 m","Str. ü. 15 m","Str. ü. 15 m"]
[null,"kp","kt IAS","kt IAS",null,"ft","Startlauf","Str. ü. 15 m","Startlauf","Str. ü. 15 m","Startlauf","Str. ü. 15 m","Startlauf","Str. ü. 15 m","Startlauf","Str. ü. 15 m",null,null,"ft",0,1,2,3,4,null,"ft",0,1,2,3,4]
[{"$f":"IF(J11<=B34,0,1)","v":{"$error":"#N/A"}},1043,52,59,{"$f":"IF(OR($AH$22=F20,$AH$24=F20),1,0)","v":0},0,219,396,236,424,255,454,273,485,293,518,null,null,0,{"$f":"G20","v":219},{"$f":"I20","v":236},{"$f":"K20","v":255},{"$f":"M20","v":273},{"$f":"O20","v":293},null,0,{"$f":"H20","v":396},{"$f":"J20","v":424},{"$f":"L20","v":454},{"$f":"N20","v":485},{"$f":"P20","v":518},null,null,null,{"$f":"ROUNDDOWN(AJ20/10,0)*10","v":10},{"$f":"$D$7","v":15},{"$f":"ROUNDUP(AJ20/10,0)*10","v":20},null,null,{"$f":"ROUNDDOWN(AO20/10,0)*10","v":10},{"$f":"$D$7","v":15},{"$f":"ROUNDUP(AO20/10,0)*10","v":20}]
[null,null,null,null,1,1000,241,433,259,465,279,497,299,532,320,568,null,null,1000,{"$f":"G21","v":241},{"$f":"I21","v":259},{"$f":"K21","v":279},{"$f":"M21","v":299},{"$f":"O21","v":320},null,1000,{"$f":"H21","v":433},{"$f":"J21","v":465},{"$f":"L21","v":497},{"$f":"N21","v":532},{"$f":"P21","v":568},null,null,null,{"$f":"$AI$20/10","v":1},null,{"$f":"$AK$20/10","v":2},null,null,{"$f":"$AN$20/10","v":1},null,{"$f":"$AP$20/10","v":2}]
[null,null,null,null,1,2000,264,474,287,509,305,546,328,584,352,626,null,null,2000,264,287,305,328,352,null,2000,474,509,546,584,626,null,null,{"$f":"ROUNDDOWN(AH23/1000,0)*1000","v":1000},{"$f":"VLOOKUP($AH22,$S$19:$X$28,AI$21+2,FALSE)","v":259},{"$f":"ROUND(AI22+(AJ20-AI20)/10*(AK22-AI22),0)","v":269},{"$f":"VLOOKUP($AH22,$S$19:$X$28,AK$21+2,FALSE)","v":279},null,{"$f":"ROUNDDOWN(AM23/1000,0)*1000","v":1000},{"$f":"VLOOKUP($AM22,$Z$19:$AE$28,AN$21+2,FALSE)","v":465},{"$f":"ROUND(AN22+(AO20-AN20)/10*(AP22-AN22),0)","v":481},{"$f":"VLOOKUP($AM22,$Z$19:$AE$28,AP$21+2,FALSE)","v":497}]
[null,null,null,null,0,3000,290,521,312,559,335,600,361,645,387,690,null,null,3000,290,312,335,361,387,null,3000,521,559,600,645,690,null,null,{"$f":"$D$10","v":1862},{"$f":"ROUND(AI22+(AH23-AH22)/1000*(AI24-AI22),0)","v":283},{"$f":"ROUND(AI23+(AJ20-AI20)/10*(AK23-AI23),0)","v":292},{"$f":"ROUND(AK22+(AH23-AH22)/1000*(AK24-AK22),0)","v":301},null,{"$f":"$D$10","v":1862},{"$f":"ROUND(AN22+(AM23-AM22)/1000*(AN24-AN22),0)","v":503},{"$f":"ROUND(AN23+(AO20-AN20)/10*(AP23-AN23),0)","v":521},{"$f":"ROUND(AP22+(AM23-AM22)/1000*(AP24-AP22),0)","v":539}]
[null,null,null,null,0,4000,319,573,343,617,369,663,396,712,427,765,null,null,4000,319,343,369,396,427,null,4000,573,617,663,712,765,null,null,{"$f":"ROUNDUP(AH23/1000,0)*1000","v":2000},{"$f":"VLOOKUP($AH24,$S$19:$X$28,AI$21+2,FALSE)","v":287},{"$f":"ROUND(AI24+(AJ20-AI20)/10*(AK24-AI24),0)","v":296},{"$f":"VLOOKUP($AH24,$S$19:$X$28,AK$21+2,FALSE)","v":305},null,{"$f":"ROUNDUP(AM23/1000,0)*1000","v":2000},{"$f":"VLOOKUP($AM24,$Z$19:$AE$28,AN$21+2,FALSE)","v":509},{"$f":"ROUND(AN24+(AO20-AN20)/10*(AP24-AN24),0)","v":528},{"$f":"VLOOKUP($AM24,$Z$19:$AE$28,AP$21+2,FALSE)","v":546}]
[null,null,null,null,0,5000,351,632,378,683,407,735,437,791,469,852,null,null,5000,351,378,407,437,469,null,5000,632,683,735,791,852]
[null,null,null,null,0,6000,386,703,416,757,450,817,483,882,520,953,null,null,6000,386,416,450,483,520,null,6000,703,757,817,882,953]
[null,null,null,null,0,7000,427,782,460,844,497,914,535,989,576,1071,null,null,7000,427,460,497,535,576,null,7000,782,844,914,989,1071]
[null,null,null,null,0,8000,472,875,511,948,550,1029,593,1119,639,1216,null,null,8000,472,511,550,593,639,null,8000,875,948,1029,1119,1216]
[]
[]
[null,"Flug-gewicht","Startgeschwindigkeit ",null,null,"Druckhöhe","Startlauf und Startstrecke über 15 m Höhe in Metern in Abhängikeit von der Temperatur"]
[null,null,"beim Abheben","in 15 m Höhe",null,null,0,null,10,null,20,null,30,null,40]
[null,"kp","kt IAS","kt IAS",null,"ft","Startlauf","Str. ü. 15 m","Startlauf","Str. ü. 15 m","Startlauf","Str. ü. 15 m","Startlauf","Str. ü. 15 m","Startlauf","Str. ü. 15 m"]
[{"$f":"IF(AND(J11<=B34,J11>B44),1,0)","v":{"$error":"#N/A"}},953,50,56,{"$f":"IF(OR($AH$22=F34,$AH$24=F34),1,0)","v":0},0,178,326,192,347,207,372,221,396,238,424,null,null,"ft",0,1,2,3,4,null,"ft",0,1,2,3,4]
[null,null,null,null,{"$f":"IF(OR($AH$22=F35,$AH$24=F35),1,0)","v":1},1000,195,355,210,379,226,405,242,433,259,463,null,null,0,178,192,207,221,238,null,0,326,347,372,396,424]
[null,null,null,null,1,2000,213,387,230,415,247,443,265,474,285,507,null,null,1000,195,210,226,242,259,null,1000,355,379,405,433,463,null,null,{"$f":"ROUNDDOWN(AH37/1000,0)*1000","v":1000},{"$f":"VLOOKUP($AH36,$S$34:$X$39,AI$21+2,FALSE)","v":210},null,{"$f":"VLOOKUP($AH36,$S$34:$X$39,AK$21+2,FALSE)","v":226},null,{"$f":"ROUNDDOWN(AM37/1000,0)*1000","v":1000},{"$f":"VLOOKUP($AH36,$Z$34:$AE$39,AN$21+2,FALSE)","v":379},null,{"$f":"VLOOKUP($AH36,$Z$34:$AE$39,AP$21+2,FALSE)","v":405}]
[null,null,null,null,0,3000,235,424,253,454,271,486,291,521,312,558,null,null,2000,213,230,247,265,285,null,2000,387,415,443,474,507,null,null,{"$f":"$D$10","v":1862},{"$f":"ROUND(AI36+(AH37-AH36)/1000*(AI38-AI36),0)","v":227},{"$f":"ROUND(AI37+(AJ20-AI20)/10*(AK37-AI37),0)","v":236},{"$f":"ROUND(AK36+(AH37-AH36)/1000*(AK38-AK36),0)","v":244},null,{"$f":"$D$10","v":1862},{"$f":"ROUND(AN36+(AM37-AM36)/1000*(AN38-AN36),0)","v":410},{"$f":"ROUND(AN37+(AO20-AN20)/10*(AP37-AN37),0)","v":424},{"$f":"ROUND(AP36+(AM37-AM36)/1000*(AP38-AP36),0)","v":438}]
[null,null,null,null,0,4000,256,465,277,500,299,535,320,573,344,614,null,null,3000,235,253,271,291,312,null,3000,424,454,486,521,558,null,null,{"$f":"ROUNDUP(AH37/1000,0)*1000","v":2000},{"$f":"VLOOKUP($AH38,$S$34:$X$39,AI$21+2,FALSE)","v":230},null,{"$f":"VLOOKUP($AH38,$S$34:$X$39,AK$21+2,FALSE)","v":247},null,{"$f":"ROUNDUP(AM37/1000,0)*1000","v":2000},{"$f":"VLOOKUP($AH38,$Z$34:$AE$39,AN$21+2,FALSE)","v":415},null,{"$f":"VLOOKUP($AH38,$Z$34:$AE$39,AP$21+2,FALSE)","v":443}]
[null,null,null,null,null,null,null,null,null,null,null,null,null,null,null,null,null,null,4000,256,277,299,320,344,null,4000,465,500,535,573,614]
[]
[null,"Flug-gewicht","Startgeschwindigkeit ",null,null,"Druckhöhe","Startlauf und Startstrecke über 15 m Höhe in Metern in Abhängikeit von der Temperatur"]
[null,null,"beim Abheben","in 15 m Höhe",null,null,0,null,10,null,20,null,30,null,40]
[null,"kp","kt IAS","kt IAS",null,"ft","Startlauf","Str. ü. 15 m","Startlauf","Str. ü. 15 m","Startlauf","Str. ü. 15 m","Startlauf","Str. ü. 15 m","Startlauf","Str. ü. 15 m"]
[{"$f":"IF(J11<=B44,1,0)","v":{"$error":"#N/A"}},862,47,54,{"$f":"IF(OR($AH$22=F44,$AH$24=F44),1,0)","v":0},0,143,264,154,280,165,300,177,319,189,340,null,null,"ft",0,1,2,3,4,null,"ft",0,1,2,3,4]
[null,null,null,null,1,1000,157,287,168,306,180,326,194,347,207,370,null,null,0,143,154,165,177,189,null,0,264,280,300,319,340]
[null,null,null,null,1,2000,171,312,184,334,197,357,212,379,227,405,null,null,1000,157,168,180,194,207,null,1000,287,306,326,347,370,null,null,{"$f":"ROUNDDOWN(AH47/1000,0)*1000","v":1000},{"$f":"VLOOKUP($AH46,$S$44:$X$49,AI$21+2,FALSE)","v":168},null,{"$f":"VLOOKUP($AH46,$S$44:$X$49,AK$21+2,FALSE)","v":180},null,{"$f":"ROUNDDOWN(AM47/1000,0)*1000","v":1000},{"$f":"VLOOKUP($AH46,$Z$44:$AE$49,AN$21+2,FALSE)","v":306},null,{"$f":"VLOOKUP($AH46,$Z$44:$AE$49,AP$21+2,FALSE)","v":326}]
[null,null,null,null,0,3000,187,340,201,364,216,389,232,416,248,443,null,null,2000,171,184,197,212,227,null,2000,312,334,357,379,405,null,null,{"$f":"$D$10","v":1862},{"$f":"ROUND(AI46+(AH47-AH46)/1000*(AI48-AI46),0)","v":182},{"$f":"ROUND(AI47+(AJ20-AI20)/10*(AK47-AI47),0)","v":189},{"$f":"ROUND(AK46+(AH47-AH46)/1000*(AK48-AK46),0)","v":195},null,{"$f":"$D$10","v":1862},{"$f":"ROUND(AN46+(AM47-AM46)/1000*(AN48-AN46),0)","v":330},{"$f":"ROUND(AN47+(AO20-AN20)/10*(AP47-AN47),0)","v":342},{"$f":"ROUND(AP46+(AM47-AM46)/1000*(AP48-AP46),0)","v":353}]
[null,null,null,null,0,4000,204,372,221,389,238,427,255,456,273,488,null,null,3000,187,201,216,232,248,null,3000,340,364,389,416,443,null,null,{"$f":"ROUNDUP(AH47/1000,0)*1000","v":2000},{"$f":"VLOOKUP($AH48,$S$44:$X$49,AI$21+2,FALSE)","v":184},null,{"$f":"VLOOKUP($AH48,$S$44:$X$49,AK$21+2,FALSE)","v":197},null,{"$f":"ROUNDUP(AM47/1000,0)*1000","v":2000},{"$f":"VLOOKUP($AH48,$Z$44:$AE$49,AN$21+2,FALSE)","v":334},null,{"$f":"VLOOKUP($AH48,$Z$44:$AE$49,AP$21+2,FALSE)","v":357}]
[null,null,null,null,null,null,null,null,null,null,null,null,null,null,null,null,null,null,4000,204,221,238,255,273,null,4000,372,389,427,456,488]
[null,"Startlauf",null,null,null,null,null,null,null,null,"Startstrecke über 15 m Höhe"]
[]
[null,null,null,null,null,null,null,null,null,null,null,null,null,null,null,null,null,null,{"$f":"A20*B20+A34*B34+A44*B44","v":{"$error":"#N/A"}},null,8000,7000,6000,5000,4000,3000,2000,1000,0]
[null,null,null,null,null,null,null,null,null,null,null,null,null,null,null,null,null,null,null,0,{"$f":"IF($S$52=$S$104,U105,IF($S$52=$S$88,U89,U73))","v":{"$error":"#N/A"}},{"$f":"IF($S$52=$S$104,V105,IF($S$52=$S$88,V89,V73))","v":{"$error":"#N/A"}},{"$error":"#N/A"},{"$error":"#N/A"},{"$error":"#N/A"},{"$error":"#N/A"},{"$error":"#N/A"},{"$error":"#N/A"},{"$error":"#N/A"}]
[null,null,null,null,null,null,null,null,null,null,null,null,null,null,null,null,null,null,null,10,{"$f":"IF($S$52=$S$104,U106,IF($S$52=$S$88,U90,U74))","v":{"$error":"#N/A"}},{"$f":"IF($S$52=$S$104,V106,IF($S$52=$S$88,V90,V74))","v":{"$error":"#N/A"}},{"$error":"#N/A"},{"$error":"#N/A"},{"$error":"#N/A"},{"$error":"#N/A"},{"$error":"#N/A"},{"$error":"#N/A"},{"$error":"#N/A"}]
[null,null,null,null,null,null,null,null,null,null,null,null,null,null,null,null,null,null,null,20,{"$f":"IF($S$52=$S$104,U107,IF($S$52=$S$88,U91,U75))","v":{"$error":"#N/A"}},{"$error":"#N/A"},{"$error":"#N/A"},{"$error":"#N/A"},{"$error":"#N/A"},{"$error":"#N/A"},{"$error":"#N/A"},{"$error":"#N/A"},{"$error":"#N/A"}]
[null,null,null,null,null,null,null,null,null,null,null,null,null,null,null,null,null,null,null,30,{"$f":"IF($S$52=$S$104,U108,IF($S$52=$S$88,U92,U76))","v":{"$error":"#N/A"}},{"$error":"#N/A"},{"$error":"#N/A"},{"$error":"#N/A"},{"$error":"#N/A"},{"$error":"#N/A"},{"$error":"#N/A"},{"$error":"#N/A"},{"$error":"#N/A"}]
[null,null,null,null,null,null,null,null,null,null,null,null,null,null,null,null,null,null,null,40,{"$f":"IF($S$52=$S$104,U109,IF($S$52=$S$88,U93,U77))","v":{"$error":"#N/A"}},{"$error":"#N/A"},{"$error":"#N/A"},{"$error":"#N/A"},{"$error":"#N/A"},{"$error":"#N/A"},{"$error":"#N/A"},{"$error":"#N/A"},{"$error":"#N/A"}]
[]
[]
[null,null,null,null,null,null,null,null,null,null,null,null,null,null,null,null,null,null,null,null,8000,7000,6000,5000,4000,3000,2000,1000,0]
[null,null,null,null,null,null,null,null,null,null,null,null,null,null,null,null,null,null,null,0,{"$f":"IF($S$52=$S$104,U113,IF($S$52=$S$88,U97,U81))","v":{"$error":"#N/A"}},{"$f":"IF($S$52=$S$104,V113,IF($S$52=$S$88,V97,V81))","v":{"$error":"#N/A"}},{"$error":"#N/A"},{"$error":"#N/A"},{"$error":"#N/A"},{"$error":"#N/A"},{"$error":"#N/A"},{"$error":"#N/A"},{"$error":"#N/A"}]
[null,null,null,null,null,null,null,null,null,null,null,null,null,null,null,null,null,null,null,10,{"$f":"IF($S$52=$S$104,U114,IF($S$52=$S$88,U98,U82))","v":{"$error":"#N/A"}},{"$error":"#N/A"},{"$error":"#N/A"},{"$error":"#N/A"},{"$error":"#N/A"},{"$error":"#N/A"},{"$error":"#N/A"},{"$error":"#N/A"},{"$error":"#N/A"}]
[null,null,null,null,null,null,null,null,null,null,null,null,null,null,null,null,null,null,null,20,{"$f":"IF($S$52=$S$104,U115,IF($S$52=$S$88,U99,U83))","v":{"$error":"#N/A"}},{"$error":"#N/A"},{"$error":"#N/A"},{"$error":"#N/A"},{"$error":"#N/A"},{"$error":"#N/A"},{"$error":"#N/A"},{"$error":"#N/A"},{"$error":"#N/A"}]
[null,null,null,null,null,null,null,null,null,null,null,null,null,null,null,null,null,null,null,30,{"$f":"IF($S$52=$S$104,U116,IF($S$52=$S$88,U100,U84))","v":{"$error":"#N/A"}},{"$error":"#N/A"},{"$error":"#N/A"},{"$error":"#N/A"},{"$error":"#N/A"},{"$error":"#N/A"},{"$error":"#N/A"},{"$error":"#N/A"},{"$error":"#N/A"}]
[null,null,null,null,null,null,null,null,null,null,null,null,null,null,null,null,null,null,null,40,{"$f":"IF($S$52=$S$104,U117,IF($S$52=$S$88,U101,U85))","v":{"$error":"#N/A"}},{"$error":"#N/A"},{"$error":"#N/A"},{"$error":"#N/A"},{"$error":"#N/A"},{"$error":"#N/A"},{"$error":"#N/A"},{"$error":"#N/A"},{"$error":"#N/A"}]
[]
[]
[null,"Bei","und ","bei Abfluggewicht",null,null,"Startlauf","Str. ü. 15 m"]
[null,{"$f":"D7","v":15},null,{"$f":"B20","v":1043},{"$f":"A20","v":{"$error":"#N/A"}},"kp",{"$f":"AJ23","v":292},{"$f":"AO23","v":521}]
[null,{"$f":"D10","v":1862},"(Druckhöhe)",{"$f":"B34","v":953},{"$f":"A34","v":{"$error":"#N/A"}},"kp",{"$f":"AJ37","v":236},{"$f":"AO37","v":424}]
[null,null,null,{"$f":"B44","v":862},{"$f":"A44","v":{"$error":"#N/A"}},"kp",{"$f":"AJ47","v":189},{"$f":"AO47","v":342}]
[null,null,null,null,null,null,null,null,null,"Anmerkungen:",null,null,null,null,null,null,null,null,1043,null,8000,7000,6000,5000,4000,3000,2000,1000,0]
[null,"Intrapolierte Startlaufstrecke:",null,null,null,null,{"$f":"IF(E71=1,G71,IF(E70=1,G70,G69))","v":{"$error":"#N/A"}},null,null,"1.  Kurzstartverfahren, wie in Abschnitt IV angegeben. ",null,null,null,null,null,null,null,null,null,0,{"$f":"HLOOKUP($T73/10,$S$19:$X$28,U$52/1000+2,FALSE)","v":472},427,386,351,319,290,264,241,219]
[null,"Intrapolierte Startstrecke über 15 m Höhe:",null,null,null,null,null,{"$f":"IF(E71=1,H71,IF(E70=1,H70,H69))","v":{"$error":"#N/A"}},null,"2. Vor dem Start auf Plätzen, die höher als 3000 ft über NN liegen, ist das Gemisch entsprechend ",null,null,null,null,null,null,null,null,null,10,511,460,416,378,343,312,287,259,236]
[null,"Zuschläge:",null,null,null,null,null,null,null,"einzustellen um beim Vollgas-standlauf die maximale Drehzahl zu  erhalten",null,null,null,null,null,null,null,null,null,20,550,497,450,407,369,335,305,279,255]
[null,"Rücken- / Gegenwind Zu- /Abschlag",null,null,null,null,{"$f":"IF(I76,IF(D14>0,-ROUNDDOWN($D$14/9,0)*0.1*G73,ROUNDUP($D$14/2,0)*-0.1*G73),0)","v":0},{"$f":"IF(I76,IF(D14>0,-ROUNDDOWN($D$14/9,0)*0.1*H74,ROUNDUP($D$14/2,0)*-0.1*H74),0)","v":0},false,"3. Für je 9 kt Gegenwind sind die Strecken um 10% zu verringern. Für Starts bei Rückenwind  ",null,null,null,null,null,null,null,null,null,30,593,535,483,437,396,361,328,299,273]
[null,"Neigungszuschlag",null,null,null,null,null,null,false,"bis 10 kt sind die Strecken für je 2 kt Rückenwind um 10% zu vergrößern",null,null,null,null,null,null,null,null,null,40,639,576,520,469,427,387,352,320,293]
[null,"Trockene Grasbahn",null,null,null,null,{"$f":"IF(I77,G73*15%,0)","v":0},{"$f":"G78","v":0},true,"4. Für den Start auf trockenr Grasbahn sind die Strecken um 15% des Werts für den Startlauf "]
[null,"Oberflächenzuschlag",null,null,null,null,null,null,null,"zu vergrößern"]
[null,"40% Zuschlag auf Startstrecke über 15 m (50 ft)1)",null,null,null,null,null,{"$f":"IF(I78,0.4*H74,0)","v":{"$error":"#N/A"}},null,"5. Zusätzliche Zuschläge wegen feuchter Grasbahn, aufgeweichten Untergrundes oder ",null,null,null,null,null,null,null,null,null,null,8000,7000,6000,5000,4000,3000,2000,1000,0]
[null,null,null,null,null,null,null,null,null,"Schnee sind zu berücksichtigen",null,null,null,null,null,null,null,null,null,0,{"$f":"HLOOKUP($T81/10,$Z$19:$AE$28,U$60/1000+2,FALSE)","v":875},782,703,632,573,521,474,433,396]
[null,null,null,null,null,null,null,null,null,null,null,null,null,null,null,null,null,null,null,10,948,844,757,683,617,559,509,465,424]
[null,null,null,null,null,null,null,null,null,null,null,null,null,null,null,null,null,null,null,20,1029,914,817,735,663,600,546,497,454]
[null,"Summe inkl. Zu- / Abschläge",null,null,null,null,{"$f":"SUM(G73:G83)","v":{"$error":"#N/A"}},{"$f":"SUM(H73:H83)","v":{"$error":"#N/A"}},null,"1) für EDMJ entspr. Startstr. über 100ft (Wald); max. 738 m!!",null,null,null,null,null,null,null,null,null,30,1119,989,882,791,712,645,584,532,485]
[null,"ZUR VERFÜGUNG STEHEN (lt. AIP):",null,null,null,null,425,738,null,null,null,null,null,null,null,null,null,null,null,40,1216,1071,953,852,765,690,626,568,518]
[null,{"$f":"IF(VLOOKUP('Flugdurchführungsplan (n. DFS)'!Y4,Flugzeuge!$B$6:$X$40,2,FALSE)=\"Cessna 172 N\",\"\",\"falscher Flugzeugtyp für diese Berechnung!\")","v":{"$error":"#N/A"}}]
[]
[null,null,null,null,null,null,null,null,null,null,null,null,null,null,null,null,null,null,953,"ft",8000,7000,6000,5000,4000,3000,2000,1000,0]
[null,null,null,null,null,null,null,null,null,null,null,null,null,null,null,null,null,null,null,0,null,null,null,null,256,235,213,195,178]
[null,null,null,null,null,null,null,null,null,null,null,null,null,null,null,null,null,null,null,1,null,null,null,null,277,253,230,210,192]
[null,null,null,null,null,null,null,null,null,null,null,null,null,null,null,null,null,null,null,2,null,null,null,null,299,271,247,226,207]
[null,null,null,null,null,null,null,null,null,null,null,null,null,null,null,null,null,null,null,3,null,null,null,null,320,291,265,242,221]
[null,null,null,null,null,null,null,null,null,null,null,null,null,null,null,null,null,null,null,4,null,null,null,null,344,312,285,259,238]
[]
[]
[null,null,null,null,null,null,null,null,null,null,null,null,null,null,null,null,null,null,null,"ft",8000,7000,6000,5000,4000,3000,2000,1000,0]
[null,null,null,null,null,null,null,null,null,null,null,null,null,null,null,null,null,null,null,0,null,null,null,null,465,424,387,355,326]
[null,null,null,null,null,null,null,null,null,null,null,null,null,null,null,null,null,null,null,1,null,null,null,null,500,454,415,379,347]
[null,null,null,null,null,null,null,null,null,null,null,null,null,null,null,null,null,null,null,2,null,null,null,null,535,486,443,405,372]
[null,null,null,null,null,null,null,null,null,null,null,null,null,null,null,null,null,null,null,3,null,null,null,null,573,521,474,433,396]
[null,null,null,null,null,null,null,null,null,null,null,null,null,null,null,null,null,null,null,4,null,null,null,null,614,558,507,463,424]
[]
[]
[null,null,null,null,null,null,null,null,null,null,null,null,null,null,null,null,null,null,862,"ft",8000,7000,6000,5000,4000,3000,2000,1000,0]
[null,null,null,null,null,null,null,null,null,null,null,null,null,null,null,null,null,null,null,0,null,null,null,null,204,187,171,157,143]
[null,null,null,null,null,null,null,null,null,null,null,null,null,null,null,null,null,null,null,1,null,null,null,null,221,201,184,168,154]
[null,null,null,null,null,null,null,null,null,null,null,null,null,null,null,null,null,null,null,2,null,null,null,null,238,216,197,180,165]
[null,null,null,null,null,null,null,null,null,null,null,null,null,null,null,null,null,null,null,3,null,null,null,null,255,232,212,194,177]
[null,null,null,null,null,null,null,null,null,null,null,null,null,null,null,null,null,null,null,4,null,null,null,null,273,248,227,207,189]
[]
[]
[null,null,null,null,null,null,null,null,null,null,null,null,null,null,null,null,null,null,null,"ft",8000,7000,6000,5000,4000,3000,2000,1000,0]
[null,null,null,null,null,null,null,null,null,null,null,null,null,null,null,null,null,null,null,0,null,null,null,null,372,340,312,287,264]
[null,null,null,null,null,null,null,null,null,null,null,null,null,null,null,null,null,null,null,1,null,null,null,null,389,364,334,306,280]
[null,null,null,null,null,null,null,null,null,null,null,null,null,null,null,null,null,null,null,2,null,null,null,null,427,389,357,326,300]
[null,null,null,null,null,null,null,null,null,null,null,null,null,null,null,null,null,null,null,3,null,null,null,null,456,416,379,347,319]
[null,null,null,null,null,null,null,null,null,null,null,null,null,null,null,null,null,null,null,4,null,null,null,null,488,443,405,370,340]

{"sheet":"W&B C172 P","index":6,"n_rows":97,"n_cols":22,"rows_kept":97,"cut":false,"hidden":false,"merged":[[1,2,1,8]]}
[]
["Weight & Balance C 172 P",null,{"$f":"IF(VLOOKUP('Flugdurchführungsplan (n. DFS)'!Y4,Flugzeuge!$B$6:$X$40,2,FALSE)=\"Cessna 172 P\",'Flugdurchführungsplan (n. DFS)'!Y4,\"falscher Flugzeugtyp für diese Berechnung!\")","v":{"$error":"#N/A"}},null,null,null,null,null,null,null,null,{"$f":"IF(VLOOKUP('Flugdurchführungsplan (n. DFS)'!Y4,Flugzeuge!$B$6:$X$40,2,FALSE)=\"Cessna 172 P\",\"OK\",1)","v":{"$error":"#N/A"}}]
[]
["Berechnung des Beladungszustands","Musterflugzeug/Beispiel",null,null,{"$f":"IF(VLOOKUP('Flugdurchführungsplan (n. DFS)'!Y4,Flugzeuge!$B$6:$X$40,2,FALSE)=\"Cessna 172 P\",'Flugdurchführungsplan (n. DFS)'!Y4,\"bitte LFZ-Kennzeichen im Flugdurchführungsplan ändern oder im Sheet Flugzeuge korrigieren!\")","v":{"$error":"#N/A"}}]
[null,"Gewicht","Moment",null,"Gewicht","Moment"]
["C -172","in kg","kgm",null,"in kp","in kgm",null,null,"max Gewicht"]
[]
["1. Grundgewicht",666,660,null,{"$f":"IF(VLOOKUP('Flugdurchführungsplan (n. DFS)'!Y4,Flugzeuge!$B$6:$X$40,2,FALSE)=\"Cessna 172 P\",VLOOKUP('Flugdurchführungsplan (n. DFS)'!Y4,Flugzeuge!$B$6:$X$40,7,FALSE),\"Fehler\")","v":{"$error":"#N/A"}},{"$f":"IF(VLOOKUP('Flugdurchführungsplan (n. DFS)'!Y4,Flugzeuge!$B$6:$X$40,2,FALSE)=\"Cessna 172 P\",VLOOKUP('Flugdurchführungsplan (n. DFS)'!Y4,Flugzeuge!$B$6:$X$40,8,FALSE),\"Fehler\")","v":{"$error":"#N/A"}},null,null,null,null,null,null,null,{"$f":"C8/B8","v":0.99099099099099097},{"$f":"N8*1000","v":990.99099099099101}]
["2. Kraftstoff, ausfliegbar __ L (bei 0,72 kg/l) und",108,133,null,{"$f":"G9*0.72","v":66.239999999999995},{"$f":"E9*P36","v":81.475199999999987},{"$f":"'Flugdurchführungsplan (n. DFS)'!$F$97","v":92},null,{"$f":"189*0.72","v":136.07999999999998},null,null,null,null,{"$f":"C9/B9","v":1.2314814814814814},{"$f":"N9*1000","v":1231.4814814814813}]
[null,null,null,null,null,null,null,null,null,null,null,null,null,{"$f":"N9","v":1.2314814814814814},1231.4814814814813]
["3. Pilot und vorderer Fluggast",154,145,null,170,{"$f":"E11*P33","v":159.79999999999998},null,null,null,null,null,null,null,{"$f":"C11/B11","v":0.94155844155844159},941.55844155844159]
["4. Hintere Fluggäste",154,285,null,5,{"$f":"E12*P39","v":9.25},null,null,null,null,null,null,null,1.8506493506493507,1850.6493506493507]
["5. Gepäckbereich 1",9,22,null,0,{"$f":"E13*P42","v":0},null,null,54,null,null,null,null,2.4444444444444446,2444.4444444444448]
["6. Gepäckbereich 2",null,null,null,0,{"$f":"E14*P45","v":0},null,null,23,null,null,null,null,3.07826086956522,3078.2608695652202]
["7. Startgewicht (max. 1089 kp) und Moment",1088,1236,null,{"$f":"SUM(E8:E14)","v":{"$error":"#N/A"}},{"$f":"SUM(F8:F14)","v":{"$error":"#N/A"}},null,null,1089]
[]
["(Leergewicht und -moment basiert auf der letzten Wägung vom                         )"]
[]
[]
[]
[]
[]
[]
[]
[]
[]
[]
[]
[]
[null,null,null,null,null,null,null,null,null,null,null,null,null,"Gewicht","Moment","Hebel"]
[null,null,null,null,null,null,null,null,null,null,null,null,null,"Pilot, Fluggast"]
[null,null,null,null,null,null,null,null,null,null,null,null,null,0,0]
[null,null,null,null,null,null,null,null,null,null,null,null,null,175,{"$f":"N33*P33","v":164.5},0.94]
[null,null,null,null,null,null,null,null,null,null,null,null,null,"Kraftstoff (Standrdtanks) 0,72 kp/l und Fallschirm"]
[null,null,null,null,null,null,null,null,null,null,null,null,null,0,0]
[null,null,null,null,null,null,null,null,null,null,null,null,null,{"$f":"189*0.72","v":136.07999999999998},{"$f":"N36*P36","v":167.37839999999997},1.23]
[null,null,null,null,null,null,null,null,null,null,null,null,null,"Hintere Fluggäste"]
[null,null,null,null,null,null,null,null,null,null,null,null,null,0,0]
[null,null,null,null,null,null,null,null,null,null,null,null,null,175,{"$f":"N39*P39","v":323.75},1.85]
[null,null,null,null,null,null,null,null,null,null,null,null,null,"Gepäck im Gepäckbereich 1 (oder Fluggast auf Kindersitz)"]
[null,null,null,null,null,null,null,null,null,null,null,null,null,0,0]
[null,null,null,null,null,null,null,null,null,null,null,null,null,54,{"$f":"N42*P42","v":131.76},2.44]
[null,null,null,null,null,null,null,null,null,null,null,null,null,"Gepäck im Gepäckbereich 2, max. 23 kp"]
[null,null,null,null,null,null,null,null,null,null,null,null,null,0,0]
[null,null,null,null,null,null,null,null,null,null,null,null,null,23,{"$f":"N45*P45","v":70.796300000000002},3.0781000000000001]
[]
[]
[]
[]
[]
[]
[]
[]
[]
[]
[]
[]
[]
[]
[]
[null,null,null,null,null,"zu schwer"]
[]
[]
[null,null,null,null,null,null,null,null,null,null,null,null,null,"Nutzflugzeug"]
[null,null,null,null,null,null,null,null,null,null,null,null,null,{"$f":"N83","v":600},610]
[null,null,null,null,null,null,null,null,null,null,null,null,null,950,960]
[null,null,null,null,null,null,null,null,null,null,null,null,null,"Nutzflugzeug oben"]
[null,null,null,null,null,null,null,null,null,null,null,null,null,950,880]
[null,"zu frontlastig",null,null,null,null,null,null,null,null,null,null,null,950,960,null,null,null,null,"kp","max"]
[null,null,null,null,null,null,null,null,null,null,null,null,null,null,null,null,null,null,null,{"$f":"E8","v":{"$error":"#N/A"}},{"$f":"I8","v":0},{"$f":"IF(AND(U70>0,U70<T70),\"Grundgewicht überschritten!  \",\"\")","v":{"$error":"#N/A"}}]
[null,null,null,"zulässig",null,null,null,null,null,null,null,null,null,null,null,null,null,null,null,{"$f":"E9","v":66.239999999999995},{"$f":"I9","v":136.07999999999998},{"$f":"IF(AND(U71>0,U71<T71),\"Kraftstoffmenge zu hoch!  \",\"\")","v":""}]
[null,null,null,null,null,null,null,null,null,null,null,null,null,null,null,null,null,null,null,{"$f":"E11","v":170},{"$f":"I11","v":0},{"$f":"IF(AND(U72>0,U72<T72),\"\",\"\")","v":""}]
[null,null,null,null,null,null,null,null,null,null,null,null,null,"y","x",null,null,null,null,{"$f":"E13","v":0},{"$f":"I13","v":54},{"$f":"IF(AND(U73>0,U73<T73),\"Gepäckbereich 1 überladen!  \",\"\")","v":""}]
[null,null,null,null,null,null,null,null,null,null,null,null,null,"IST-Wert",null,null,null,null,null,{"$f":"E14","v":0},{"$f":"I14","v":23},{"$f":"IF(AND(U74>0,U74<T74),\"Gepäckbereich 2 überladen!  \",\"\")","v":""}]
[null,null,null,null,null,null,null,null,null,null,null,null,null,{"$f":"E15","v":{"$error":"#N/A"}},{"$f":"F15","v":{"$error":"#N/A"}},null,null,null,null,{"$f":"T74+T73","v":0},54,{"$f":"IF(AND(U75>0,U75<T75),\"Gepäckbereich in Summe überladen!  \",\"\")","v":""}]
[null,null,null,null,null,null,null,null,null,null,null,null,null,"Vordere Grenze",null,null,null,null,null,{"$f":"E15","v":{"$error":"#N/A"}},{"$f":"I15","v":1089},{"$f":"IF(AND(U76>0,U76<T76),\"Gesamtgewicht zu hoch!  \",\"\")","v":{"$error":"#N/A"}}]
[null,null,null,null,null,null,null,null,null,null,null,null,null,"Gewicht VG","Moment VG",null,"y=ax+c","x=(y-c)/a",null,700,{"$f":"IF($N$75<T77,$N$75,0)","v":{"$error":"#N/A"}},{"$f":"IF(U77>0,IF(U77<T77,\"Gewicht prüfen - zu gering?  \",\"\"),\"\")","v":{"$error":"#N/A"}}]
[null,null,null,null,null,null,null,null,null,null,null,null,null,600,530]
[null,null,null,null,null,null,null,null,null,null,null,null,null,890,790,null,"a=",{"$f":"(N79-N78)/(O79-O78)","v":1.1153846153846154},"c=",{"$f":"N78-O78*R79","v":8.8461538461538112},{"$f":"IF(AND($N$75<=N79,$N$75>=N78),$N$75,0)","v":{"$error":"#N/A"}},{"$f":"IF(U79>0,IF($O$75<(U79-T79)/R79,\"zu vorderlastig!  \",IF($O$75>(U79-$T$84)/$R$84,\"zu hecklastig beladen!  \",\"OK\")),\"\")","v":{"$error":"#N/A"}}]
[null,null,"zulässig",null,null,null,null,null,null,null,null,null,null,1090,1090,null,"a=",{"$f":"(N80-N79)/(O80-O79)","v":0.66666666666666663},"c=",{"$f":"N79-O79*R80","v":363.33333333333337},{"$f":"IF(AND($N$75<=N80,$N$75>=N79),$N$75,0)","v":{"$error":"#N/A"}},{"$f":"IF(U80>0,IF($O$75<(U80-T80)/R80,\"Zu vorderlastig!  \",IF($O$75>(U80-$T$84)/$R$84,\"Zu hecklastig beladen!  \",\"OK\")),\"\")","v":{"$error":"#N/A"}}]
[null,null,null,null,null,null,null,null,null,null,null,null,null,"Hintere Grenze",null,null,null,null,null,null,null,{"$f":"IF(U81>0,\"Maximalgewicht überschritten!  \",\"\")","v":""}]
[null,null,null,null,null,"zu hecklastig",null,null,null,null,null,null,null,"Gewicht HG","Moment HG",null,null,null,null,null,null,{"$f":"V70&V71&V72&V73&V74&V76&V77&V79&V80&V75","v":{"$error":"#N/A"}}]
[null,null,null,null,null,null,null,null,null,null,null,null,null,600,720]
[null,null,null,null,null,null,null,null,null,null,null,null,null,1090,1310,null,"a=",{"$f":"(N84-N83)/(O84-O83)","v":0.83050847457627119},"c=",{"$f":"N83-O83*R84","v":2.0338983050847901}]
[null,null,null,null,null,null,null,null,null,null,null,null,null,"Obere Grenze"]
[null,null,null,null,null,null,null,null,null,null,null,null,null,"Gewicht OG","Moment OG"]
[null,null,null,null,null,null,null,null,null,null,null,null,null,{"$f":"N80","v":1090},{"$f":"O80","v":1090}]
[null,null,null,null,null,null,null,null,null,null,null,null,null,{"$f":"N87","v":1090},{"$f":"O84","v":1310}]
[]
[]
[]
[]
[]
[]
[{"$f":"IF(L2=\"OK\",IF(V82=\"OK\",\" Weight & Balance OK!\",V82),\"FEHLER!\")","v":{"$error":"#N/A"}}]
[]
["Luftfahrzeugführer",null,"Datum",null,null,"Unterschrift"]

{"sheet":"Startstrecke C172 P","index":7,"n_rows":106,"n_cols":44,"rows_kept":106,"cut":false,"hidden":false,"merged":[[3,1,3,2],[4,1,4,2],[6,1,6,2],[6,7,6,8],[7,1,7,2],[7,7,7,8],[8,1,8,2],[8,7,8,8],[9,1,9,2],[9,7,9,8],[10,1,10,2],[10,7,10,8],[61,1,61,5],[17,6,17,7],[17,8,17,9],[17,10,17,11],[62,1,62,5],[17,12,17,13],[17,14,17,15],[11,1,11,2],[12,1,12,2],[13,1,13,2],[14,1,14,2],[16,2,16,3],[16,6,16,15],[63,1,63,5],[64,1,64,5],[66,1,66,5],[74,1,74,15],[69,1,69,5],[70,1,70,5],[71,1,71,5],[72,1,72,5],[73,1,73,5],[68,1,68,5],[65,1,65,5],[67,1,67,5]]}
[]
[null,"Startstreckenberechnung Cessna 172 P (Kurzstart)"]
[]
[null,"LFZ-Muster",null,"C 172 P",null,null,null,null,null,"MTOW: 1043 kp"]
[null,"Kennzeichen",null,{"$f":"IF(VLOOKUP('Flugdurchführungsplan (n. DFS)'!Y4,Flugzeuge!$B$6:$X$40,2,FALSE)=\"Cessna 172 P\",'Flugdurchführungsplan (n. DFS)'!Y4,\"falscher Flugzeugtyp für diese Berechnung!\")","v":{"$error":"#N/A"}}]
[]
[null,"Temperatur",null,15,null,null,null,"Leergewicht ",null,{"$f":"'W&B C172 P'!E8","v":{"$error":"#N/A"}}]
[null,"QNH in hPa",null,1013.25,null,null,null,"Zuladung",null,{"$f":"SUM('W&B C172 P'!E10:E14)","v":175}]
[null,"Platzhöhe ü.NN in ft",null,1861,null,{"$f":"IF('Flugdurchführungsplan (n. DFS)'!I5<>\"\",\"(\"&Flugplätze!AB4&\" \"&Flugplätze!AB6&\"ft)\",\"\")","v":""},null,"Treibstoff",null,{"$f":"'W&B C172 P'!E9","v":66.239999999999995}]
[null,"Druckhöhe",null,{"$f":"ROUND(-(D8-1013.25)*27+D9,0)","v":1861}]
[null,"Windrichtung",null,270,null,null,null,"Abfluggewicht",null,{"$f":"'W&B C172 P'!E15","v":{"$error":"#N/A"}},null,"Bedingungen:"]
[null,"Windgeschwindigkeit",null,5,null,null,null,null,null,null,null,"- Klappen 0°"]
[null,"Bahnrichtung",null,25,null,{"$f":"IF(D13<=18,D13+18,D13-18)","v":7},null,null,null,null,null,"- Vollgas vor dem Lösen der Bremsen"]
[null,"Gegenwind",null,{"$f":"D12*COS((D11-(10*D13))*PI()/180)","v":4.6984631039295426},null,{"$f":"D12*COS((D11-(10*F13))*PI()/180)","v":-4.6984631039295426},"(negative Werte = Rückenwind)",null,null,null,null,"- Befestigte, trockene und ebene Startbahn"]
[null,"Seitenwind",null,{"$f":"D12*SIN((D11-(10*D13))*PI()/180)","v":1.7101007166283435},null,{"$f":"D12*SIN((D11-(10*F13))*PI()/180)","v":-1.7101007166283433},"(pos. Werte = von rechts, neg. = von links)",null,null,null,null,"- Windstille"]
[null,null,null,null,null,null,{"$f":"IF(OR($AK$20=G18,$AM$20=G18),1,0)","v":0},{"$f":"IF(OR($AK$20=G18,$AM$20=G18),1,0)","v":0},{"$f":"IF(OR($AK$20=I18,$AM$20=I18),1,0)","v":1},{"$f":"IF(OR($AK$20=I18,$AM$20=I18),1,0)","v":1},{"$f":"IF(OR($AK$20=K18,$AM$20=K18),1,0)","v":1},{"$f":"IF(OR($AK$20=K18,$AM$20=K18),1,0)","v":1},{"$f":"IF(OR($AK$20=M18,$AM$20=M18),1,0)","v":0},{"$f":"IF(OR($AK$20=M18,$AM$20=M18),1,0)","v":0},{"$f":"IF(OR($AK$20=O18,$AM$20=O18),1,0)","v":0},{"$f":"IF(OR($AK$20=O18,$AM$20=O18),1,0)","v":0}]
[null,"Flug-gewicht","Startgeschwindigkeit ",null,null,"Druckhöhe","Startlauf und Startstrecke über 15 m Höhe in Metern in Abhängikeit von der Temperatur",null,null,null,null,null,null,null,null,null,null,null,null,null,null,0,10,20,30,40,null,null,0,10,20,30,40]
[null,null,"beim Abheben","in 15 m Höhe",null,null,0,null,10,null,20,null,30,null,40,null,null,null,null,null,null,"Startlauf","Startlauf","Startlauf","Startlauf","Startlauf",null,null,"Str. ü. 15 m","Str. ü. 15 m","Str. ü. 15 m","Str. ü. 15 m","Str. ü. 15 m",null,"Startlauf","Startlauf","Startlauf","Startlauf","Startlauf","Str. ü. 15 m","Str. ü. 15 m","Str. ü. 15 m","Str. ü. 15 m","Str. ü. 15 m"]
[null,"kp","kt IAS","kt IAS",null,"ft","Startlauf","Str. ü. 15 m","Startlauf","Str. ü. 15 m","Startlauf","Str. ü. 15 m","Startlauf","Str. ü. 15 m","Startlauf","Str. ü. 15 m",null,null,null,null,"ft",0,1,2,3,4,null,"ft",0,1,2,3,4]
[{"$f":"IF(J11<=B26,0,1)","v":{"$error":"#N/A"}},1089,52,59,{"$f":"IF(OR($AJ$22=F20,$AJ$24=F20),1,0)","v":0},0,242,445,262,479,282,514,303,552,325,593,null,null,null,null,0,{"$f":"G20","v":242},{"$f":"I20","v":262},{"$f":"K20","v":282},{"$f":"M20","v":303},{"$f":"O20","v":325},null,0,{"$f":"H20","v":445},{"$f":"J20","v":479},{"$f":"L20","v":514},{"$f":"N20","v":552},{"$f":"P20","v":593},null,null,null,{"$f":"ROUNDDOWN(AL20/10,0)*10","v":10},{"$f":"$D$7","v":15},{"$f":"ROUNDUP(AL20/10,0)*10","v":20},null,null,{"$f":"ROUNDDOWN(AQ20/10,0)*10","v":10},{"$f":"$D$7","v":15},{"$f":"ROUNDUP(AQ20/10,0)*10","v":20}]
[null,null,null,null,1,1000,267,489,287,526,309,567,332,610,357,657,null,null,null,null,1000,267,287,309,332,357,null,1000,489,526,567,610,657,null,null,null,{"$f":"$AK$20/10","v":1},null,{"$f":"$AM$20/10","v":2},null,null,{"$f":"$AP$20/10","v":1},null,{"$f":"$AR$20/10","v":2}]
[null,null,null,null,1,2000,293,539,315,582,340,628,366,677,393,750,null,null,null,null,2000,293,315,340,366,393,null,2000,539,582,628,677,750,null,null,{"$f":"ROUNDDOWN(AJ23/1000,0)*1000","v":1000},{"$f":"VLOOKUP($AJ22,$U$19:$Z$24,AK$21+2,FALSE)","v":287},{"$f":"ROUND(AK22+(AL20-AK20)/10*(AM22-AK22),0)","v":298},{"$f":"VLOOKUP($AJ22,$U$19:$Z$24,AM$21+2,FALSE)","v":309},null,{"$f":"ROUNDDOWN(AO23/1000,0)*1000","v":1000},{"$f":"VLOOKUP($AO22,$AB$19:$AG$24,AP$21+2,FALSE)","v":526},{"$f":"ROUND(AP22+(AQ20-AP20)/10*(AR22-AP22),0)","v":547},{"$f":"VLOOKUP($AO22,$AB$19:$AG$24,AR$21+2,FALSE)","v":567}]
[null,null,null,null,0,3000,322,597,347,646,375,700,404,756,434,818,null,null,null,null,3000,322,347,375,404,434,null,3000,597,646,700,756,818,null,null,{"$f":"$D$10","v":1861},{"$f":"ROUND(AK22+(AJ23-AJ22)/1000*(AK24-AK22),0)","v":311},{"$f":"ROUND(AK23+(AL20-AK20)/10*(AM23-AK23),0)","v":324},{"$f":"ROUND(AM22+(AJ23-AJ22)/1000*(AM24-AM22),0)","v":336},null,{"$f":"$D$10","v":1861},{"$f":"ROUND(AP22+(AO23-AO22)/1000*(AP24-AP22),0)","v":574},{"$f":"ROUND(AP23+(AQ20-AP20)/10*(AR23-AP23),0)","v":597},{"$f":"ROUND(AR22+(AO23-AO22)/1000*(AR24-AR22),0)","v":620}]
[null,null,null,null,0,4000,355,666,384,721,413,783,447,850,480,924,null,null,null,null,4000,355,384,413,447,480,null,4000,666,721,783,850,924,null,null,{"$f":"ROUNDUP(AJ23/1000,0)*1000","v":2000},{"$f":"VLOOKUP($AJ24,$U$19:$Z$24,AK$21+2,FALSE)","v":315},{"$f":"ROUND(AK24+(AL20-AK20)/10*(AM24-AK24),0)","v":328},{"$f":"VLOOKUP($AJ24,$U$19:$Z$24,AM$21+2,FALSE)","v":340},null,{"$f":"ROUNDUP(AO23/1000,0)*1000","v":2000},{"$f":"VLOOKUP($AO24,$AB$19:$AG$24,AP$21+2,FALSE)","v":582},{"$f":"ROUND(AP24+(AQ20-AP20)/10*(AR24-AP24),0)","v":605},{"$f":"VLOOKUP($AO24,$AB$19:$AG$24,AR$21+2,FALSE)","v":628}]
[null,null,null,null,0,5000,392,745,424,811,457,882,494,963,532,1053,null,null,null,null,5000,392,424,457,494,532,null,5000,745,811,882,963,1053]
[{"$f":"IF(AND(J11<=B26,J11>B32),1,0)","v":{"$error":"#N/A"}},998,50,56,0,0,198,364,213,390,229,419,245,448,264,480,null,null,null,null,"ft",0,1,2,3,4,null,"ft",0,1,2,3,4]
[null,null,null,null,1,1000,216,399,233,428,251,460,270,492,290,529,null,null,null,null,0,{"$f":"G26","v":198},{"$f":"I26","v":213},{"$f":"K26","v":229},{"$f":"M26","v":245},{"$f":"O26","v":264},null,0,{"$f":"H26","v":364},{"$f":"J26","v":390},{"$f":"L26","v":419},{"$f":"N26","v":448},{"$f":"P26","v":480}]
[null,null,null,null,1,2000,238,439,256,471,276,506,297,544,318,584,null,null,null,null,1000,{"$f":"G27","v":216},{"$f":"I27","v":233},{"$f":"K27","v":251},{"$f":"M27","v":270},{"$f":"O27","v":290},null,1000,{"$f":"H27","v":399},{"$f":"J27","v":428},{"$f":"L27","v":460},{"$f":"N27","v":492},{"$f":"P27","v":529},null,null,{"$f":"ROUNDDOWN(AJ29/1000,0)*1000","v":1000},{"$f":"VLOOKUP($AJ28,$U$26:$Z$31,AK$21+2,FALSE)","v":233},null,{"$f":"VLOOKUP($AJ28,$U$26:$Z$31,AM$21+2,FALSE)","v":251},null,{"$f":"ROUNDDOWN(AO29/1000,0)*1000","v":1000},{"$f":"VLOOKUP($AJ28,$AB$26:$AG$31,AP$21+2,FALSE)","v":428},null,{"$f":"VLOOKUP($AJ28,$AB$26:$AG$31,AR$21+2,FALSE)","v":460}]
[null,null,null,null,0,3000,261,483,282,520,303,559,326,602,351,649,null,null,null,null,2000,238,256,276,297,318,null,2000,439,471,506,544,584,null,null,{"$f":"$D$10","v":1861},{"$f":"ROUND(AK28+(AJ29-AJ28)/1000*(AK30-AK28),0)","v":253},{"$f":"ROUND(AK29+(AL20-AK20)/10*(AM29-AK29),0)","v":263},{"$f":"ROUND(AM28+(AJ29-AJ28)/1000*(AM30-AM28),0)","v":273},null,{"$f":"$D$10","v":1861},{"$f":"ROUND(AP28+(AO29-AO28)/1000*(AP30-AP28),0)","v":465},{"$f":"ROUND(AP29+(AQ20-AP20)/10*(AR29-AP29),0)","v":483},{"$f":"ROUND(AR28+(AO29-AO28)/1000*(AR30-AR28),0)","v":500}]
[null,null,null,null,0,4000,288,533,311,576,335,622,360,671,387,724,null,null,null,null,3000,261,282,303,326,351,null,3000,483,520,559,602,649,null,null,{"$f":"ROUNDUP(AJ29/1000,0)*1000","v":2000},{"$f":"VLOOKUP($AJ30,$U$26:$Z$31,AK$21+2,FALSE)","v":256},null,{"$f":"VLOOKUP($AJ30,$U$26:$Z$31,AM$21+2,FALSE)","v":276},null,{"$f":"ROUNDUP(AO29/1000,0)*1000","v":2000},{"$f":"VLOOKUP($AJ30,$AB$26:$AG$31,AP$21+2,FALSE)","v":471},null,{"$f":"VLOOKUP($AJ30,$AB$26:$AG$31,AR$21+2,FALSE)","v":506}]
[null,null,null,null,0,5000,317,593,343,642,369,693,398,751,428,812,null,null,null,null,4000,{"$f":"G30","v":288},{"$f":"I30","v":311},{"$f":"K30","v":335},{"$f":"M30","v":360},{"$f":"O30","v":387},null,4000,{"$f":"H30","v":533},{"$f":"J30","v":576},{"$f":"L30","v":622},{"$f":"N30","v":671},{"$f":"P30","v":724}]
[{"$f":"IF(J11<=B32,1,0)","v":{"$error":"#N/A"}},907,47,54,0,0,160,296,172,315,184,338,198,361,212,386,null,null,null,null,5000,{"$f":"G31","v":317},{"$f":"I31","v":343},{"$f":"K31","v":369},{"$f":"M31","v":398},{"$f":"O31","v":428},null,5000,{"$f":"H31","v":593},{"$f":"J31","v":642},{"$f":"L31","v":693},{"$f":"N31","v":751},{"$f":"P31","v":812}]
[null,null,null,null,1,1000,174,323,187,346,203,370,216,395,233,422,null,null,null,null,"ft",0,1,2,3,4,null,"ft",0,1,2,3,4]
[null,null,null,null,1,2000,190,354,206,378,221,405,238,434,256,456,null,null,null,null,0,{"$f":"G32","v":160},{"$f":"I32","v":172},{"$f":"K32","v":184},{"$f":"M32","v":198},{"$f":"O32","v":212},null,0,{"$f":"H32","v":296},{"$f":"J32","v":315},{"$f":"L32","v":338},{"$f":"N32","v":361},{"$f":"P32","v":386}]
[null,null,null,null,0,3000,210,387,225,416,244,447,262,479,280,514,null,null,null,null,1000,174,187,203,216,233,null,1000,323,346,370,395,422,null,null,{"$f":"ROUNDDOWN(AJ36/1000,0)*1000","v":1000},{"$f":"VLOOKUP($AJ35,$U$33:$Z$38,AK$21+2,FALSE)","v":187},null,{"$f":"VLOOKUP($AJ35,$U$33:$Z$38,AM$21+2,FALSE)","v":203},null,{"$f":"ROUNDDOWN(AO36/1000,0)*1000","v":1000},{"$f":"VLOOKUP($AJ35,$AB$33:$AG$38,AP$21+2,FALSE)","v":346},null,{"$f":"VLOOKUP($AJ35,$AB$33:$AG$38,AR$21+2,FALSE)","v":370}]
[null,null,null,null,0,4000,230,427,248,457,268,492,288,529,309,568,null,null,null,null,2000,190,206,221,238,256,null,2000,354,378,405,434,456,null,null,{"$f":"$D$10","v":1861},{"$f":"ROUND(AK35+(AJ36-AJ35)/1000*(AK37-AK35),0)","v":203},{"$f":"ROUND(AK36+(AL20-AK20)/10*(AM36-AK36),0)","v":211},{"$f":"ROUND(AM35+(AJ36-AJ35)/1000*(AM37-AM35),0)","v":218},null,{"$f":"$D$10","v":1861},{"$f":"ROUND(AP35+(AO36-AO35)/1000*(AP37-AP35),0)","v":374},{"$f":"ROUND(AP36+(AQ20-AP20)/10*(AR36-AP36),0)","v":387},{"$f":"ROUND(AR35+(AO36-AO35)/1000*(AR37-AR35),0)","v":400}]
[null,null,null,null,0,5000,253,471,274,506,296,546,317,587,341,631,null,null,null,null,3000,210,225,244,262,280,null,3000,387,416,447,479,514,null,null,{"$f":"ROUNDUP(AJ36/1000,0)*1000","v":2000},{"$f":"VLOOKUP($AJ37,$U$33:$Z$38,AK$21+2,FALSE)","v":206},null,{"$f":"VLOOKUP($AJ37,$U$33:$Z$38,AM$21+2,FALSE)","v":221},null,{"$f":"ROUNDUP(AO36/1000,0)*1000","v":2000},{"$f":"VLOOKUP($AJ37,$AB$33:$AG$38,AP$21+2,FALSE)","v":378},null,{"$f":"VLOOKUP($AJ37,$AB$33:$AG$38,AR$21+2,FALSE)","v":405}]
[null,null,null,null,null,null,null,null,null,null,null,null,null,null,null,null,null,null,null,null,4000,230,248,268,288,309,null,4000,427,457,492,529,568]
[null,"Startlauf",null,null,null,null,null,null,null,null,"Startstrecke über 15 m Höhe",null,null,null,null,null,null,null,null,null,5000,253,274,296,317,341,null,5000,471,506,546,587,631]
[]
[]
[]
[null,null,null,null,null,null,null,null,null,null,null,null,null,null,null,null,null,null,{"$f":"A20*B20+A26*B26+A32*B32","v":{"$error":"#N/A"}},null,5000,4000,3000,2000,1000,0]
[null,null,null,null,null,null,null,null,null,null,null,null,null,null,null,null,null,null,null,0,{"$f":"IF($S$43=$S$93,U94,IF($S$43=$S$77,U78,U62))","v":{"$error":"#N/A"}},{"$f":"IF($S$43=$S$93,V94,IF($S$43=$S$77,V78,V62))","v":{"$error":"#N/A"}},{"$f":"IF($S$43=$S$93,W94,IF($S$43=$S$77,W78,W62))","v":{"$error":"#N/A"}},{"$error":"#N/A"},{"$error":"#N/A"},{"$error":"#N/A"}]
[null,null,null,null,null,null,null,null,null,null,null,null,null,null,null,null,null,null,null,10,{"$f":"IF($S$43=$S$93,U95,IF($S$43=$S$77,U79,U63))","v":{"$error":"#N/A"}},{"$error":"#N/A"},{"$error":"#N/A"},{"$error":"#N/A"},{"$error":"#N/A"},{"$error":"#N/A"}]
[null,null,null,null,null,null,null,null,null,null,null,null,null,null,null,null,null,null,null,20,{"$error":"#N/A"},{"$error":"#N/A"},{"$error":"#N/A"},{"$error":"#N/A"},{"$error":"#N/A"},{"$error":"#N/A"}]
[null,null,null,null,null,null,null,null,null,null,null,null,null,null,null,null,null,null,null,30,{"$error":"#N/A"},{"$error":"#N/A"},{"$error":"#N/A"},{"$error":"#N/A"},{"$error":"#N/A"},{"$error":"#N/A"}]
[null,null,null,null,null,null,null,null,null,null,null,null,null,null,null,null,null,null,null,40,{"$error":"#N/A"},{"$error":"#N/A"},{"$error":"#N/A"},{"$error":"#N/A"},{"$error":"#N/A"},{"$error":"#N/A"}]
[]
[]
[null,null,null,null,null,null,null,null,null,null,null,null,null,null,null,null,null,null,null,null,5000,4000,3000,2000,1000,0]
[null,null,null,null,null,null,null,null,null,null,null,null,null,null,null,null,null,null,null,0,{"$f":"IF($S$43=$S$93,U102,IF($S$43=$S$77,U86,U70))","v":{"$error":"#N/A"}},{"$f":"IF($S$43=$S$93,V102,IF($S$43=$S$77,V86,V70))","v":{"$error":"#N/A"}},{"$error":"#N/A"},{"$error":"#N/A"},{"$error":"#N/A"},{"$error":"#N/A"}]
[null,null,null,null,null,null,null,null,null,null,null,null,null,null,null,null,null,null,null,10,{"$f":"IF($S$43=$S$93,U103,IF($S$43=$S$77,U87,U71))","v":{"$error":"#N/A"}},{"$error":"#N/A"},{"$error":"#N/A"},{"$error":"#N/A"},{"$error":"#N/A"},{"$error":"#N/A"}]
[null,null,null,null,null,null,null,null,null,null,null,null,null,null,null,null,null,null,null,20,{"$error":"#N/A"},{"$error":"#N/A"},{"$error":"#N/A"},{"$error":"#N/A"},{"$error":"#N/A"},{"$error":"#N/A"}]
[null,null,null,null,null,null,null,null,null,null,null,null,null,null,null,null,null,null,null,30,{"$error":"#N/A"},{"$error":"#N/A"},{"$error":"#N/A"},{"$error":"#N/A"},{"$error":"#N/A"},{"$error":"#N/A"}]
[null,null,null,null,null,null,null,null,null,null,null,null,null,null,null,null,null,null,null,40,{"$error":"#N/A"},{"$error":"#N/A"},{"$error":"#N/A"},{"$error":"#N/A"},{"$error":"#N/A"},{"$error":"#N/A"}]
[null,"Bei","und ","bei Abfluggewicht",null,null,"Startlauf","Str. ü. 15 m"]
[null,{"$f":"D7","v":15},null,{"$f":"B20","v":1089},{"$f":"A20","v":{"$error":"#N/A"}},"kp",{"$f":"AL23","v":324},{"$f":"AQ23","v":597}]
[null,{"$f":"D10","v":1861},"(Druckhöhe)",{"$f":"B26","v":998},{"$f":"A26","v":{"$error":"#N/A"}},"kp",{"$f":"AL29","v":263},{"$f":"AQ29","v":483}]
[null,null,null,{"$f":"B32","v":907},{"$f":"A32","v":{"$error":"#N/A"}},"kp",{"$f":"AL36","v":211},{"$f":"AQ36","v":387}]
[null,null,null,null,null,null,null,null,null,"Anmerkungen:",null,null,null,null,null,null,null,null,{"$f":"B20","v":1089},null,5000,4000,3000,2000,1000,0]
[null,"Intrapolierte Startlaufstrecke:",null,null,null,null,{"$f":"IF(E60=1,G60,IF(E59=1,G59,G58))","v":{"$error":"#N/A"}},null,null,"1.  Kurzstartverfahren, wie in Abschnitt IV angegeben. ",null,null,null,null,null,null,null,null,null,0,{"$f":"HLOOKUP($T62/10,$U$19:$Z$25,U$43/1000+2,FALSE)","v":392},{"$f":"HLOOKUP($T62/10,$U$19:$Z$25,V$43/1000+2,FALSE)","v":355},322,293,267,242]
[null,"Intrapolierte Startstrecke über 15 m Höhe:",null,null,null,null,null,{"$f":"IF(E60=1,H60,IF(E59=1,H59,H58))","v":{"$error":"#N/A"}},null,"2. Vor dem Start auf Plätzen, die höher als 3000 ft über NN liegen, ist das Gemisch entsprechend ",null,null,null,null,null,null,null,null,null,10,{"$f":"HLOOKUP($T63/10,$U$19:$Z$25,U$43/1000+2,FALSE)","v":424},384,347,315,287,262]
[null,"Zuschläge:",null,null,null,null,null,null,null,"einzustellen um beim Vollgas-standlauf die maximale Drehzahl zu  erhalten",null,null,null,null,null,null,null,null,null,20,457,413,375,340,309,282]
[null,"Rücken- / Gegenwind Zu- /Abschlag",null,null,null,null,{"$f":"IF(I65,IF(D14>0,-ROUNDDOWN($D$14/9,0)*0.1*G62,ROUNDUP($D$14/2,0)*-0.1*G62),0)","v":{"$error":"#N/A"}},{"$f":"IF(I65,IF(D14>0,-ROUNDDOWN($D$14/9,0)*0.1*H63,ROUNDUP($D$14/2,0)*-0.1*H63),0)","v":{"$error":"#N/A"}},true,"3. Für je 9 kt Gegenwind sind die Strecken um 10% zu verringern. Für Starts bei Rückenwind  ",null,null,null,null,null,null,null,null,null,30,494,447,404,366,332,303]
[null,"Neigungszuschlag",null,null,null,null,null,null,false,"bis 10 kt sind die Strecken für je 2 kt Rückenwind um 10% zu vergrößern",null,null,null,null,null,null,null,null,null,40,532,480,434,393,357,325]
[null,"Trockene Grasbahn",null,null,null,null,{"$f":"IF(I66,G62*15%,0)","v":0},{"$f":"G67","v":0},false,"4. Für den Start auf trockener Grasbahn sind die Strecken um 15% des Werts für den Startlauf "]
[null,"Oberflächenzuschlag",null,null,null,null,null,null,null,"zu vergrößern"]
[null,"40% Zuschlag auf Startstrecke über 15 m (50 ft)1)",null,null,null,null,null,{"$f":"IF(I67,0.4*H63,0)","v":0},null,"5. Zusätzliche Zuschläge wegen feuchter Grasbahn, aufgeweichten Untergrundes oder ",null,null,null,null,null,null,null,null,null,null,5000,4000,3000,2000,1000,0]
[null,null,null,null,null,null,null,null,null,"Schnee sind zu berücksichtigen",null,null,null,null,null,null,null,null,null,0,{"$f":"HLOOKUP($T70/10,$AB$19:$AG$25,U$51/1000+2,FALSE)","v":745},{"$f":"HLOOKUP($T70/10,$AB$19:$AG$25,V$51/1000+2,FALSE)","v":666},597,539,489,445]
[null,null,null,null,null,null,null,null,null,null,null,null,null,null,null,null,null,null,null,10,{"$f":"HLOOKUP($T71/10,$AB$19:$AG$25,U$51/1000+2,FALSE)","v":811},721,646,582,526,479]
[null,null,null,null,null,null,null,null,null,"1) für EDMJ entspr. Startstr. über 100ft (Wald); max. 738 m!!",null,null,null,null,null,null,null,null,null,20,882,783,700,628,567,514]
[null,"Summe inkl. Zu- / Abschläge",null,null,null,null,{"$f":"SUM(G62:G72)","v":{"$error":"#N/A"}},{"$f":"SUM(H62:H72)","v":{"$error":"#N/A"}},null,null,null,null,null,null,null,null,null,null,null,30,963,850,756,677,610,552]
[null,"ZUR VERFÜGUNG STEHEN (lt. AIP):",null,null,null,null,425,738,null,null,null,null,null,null,null,null,null,null,null,40,1053,924,818,750,657,593]
[null,{"$f":"IF(VLOOKUP('Flugdurchführungsplan (n. DFS)'!Y4,Flugzeuge!$B$6:$X$40,2,FALSE)=\"Cessna 172 P\",\"\",\"falscher Flugzeugtyp für diese Berechnung!\")","v":{"$error":"#N/A"}}]
[]
[null,null,null,null,null,null,null,null,null,null,null,null,null,null,null,null,null,null,{"$f":"B26","v":998},"ft",5000,4000,3000,2000,1000,0]
[null,null,null,null,null,null,null,null,null,null,null,null,null,null,null,null,null,null,null,0,{"$f":"HLOOKUP($T78/10,$U$26:$Z$32,U$43/1000+2,FALSE)","v":317},{"$f":"HLOOKUP($T78/10,$U$26:$Z$32,V$43/1000+2,FALSE)","v":288},261,238,216,198]
[null,null,null,null,null,null,null,null,null,null,null,null,null,null,null,null,null,null,null,10,{"$f":"HLOOKUP($T79/10,$U$26:$Z$32,U$43/1000+2,FALSE)","v":343},311,282,256,233,213]
[null,null,null,null,null,null,null,null,null,null,null,null,null,null,null,null,null,null,null,20,369,335,303,276,251,229]
[null,null,null,null,null,null,null,null,null,null,null,null,null,null,null,null,null,null,null,30,398,360,326,297,270,245]
[null,null,null,null,null,null,null,null,null,null,null,null,null,null,null,null,null,null,null,40,428,387,351,318,290,264]
[]
[]
[null,null,null,null,null,null,null,null,null,null,null,null,null,null,null,null,null,null,null,"ft",5000,4000,3000,2000,1000,0]
[null,null,null,null,null,null,null,null,null,null,null,null,null,null,null,null,null,null,null,0,{"$f":"HLOOKUP($T86/10,$AB$26:$AG$32,U$51/1000+2,FALSE)","v":593},{"$f":"HLOOKUP($T86/10,$AB$26:$AG$32,V$51/1000+2,FALSE)","v":533},483,439,399,364]
[null,null,null,null,null,null,null,null,null,null,null,null,null,null,null,null,null,null,null,10,{"$f":"HLOOKUP($T87/10,$AB$26:$AG$32,U$51/1000+2,FALSE)","v":642},576,520,471,428,390]
[null,null,null,null,null,null,null,null,null,null,null,null,null,null,null,null,null,null,null,20,693,622,559,506,460,419]
[null,null,null,null,null,null,null,null,null,null,null,null,null,null,null,null,null,null,null,30,751,671,602,544,492,448]
[null,null,null,null,null,null,null,null,null,null,null,null,null,null,null,null,null,null,null,40,812,724,649,584,529,480]
[]
[]
[null,null,null,null,null,null,null,null,null,null,null,null,null,null,null,null,null,null,{"$f":"B32","v":907},"ft",5000,4000,3000,2000,1000,0]
[null,null,null,null,null,null,null,null,null,null,null,null,null,null,null,null,null,null,null,0,{"$f":"HLOOKUP($T94/10,$U$33:$Z$39,U$43/1000+2,FALSE)","v":253},{"$f":"HLOOKUP($T94/10,$U$33:$Z$39,V$43/1000+2,FALSE)","v":230},210,190,174,160]
[null,null,null,null,null,null,null,null,null,null,null,null,null,null,null,null,null,null,null,10,{"$f":"HLOOKUP($T95/10,$U$33:$Z$39,U$43/1000+2,FALSE)","v":274},248,225,206,187,172]
[null,null,null,null,null,null,null,null,null,null,null,null,null,null,null,null,null,null,null,20,296,268,244,221,203,184]
[null,null,null,null,null,null,null,null,null,null,null,null,null,null,null,null,null,null,null,30,317,288,262,238,216,198]
[null,null,null,null,null,null,null,null,null,null,null,null,null,null,null,null,null,null,null,40,341,309,280,256,233,212]
[]
[]
[null,null,null,null,null,null,null,null,null,null,null,null,null,null,null,null,null,null,null,"ft",5000,4000,3000,2000,1000,0]
[null,null,null,null,null,null,null,null,null,null,null,null,null,null,null,null,null,null,null,0,{"$f":"HLOOKUP($T102/10,$AB$33:$AG$39,U$51/1000+2,FALSE)","v":471},{"$f":"HLOOKUP($T102/10,$AB$33:$AG$39,V$51/1000+2,FALSE)","v":427},387,354,323,296]
[null,null,null,null,null,null,null,null,null,null,null,null,null,null,null,null,null,null,null,10,{"$f":"HLOOKUP($T103/10,$AB$33:$AG$39,U$51/1000+2,FALSE)","v":506},457,416,378,346,315]
[null,null,null,null,null,null,null,null,null,null,null,null,null,null,null,null,null,null,null,20,546,492,447,405,370,338]
[null,null,null,null,null,null,null,null,null,null,null,null,null,null,null,null,null,null,null,30,587,529,479,434,395,361]
[null,null,null,null,null,null,null,null,null,null,null,null,null,null,null,null,null,null,null,40,631,568,514,456,422,386]

{"sheet":"Startstrecke C172 S","index":8,"n_rows":62,"n_cols":31,"rows_kept":62,"cut":false,"hidden":true,"merged":[[0,0,0,3],[3,1,3,2],[4,1,4,2],[6,1,6,2],[6,7,6,8],[7,1,7,2],[7,7,7,8],[8,1,8,2],[8,7,8,8],[9,1,9,2],[9,7,9,8],[10,1,10,2],[10,7,10,8],[17,14,17,15],[49,1,49,5],[11,1,11,2],[12,1,12,2],[13,1,13,2],[14,1,14,2],[16,2,16,3],[16,6,16,15],[55,1,55,5],[17,6,17,7],[17,8,17,9],[17,10,17,11],[17,12,17,13],[50,1,50,5],[51,1,51,5],[52,1,52,5],[53,1,53,5],[54,1,54,5],[63,1,63,15],[56,1,56,5],[57,1,57,5],[58,1,58,5],[59,1,59,5],[60,1,60,5],[61,1,61,5]]}
["ACHTUNG dieses Sheet ist noch nicht fertig!!"]
[null,"Startstreckenberechnung Cessna 172 (Kurzstart)"]
[]
[null,"LFZ-Muster",null,"C 172",null,null,"MTOW: 1043 kp"]
[null,"Kennzeichen",null,"D-EOKK"]
[]
[null,"Temperatur",null,22,null,null,null,"Leergewicht ",null,null,null,null,null,null,null,null,null,null,null,null,null,{"$f":"ROUNDDOWN(W7/10,0)*10","v":20},{"$f":"D7","v":22},{"$f":"ROUNDUP(W7/10,0)*10","v":30},null,null,{"$f":"ROUNDDOWN(AB7/10,0)*10","v":20},{"$f":"W7","v":22},{"$f":"ROUNDUP(AB7/10,0)*10","v":30}]
[null,"QNH in hPa",null,1033,null,null,null,"Zuladung",null,null,null,null,null,null,null,null,null,null,null,null,null,{"$f":"V7/10","v":2},null,{"$f":"X7/10","v":3},null,null,{"$f":"AA7/10","v":2},null,{"$f":"AC7/10","v":3}]
[null,"Platzhöhe ü.NN in ft",null,1862,null,null,null,"Treibstoff",null,null,null,null,null,null,null,null,null,null,null,null,{"$f":"ROUNDDOWN(U10/1000,0)*1000","v":1000},{"$f":"VLOOKUP($U9,$S$19:$X$28,V$8+2,FALSE)","v":279},{"$f":"ROUND(V9+(W7-V7)/10*(X9-V9),0)","v":283},{"$f":"VLOOKUP($U9,$S$19:$X$28,X$8+2,FALSE)","v":299},null,{"$f":"ROUNDDOWN(Z10/1000,0)*1000","v":1000},{"$f":"VLOOKUP($Z9,$Z$19:$AE$28,AA$8+2,FALSE)","v":497},{"$f":"ROUND(AA9+(AB7-AA7)/10*(AC9-AA9),0)","v":504},{"$f":"VLOOKUP($Z9,$Z$19:$AE$28,AC$8+2,FALSE)","v":532}]
[null,"Druckhöhe",null,{"$f":"ROUND(-(D8-1013.2)*27+D9,0)","v":1327},null,null,null,null,null,null,null,null,null,null,null,null,null,null,null,null,{"$f":"D10","v":1327},{"$f":"ROUND(V9+(U10-U9)/1000*(V11-V9),0)","v":288},{"$f":"ROUND(V10+(W7-V7)/10*(X10-V10),0)","v":292},{"$f":"ROUND(X9+(U10-U9)/1000*(X11-X9),0)","v":308},null,{"$f":"U10","v":1327},{"$f":"ROUND(AA9+(Z10-Z9)/1000*(AA11-AA9),0)","v":513},{"$f":"ROUND(AA10+(AB7-AA7)/10*(AC10-AA10),0)","v":520},{"$f":"ROUND(AC9+(Z10-Z9)/1000*(AC11-AC9),0)","v":549}]
[null,"Windrichtung",null,270,null,null,null,"Abfluggewicht",null,1043,null,"Bedingungen:",null,null,null,null,null,null,null,null,{"$f":"ROUNDUP(U10/1000,0)*1000","v":2000},{"$f":"VLOOKUP($U11,$S$19:$X$28,V$8+2,FALSE)","v":305},{"$f":"ROUND(V11+(W7-V7)/10*(X11-V11),0)","v":310},{"$f":"VLOOKUP($U11,$S$19:$X$28,X$8+2,FALSE)","v":328},null,{"$f":"ROUNDUP(Z10/1000,0)*1000","v":2000},{"$f":"VLOOKUP($Z11,$Z$19:$AE$28,AA$8+2,FALSE)","v":546},{"$f":"ROUND(AA11+(AB7-AA7)/10*(AC11-AA11),0)","v":554},{"$f":"VLOOKUP($Z11,$Z$19:$AE$28,AC$8+2,FALSE)","v":584}]
[null,"Windgeschwindigkeit",null,7,null,null,null,null,null,null,null,"- Klappen 0°"]
[null,"Bahnrichtung",null,25,null,{"$f":"IF(D13<=18,D13+18,D13-18)","v":7},null,null,null,null,null,"- Vollgas vor dem Lösen der Bremsen"]
[null,"Gegenwind",null,{"$f":"D12*COS((D11-(10*D13))*PI()/180)","v":6.5778483455013586},null,{"$f":"D12*COS((D11-(10*F13))*PI()/180)","v":-6.5778483455013586},"(negative Werte = Rückenwind)",null,null,null,null,"- Befestigte, trockene und ebene Startbahn"]
[null,"Seitenwind",null,{"$f":"D12*SIN((D11-(10*D13))*PI()/180)","v":2.3941410032796808},null,{"$f":"D12*SIN((D11-(10*F13))*PI()/180)","v":-2.3941410032796808},"(pos. Werte = von rechts, neg. = von links)",null,null,null,null,"- Windstille"]
[null,null,null,null,null,null,{"$f":"IF(OR($V$7=G18,$X$7=G18),1,0)","v":0},{"$f":"IF(OR($V$7=G18,$X$7=G18),1,0)","v":0},{"$f":"IF(OR($V$7=I18,$X$7=I18),1,0)","v":0},{"$f":"IF(OR($V$7=I18,$X$7=I18),1,0)","v":0},{"$f":"IF(OR($V$7=K18,$X$7=K18),1,0)","v":1},{"$f":"IF(OR($V$7=K18,$X$7=K18),1,0)","v":1},{"$f":"IF(OR($V$7=M18,$X$7=M18),1,0)","v":1},{"$f":"IF(OR($V$7=M18,$X$7=M18),1,0)","v":1},{"$f":"IF(OR($V$7=O18,$X$7=O18),1,0)","v":0},{"$f":"IF(OR($V$7=O18,$X$7=O18),1,0)","v":0}]
[null,"Flug-gewicht","Startgeschwindigkeit ",null,null,"Druckhöhe","Startlauf und Startstrecke über 15 m Höhe in Metern in Abhängikeit von der Temperatur",null,null,null,null,null,null,null,null,null,null,null,null,"Startlauf","Startlauf","Startlauf","Startlauf","Startlauf",null,null,"Str. ü. 15 m","Str. ü. 15 m","Str. ü. 15 m","Str. ü. 15 m","Str. ü. 15 m"]
[null,null,"beim Abheben","in 15 m Höhe",null,null,0,null,10,null,20,null,30,null,40,null,null,null,null,0,10,20,30,40,null,null,0,10,20,30,40]
[null,"kp","kt IAS","kt IAS",null,"ft","Startlauf","Str. ü. 15 m","Startlauf","Str. ü. 15 m","Startlauf","Str. ü. 15 m","Startlauf","Str. ü. 15 m","Startlauf","Str. ü. 15 m",null,null,"ft",0,1,2,3,4,null,"ft",0,1,2,3,4]
[null,1043,52,59,{"$f":"IF(OR($U$9=F20,$U$11=F20),1,0)","v":0},0,219,396,236,424,255,454,273,485,293,518,null,null,0,{"$f":"G20","v":219},{"$f":"I20","v":236},{"$f":"K20","v":255},{"$f":"M20","v":273},{"$f":"O20","v":293},null,0,{"$f":"H20","v":396},{"$f":"J20","v":424},{"$f":"L20","v":454},{"$f":"N20","v":485},{"$f":"P20","v":518}]
[null,null,null,null,1,1000,241,433,259,465,279,497,299,532,320,568,null,null,1000,{"$f":"G21","v":241},{"$f":"I21","v":259},{"$f":"K21","v":279},{"$f":"M21","v":299},{"$f":"O21","v":320},null,1000,{"$f":"H21","v":433},{"$f":"J21","v":465},{"$f":"L21","v":497},{"$f":"N21","v":532},{"$f":"P21","v":568}]
[null,null,null,null,1,2000,264,474,287,509,305,546,328,584,352,626,null,null,2000,264,287,305,328,352,null,2000,474,509,546,584,626]
[null,null,null,null,0,3000,290,521,312,559,335,600,361,645,387,690,null,null,3000,290,312,335,361,387,null,3000,521,559,600,645,690]
[null,null,null,null,0,4000,319,573,343,617,369,663,396,712,427,765,null,null,4000,319,343,369,396,427,null,4000,573,617,663,712,765]
[null,null,null,null,0,5000,351,632,378,683,407,735,437,791,469,852,null,null,5000,351,378,407,437,469,null,5000,632,683,735,791,852]
[null,null,null,null,0,6000,386,703,416,757,450,817,483,882,520,953,null,null,6000,386,416,450,483,520,null,6000,703,757,817,882,953]
[null,null,null,null,0,7000,427,782,460,844,497,914,535,989,576,1071,null,null,7000,427,460,497,535,576,null,7000,782,844,914,989,1071]
[null,null,null,null,0,8000,472,875,511,948,550,1029,593,1119,639,1216,null,null,8000,472,511,550,593,639,null,8000,875,948,1029,1119,1216]
[null,null,null,null,null,null,null,null,null,null,null,null,null,null,null,null,null,null,null,"0°C","10°C","20°C","30°C","40°C",null,null,"0°C","10°C","20°C","30°C","40°C"]
[]
[null,"Startlauf",null,null,null,null,null,null,null,null,"Startstrecke über 15 m Höhe"]
[]
[null,null,null,null,null,null,null,null,null,null,null,null,null,null,null,null,null,null,null,null,8000,7000,6000,5000,4000,3000,2000,1000,0]
[null,null,null,null,null,null,null,null,null,null,null,null,null,null,null,null,null,null,null,0,{"$f":"HLOOKUP($T34/10,$S$19:$X$28,U$33/1000+2,FALSE)","v":472},{"$f":"HLOOKUP($T34/10,$S$19:$X$28,V$33/1000+2,FALSE)","v":427},{"$f":"HLOOKUP($T34/10,$S$19:$X$28,W$33/1000+2,FALSE)","v":386},{"$f":"HLOOKUP($T34/10,$S$19:$X$28,X$33/1000+2,FALSE)","v":351},319,290,264,241,219]
[null,null,null,null,null,null,null,null,null,null,null,null,null,null,null,null,null,null,null,10,{"$f":"HLOOKUP($T35/10,$S$19:$X$28,U$33/1000+2,FALSE)","v":511},460,416,378,343,312,287,259,236]
[null,null,null,null,null,null,null,null,null,null,null,null,null,null,null,null,null,null,null,20,550,497,450,407,369,335,305,279,255]
[null,null,null,null,null,null,null,null,null,null,null,null,null,null,null,null,null,null,null,30,593,535,483,437,396,361,328,299,273]
[null,null,null,null,null,null,null,null,null,null,null,null,null,null,null,null,null,null,null,40,639,576,520,469,427,387,352,320,293]
[]
[]
[null,null,null,null,null,null,null,null,null,null,null,null,null,null,null,null,null,null,null,null,8000,7000,6000,5000,4000,3000,2000,1000,0]
[null,null,null,null,null,null,null,null,null,null,null,null,null,null,null,null,null,null,null,0,{"$f":"HLOOKUP($T42/10,$Z$19:$AE$28,U$41/1000+2,FALSE)","v":875},{"$f":"HLOOKUP($T42/10,$Z$19:$AE$28,V$41/1000+2,FALSE)","v":782},703,632,573,521,474,433,396]
[null,null,null,null,null,null,null,null,null,null,null,null,null,null,null,null,null,null,null,10,{"$f":"HLOOKUP($T43/10,$Z$19:$AE$28,U$41/1000+2,FALSE)","v":948},844,757,683,617,559,509,465,424]
[null,null,null,null,null,null,null,null,null,null,null,null,null,null,null,null,null,null,null,20,1029,914,817,735,663,600,546,497,454]
[null,null,null,null,null,null,null,null,null,null,null,null,null,null,null,null,null,null,null,30,1119,989,882,791,712,645,584,532,485]
[null,null,null,null,null,null,null,null,null,null,null,null,null,null,null,null,null,null,null,40,1216,1071,953,852,765,690,626,568,518]
[]
[]
[null,null,null,null,null,null,null,null,null,"Anmerkungen:"]
[null,"Intrapolierte Startlaufstrecke:",null,null,null,null,{"$f":"W10","v":292},null,null,"1.  Kurzstartverfahren, wie in Abschnitt IV angegeben. "]
[null,"Intrapolierte Startstrecke über 15 m Höhe:",null,null,null,null,null,{"$f":"AB10","v":520},null,"2. Vor dem Start auf Plätzen, die höher als 3000 ft über NN liegen, ist das Gemisch entsprechend "]
[null,"Zuschläge:",null,null,null,null,null,null,null,"einzustellen um beim Vollgas-standlauf die maximale Drehzahl zu  erhalten"]
[null,"Rücken- / Gegenwind Zu- /Abschlag",null,null,null,null,{"$f":"IF(I53,IF(D14>0,-ROUNDDOWN($D$14/9,0)*0.1*G50,ROUNDUP($D$14/2,0)*-0.1*G50),0)","v":0},{"$f":"IF(I53,IF(D14>0,-ROUNDDOWN($D$14/9,0)*0.1*H51,ROUNDUP($D$14/2,0)*-0.1*H51),0)","v":0},true,"3. Für je 9 kt Gegenwind sind die Strecken um 10% zu verringern. Für Starts bei Rückenwind  "]
[null,"Trockene Grasbahn",null,null,null,null,{"$f":"IF(I54,G50*15%,0)","v":0},{"$f":"G54","v":0},false,"bis 10 kt sind die Strecken für je 2 kt Rückenwind um 10% zu vergrößern"]
[null,null,null,null,null,null,null,null,false,"4. Für den Start auf trockenr Grasbahn sind die Strecken um 15% des Werts für den Startlauf "]
[null,null,null,null,null,null,null,null,null,"zu vergrößern"]
[null,null,null,null,null,null,null,null,null,"5. Zusätzliche Zuschläge wegen feuchter Grasbahn, aufgeweichten Untergrundes oder "]
[null,null,null,null,null,null,null,null,null,"Schnee sind zu berücksichtigen"]
[]
[null,null,null,null,null,null,null,null,null,"1) entspr. Startstr. über 100ft (Wald); max. 738 m!!"]
[null,"Summe inkl. Zu- / Abschläge",null,null,null,null,{"$f":"SUM(G50:G60)","v":292},{"$f":"SUM(H50:H60)","v":520}]
[null,"ZUR VERFÜGUNG STEHEN (lt. AIP):",null,null,null,null,425,738]

{"sheet":"W&B C152","index":9,"n_rows":96,"n_cols":22,"rows_kept":96,"cut":false,"hidden":false,"merged":[]}
[]
["Weight & Balance C 152",null,{"$f":"IF(VLOOKUP('Flugdurchführungsplan (n. DFS)'!Y4,Flugzeuge!$B$6:$X$40,2,FALSE)=\"Cessna 152\",'Flugdurchführungsplan (n. DFS)'!Y4,\"falsches Flugzeug für diese Berechnung!\")","v":{"$error":"#N/A"}},null,null,null,null,null,null,null,null,{"$f":"IF(VLOOKUP('Flugdurchführungsplan (n. DFS)'!Y4,Flugzeuge!$B$6:$X$40,2,FALSE)=\"Cessna 152\",\"OK\",1)","v":{"$error":"#N/A"}}]
[]
["Berechnung des Beladungszustands","Musterflugzeug/Beispiel",null,null,{"$f":"IF(VLOOKUP('Flugdurchführungsplan (n. DFS)'!Y4,Flugzeuge!$B$6:$X$40,2,FALSE)=\"Cessna 152\",'Flugdurchführungsplan (n. DFS)'!Y4,\"bitte LFZ-Kennzeichen im Flugdurchführungsplan ändern oder anderes W&B sheet verwenden!\")","v":{"$error":"#N/A"}}]
[null,"Gewicht","Moment",null,"Gewicht","Moment"]
["C -152","in kp","in mkp",null,"in kp","in mkp",null,null,"max Gewicht"]
[]
["1. Grundgewicht",515,392,null,{"$f":"IF(VLOOKUP('Flugdurchführungsplan (n. DFS)'!Y4,Flugzeuge!$B$6:$X$40,2,FALSE)=\"Cessna 152\",VLOOKUP('Flugdurchführungsplan (n. DFS)'!Y4,Flugzeuge!$B$6:$X$40,7,FALSE),\"Fehler\")","v":{"$error":"#N/A"}},{"$f":"IF(VLOOKUP('Flugdurchführungsplan (n. DFS)'!Y4,Flugzeuge!$B$6:$X$40,2,FALSE)=\"Cessna 152\",VLOOKUP('Flugdurchführungsplan (n. DFS)'!Y4,Flugzeuge!$B$6:$X$40,8,FALSE),\"Fehler\")","v":{"$error":"#N/A"}}]
["2. Kraftstoff, ausfliegbar 92 L (bei 0,72 kg/l) und",65,68,null,{"$f":"G9*0.72","v":66.239999999999995},{"$f":"E9*P35","v":70.214399999999998},{"$f":"'Flugdurchführungsplan (n. DFS)'!F97","v":92},null,{"$f":"92*0.72","v":66.239999999999995}]
["    Fallschirm",null,null,null,0,{"$f":"E10*P35","v":0}]
["3. Pilot und vorderer Fluggast",154,153,null,160,{"$f":"E11*P32","v":160.79999999999998}]
["4. Gepäckbereich 1",24,38,null,10,{"$f":"E12*P38","v":16.7},null,null,54]
["5. Gepäckbereich 2",null,null,null,0,{"$f":"E13*P41","v":0},null,null,18]
["6. Startgewicht (max. 785) und Moment",515,651,null,{"$f":"SUM(E8:E13)","v":{"$error":"#N/A"}},{"$f":"SUM(F8:F13)","v":{"$error":"#N/A"}},null,null,758]
[]
["(Leergewicht und -moment basiert auf der letzten Wägung vom                         ",null,{"$f":"IF(VLOOKUP('Flugdurchführungsplan (n. DFS)'!Y4,Flugzeuge!$B$6:$X$40,2,FALSE)=\"Cessna 152\",VLOOKUP('Flugdurchführungsplan (n. DFS)'!Y4,Flugzeuge!$B$6:$X$40,9,FALSE),\"Fehler\")","v":{"$error":"#N/A"}},")"]
[]
[]
[]
[]
[]
[]
[]
[]
[]
[]
[]
[]
[null,null,null,null,null,null,null,null,null,null,null,null,null,"Gewicht","Moment","Hebel"]
[null,null,null,null,null,null,null,null,null,null,null,null,null,"Pilot, Fluggast"]
[null,null,null,null,null,null,null,null,null,null,null,null,null,0,0]
[null,null,null,null,null,null,null,null,null,null,null,null,null,180,{"$f":"N32*P32","v":180.89999999999998},1.0049999999999999]
[null,null,null,null,null,null,null,null,null,null,null,null,null,"Kraftstoff (Standrdtanks) 0,72 kp/l und Fallschirm"]
[null,null,null,null,null,null,null,null,null,null,null,null,null,0,0]
[null,null,null,null,null,null,null,null,null,null,null,null,null,69,{"$f":"N35*P35","v":73.14},1.06]
[null,null,null,null,null,null,null,null,null,null,null,null,null,"Gepäck im Gepäckbereich 1 (oder Fluggast auf Kindersitz) max. 54 kp"]
[null,null,null,null,null,null,null,null,null,null,null,null,null,0,0]
[null,null,null,null,null,null,null,null,null,null,null,null,null,54,{"$f":"N38*P38","v":90.179999999999993},1.67]
[null,null,null,null,null,null,null,null,null,null,null,null,null,"Gepäck im Gepäckbereich 2, max. 18 kp"]
[null,null,null,null,null,null,null,null,null,null,null,null,null,0,0]
[null,null,null,null,null,null,null,null,null,null,null,null,null,18,{"$f":"N41*P41","v":39.6},2.2000000000000002]
[]
[]
[]
[]
[]
[]
[]
[]
[]
[]
[]
[]
[]
[]
[]
[]
[]
[]
[null,null,null,null,null,"zu schwer"]
[]
[]
[]
[]
[]
[]
[]
[null,"zu frontlastig"]
[]
[null,null,null,"zulässig",null,null,null,null,null,null,null,null,null,null,null,null,null,null,null,"kp","max"]
[null,null,null,null,null,null,null,null,null,null,null,null,null,null,null,null,null,null,null,{"$f":"E8","v":{"$error":"#N/A"}},{"$f":"I8","v":0},{"$f":"IF(AND(U71>0,U71<T71),\"Grundgewicht überschritten!  \",\"\")","v":{"$error":"#N/A"}}]
[null,null,null,null,null,null,null,null,null,null,null,null,null,"y","x",null,null,null,null,{"$f":"E9","v":66.239999999999995},{"$f":"I9","v":66.239999999999995},{"$f":"IF(AND(U72>0,U72<T72),\"Kraftstoffmenge zu hoch!  \",\"\")","v":""}]
[null,null,null,null,null,null,null,null,null,null,null,null,null,"IST-Wert",null,null,null,null,null,{"$f":"E11","v":160},{"$f":"I11","v":0},{"$f":"IF(AND(U73>0,U73<T73),\"\",\"\")","v":""}]
[null,null,null,null,null,null,null,null,null,null,null,null,null,{"$f":"E14","v":{"$error":"#N/A"}},{"$f":"F14","v":{"$error":"#N/A"}},null,null,null,null,10,54,{"$f":"IF(AND(U74>0,U74<T74),\"Gepäckbereich 1 überladen!  \",\"\")","v":""}]
[null,null,null,null,null,null,null,null,null,null,null,null,null,"Vordere Grenze",null,null,null,null,null,0,18,{"$f":"IF(AND(U75>0,U75<T75),\"Gepäckbereich 2 überladen!  \",\"\")","v":""}]
[null,null,null,null,null,null,null,null,null,null,null,null,null,"Gewicht VG","Moment VG",null,null,null,null,{"$f":"E14","v":{"$error":"#N/A"}},758,{"$f":"IF(AND(U76>0,U76<T76),\"Gesamtgewicht zu hoch!  \",\"\")","v":{"$error":"#N/A"}}]
[null,null,null,null,null,null,null,null,null,null,null,null,null,455,358,null,"y=ax+c","x=(y-c)/a",null,null,{"$f":"IF($N$74<N77,$N$74,0)","v":{"$error":"#N/A"}},{"$f":"IF(U77>0,IF(U77<N77,\"Gewicht prüfen - zu gering?  \",\"\"),\"\")","v":{"$error":"#N/A"}}]
[null,null,null,null,null,null,null,null,null,null,null,null,null,590,467,null,"a=",{"$f":"(N78-N77)/(O78-O77)","v":1.238532110091743},"c=",{"$f":"N77-O77*R78","v":11.60550458715602},{"$f":"IF(AND($N$74<=N78,$N$74>=N77),$N$74,0)","v":{"$error":"#N/A"}},{"$f":"IF(U78>0,IF($O$74<(U78-T78)/R78,\"zu vorderlastig!  \",IF($O$74>(U78-$T$84)/$R$84,\"zu hecklastig beladen!  \",\"OK\")),\"\")","v":{"$error":"#N/A"}}]
[null,"zulässig",null,null,null,null,null,null,null,null,null,null,null,655,525,null,"a=",{"$f":"(N79-N78)/(O79-O78)","v":1.1206896551724137},"c=",{"$f":"N78-O78*R79","v":66.63793103448279},{"$f":"IF(AND($N$74<=N79,$N$74>=N78),$N$74,0)","v":{"$error":"#N/A"}},{"$f":"IF(U79>0,IF($O$74<(U79-T79)/R79,\"zu vorderlastig!  \",IF($O$74>(U79-$T$84)/$R$84,\"zu hecklastig beladen!  \",\"OK\")),\"\")","v":{"$error":"#N/A"}}]
[null,null,null,null,null,null,null,null,null,null,null,null,null,758,628,null,"a=",{"$f":"(N80-N79)/(O80-O79)","v":1},"c=",{"$f":"N79-O79*R80","v":130},{"$f":"IF(AND($N$74<=N80,$N$74>=N79),$N$74,0)","v":{"$error":"#N/A"}},{"$f":"IF(U80>0,IF($O$74<(U80-T80)/R80,\"zu vorderlastig!  \",IF($O$74>(U80-$T$84)/$R$84,\"zu hecklastig beladen!  \",\"OK\")),\"\")","v":{"$error":"#N/A"}}]
[null,null,null,null,null,"zu hecklastig",null,null,null,null,null,null,null,"Hintere Grenze",null,null,null,null,null,null,{"$f":"IF(AND($N$74>N80),$N$74,0)","v":{"$error":"#N/A"}},{"$f":"IF(U81>0,\"Maximalgewicht überschritten!  \",\"\")","v":{"$error":"#N/A"}}]
[null,null,null,null,null,null,null,null,null,null,null,null,null,"Gewicht HG","Moment HG",null,null,null,null,null,null,{"$f":"V71&V72&V73&V74&V75&V76&V77&V78&V79&V80&V81","v":{"$error":"#N/A"}}]
[null,null,null,null,null,null,null,null,null,null,null,null,null,455,420]
[null,null,null,null,null,null,null,null,null,null,null,null,null,758,703,null,"a=",{"$f":"(N84-N83)/(O84-O83)","v":1.0706713780918728},"c=",{"$f":"N83-O83*R84","v":5.3180212014133872}]
[null,null,null,null,null,null,null,null,null,null,null,null,null,"Obere Grenze"]
[null,null,null,null,null,null,null,null,null,null,null,null,null,"Gewicht OG","Moment OG"]
[null,null,null,null,null,null,null,null,null,null,null,null,null,757,628]
[null,null,null,null,null,null,null,null,null,null,null,null,null,758,703]
[]
[]
[]
[]
[]
[{"$f":"IF(L2=\"OK\",IF(V82=\"OK\",\" Weight & Balance OK!\",V82),\"FEHLER!\")","v":{"$error":"#N/A"}}]
[]
["Luftfahrzeugführer",null,"Datum",null,null,"Unterschrift"]

{"sheet":"Startstrecke C152","index":10,"n_rows":63,"n_cols":31,"rows_kept":63,"cut":false,"hidden":false,"merged":[[17,10,17,11],[17,12,17,13],[17,14,17,15],[57,1,57,5],[58,1,58,5],[17,6,17,7],[17,8,17,9],[59,1,59,5],[60,1,60,5],[51,1,51,5],[52,1,52,5],[54,1,54,5],[56,1,56,5],[55,1,55,5],[53,1,53,5],[3,1,3,2],[4,1,4,2],[49,1,49,5],[50,1,50,5],[14,1,14,2],[16,2,16,3],[62,1,62,15],[61,1,61,5],[16,6,16,15],[6,1,6,2],[7,1,7,2],[8,1,8,2],[9,1,9,2],[10,1,10,2],[11,1,11,2],[12,1,12,2],[13,1,13,2],[6,7,6,8],[7,7,7,8],[8,7,8,8],[9,7,9,8],[10,7,10,8]]}
[]
[null,"Startstreckenberechnung Cessna 152 (Kurzstart)"]
[]
[null,"LFZ-Muster",null,"C 152",null,null,"MTOW: 758 kp, Tankinhalt 98 l, ausfliegbar 92 l"]
[null,"Kennzeichen",null,{"$f":"IF(VLOOKUP('Flugdurchführungsplan (n. DFS)'!Y4,Flugzeuge!$B$6:$X$40,2,FALSE)=\"Cessna 152\",'Flugdurchführungsplan (n. DFS)'!Y4,\"falscher Flugzeugtyp für diese Berechnung!\")","v":{"$error":"#N/A"}}]
[]
[null,"Temperatur",null,20,null,null,null,"Leergewicht ",null,{"$f":"'W&B C152'!E8","v":{"$error":"#N/A"}},null,null,null,null,null,null,null,null,null,null,null,{"$f":"ROUNDDOWN(W7/10,0)*10","v":20},{"$f":"D7","v":20},{"$f":"ROUNDUP(W7/10,0)*10","v":20},null,null,{"$f":"ROUNDDOWN(AB7/10,0)*10","v":20},{"$f":"W7","v":20},{"$f":"ROUNDUP(AB7/10,0)*10","v":20}]
[null,"QNH in hPa",null,1013.2,null,null,null,"Zuladung",null,null,null,null,null,null,null,null,null,null,null,null,null,{"$f":"V7/10","v":2},null,{"$f":"X7/10","v":2},null,null,{"$f":"AA7/10","v":2},null,{"$f":"AC7/10","v":2}]
[null,"Platzhöhe ü.NN in ft",null,1862,null,{"$f":"IF('Flugdurchführungsplan (n. DFS)'!I5<>\"\",\"(\"&Flugplätze!AB4&\" \"&Flugplätze!AB6&\"ft)\",\"\")","v":""},null,"Treibstoff",null,null,null,null,null,null,null,null,null,null,null,null,{"$f":"ROUNDDOWN(U10/1000,0)*1000","v":1000},{"$f":"VLOOKUP($U9,$S$19:$X$28,V$8+2,FALSE)","v":251},{"$f":"ROUND(V9+(W7-V7)/10*(X9-V9),0)","v":251},{"$f":"VLOOKUP($U9,$S$19:$X$28,X$8+2,FALSE)","v":251},null,{"$f":"ROUNDDOWN(Z10/1000,0)*1000","v":1000},{"$f":"VLOOKUP($Z9,$Z$19:$AE$28,AA$8+2,FALSE)","v":466},{"$f":"ROUND(AA9+(AB7-AA7)/10*(AC9-AA9),0)","v":466},{"$f":"VLOOKUP($Z9,$Z$19:$AE$28,AC$8+2,FALSE)","v":466}]
[null,"Druckhöhe",null,{"$f":"ROUND(-(D8-1013.2)*27+D9,0)","v":1862},null,null,null,null,null,null,null,null,null,null,null,null,null,null,null,null,{"$f":"D10","v":1862},{"$f":"ROUND(V9+(U10-U9)/1000*(V11-V9),0)","v":273},{"$f":"ROUND(V10+(W7-V7)/10*(X10-V10),0)","v":273},{"$f":"ROUND(X9+(U10-U9)/1000*(X11-X9),0)","v":273},null,{"$f":"U10","v":1862},{"$f":"ROUND(AA9+(Z10-Z9)/1000*(AA11-AA9),0)","v":508},{"$f":"ROUND(AA10+(AB7-AA7)/10*(AC10-AA10),0)","v":508},{"$f":"ROUND(AC9+(Z10-Z9)/1000*(AC11-AC9),0)","v":508}]
[null,"Windrichtung",null,270,null,null,null,"Abfluggewicht",null,758,null,"Bedingungen:",null,null,null,null,null,null,null,null,{"$f":"ROUNDUP(U10/1000,0)*1000","v":2000},{"$f":"VLOOKUP($U11,$S$19:$X$28,V$8+2,FALSE)","v":277},{"$f":"ROUND(V11+(W7-V7)/10*(X11-V11),0)","v":277},{"$f":"VLOOKUP($U11,$S$19:$X$28,X$8+2,FALSE)","v":277},null,{"$f":"ROUNDUP(Z10/1000,0)*1000","v":2000},{"$f":"VLOOKUP($Z11,$Z$19:$AE$28,AA$8+2,FALSE)","v":515},{"$f":"ROUND(AA11+(AB7-AA7)/10*(AC11-AA11),0)","v":515},{"$f":"VLOOKUP($Z11,$Z$19:$AE$28,AC$8+2,FALSE)","v":515}]
[null,"Windgeschwindigkeit",null,5,null,null,null,null,null,null,null,"- Klappen 10°"]
[null,"Bahnrichtung",null,25,null,{"$f":"IF(D13<=18,D13+18,D13-18)","v":7},null,null,null,null,null,"- Vollgas vor dem Lösen der Bremsen"]
[null,"Gegenwind",null,{"$f":"D12*COS((D11-(10*D13))*PI()/180)","v":4.6984631039295426},null,{"$f":"D12*COS((D11-(10*F13))*PI()/180)","v":-4.6984631039295426},"(negative Werte = Rückenwind)",null,null,null,null,"- Befestigte, trockene und ebene Startbahn"]
[null,"Seitenwind",null,{"$f":"D12*SIN((D11-(10*D13))*PI()/180)","v":1.7101007166283435},null,{"$f":"D12*SIN((D11-(10*F13))*PI()/180)","v":-1.7101007166283433},"(pos. Werte = von rechts, neg. = von links)",null,null,null,null,"- Windstille"]
[null,null,null,null,null,null,{"$f":"IF(OR($V$7=G18,$X$7=G18),1,0)","v":0},{"$f":"IF(OR($V$7=G18,$X$7=G18),1,0)","v":0},{"$f":"IF(OR($V$7=I18,$X$7=I18),1,0)","v":0},{"$f":"IF(OR($V$7=I18,$X$7=I18),1,0)","v":0},{"$f":"IF(OR($V$7=K18,$X$7=K18),1,0)","v":1},{"$f":"IF(OR($V$7=K18,$X$7=K18),1,0)","v":1},{"$f":"IF(OR($V$7=M18,$X$7=M18),1,0)","v":0},{"$f":"IF(OR($V$7=M18,$X$7=M18),1,0)","v":0},{"$f":"IF(OR($V$7=O18,$X$7=O18),1,0)","v":0},{"$f":"IF(OR($V$7=O18,$X$7=O18),1,0)","v":0}]
[null,"Flug-gewicht","Startgeschwindigkeit ",null,null,"Druckhöhe","Startlauf und Startstrecke über 15 m Höhe in Metern in Abhängikeit von der Temperatur",null,null,null,null,null,null,null,null,null,null,null,null,"Startlauf","Startlauf","Startlauf","Startlauf","Startlauf",null,null,"Str. ü. 15 m","Str. ü. 15 m","Str. ü. 15 m","Str. ü. 15 m","Str. ü. 15 m"]
[null,null,"beim Abheben","in 15 m Höhe",null,null,0,null,10,null,20,null,30,null,40,null,null,null,null,0,10,20,30,40,null,null,0,10,20,30,40]
[null,"kp","kt IAS","kt IAS",null,"ft","Startlauf","Str. ü. 15 m","Startlauf","Str. ü. 15 m","Startlauf","Str. ü. 15 m","Startlauf","Str. ü. 15 m","Startlauf","Str. ü. 15 m",null,null,"ft",0,1,2,3,4,null,"ft",0,1,2,3,4]
[null,758,50,54,{"$f":"IF(OR($U$9=F20,$U$11=F20),1,0)","v":0},0,195,363,212,393,230,424,247,456,267,489,null,null,0,195,212,230,247,267,null,0,363,393,424,456,489]
[null,null,null,null,1,1000,215,399,233,433,251,466,271,501,293,539,null,null,1000,215,233,251,271,293,null,1000,399,433,466,501,539]
[null,null,null,null,1,2000,236,440,256,477,277,515,299,555,322,597,null,null,2000,236,256,277,299,322,null,2000,440,477,515,555,597]
[null,null,null,null,0,3000,261,488,282,527,305,570,329,616,355,666,null,null,3000,261,282,305,329,355,null,3000,488,527,570,616,666]
[null,null,null,null,0,4000,287,541,311,585,335,634,363,686,392,744,null,null,4000,287,311,335,363,392,null,4000,541,585,634,686,744]
[null,null,null,null,0,5000,317,600,343,652,370,707,401,770,433,838,null,null,5000,317,343,370,401,433,null,5000,600,652,707,770,838]
[null,null,null,null,0,6000,349,671,379,730,410,796,443,870,479,953,null,null,6000,349,379,410,443,479,null,6000,671,730,796,870,953]
[null,null,null,null,0,7000,387,753,419,824,454,902,492,992,532,1094,null,null,7000,387,419,454,492,532,null,7000,753,824,902,992,1094]
[null,null,null,null,0,8000,428,853,465,939,504,1035,547,1148,591,1279,null,null,8000,428,465,504,547,591,null,8000,853,939,1035,1148,1279]
[null,null,null,null,null,null,null,null,null,null,null,null,null,null,null,null,null,null,null,"0°C","10°C","20°C","30°C","40°C",null,null,"0°C","10°C","20°C","30°C","40°C"]
[]
[null,"Startlauf",null,null,null,null,null,null,null,null,"Startstrecke über 15 m Höhe"]
[]
[null,null,null,null,null,null,null,null,null,null,null,null,null,null,null,null,null,null,null,null,8000,7000,6000,5000,4000,3000,2000,1000,0]
[null,null,null,null,null,null,null,null,null,null,null,null,null,null,null,null,null,null,null,0,428,387,349,317,287,261,236,215,195]
[null,null,null,null,null,null,null,null,null,null,null,null,null,null,null,null,null,null,null,10,465,419,379,343,311,282,256,233,212]
[null,null,null,null,null,null,null,null,null,null,null,null,null,null,null,null,null,null,null,20,504,454,410,370,335,305,277,251,230]
[null,null,null,null,null,null,null,null,null,null,null,null,null,null,null,null,null,null,null,30,547,492,443,401,363,329,299,271,247]
[null,null,null,null,null,null,null,null,null,null,null,null,null,null,null,null,null,null,null,40,591,532,479,433,392,355,322,293,267]
[]
[]
[null,null,null,null,null,null,null,null,null,null,null,null,null,null,null,null,null,null,null,null,8000,7000,6000,5000,4000,3000,2000,1000,0]
[null,null,null,null,null,null,null,null,null,null,null,null,null,null,null,null,null,null,null,0,853,753,671,600,541,488,440,399,363]
[null,null,null,null,null,null,null,null,null,null,null,null,null,null,null,null,null,null,null,10,939,824,730,652,585,527,477,433,393]
[null,null,null,null,null,null,null,null,null,null,null,null,null,null,null,null,null,null,null,20,1035,902,796,707,634,570,515,466,424]
[null,null,null,null,null,null,null,null,null,null,null,null,null,null,null,null,null,null,null,30,1148,992,870,770,686,616,555,501,456]
[null,null,null,null,null,null,null,null,null,null,null,null,null,null,null,null,null,null,null,40,1279,1094,953,838,744,666,597,539,489]
[]
[]
[null,null,null,null,null,null,null,null,null,"Anmerkungen:"]
[null,"Intrapolierte Startlaufstrecke:",null,null,null,null,{"$f":"W10","v":273},null,null,"1.  Kurzstartverfahren, wie in Abschnitt IV angegeben. "]
[null,"Intrapolierte Startstrecke über 15 m Höhe:",null,null,null,null,null,{"$f":"AB10","v":508},null,"2. Vor dem Start auf Plätzen, die höher als 3000 ft über NN liegen, ist das Gemisch entsprechend "]
[null,"Zuschläge:",null,null,null,null,null,null,null,"einzustellen um beim Vollgas-standlauf die maximale Drehzahl zu  erhalten"]
[null,"Rücken- / Gegenwind Zu- /Abschlag",null,null,null,null,{"$f":"IF(I53,IF(D14>0,-ROUNDDOWN($D$14/9,0)*0.1*G50,ROUNDUP($D$14/2,0)*-0.1*G50),0)","v":0},{"$f":"IF(I53,IF(D14>0,-ROUNDDOWN($D$14/9,0)*0.1*H51,ROUNDUP($D$14/2,0)*-0.1*H51),0)","v":0},false,"3. Für je 9 kt Gegenwind sind die Strecken um 10% zu verringern. Für Starts bei Rückenwind  "]
[null,"Neigungszuschlag",null,null,null,null,null,null,false,"bis 10 kt sind die Strecken für je 2 kt Rückenwind um 10% zu vergrößern"]
[null,"Trockene Grasbahn",null,null,null,null,{"$f":"IF(I54,G50*15%,0)","v":0},{"$f":"G55","v":0},false,"4. Für den Start auf trockenr Grasbahn sind die Strecken um 15% des Werts für den Startlauf "]
[null,"Oberflächenzuschlag",null,null,null,null,null,null,null,"zu vergrößern"]
[null,"40% Zuschlag auf Startstrecke über 15 m (50 ft)1)",null,null,null,null,null,{"$f":"IF(I55,0.4*H51,0)","v":0},null,"5. Zusätzliche Zuschläge wegen feuchter Grasbahn, aufgeweichten Untergrundes oder "]
[null,null,null,null,null,null,null,null,null,"Schnee sind zu berücksichtigen"]
[]
[null,null,null,null,null,null,null,null,null,"1) für EDMJ entspr. Startstr. über 100ft (Wald); max. 738 m!!"]
[null,"Summe inkl. Zu- / Abschläge",null,null,null,null,{"$f":"SUM(G50:G60)","v":273},{"$f":"SUM(H51:H60)","v":508}]
[null,"ZUR VERFÜGUNG STEHEN (lt. AIP):",null,null,null,null,425,738]
[null,{"$f":"IF(VLOOKUP('Flugdurchführungsplan (n. DFS)'!Y4,Flugzeuge!$B$6:$X$40,2,FALSE)=\"Cessna 152\",\"\",\"falscher Flugzeugtyp für diese Berechnung!\")","v":{"$error":"#N/A"}}]

{"sheet":"W&B C172 S","index":11,"n_rows":97,"n_cols":22,"rows_kept":97,"cut":false,"hidden":true,"merged":[]}
["ACHTUNG dieses Sheet ist noch nicht fertig!!",null,null,null,null,null,null,null,null,null,null,null,null,null,null,null,null,"Ausgabe für Flight Log"]
["Weight & Balance C 172 S",null,{"$f":"IF(VLOOKUP('Flugdurchführungsplan (n. DFS)'!Y4,Flugzeuge!$B$6:$X$40,2,FALSE)=\"Cessna 172 S\",'Flugdurchführungsplan (n. DFS)'!Y4,\"falscher Flugzeugtyp für diese Berechnung!\")","v":{"$error":"#N/A"}},null,null,null,null,null,null,null,null,{"$f":"IF(VLOOKUP('Flugdurchführungsplan (n. DFS)'!Y4,Flugzeuge!$B$6:$X$40,2,FALSE)=\"Cessna 172 S\",\"OK\",1)","v":{"$error":"#N/A"}},null,null,null,null,null,"Masse-/ Schwerpunktberechnung","Masse (kg) / Gewicht (kp)","Moment"]
[null,null,null,null,null,null,null,null,null,null,null,null,null,null,null,null,null,"Leermasse",544,{"$f":"K6*AP6","v":0}]
["Berechnung des Beladungszustands","Musterflugzeug/Beispiel",null,null,{"$f":"IF(VLOOKUP('Flugdurchführungsplan (n. DFS)'!Y4,Flugzeuge!$B$6:$X$40,2,FALSE)=\"Cessna 172 S\",'Flugdurchführungsplan (n. DFS)'!Y4,\"bitte LFZ-Kennzeichen im Flugdurchführungsplan ändern oder im Sheet Flugzeuge korrigieren!\")","v":{"$error":"#N/A"}},null,null,null,null,null,null,null,null,null,null,null,null,"Kraftstoff, nichtausfliegbar",{"$f":"6*0.72","v":4.32},{"$f":"K7*AP7","v":0}]
[null,"Gewicht","Moment",null,"Gewicht","Moment",null,null,null,null,null,null,null,null,null,null,null,"Schmierstoff",null,{"$f":"K8*AP8","v":0}]
["C -172","in kp","in cmkp/1000",null,"in kp","in cmkp/1000",null,null,"max Gewicht",null,null,null,null,null,null,null,null,"=Grundmasse",{"$f":"SUM(S3:S5)","v":548.32000000000005},{"$f":"SUM(T3:T5)","v":0}]
[null,null,null,null,null,null,null,null,null,null,null,null,null,null,null,null,null,"Sitzreihe 1",100,{"$f":"K10*AP10","v":0}]
["1. Grundgewicht",659.4,66.400000000000006,null,{"$f":"B8","v":659.4},{"$f":"C8","v":66.400000000000006},null,null,null,null,null,null,null,{"$f":"C8/B8","v":0.10069760388231727},{"$f":"N8*1000","v":100.69760388231727},null,null,"Sitzreihe 2",null,0]
["2. Kraftstoff, ausfliegbar __ L (bei 0,72 kg/l) und",108.7,13.2,null,{"$f":"G9*0.72","v":136.07999999999998},{"$f":"E9*P36/10","v":16.525555199999996},189,null,{"$f":"189*0.72","v":136.07999999999998},null,null,null,null,{"$f":"C9/B9","v":0.12143514259429622},{"$f":"N9*1000","v":121.43514259429622},null,null,"Sitzreihe 3",null,0]
["    Fallschirm",null,null,null,0,{"$f":"E10*P36/10","v":0},null,null,null,null,null,null,null,{"$f":"N9","v":0.12143514259429622},121.43514259429622,null,null,"Gepäckraum 1",20,0]
["3. Pilot und vorderer Fluggast",154.30000000000001,14.5,null,180,{"$f":"E11*P33/10","v":16.919999999999998},null,null,null,null,null,null,null,9.3972780298120534E-2,93.97278029812054,null,null,"Gepäckraum 2",null,0]
["4. Hintere Fluggäste",77.099999999999994,14.3,null,65,{"$f":"E12*P39/10","v":12.057500000000001},null,null,null,null,null,null,null,0.18547341115434504,185.47341115434503,null,null,"Gepäckraum 3",null,0]
["5. Gepäckbereich 1",43.5,10.5,null,0,{"$f":"E13*P42/10","v":0},null,null,54,null,null,null,null,0.2413793103448276,241.37931034482759,null,null,"Kraftstoff, ausfliegbar",{"$f":"N14*0.72","v":0.22163478260869565},0]
["6. Gepäckbereich 2",null,null,null,0,{"$f":"E14*P45/10","v":0},null,null,23,null,null,null,null,0.30782608695652175,307.82608695652175,null,null,"Startmasse Startmoment",{"$f":"SUM(S6:S13)","v":668.54163478260875},{"$f":"SUM(T6:T13)","v":0}]
["7. Startgewicht (max. 1043 kp) und Moment",{"$f":"SUM(B8:B14)","v":1043},{"$f":"SUM(C8:C14)","v":118.9},null,{"$f":"SUM(E8:E14)","v":1040.48},{"$f":"SUM(F8:F14)","v":111.90305520000001},null,null,1043.03]
[]
["(Leergewicht und -moment basiert auf der letzten Wägung vom                         )"]
[]
[]
[]
[]
[]
[]
[]
[]
[]
[]
[]
[]
[null,null,null,null,null,null,null,null,null,null,null,null,null,"Gewicht","Moment","Hebel"]
[null,null,null,null,null,null,null,null,null,null,null,null,null,"Pilot, Fluggast"]
[null,null,null,null,null,null,null,null,null,null,null,null,null,0,0]
[null,null,null,null,null,null,null,null,null,null,null,null,null,200,{"$f":"N33*P33/10","v":18.8},0.94]
[null,null,null,null,null,null,null,null,null,null,null,null,null,"Kraftstoff (Standrdtanks) 0,72 kp/l und Fallschirm"]
[null,null,null,null,null,null,null,null,null,null,null,null,null,0,0]
[null,null,null,null,null,null,null,null,null,null,null,null,null,{"$f":"189*0.72","v":136.07999999999998},{"$f":"N36*P36/10","v":16.525555199999996},1.2143999999999999]
[null,null,null,null,null,null,null,null,null,null,null,null,null,"Hintere Fluggäste"]
[null,null,null,null,null,null,null,null,null,null,null,null,null,0,0]
[null,null,null,null,null,null,null,null,null,null,null,null,null,188,{"$f":"N39*P39/10","v":34.874000000000002},1.855]
[null,null,null,null,null,null,null,null,null,null,null,null,null,"Gepäck im Gepäckbereich 1 (oder Fluggast auf Kindersitz)"]
[null,null,null,null,null,null,null,null,null,null,null,null,null,0,0]
[null,null,null,null,null,null,null,null,null,null,null,null,null,54,{"$f":"N42*P42/10","v":13.035599999999999},2.4140000000000001]
[null,null,null,null,null,null,null,null,null,null,null,null,null,"Gepäck im Gepäckbereich 2, max. 23 kp"]
[null,null,null,null,null,null,null,null,null,null,null,null,null,0,0]
[null,null,null,null,null,null,null,null,null,null,null,null,null,23,{"$f":"N45*P45/10","v":7.0840000000000005},3.08]
[]
[]
[]
[]
[]
[]
[]
[]
[]
[]
[]
[]
[]
[]
[]
[null,null,null,null,null,"zu schwer"]
[]
[]
[]
[]
[]
[]
[]
[null,"zu frontlastig",null,null,null,null,null,null,null,null,null,null,null,null,null,null,null,null,null,"kp","max"]
[null,null,null,null,null,null,null,null,null,null,null,null,null,null,null,null,null,null,null,{"$f":"E8","v":659.4},{"$f":"I8","v":0},{"$f":"IF(AND(U70>0,U70<T70),\"Grundgewicht überschritten!  \",\"\")","v":""}]
[null,null,null,"zulässig",null,null,null,null,null,null,null,null,null,null,null,null,null,null,null,{"$f":"E9","v":136.07999999999998},{"$f":"I9","v":136.07999999999998},{"$f":"IF(AND(U71>0,U71<T71),\"Kraftstoffmenge zu hoch!  \",\"\")","v":""}]
[null,null,null,null,null,null,null,null,null,null,null,null,null,null,null,null,null,null,null,{"$f":"E11","v":180},{"$f":"I11","v":0},{"$f":"IF(AND(U72>0,U72<T72),\"\",\"\")","v":""}]
[null,null,null,null,null,null,null,null,null,null,null,null,null,"y","x",null,null,null,null,{"$f":"E13","v":0},{"$f":"I13","v":54},{"$f":"IF(AND(U73>0,U73<T73),\"Gepäckbereich 1 überladen!  \",\"\")","v":""}]
[null,null,null,null,null,null,null,null,null,null,null,null,null,"IST-Wert",null,null,null,null,null,{"$f":"E14","v":0},{"$f":"I14","v":23},{"$f":"IF(AND(U74>0,U74<T74),\"Gepäckbereich 2 überladen!  \",\"\")","v":""}]
[null,null,null,null,null,null,null,null,null,null,null,null,null,{"$f":"E15","v":1040.48},{"$f":"F15","v":111.90305520000001},null,null,null,null,{"$f":"T74+T73","v":0},54,{"$f":"IF(AND(U75>0,U75<T75),\"Gepäckbereich in Summe überladen!  \",\"\")","v":""}]
[null,null,null,null,null,null,null,null,null,null,null,null,null,"Vordere Grenze",null,null,null,null,null,{"$f":"E15","v":1040.48},{"$f":"I15","v":1043.03},{"$f":"IF(AND(U76>0,U76<T76),\"Gesamtgewicht zu hoch!  \",\"\")","v":""}]
[null,null,null,null,null,null,null,null,null,null,null,null,null,"Gewicht VG","Moment VG",null,"y=ax+c","x=(y-c)/a",null,700,{"$f":"IF($N$75<T77,$N$75,0)","v":0},{"$f":"IF(U77>0,IF(U77<T77,\"Gewicht prüfen - zu gering?  \",\"\"),\"\")","v":""}]
[null,null,null,null,null,null,null,null,null,null,null,null,null,700,60]
[null,null,null,null,null,null,null,null,null,null,null,null,null,890,78,null,"a=",{"$f":"(N79-N78)/(O79-O78)","v":10.555555555555555},"c=",{"$f":"N78-O78*R79","v":66.666666666666629},{"$f":"IF(AND($N$75<=N79,$N$75>=N78),$N$75,0)","v":0},{"$f":"IF(U79>0,IF($O$75<(U79-T79)/R79,\"zu vorderlastig!  \",IF($O$75>(U79-$T$84)/$R$84,\"zu hecklastig beladen!  \",\"OK\")),\"\")","v":""}]
[null,"zulässig",null,null,null,null,null,null,null,null,null,null,null,{"$f":"N84","v":1043.04},102,null,"a=",{"$f":"(N80-N79)/(O80-O79)","v":6.3766666666666652},"c=",{"$f":"N79-O79*R80","v":392.62000000000012},{"$f":"IF(AND($N$75<=N80,$N$75>=N79),$N$75,0)","v":1040.48},{"$f":"IF(U80>0,IF($O$75<(U80-T80)/R80,\"Zu vorderlastig!  \",IF($O$75>(U80-$T$84)/$R$84,\"Zu hecklastig beladen!  \",\"OK\")),\"\")","v":"OK"}]
[null,null,null,null,null,null,null,null,null,null,null,null,null,"Hintere Grenze",null,null,null,null,null,null,null,{"$f":"IF(U81>0,\"Maximalgewicht überschritten!  \",\"\")","v":""}]
[null,null,null,null,null,"zu hecklastig",null,null,null,null,null,null,null,"Gewicht HG","Moment HG",null,null,null,null,null,null,{"$f":"V70&V71&V72&V73&V74&V76&V77&V79&V80&V75","v":"OK"}]
[null,null,null,null,null,null,null,null,null,null,null,null,null,700,81]
[null,null,null,null,null,null,null,null,null,null,null,null,null,1043.04,125,null,"a=",{"$f":"(N84-N83)/(O84-O83)","v":7.7963636363636359},"c=",{"$f":"N83-O83*R84","v":68.49454545454546}]
[null,null,null,null,null,null,null,null,null,null,null,null,null,"Obere Grenze"]
[null,null,null,null,null,null,null,null,null,null,null,null,null,"Gewicht OG","Moment OG"]
[null,null,null,null,null,null,null,null,null,null,null,null,null,{"$f":"N80","v":1043.04},{"$f":"O80","v":102}]
[null,null,null,null,null,null,null,null,null,null,null,null,null,{"$f":"N87","v":1043.04},{"$f":"O84","v":125}]
[]
[]
[]
[]
[]
[]
[{"$f":"IF(L2=\"OK\",IF(V82=\"OK\",\" Weight & Balance OK!\",V82),\"FEHLER!\")","v":{"$error":"#N/A"}}]
[]
["Luftfahrzeugführer",null,"Datum",null,null,"Unterschrift"]

{"sheet":"Sonnenuntergang","index":12,"n_rows":376,"n_cols":13,"rows_kept":376,"cut":false,"hidden":true,"merged":[]}
[]
[null,"Berechnung von Sonnenauf- und untergang auf Basis der Zeitgleichung Version Januar 2005: http://lexikon.astronomie.info"]
[null,"Die Berechnung mit Formel in Einzelschritten ist ab Spalte L dieses Blattes einzusehen. Blattschutz ohne Passwort."]
[null,"Erstellt von Axel Lopata 29.06.2010 Angaben ohne Gewähr (bauphysik@guru.de)"]
[]
[null,"Ort",{"$f":"Flugplätze!AJ4","v":{"$error":"#N/A"}}]
[null,null,"Grad","Minuten","Sekunden"]
[null,"Breite",{"$f":"Flugplätze!AH10","v":{"$error":"#N/A"}},{"$f":"Flugplätze!AI10","v":{"$error":"#N/A"}},{"$f":"Flugplätze!AJ10","v":{"$error":"#N/A"}},null,"Tag_Diff z. 01.01.2000",{"$f":"Datum-36526","v":-36526}]
[null,"Nord = 1 / Süd = 2",1,null,null,null,"T",{"$f":"(Tag_Diff)/36525","v":-1.0000273785078713},null,null,{"$f":"MATCH(Tag_2,Datum_Liste)","v":{"$error":"#VALUE!"}},{"$f":"YEAR(Datum)","v":1900},{"$f":"IF(ISERROR(DAY(Datum)),0,1)","v":1}]
[null,null,null,null,null,null,"M",{"$f":"2*PI()*(0.993133+99.997361*T)","v":-622.07911268812472},null,null,"2004-01-01",{"$f":"IF(DAY(Datum)<10,0,\"\")&DAY(Datum)&\".\"&IF(MONTH(Datum)<10,0,\"\")&MONTH(Datum)&\".\"&\"04\"","v":"00.01.04"}]
[null,"Länge",{"$f":"Flugplätze!AH11","v":{"$error":"#N/A"}},{"$f":"Flugplätze!AI11","v":{"$error":"#N/A"}},{"$f":"Flugplätze!AJ11","v":{"$error":"#N/A"}},null,"L",{"$f":"2*PI()*(0.7859453+M/(2*PI())+(6893*SIN(M)+72*SIN(2*M)+6191.2*T)/1296000)","v":-617.17238200666793},null,null,"2004-01-02",{"$f":"DATEVALUE(Tag)","v":{"$error":"#VALUE!"}}]
[null,"Ost = 1 / West = 2",1,null,null,null,"e",{"$f":"2*PI()*(23.43929111+(-46.815*T-0.00059*T*T+0.001813*T*T*T)/3600)/360","v":0.40931976429077388},null,null,"2004-01-03"]
[null,null,null,null,null,null,"DK",{"$f":"ASIN(SIN(e)*SIN(L))","v":-0.40441628822297521},null,null,"2004-01-04"]
[null,"Datum",{"$f":"'Flugdurchführungsplan (n. DFS)'!C4","v":"00:00:00"},null,null,null,"RA",{"$f":"ATAN(TAN(L )*COS(e ))","v":-1.4068949586359256},null,null,"2004-01-05"]
[null,null,null,null,null,null,"RA_2",{"$f":"IF(OR(RA<0,L>PI()),RA+PI(),RA)","v":1.7346976949538675},null,null,"2004-01-06"]
[null,"Zeitzone (Diff. zu UTC)",2,null,null,null,"RA_3",{"$f":"RA_2*24/(2*PI())","v":6.6260571101285954},null,null,"2004-01-07"]
[null,null,null,null,null,null,"RAm",{"$f":"MOD((2400.0513369*T+18.73022974),24)","v":18.613183015581399},null,null,"2004-01-08"]
[null,"Sunrise Ortszeit",{"$f":"IF(Datum_Kontrolle=0,\"Datumsfehler\",Sunrise_Ortszeit_Ausgabe)","v":{"$error":"#VALUE!"}},null,null,null,"WOZ-MOZ (Zeit.Gl)",{"$f":"1.0027379*(RAm-RA_3)","v":12.019945457469344},null,null,"2004-01-09"]
[null,"Sunrise UTC",{"$f":"IF(Datum_Kontrolle=0,\"Datumsfehler\",Sunrise_UTC_Ausgabe)","v":{"$error":"#VALUE!"}},null,null,null,"Zeitdifferenz",{"$f":"12*ACOS((SIN(-0.0145)-SIN(Breite*PI()/180)*SIN(DK))/(COS(Breite*PI()/180)*COS(DK)))/PI()","v":{"$error":"#N/A"}},null,null,"2004-01-10"]
[null,"Sunset Ortszeit",{"$f":"IF(Datum_Kontrolle=0,\"Datumsfehler\",Sunset_Ortszeit_Ausgabe)","v":{"$error":"#VALUE!"}},null,null,null,"Aufgang = A",{"$f":"12-Zeit_Diff-Zeit_Gl-(Laenge/15)","v":{"$error":"#N/A"}},null,null,"2004-01-11"]
[null,"Sunset UTC",{"$f":"IF(Datum_Kontrolle=0,\"Datumsfehler\",Sunset_UTC_Ausgabe)","v":{"$error":"#VALUE!"}},{"$f":"IF(ISERROR(C21),\"Datum fehlt!\",IF(C21=\"dunkel\",\"Ort fehlt!\",C21))","v":"Datum fehlt!"},null,null,"Untergang = U",{"$f":"12+Zeit_Diff-Zeit_Gl-(Laenge/15)","v":{"$error":"#N/A"}},null,null,"2004-01-12"]
[null,null,null,null,null,null,"Breite",{"$f":"IF(Breite_Nord_Sued=1,Breite_Grad+Breite_Minute/60+Breite_Sekunde/3600,IF(Breite_Nord_Sued=2,(Breite_Grad+Breite_Minute/60+Breite_Sekunde/3600)*-1,\"Fehler\"))","v":{"$error":"#N/A"}},null,null,"2004-01-13"]
[null,"Sonnenstunden",{"$f":"IF(Datum_Kontrolle=0,\"Datumsfehler\",Sunset_Tageslicht_Ausgabe)","v":{"$error":"#N/A"}},null,null,null,"Länge",{"$f":"IF(Laenge_Ost_West=1,Laenge_Grad+Laenge_Minute/60+Laenge_Sekunde/3600,IF(Laenge_Ost_West=2,(Laenge_Grad+Laenge_Minute/60+Laenge_Sekunde/3600)*-1,\"Fehler\"))","v":{"$error":"#N/A"}},null,null,"2004-01-14"]
[null,null,null,null,null,null,null,null,null,null,"2004-01-15"]
[null,"Formel nach Zeitgleichung Version Januar 2005",null,null,null,null,null,null,null,null,"2004-01-16"]
[null,"Sunrise Ortszeit",{"$f":"IF(A+UTC<0,A+UTC+12,IF(A+UTC>12,A+UTC-12,A+UTC))","v":{"$error":"#N/A"}},{"$f":"IF(Sunrise_Ortszeit<0,24+Sunrise_Ortszeit,Sunrise_Ortszeit)","v":{"$error":"#N/A"}},{"$f":"INT(Sunrise_Ortszeit_2)&\":\"&ROUND((Sunrise_Ortszeit_2-INT(Sunrise_Ortszeit_2))*60,0)","v":{"$error":"#N/A"}},{"$f":"IF(ISERROR(Sunrise_Ortszeit_3),Sunrise_Ortszeit_Hell_Dunkel_Ausgabe,IF(HOUR(Sunrise_Ortszeit_3)<10,0,\"\")&HOUR(Sunrise_Ortszeit_3)&\":\"&IF(MINUTE(Sunrise_Ortszeit_3)<10,0,\"\")&MINUTE(Sunrise_Ortszeit_3))","v":{"$error":"#VALUE!"}},{"$f":"IF(AND(ISERROR(Sunrise_Ortszeit_3),Breite_Nord_Sued=1,OR(Tag_Nummer<90,Tag_Nummer>270)),\"dunkel\",IF(AND(ISERROR(Sunrise_Ortszeit_3),Breite_Nord_Sued=1,Tag_Nummer>90,Tag_Nummer<270),\"hell\",IF(AND(ISERROR(Sunrise_Ortszeit_3),Breite_Nord_Sued=2,OR(Tag_Nummer<90,Tag_Nummer>270)),\"hell\",IF(AND(ISERROR(Sunrise_Ortszeit_3),Breite_Nord_Sued=2,Tag_Nummer>90,Tag_Nummer<270),\"dunkel\",0))))","v":{"$error":"#VALUE!"}},null,null,null,"2004-01-17"]
[null,"Sunrise UTC",{"$f":"+Sunrise_Ortszeit-UTC","v":{"$error":"#N/A"}},{"$f":"IF(Sunrise_UTC<0,24+Sunrise_UTC,Sunrise_UTC)","v":{"$error":"#N/A"}},{"$f":"INT(Sunrise_UTC_2)&\":\"&ROUND((Sunrise_UTC_2-INT(Sunrise_UTC_2))*60,0)","v":{"$error":"#N/A"}},{"$f":"IF(ISERROR(Sunrise_UTC_3),Sunrise_UTC_Hell_Dunkel_Ausgabe,IF(HOUR(Sunrise_UTC_3)<10,0,\"\")&HOUR(Sunrise_UTC_3)&\":\"&IF(MINUTE(Sunrise_UTC_3)<10,0,\"\")&MINUTE(Sunrise_UTC_3))","v":{"$error":"#VALUE!"}},{"$f":"IF(AND(ISERROR(Sunrise_UTC_3),Breite_Nord_Sued=1,OR(Tag_Nummer<90,Tag_Nummer>270)),\"dunkel\",IF(AND(ISERROR(Sunrise_UTC_3),Breite_Nord_Sued=1,Tag_Nummer>90,Tag_Nummer<270),\"hell\",IF(AND(ISERROR(Sunrise_UTC_3),Breite_Nord_Sued=2,OR(Tag_Nummer<90,Tag_Nummer>270)),\"hell\",IF(AND(ISERROR(Sunrise_UTC_3),Breite_Nord_Sued=2,Tag_Nummer>90,Tag_Nummer<270),\"dunkel\",0))))","v":{"$error":"#VALUE!"}},null,null,null,"2004-01-18"]
[null,"Sunset Ortszeit",{"$f":"IF(U+UTC<12,U+UTC+12,IF(U+UTC>24,U+UTC-12,U+UTC))","v":{"$error":"#N/A"}},{"$f":"IF(Sunset_Ortszeit<0,24+Sunset_Ortszeit,Sunset_Ortszeit)","v":{"$error":"#N/A"}},{"$f":"INT(Sunset_Ortszeit_2)&\":\"&ROUND((Sunset_Ortszeit_2-INT(Sunset_Ortszeit_2))*60,0)","v":{"$error":"#N/A"}},{"$f":"IF(ISERROR(Sunset_Ortszeit_3),Sunset_Ortszeit_Hell_Dunkel_Ausgabe,IF(HOUR(Sunset_Ortszeit_3)<10,0,\"\")&HOUR(Sunset_Ortszeit_3)&\":\"&IF(MINUTE(Sunset_Ortszeit_3)<10,0,\"\")&MINUTE(Sunset_Ortszeit_3))","v":{"$error":"#VALUE!"}},{"$f":"IF(AND(ISERROR(Sunset_Ortszeit_3),Breite_Nord_Sued=1,OR(Tag_Nummer<90,Tag_Nummer>270)),\"dunkel\",IF(AND(ISERROR(Sunset_Ortszeit_3),Breite_Nord_Sued=1,Tag_Nummer>90,Tag_Nummer<270),\"hell\",IF(AND(ISERROR(Sunset_Ortszeit_3),Breite_Nord_Sued=2,OR(Tag_Nummer<90,Tag_Nummer>270)),\"hell\",IF(AND(ISERROR(Sunset_Ortszeit_3),Breite_Nord_Sued=2,Tag_Nummer>90,Tag_Nummer<270),\"dunkel\",0))))","v":{"$error":"#VALUE!"}},null,null,null,"2004-01-19"]
[null,"Sunset UTC",{"$f":"+Sunset_Ortszeit-UTC","v":{"$error":"#N/A"}},{"$f":"IF(Sunset_UTC<0,24+Sunset_UTC,Sunset_UTC)","v":{"$error":"#N/A"}},{"$f":"INT(Sunset_UTC_2)&\":\"&ROUND((Sunset_UTC_2-INT(Sunset_UTC_2))*60,0)","v":{"$error":"#N/A"}},{"$f":"IF(ISERROR(Sunset_UTC_3),Sunset_UTC_Hell_Dunkel_Ausgabe,IF(HOUR(Sunset_UTC_3)<10,0,\"\")&HOUR(Sunset_UTC_3)&\":\"&IF(MINUTE(Sunset_UTC_3)<10,0,\"\")&MINUTE(Sunset_UTC_3))","v":{"$error":"#VALUE!"}},{"$f":"IF(AND(ISERROR(Sunset_UTC_3),Breite_Nord_Sued=1,OR(Tag_Nummer<90,Tag_Nummer>270)),\"dunkel\",IF(AND(ISERROR(Sunset_UTC_3),Breite_Nord_Sued=1,Tag_Nummer>90,Tag_Nummer<270),\"hell\",IF(AND(ISERROR(Sunset_UTC_3),Breite_Nord_Sued=2,OR(Tag_Nummer<90,Tag_Nummer>270)),\"hell\",IF(AND(ISERROR(Sunset_UTC_3),Breite_Nord_Sued=2,Tag_Nummer>90,Tag_Nummer<270),\"dunkel\",0))))","v":{"$error":"#VALUE!"}},null,null,null,"2004-01-20"]
[null,null,null,"Tageslicht",{"$f":"Sunset_Ortszeit_3-Sunrise_Ortszeit_3","v":{"$error":"#N/A"}},{"$f":"IF(Sunset_Ortszeit_3-Sunrise_Ortszeit_3<0,\"UTC !\",IF(ISERROR(Sunset_Tageslicht),Sunset_UTC_Hell_Dunkel_Ausgabe,IF(HOUR(Sunset_Tageslicht)<10,0,\"\")&HOUR(Sunset_Tageslicht)&\":\"&IF(MINUTE(Sunset_Tageslicht)<10,0,\"\")&MINUTE(Sunset_Tageslicht)))","v":{"$error":"#N/A"}},null,null,null,null,"2004-01-21"]
[null,null,null,null,null,null,null,null,null,null,"2004-01-22"]
[null,null,null,null,null,null,null,null,null,null,"2004-01-23"]
[null,null,null,null,null,null,null,null,null,null,"2004-01-24"]
[null,null,null,null,null,null,null,null,null,null,"2004-01-25"]
[null,null,null,null,null,null,null,null,null,null,"2004-01-26"]
[null,null,null,null,null,null,null,null,null,null,"2004-01-27"]
[null,null,null,null,null,null,null,null,null,null,"2004-01-28"]
[null,null,null,null,null,null,null,null,null,null,"2004-01-29"]
[null,null,null,null,null,null,null,null,null,null,"2004-01-30"]
[null,null,null,null,null,null,null,null,null,null,"2004-01-31"]
[null,null,null,null,null,null,null,null,null,null,"2004-02-01"]
[null,null,null,null,null,null,null,null,null,null,"2004-02-02"]
[null,null,null,null,null,null,null,null,null,null,"2004-02-03"]
[null,null,null,null,null,null,null,null,null,null,"2004-02-04"]
[null,null,null,null,null,null,null,null,null,null,"2004-02-05"]
[null,null,null,null,null,null,null,null,null,null,"2004-02-06"]
[null,null,null,null,null,null,null,null,null,null,"2004-02-07"]
[null,null,null,null,null,null,null,null,null,null,"2004-02-08"]
[null,null,null,null,null,null,null,null,null,null,"2004-02-09"]
[null,null,null,null,null,null,null,null,null,null,"2004-02-10"]
[null,null,null,null,null,null,null,null,null,null,"2004-02-11"]
[null,null,null,null,null,null,null,null,null,null,"2004-02-12"]
[null,null,null,null,null,null,null,null,null,null,"2004-02-13"]
[null,null,null,null,null,null,null,null,null,null,"2004-02-14"]
[null,null,null,null,null,null,null,null,null,null,"2004-02-15"]
[null,null,null,null,null,null,null,null,null,null,"2004-02-16"]
[null,null,null,null,null,null,null,null,null,null,"2004-02-17"]
[null,null,null,null,null,null,null,null,null,null,"2004-02-18"]
[null,null,null,null,null,null,null,null,null,null,"2004-02-19"]
[null,null,null,null,null,null,null,null,null,null,"2004-02-20"]
[null,null,null,null,null,null,null,null,null,null,"2004-02-21"]
[null,null,null,null,null,null,null,null,null,null,"2004-02-22"]
[null,null,null,null,null,null,null,null,null,null,"2004-02-23"]
[null,null,null,null,null,null,null,null,null,null,"2004-02-24"]
[null,null,null,null,null,null,null,null,null,null,"2004-02-25"]
[null,null,null,null,null,null,null,null,null,null,"2004-02-26"]
[null,null,null,null,null,null,null,null,null,null,"2004-02-27"]
[null,null,null,null,null,null,null,null,null,null,"2004-02-28"]
[null,null,null,null,null,null,null,null,null,null,{"$f":"IF(MOD(Jahr,4)=0,K68+1,J70)","v":"2004-02-29"}]
[null,null,null,null,null,null,null,null,null,"2004-03-01","2004-03-01"]
[null,null,null,null,null,null,null,null,null,"2004-03-02","2004-03-02"]
[null,null,null,null,null,null,null,null,null,"2004-03-03","2004-03-03"]
[null,null,null,null,null,null,null,null,null,"2004-03-04","2004-03-04"]
[null,null,null,null,null,null,null,null,null,"2004-03-05","2004-03-05"]
[null,null,null,null,null,null,null,null,null,"2004-03-06","2004-03-06"]
[null,null,null,null,null,null,null,null,null,"2004-03-07","2004-03-07"]
[null,null,null,null,null,null,null,null,null,"2004-03-08","2004-03-08"]
[null,null,null,null,null,null,null,null,null,"2004-03-09","2004-03-09"]
[null,null,null,null,null,null,null,null,null,"2004-03-10","2004-03-10"]
[null,null,null,null,null,null,null,null,null,"2004-03-11","2004-03-11"]
[null,null,null,null,null,null,null,null,null,"2004-03-12","2004-03-12"]
[null,null,null,null,null,null,null,null,null,"2004-03-13","2004-03-13"]
[null,null,null,null,null,null,null,null,null,"2004-03-14","2004-03-14"]
[null,null,null,null,null,null,null,null,null,"2004-03-15","2004-03-15"]
[null,null,null,null,null,null,null,null,null,"2004-03-16","2004-03-16"]
[null,null,null,null,null,null,null,null,null,"2004-03-17","2004-03-17"]
[null,null,null,null,null,null,null,null,null,"2004-03-18","2004-03-18"]
[null,null,null,null,null,null,null,null,null,"2004-03-19","2004-03-19"]
[null,null,null,null,null,null,null,null,null,"2004-03-20","2004-03-20"]
[null,null,null,null,null,null,null,null,null,"2004-03-21","2004-03-21"]
[null,null,null,null,null,null,null,null,null,"2004-03-22","2004-03-22"]
[null,null,null,null,null,null,null,null,null,"2004-03-23","2004-03-23"]
[null,null,null,null,null,null,null,null,null,"2004-03-24","2004-03-24"]
[null,null,null,null,null,null,null,null,null,"2004-03-25","2004-03-25"]
[null,null,null,null,null,null,null,null,null,"2004-03-26","2004-03-26"]
[null,null,null,null,null,null,null,null,null,"2004-03-27","2004-03-27"]
[null,null,null,null,null,null,null,null,null,"2004-03-28","2004-03-28"]
[null,null,null,null,null,null,null,null,null,"2004-03-29","2004-03-29"]
[null,null,null,null,null,null,null,null,null,"2004-03-30","2004-03-30"]
[null,null,null,null,null,null,null,null,null,"2004-03-31","2004-03-31"]
[null,null,null,null,null,null,null,null,null,"2004-04-01","2004-04-01"]
[null,null,null,null,null,null,null,null,null,"2004-04-02","2004-04-02"]
[null,null,null,null,null,null,null,null,null,"2004-04-03","2004-04-03"]
[null,null,null,null,null,null,null,null,null,"2004-04-04","2004-04-04"]
[null,null,null,null,null,null,null,null,null,"2004-04-05","2004-04-05"]
[null,null,null,null,null,null,null,null,null,"2004-04-06","2004-04-06"]
[null,null,null,null,null,null,null,null,null,"2004-04-07","2004-04-07"]
[null,null,null,null,null,null,null,null,null,"2004-04-08","2004-04-08"]
[null,null,null,null,null,null,null,null,null,"2004-04-09","2004-04-09"]
[null,null,null,null,null,null,null,null,null,"2004-04-10","2004-04-10"]
[null,null,null,null,null,null,null,null,null,"2004-04-11","2004-04-11"]
[null,null,null,null,null,null,null,null,null,"2004-04-12","2004-04-12"]
[null,null,null,null,null,null,null,null,null,"2004-04-13","2004-04-13"]
[null,null,null,null,null,null,null,null,null,"2004-04-14","2004-04-14"]
[null,null,null,null,null,null,null,null,null,"2004-04-15","2004-04-15"]
[null,null,null,null,null,null,null,null,null,"2004-04-16","2004-04-16"]
[null,null,null,null,null,null,null,null,null,"2004-04-17","2004-04-17"]
[null,null,null,null,null,null,null,null,null,"2004-04-18","2004-04-18"]
[null,null,null,null,null,null,null,null,null,"2004-04-19","2004-04-19"]
[null,null,null,null,null,null,null,null,null,"2004-04-20","2004-04-20"]
[null,null,null,null,null,null,null,null,null,"2004-04-21","2004-04-21"]
[null,null,null,null,null,null,null,null,null,"2004-04-22","2004-04-22"]
[null,null,null,null,null,null,null,null,null,"2004-04-23","2004-04-23"]
[null,null,null,null,null,null,null,null,null,"2004-04-24","2004-04-24"]
[null,null,null,null,null,null,null,null,null,"2004-04-25","2004-04-25"]
[null,null,null,null,null,null,null,null,null,"2004-04-26","2004-04-26"]
[null,null,null,null,null,null,null,null,null,"2004-04-27","2004-04-27"]
[null,null,null,null,null,null,null,null,null,"2004-04-28","2004-04-28"]
[null,null,null,null,null,null,null,null,null,"2004-04-29","2004-04-29"]
[null,null,null,null,null,null,null,null,null,"2004-04-30","2004-04-30"]
[null,null,null,null,null,null,null,null,null,"2004-05-01","2004-05-01"]
[null,null,null,null,null,null,null,null,null,"2004-05-02","2004-05-02"]
[null,null,null,null,null,null,null,null,null,"2004-05-03",{"$f":"IF(MOD(Jahr,4)=0,K132+1,J134)","v":"2004-05-03"}]
[null,null,null,null,null,null,null,null,null,"2004-05-04","2004-05-04"]
[null,null,null,null,null,null,null,null,null,"2004-05-05","2004-05-05"]
[null,null,null,null,null,null,null,null,null,"2004-05-06","2004-05-06"]
[null,null,null,null,null,null,null,null,null,"2004-05-07","2004-05-07"]
[null,null,null,null,null,null,null,null,null,"2004-05-08","2004-05-08"]
[null,null,null,null,null,null,null,null,null,"2004-05-09","2004-05-09"]
[null,null,null,null,null,null,null,null,null,"2004-05-10","2004-05-10"]
[null,null,null,null,null,null,null,null,null,"2004-05-11","2004-05-11"]
[null,null,null,null,null,null,null,null,null,"2004-05-12","2004-05-12"]
[null,null,null,null,null,null,null,null,null,"2004-05-13","2004-05-13"]
[null,null,null,null,null,null,null,null,null,"2004-05-14","2004-05-14"]
[null,null,null,null,null,null,null,null,null,"2004-05-15","2004-05-15"]
[null,null,null,null,null,null,null,null,null,"2004-05-16","2004-05-16"]
[null,null,null,null,null,null,null,null,null,"2004-05-17","2004-05-17"]
[null,null,null,null,null,null,null,null,null,"2004-05-18","2004-05-18"]
[null,null,null,null,null,null,null,null,null,"2004-05-19","2004-05-19"]
[null,null,null,null,null,null,null,null,null,"2004-05-20","2004-05-20"]
[null,null,null,null,null,null,null,null,null,"2004-05-21","2004-05-21"]
[null,null,null,null,null,null,null,null,null,"2004-05-22","2004-05-22"]
[null,null,null,null,null,null,null,null,null,"2004-05-23","2004-05-23"]
[null,null,null,null,null,null,null,null,null,"2004-05-24","2004-05-24"]
[null,null,null,null,null,null,null,null,null,"2004-05-25","2004-05-25"]
[null,null,null,null,null,null,null,null,null,"2004-05-26","2004-05-26"]
[null,null,null,null,null,null,null,null,null,"2004-05-27","2004-05-27"]
[null,null,null,null,null,null,null,null,null,"2004-05-28","2004-05-28"]
[null,null,null,null,null,null,null,null,null,"2004-05-29","2004-05-29"]
[null,null,null,null,null,null,null,null,null,"2004-05-30","2004-05-30"]
[null,null,null,null,null,null,null,null,null,"2004-05-31","2004-05-31"]
[null,null,null,null,null,null,null,null,null,"2004-06-01","2004-06-01"]
[null,null,null,null,null,null,null,null,null,"2004-06-02","2004-06-02"]
[null,null,null,null,null,null,null,null,null,"2004-06-03","2004-06-03"]
[null,null,null,null,null,null,null,null,null,"2004-06-04","2004-06-04"]
[null,null,null,null,null,null,null,null,null,"2004-06-05","2004-06-05"]
[null,null,null,null,null,null,null,null,null,"2004-06-06","2004-06-06"]
[null,null,null,null,null,null,null,null,null,"2004-06-07","2004-06-07"]
[null,null,null,null,null,null,null,null,null,"2004-06-08","2004-06-08"]
[null,null,null,null,null,null,null,null,null,"2004-06-09","2004-06-09"]
[null,null,null,null,null,null,null,null,null,"2004-06-10","2004-06-10"]
[null,null,null,null,null,null,null,null,null,"2004-06-11","2004-06-11"]
[null,null,null,null,null,null,null,null,null,"2004-06-12","2004-06-12"]
[null,null,null,null,null,null,null,null,null,"2004-06-13","2004-06-13"]
[null,null,null,null,null,null,null,null,null,"2004-06-14","2004-06-14"]
[null,null,null,null,null,null,null,null,null,"2004-06-15","2004-06-15"]
[null,null,null,null,null,null,null,null,null,"2004-06-16","2004-06-16"]
[null,null,null,null,null,null,null,null,null,"2004-06-17","2004-06-17"]
[null,null,null,null,null,null,null,null,null,"2004-06-18","2004-06-18"]
[null,null,null,null,null,null,null,null,null,"2004-06-19","2004-06-19"]
[null,null,null,null,null,null,null,null,null,"2004-06-20","2004-06-20"]
[null,null,null,null,null,null,null,null,null,"2004-06-21","2004-06-21"]
[null,null,null,null,null,null,null,null,null,"2004-06-22","2004-06-22"]
[null,null,null,null,null,null,null,null,null,"2004-06-23","2004-06-23"]
[null,null,null,null,null,null,null,null,null,"2004-06-24","2004-06-24"]
[null,null,null,null,null,null,null,null,null,"2004-06-25","2004-06-25"]
[null,null,null,null,null,null,null,null,null,"2004-06-26","2004-06-26"]
[null,null,null,null,null,null,null,null,null,"2004-06-27","2004-06-27"]
[null,null,null,null,null,null,null,null,null,"2004-06-28","2004-06-28"]
[null,null,null,null,null,null,null,null,null,"2004-06-29","2004-06-29"]
[null,null,null,null,null,null,null,null,null,"2004-06-30","2004-06-30"]
[null,null,null,null,null,null,null,null,null,"2004-07-01","2004-07-01"]
[null,null,null,null,null,null,null,null,null,"2004-07-02","2004-07-02"]
[null,null,null,null,null,null,null,null,null,"2004-07-03","2004-07-03"]
[null,null,null,null,null,null,null,null,null,"2004-07-04","2004-07-04"]
[null,null,null,null,null,null,null,null,null,"2004-07-05","2004-07-05"]
[null,null,null,null,null,null,null,null,null,"2004-07-06",{"$f":"IF(MOD(Jahr,4)=0,K196+1,J198)","v":"2004-07-06"}]
[null,null,null,null,null,null,null,null,null,"2004-07-07","2004-07-07"]
[null,null,null,null,null,null,null,null,null,"2004-07-08","2004-07-08"]
[null,null,null,null,null,null,null,null,null,"2004-07-09","2004-07-09"]
[null,null,null,null,null,null,null,null,null,"2004-07-10","2004-07-10"]
[null,null,null,null,null,null,null,null,null,"2004-07-11","2004-07-11"]
[null,null,null,null,null,null,null,null,null,"2004-07-12","2004-07-12"]
[null,null,null,null,null,null,null,null,null,"2004-07-13","2004-07-13"]
[null,null,null,null,null,null,null,null,null,"2004-07-14","2004-07-14"]
[null,null,null,null,null,null,null,null,null,"2004-07-15","2004-07-15"]
[null,null,null,null,null,null,null,null,null,"2004-07-16","2004-07-16"]
[null,null,null,null,null,null,null,null,null,"2004-07-17","2004-07-17"]
[null,null,null,null,null,null,null,null,null,"2004-07-18","2004-07-18"]
[null,null,null,null,null,null,null,null,null,"2004-07-19","2004-07-19"]
[null,null,null,null,null,null,null,null,null,"2004-07-20","2004-07-20"]
[null,null,null,null,null,null,null,null,null,"2004-07-21","2004-07-21"]
[null,null,null,null,null,null,null,null,null,"2004-07-22","2004-07-22"]
[null,null,null,null,null,null,null,null,null,"2004-07-23","2004-07-23"]
[null,null,null,null,null,null,null,null,null,"2004-07-24","2004-07-24"]
[null,null,null,null,null,null,null,null,null,"2004-07-25","2004-07-25"]
[null,null,null,null,null,null,null,null,null,"2004-07-26","2004-07-26"]
[null,null,null,null,null,null,null,null,null,"2004-07-27","2004-07-27"]
[null,null,null,null,null,null,null,null,null,"2004-07-28","2004-07-28"]
[null,null,null,null,null,null,null,null,null,"2004-07-29","2004-07-29"]
[null,null,null,null,null,null,null,null,null,"2004-07-30","2004-07-30"]
[null,null,null,null,null,null,null,null,null,"2004-07-31","2004-07-31"]
[null,null,null,null,null,null,null,null,null,"2004-08-01","2004-08-01"]
[null,null,null,null,null,null,null,null,null,"2004-08-02","2004-08-02"]
[null,null,null,null,null,null,null,null,null,"2004-08-03","2004-08-03"]
[null,null,null,null,null,null,null,null,null,"2004-08-04","2004-08-04"]
[null,null,null,null,null,null,null,null,null,"2004-08-05","2004-08-05"]
[null,null,null,null,null,null,null,null,null,"2004-08-06","2004-08-06"]
[null,null,null,null,null,null,null,null,null,"2004-08-07","2004-08-07"]
[null,null,null,null,null,null,null,null,null,"2004-08-08","2004-08-08"]
[null,null,null,null,null,null,null,null,null,"2004-08-09","2004-08-09"]
[null,null,null,null,null,null,null,null,null,"2004-08-10","2004-08-10"]
[null,null,null,null,null,null,null,null,null,"2004-08-11","2004-08-11"]
[null,null,null,null,null,null,null,null,null,"2004-08-12","2004-08-12"]
[null,null,null,null,null,null,null,null,null,"2004-08-13","2004-08-13"]
[null,null,null,null,null,null,null,null,null,"2004-08-14","2004-08-14"]
[null,null,null,null,null,null,null,null,null,"2004-08-15","2004-08-15"]
[null,null,null,null,null,null,null,null,null,"2004-08-16","2004-08-16"]
[null,null,null,null,null,null,null,null,null,"2004-08-17","2004-08-17"]
[null,null,null,null,null,null,null,null,null,"2004-08-18","2004-08-18"]
[null,null,null,null,null,null,null,null,null,"2004-08-19","2004-08-19"]
[null,null,null,null,null,null,null,null,null,"2004-08-20","2004-08-20"]
[null,null,null,null,null,null,null,null,null,"2004-08-21","2004-08-21"]
[null,null,null,null,null,null,null,null,null,"2004-08-22","2004-08-22"]
[null,null,null,null,null,null,null,null,null,"2004-08-23","2004-08-23"]
[null,null,null,null,null,null,null,null,null,"2004-08-24","2004-08-24"]
[null,null,null,null,null,null,null,null,null,"2004-08-25","2004-08-25"]
[null,null,null,null,null,null,null,null,null,"2004-08-26","2004-08-26"]
[null,null,null,null,null,null,null,null,null,"2004-08-27","2004-08-27"]
[null,null,null,null,null,null,null,null,null,"2004-08-28","2004-08-28"]
[null,null,null,null,null,null,null,null,null,"2004-08-29","2004-08-29"]
[null,null,null,null,null,null,null,null,null,"2004-08-30","2004-08-30"]
[null,null,null,null,null,null,null,null,null,"2004-08-31","2004-08-31"]
[null,null,null,null,null,null,null,null,null,"2004-09-01","2004-09-01"]
[null,null,null,null,null,null,null,null,null,"2004-09-02","2004-09-02"]
[null,null,null,null,null,null,null,null,null,"2004-09-03","2004-09-03"]
[null,null,null,null,null,null,null,null,null,"2004-09-04","2004-09-04"]
[null,null,null,null,null,null,null,null,null,"2004-09-05","2004-09-05"]
[null,null,null,null,null,null,null,null,null,"2004-09-06","2004-09-06"]
[null,null,null,null,null,null,null,null,null,"2004-09-07","2004-09-07"]
[null,null,null,null,null,null,null,null,null,"2004-09-08",{"$f":"IF(MOD(Jahr,4)=0,K260+1,J262)","v":"2004-09-08"}]
[null,null,null,null,null,null,null,null,null,"2004-09-09","2004-09-09"]
[null,null,null,null,null,null,null,null,null,"2004-09-10","2004-09-10"]
[null,null,null,null,null,null,null,null,null,"2004-09-11","2004-09-11"]
[null,null,null,null,null,null,null,null,null,"2004-09-12","2004-09-12"]
[null,null,null,null,null,null,null,null,null,"2004-09-13","2004-09-13"]
[null,null,null,null,null,null,null,null,null,"2004-09-14","2004-09-14"]
[null,null,null,null,null,null,null,null,null,"2004-09-15","2004-09-15"]
[null,null,null,null,null,null,null,null,null,"2004-09-16","2004-09-16"]
[null,null,null,null,null,null,null,null,null,"2004-09-17","2004-09-17"]
[null,null,null,null,null,null,null,null,null,"2004-09-18","2004-09-18"]
[null,null,null,null,null,null,null,null,null,"2004-09-19","2004-09-19"]
[null,null,null,null,null,null,null,null,null,"2004-09-20","2004-09-20"]
[null,null,null,null,null,null,null,null,null,"2004-09-21","2004-09-21"]
[null,null,null,null,null,null,null,null,null,"2004-09-22","2004-09-22"]
[null,null,null,null,null,null,null,null,null,"2004-09-23","2004-09-23"]
[null,null,null,null,null,null,null,null,null,"2004-09-24","2004-09-24"]
[null,null,null,null,null,null,null,null,null,"2004-09-25","2004-09-25"]
[null,null,null,null,null,null,null,null,null,"2004-09-26","2004-09-26"]
[null,null,null,null,null,null,null,null,null,"2004-09-27","2004-09-27"]
[null,null,null,null,null,null,null,null,null,"2004-09-28","2004-09-28"]
[null,null,null,null,null,null,null,null,null,"2004-09-29","2004-09-29"]
[null,null,null,null,null,null,null,null,null,"2004-09-30","2004-09-30"]
[null,null,null,null,null,null,null,null,null,"2004-10-01","2004-10-01"]
[null,null,null,null,null,null,null,null,null,"2004-10-02","2004-10-02"]
[null,null,null,null,null,null,null,null,null,"2004-10-03","2004-10-03"]
[null,null,null,null,null,null,null,null,null,"2004-10-04","2004-10-04"]
[null,null,null,null,null,null,null,null,null,"2004-10-05","2004-10-05"]
[null,null,null,null,null,null,null,null,null,"2004-10-06","2004-10-06"]
[null,null,null,null,null,null,null,null,null,"2004-10-07","2004-10-07"]
[null,null,null,null,null,null,null,null,null,"2004-10-08","2004-10-08"]
[null,null,null,null,null,null,null,null,null,"2004-10-09","2004-10-09"]
[null,null,null,null,null,null,null,null,null,"2004-10-10","2004-10-10"]
[null,null,null,null,null,null,null,null,null,"2004-10-11","2004-10-11"]
[null,null,null,null,null,null,null,null,null,"2004-10-12","2004-10-12"]
[null,null,null,null,null,null,null,null,null,"2004-10-13","2004-10-13"]
[null,null,null,null,null,null,null,null,null,"2004-10-14","2004-10-14"]
[null,null,null,null,null,null,null,null,null,"2004-10-15","2004-10-15"]
[null,null,null,null,null,null,null,null,null,"2004-10-16","2004-10-16"]
[null,null,null,null,null,null,null,null,null,"2004-10-17","2004-10-17"]
[null,null,null,null,null,null,null,null,null,"2004-10-18","2004-10-18"]
[null,null,null,null,null,null,null,null,null,"2004-10-19","2004-10-19"]
[null,null,null,null,null,null,null,null,null,"2004-10-20","2004-10-20"]
[null,null,null,null,null,null,null,null,null,"2004-10-21","2004-10-21"]
[null,null,null,null,null,null,null,null,null,"2004-10-22","2004-10-22"]
[null,null,null,null,null,null,null,null,null,"2004-10-23","2004-10-23"]
[null,null,null,null,null,null,null,null,null,"2004-10-24","2004-10-24"]
[null,null,null,null,null,null,null,null,null,"2004-10-25","2004-10-25"]
[null,null,null,null,null,null,null,null,null,"2004-10-26","2004-10-26"]
[null,null,null,null,null,null,null,null,null,"2004-10-27","2004-10-27"]
[null,null,null,null,null,null,null,null,null,"2004-10-28","2004-10-28"]
[null,null,null,null,null,null,null,null,null,"2004-10-29","2004-10-29"]
[null,null,null,null,null,null,null,null,null,"2004-10-30","2004-10-30"]
[null,null,null,null,null,null,null,null,null,"2004-10-31","2004-10-31"]
[null,null,null,null,null,null,null,null,null,"2004-11-01","2004-11-01"]
[null,null,null,null,null,null,null,null,null,"2004-11-02","2004-11-02"]
[null,null,null,null,null,null,null,null,null,"2004-11-03","2004-11-03"]
[null,null,null,null,null,null,null,null,null,"2004-11-04","2004-11-04"]
[null,null,null,null,null,null,null,null,null,"2004-11-05","2004-11-05"]
[null,null,null,null,null,null,null,null,null,"2004-11-06","2004-11-06"]
[null,null,null,null,null,null,null,null,null,"2004-11-07","2004-11-07"]
[null,null,null,null,null,null,null,null,null,"2004-11-08","2004-11-08"]
[null,null,null,null,null,null,null,null,null,"2004-11-09","2004-11-09"]
[null,null,null,null,null,null,null,null,null,"2004-11-10","2004-11-10"]
[null,null,null,null,null,null,null,null,null,"2004-11-11",{"$f":"IF(MOD(Jahr,4)=0,K324+1,J326)","v":"2004-11-11"}]
[null,null,null,null,null,null,null,null,null,"2004-11-12","2004-11-12"]
[null,null,null,null,null,null,null,null,null,"2004-11-13","2004-11-13"]
[null,null,null,null,null,null,null,null,null,"2004-11-14","2004-11-14"]
[null,null,null,null,null,null,null,null,null,"2004-11-15","2004-11-15"]
[null,null,null,null,null,null,null,null,null,"2004-11-16","2004-11-16"]
[null,null,null,null,null,null,null,null,null,"2004-11-17","2004-11-17"]
[null,null,null,null,null,null,null,null,null,"2004-11-18","2004-11-18"]
[null,null,null,null,null,null,null,null,null,"2004-11-19","2004-11-19"]
[null,null,null,null,null,null,null,null,null,"2004-11-20","2004-11-20"]
[null,null,null,null,null,null,null,null,null,"2004-11-21","2004-11-21"]
[null,null,null,null,null,null,null,null,null,"2004-11-22","2004-11-22"]
[null,null,null,null,null,null,null,null,null,"2004-11-23","2004-11-23"]
[null,null,null,null,null,null,null,null,null,"2004-11-24","2004-11-24"]
[null,null,null,null,null,null,null,null,null,"2004-11-25","2004-11-25"]
[null,null,null,null,null,null,null,null,null,"2004-11-26","2004-11-26"]
[null,null,null,null,null,null,null,null,null,"2004-11-27","2004-11-27"]
[null,null,null,null,null,null,null,null,null,"2004-11-28","2004-11-28"]
[null,null,null,null,null,null,null,null,null,"2004-11-29","2004-11-29"]
[null,null,null,null,null,null,null,null,null,"2004-11-30","2004-11-30"]
[null,null,null,null,null,null,null,null,null,"2004-12-01","2004-12-01"]
[null,null,null,null,null,null,null,null,null,"2004-12-02","2004-12-02"]
[null,null,null,null,null,null,null,null,null,"2004-12-03","2004-12-03"]
[null,null,null,null,null,null,null,null,null,"2004-12-04","2004-12-04"]
[null,null,null,null,null,null,null,null,null,"2004-12-05","2004-12-05"]
[null,null,null,null,null,null,null,null,null,"2004-12-06","2004-12-06"]
[null,null,null,null,null,null,null,null,null,"2004-12-07","2004-12-07"]
[null,null,null,null,null,null,null,null,null,"2004-12-08","2004-12-08"]
[null,null,null,null,null,null,null,null,null,"2004-12-09","2004-12-09"]
[null,null,null,null,null,null,null,null,null,"2004-12-10","2004-12-10"]
[null,null,null,null,null,null,null,null,null,"2004-12-11","2004-12-11"]
[null,null,null,null,null,null,null,null,null,"2004-12-12","2004-12-12"]
[null,null,null,null,null,null,null,null,null,"2004-12-13","2004-12-13"]
[null,null,null,null,null,null,null,null,null,"2004-12-14","2004-12-14"]
[null,null,null,null,null,null,null,null,null,"2004-12-15","2004-12-15"]
[null,null,null,null,null,null,null,null,null,"2004-12-16","2004-12-16"]
[null,null,null,null,null,null,null,null,null,"2004-12-17","2004-12-17"]
[null,null,null,null,null,null,null,null,null,"2004-12-18","2004-12-18"]
[null,null,null,null,null,null,null,null,null,"2004-12-19","2004-12-19"]
[null,null,null,null,null,null,null,null,null,"2004-12-20","2004-12-20"]
[null,null,null,null,null,null,null,null,null,"2004-12-21","2004-12-21"]
[null,null,null,null,null,null,null,null,null,"2004-12-22","2004-12-22"]
[null,null,null,null,null,null,null,null,null,"2004-12-23","2004-12-23"]
[null,null,null,null,null,null,null,null,null,"2004-12-24","2004-12-24"]
[null,null,null,null,null,null,null,null,null,"2004-12-25","2004-12-25"]
[null,null,null,null,null,null,null,null,null,"2004-12-26","2004-12-26"]
[null,null,null,null,null,null,null,null,null,"2004-12-27","2004-12-27"]
[null,null,null,null,null,null,null,null,null,"2004-12-28","2004-12-28"]
[null,null,null,null,null,null,null,null,null,"2004-12-29","2004-12-29"]
[null,null,null,null,null,null,null,null,null,"2004-12-30","2004-12-30"]
[null,null,null,null,null,null,null,null,null,"2004-12-31","2004-12-31"]
[null,null,null,null,null,null,null,null,null,"2005-01-01"]

{"sheet":"Flugplätze","index":13,"n_rows":445,"n_cols":41,"rows_kept":445,"cut":false,"hidden":true,"merged":[]}
[null,null,null,null,null,"Aerodrome",null,"#","Elev (ft)","Freq [MHz]","INFO/TWR","GROUND [MHz]","ATIS [MHz]",null,null,"Lat ° ","Lat '",null,"Long ° ","Long '",null,"Lat","Long"]
[null,null,null,null,"EDAB","Bautzen",{"$f":"COUNTIF($J$2:$J$445,J2)","v":2},50,568,120.6,"Bautzen INFO","","","INFO",null,51,11.61,"N",14,31.18,"E",{"$f":"IF(P2+(Q2/60)<>0,ROUND(P2+(Q2/60),4),\"\")","v":51.1935},{"$f":"IF(S2+(T2/60)<>0,ROUND(S2+(T2/60),4),\"\")","v":14.5197},{"$f":"LEFT(V2,2)&\".\"&RIGHT(TEXT(V2,\"00,0000\"),4)","v":"51.1935"},{"$f":"LEFT(W2,IF(W2<10,1,2))&\".\"&RIGHT(TEXT(W2,\"00,0000\"),4)","v":"14.5197"},{"$f":"LEFT(J2,3)&\".\"&IF(LEN(J2)=3,\"\",RIGHT(J2,LEN(J2)-4))&IF(LEN(J2)=3,\"000\",IF(LEN(J2)=5,\"00\",IF(LEN(J2)=6,\"0\",\"\")))","v":"120.600"}]
[null,null,null,null,"EDAC","Leipzig-Altenburg Airport",1,246,640,123.575,"Altenburg TURM/TOWER","","","TWR",null,50,58.91,"N",12,30.38,"E",50.9818,12.5063,"50.9818","12.5063","123.575",null,"Startplatz",null,null,null,null,"Zielplatz",null,null,null,null,"Ausweichplugplatz"]
[null,null,null,null,"EDAD","Dessau",7,95,187,118.175,"Dessau INFO","","","INFO",null,51,49.93,"N",12,11.15,"E",51.8322,12.1858,"51.8322","12.1858","118.175",null,{"$f":"'Flugdurchführungsplan (n. DFS)'!F4","v":0},{"$f":"VLOOKUP($AB$4,$E$2:$Y$421,COLUMN($V$1)-4,FALSE)","v":{"$error":"#N/A"}},{"$f":"VLOOKUP($AB$4,$E$2:$Y$421,COLUMN($W$1)-4,FALSE)","v":{"$error":"#N/A"}},{"$f":"VLOOKUP($AB$4,$E$2:$Y$421,2,FALSE)","v":{"$error":"#N/A"}},null,{"$f":"'Flugdurchführungsplan (n. DFS)'!J4","v":0},{"$f":"VLOOKUP(AG4,$E$2:$Y$421,COLUMN($V$1)-4,FALSE)","v":{"$error":"#N/A"}},{"$f":"VLOOKUP($AG$4,$E$2:$Y$421,COLUMN($W$1)-4,FALSE)","v":{"$error":"#N/A"}},{"$f":"VLOOKUP($AG$4,$E$2:$Y$421,2,FALSE)","v":{"$error":"#N/A"}},null,{"$f":"'Flugdurchführungsplan (n. DFS)'!C56","v":0},{"$f":"VLOOKUP($AL$4,$E$2:$Y$421,COLUMN($V$1)-4,FALSE)","v":{"$error":"#N/A"}},{"$f":"VLOOKUP($AL$4,$E$2:$Y$421,COLUMN($W$1)-4,FALSE)","v":{"$error":"#N/A"}},{"$f":"VLOOKUP($AL$4,$E$2:$Y$421,2,FALSE)","v":{"$error":"#N/A"}}]
[null,null,null,null,"EDAE","Eisenhuettenstadt",19,115,149,122,"Eisenhuettenstadt INFO","","","INFO",null,52,11.67,"N",14,35.28,"E",52.194499999999998,14.587999999999999,"52.1945","14.5880","122.000",null,null,{"$f":"AC4","v":{"$error":"#N/A"}},{"$f":"AD4","v":{"$error":"#N/A"}},{"$f":"AE4","v":{"$error":"#N/A"}},null,null,{"$f":"AH4","v":{"$error":"#N/A"}},{"$f":"AI4","v":{"$error":"#N/A"}},{"$f":"AJ4","v":{"$error":"#N/A"}},null,null,{"$f":"VALUE(LEFT(AM4,2)&\",\"&RIGHT(AM4,4))","v":{"$error":"#N/A"}},{"$f":"AN4","v":{"$error":"#N/A"}},{"$f":"AO4","v":{"$error":"#N/A"}}]
[null,null,null,null,"EDAG","Großrueckerswalde",24,160,2198,123,"Grossrueckerswalde INFO","","","INFO",null,50,38.630000000000003,"N",13,7.58,"E",50.643799999999999,13.126300000000001,"50.6438","13.1263","123.000",null,{"$f":"VLOOKUP($AB$4,$E$2:$Y$421,5,FALSE)","v":{"$error":"#N/A"}},"ft",{"$f":"VLOOKUP($AB$4,$E$2:$Y$421,6,FALSE)","v":{"$error":"#N/A"}},"MHz",null,{"$f":"VLOOKUP($AG$4,$E$2:$Y$421,5,FALSE)","v":{"$error":"#N/A"}},"ft",{"$f":"VLOOKUP($AG$4,$E$2:$Y$421,6,FALSE)","v":{"$error":"#N/A"}},"MHz",null,{"$f":"VLOOKUP($AL$4,$E$2:$Y$421,5,FALSE)","v":{"$error":"#N/A"}},"ft",{"$f":"VLOOKUP($AL$4,$E$2:$Y$421,6,FALSE)","v":{"$error":"#N/A"}},"MHz"]
[null,null,null,null,"EDAH","Heringsdorf",1,181,93,132.82499999999999,"Heringsdorf TURM/TOWER","","","TWR",null,53,52.72,"N",14,9.14,"E",53.878700000000002,14.1523,"53.8787","14.1523","132.825",null,{"$f":"VLOOKUP($AB$4,$E$2:$Y$421,7,FALSE)","v":{"$error":"#N/A"}},"ATIS:",{"$f":"IF(ISERROR(VLOOKUP($AB$4,$E$2:$Y$421,9,FALSE)),\"\",VLOOKUP($AB$4,$E$2:$Y$421,9,FALSE))","v":""},"MHz",null,{"$f":"VLOOKUP($AG$4,$E$2:$Y$421,7,FALSE)","v":{"$error":"#N/A"}},"ATIS:",{"$f":"IF(ISERROR(VLOOKUP($AG$4,$E$2:$Y$421,9,FALSE)),\"\",VLOOKUP($AG$4,$E$2:$Y$421,9,FALSE))","v":""},"MHz",null,{"$f":"VLOOKUP($AL$4,$E$2:$Y$421,7,FALSE)","v":{"$error":"#N/A"}},"ATIS:",{"$f":"IF(ISERROR(VLOOKUP($AL$4,$E$2:$Y$421,9,FALSE)),\"\",VLOOKUP($AL$4,$E$2:$Y$421,9,FALSE))","v":""},"MHz"]
[null,null,null,null,"EDAI","Segeletz",9,394,142,0,"no call sign","","","",null,52,49.59,"N",12,32.520000000000003,"E",52.826500000000003,12.542,"52.8265","12.5420",{"$error":"#VALUE!"},null,{"$f":"VLOOKUP($AB$4,$E$2:$Y$421,10,FALSE)","v":{"$error":"#N/A"}},"GROUND:",{"$f":"VLOOKUP($AB$4,$E$2:$Y$421,8,FALSE)","v":{"$error":"#N/A"}},"MHz",null,{"$f":"VLOOKUP($AG$4,$E$2:$Y$421,10,FALSE)","v":{"$error":"#N/A"}},"GROUND:",{"$f":"VLOOKUP($AG$4,$E$2:$Y$421,8,FALSE)","v":{"$error":"#N/A"}},"MHz",null,{"$f":"VLOOKUP($AL$4,$E$2:$Y$421,10,FALSE)","v":{"$error":"#N/A"}},"GROUND:",{"$f":"VLOOKUP($AL$4,$E$2:$Y$421,8,FALSE)","v":{"$error":"#N/A"}},"MHz"]
[null,null,null,null,"EDAJ","Gera-Leumnitz",3,142,1015,118.075,"Gera INFO","","","INFO",null,50,52.84,"N",12,8.24,"E",50.880699999999997,12.1373,"50.8807","12.1373","118.075",null,null,"Grad","Minuten","Sekunden",null,null,"Grad","Minuten","Sekunden",null,null,"Grad","Minuten","Sekunden"]
[null,null,null,null,"EDAK","Großenhain",5,159,417,122.7,"Grossenhain INFO","","","INFO",null,51,18.420000000000002,"N",13,33.33,"E",51.307000000000002,13.5555,"51.3070","13.5555","122.700",null,"Breite",{"$f":"ROUNDDOWN(AC5,0)","v":{"$error":"#N/A"}},{"$f":"ROUNDDOWN((AC5-AC10)*60,0)","v":{"$error":"#N/A"}},{"$f":"(AC5-AC10-(AD10/60))*60*60","v":{"$error":"#N/A"}},null,"Breite",{"$f":"ROUNDDOWN(AH5,0)","v":{"$error":"#N/A"}},{"$f":"ROUNDDOWN((AH5-AH10)*60,0)","v":{"$error":"#N/A"}},{"$f":"(AH5-AH10-(AI10/60))*60*60","v":{"$error":"#N/A"}},null,"Breite",{"$f":"ROUNDDOWN(AM5,0)","v":{"$error":"#N/A"}},{"$f":"ROUNDDOWN((AM5-AM10)*60,0)","v":{"$error":"#N/A"}},{"$f":"(AM5-AM10-(AN10/60))*60*60","v":{"$error":"#N/A"}}]
[null,null,null,null,"EDAM","Merseburg",3,270,340,122.9,"Merseburg INFO","","","INFO",null,51,21.78,"N",11,56.45,"E",51.363,11.940799999999999,"51.3630","11.9408","122.900",null,"Länge",{"$f":"ROUNDDOWN(AD5,0)","v":{"$error":"#N/A"}},{"$f":"ROUNDDOWN((AD5-AC11)*60,0)","v":{"$error":"#N/A"}},{"$f":"(AD5-AC11-(AD11/60))*60*60","v":{"$error":"#N/A"}},null,"Länge",{"$f":"ROUNDDOWN(AI5,0)","v":{"$error":"#N/A"}},{"$f":"ROUNDDOWN((AI5-AH11)*60,0)","v":{"$error":"#N/A"}},{"$f":"(AI5-AH11-(AI11/60))*60*60","v":{"$error":"#N/A"}},null,"Länge",{"$f":"ROUNDDOWN(AN5,0)","v":{"$error":"#N/A"}},{"$f":"ROUNDDOWN((AN5-AM11)*60,0)","v":{"$error":"#N/A"}},{"$f":"(AN5-AM11-(AN11/60))*60*60","v":{"$error":"#N/A"}}]
[null,null,null,null,"EDAN","Neustadt-Glewe",5,297,115,123.375,"Neustadt INFO","","","INFO",null,53,21.66,"N",11,36.909999999999997,"E",53.360999999999997,11.6152,"53.3610","11.6152","123.375"]
[null,null,null,null,"EDAO","Nordhausen",6,303,689,118.625,"Nordhausen INFO","","","INFO",null,51,29.59,"N",10,50,"E",51.493200000000002,10.833299999999999,"51.4932","10.8333","118.625",null,null,"z=",{"$f":"ACOS(SIN(AD22)*SIN(AD18)+COS(AD18)*COS(AD22)*COS(AD23-AD19))","v":{"$error":"#N/A"}}]
[null,null,null,null,"EDAP","Neuhausen",2,290,279,122.72499999999999,"Neuhausen INFO","","","INFO",null,51,41.09,"N",14,25.39,"E",51.684800000000003,14.4232,"51.6848","14.4232","122.725",null,null,"a=",{"$f":"ACOS((SIN(AD22)-SIN(AD18)*COS(AD13))/(COS(AD18)*SIN(AD13)))","v":{"$error":"#N/A"}}]
[null,null,null,null,"EDAQ","Halle-Oppin",2,168,350,135.15,"Oppin INFO","","","INFO",null,51,33.130000000000003,"N",12,3.23,"E",51.552199999999999,12.053800000000001,"51.5522","12.0538","135.150",null,null,"b=",{"$f":"ACOS((SIN(AD18)-SIN(AD22)*COS(AD13))/(COS(AD18)*SIN(AD13)))","v":{"$error":"#N/A"}}]
[null,null,null,null,"EDAR","Pirna-Pratzschwitz",6,343,402,118.625,"Pirna INFO","","","INFO",null,50,58.78,"N",13,54.51,"E",50.979700000000001,13.9085,"50.9797","13.9085","118.625"]
[null,null,null,null,"EDAS","Finsterwalde/Heinrichsruh",9,125,384,null,"no call sign",0,0,0,null,51,38.06,"N",13,40.31,"E",51.634300000000003,13.671799999999999,"51.6343","13.6718",{"$error":"#VALUE!"},null,"Start"]
[null,null,null,null,"EDAT","Nardt",24,286,382,123,"Nardt INFO","","","INFO",null,51,27.1,"N",14,12.15,"E",51.451700000000002,14.202500000000001,"51.4517","14.2025","123.000",null,"Breite","j=",{"$f":"AC5*PI()/180","v":{"$error":"#N/A"}},"N"]
[null,null,null,null,"EDAU","Riesa-Goehlis",20,357,322,122.6,"Riesa INFO","","","INFO",null,51,17.59,"N",13,21.43,"E",51.293199999999999,13.357200000000001,"51.2932","13.3572","122.600",null,"Länge","l=",{"$f":"AD5*PI()/180","v":{"$error":"#N/A"}},"E"]
[null,null,null,null,"EDAV","Eberswalde-Finow",2,110,116,119.05,"Finow INFO","","","INFO",null,52,49.58,"N",13,42.1,"E",52.826300000000003,13.701700000000001,"52.8263","13.7017","119.050",null,null,null,null,null,{"$f":"IF(AD19>AD23,-1,1)","v":{"$error":"#N/A"}}]
[null,null,null,null,"EDAW","Roitzschjora",19,359,289,122,"Roitzschjora INFO","","","INFO",null,51,34.61,"N",12,29.75,"E",51.576799999999999,12.495799999999999,"51.5768","12.4958","122.000",null,"Ziel"]
[null,null,null,null,"EDAX","Mueritz Airpark",6,283,220,129.97499999999999,"Müritz INFO","","","INFO",null,53,18.309999999999999,"N",12,45.13,"E",53.305199999999999,12.7522,"53.3052","12.7522","129.975",null,"Breite","j=",{"$f":"AH5*PI()/180","v":{"$error":"#N/A"}},"N"]
[null,null,null,null,"EDAY","Strausberg",11,412,263,123.05,"Strausberg INFO","","","INFO",null,52,34.81,"N",13,54.9,"E",52.580199999999998,13.914999999999999,"52.5802","13.9150","123.050",null,"Länge","l=",{"$f":"AI5*PI()/180","v":{"$error":"#N/A"}},"E"]
[null,null,null,null,"EDAZ","Schoenhagen",1,381,131,131.15,"Schoenhagen INFO","","","INFO",null,52,12.48,"N",13,9.39,"E",52.207999999999998,13.156499999999999,"52.2080","13.1565","131.150"]
[null,null,null,null,"EDBA","Arnstadt-Alkersleben",24,19,1145,123,"Arnstadt INFO","","","INFO",null,50,50.51,"N",11,4.2,"E",50.841799999999999,11.07,"50.8418","11.0700","123.000",null,null,"Distance=",{"$f":"AD13*21600/(2*PI())","v":{"$error":"#N/A"}},"NM"]
[null,null,null,null,"EDBC","Magdeburg/Cochstedt",1,258,601,131.125,"Cochstedt TURM/TOWER",121.825,"","TWR",null,51,51.36,"N",11,25.08,"E",51.856000000000002,11.417999999999999,"51.8560","11.4180","131.125",null,null,"True Course=",{"$f":"IF(AF20=-1,360-(AD14*180/PI()),AD14*180/PI())","v":{"$error":"#N/A"}},"°"]
[null,null,null,null,"EDBE","Brandenburg-Muehlenfeld",6,76,100,118.625,"Brandenburg  INFO","","","INFO",null,52,26.18,"N",12,35.44,"E",52.436300000000003,12.5907,"52.4363","12.5907","118.625"]
[null,null,null,null,"EDBF","Ruppiner Land",15,367,135,122.5,"Ruppiner Land INFO","","","INFO",null,52,47.6,"N",12,45.62,"E",52.793300000000002,12.760300000000001,"52.7933","12.7603","122.500"]
[null,null,null,null,"EDBG","Burg",9,84,173,122.05,"Burg INFO","","","INFO",null,52,14.5,"N",11,51.36,"E",52.241700000000002,11.856,"52.2417","11.8560","122.050"]
[null,null,null,null,"EDBH","Barth",3,48,23,118.075,"Barth INFO","","","INFO",null,54,20.29,"N",12,42.61,"E",54.338200000000001,12.7102,"54.3382","12.7102","118.075"]
[null,null,null,null,"EDBI","Zwickau",3,466,1050,122.9,"Zwickau INFO","","","INFO",null,50,42.18,"N",12,27.57,"E",50.703000000000003,12.4595,"50.7030","12.4595","122.900"]
[null,null,null,null,"EDBJ","Jena-Schoengleina",9,206,1228,122.05,"Jena-Schoengleina INFO","","","INFO",null,50,54.93,"N",11,42.85,"E",50.915500000000002,11.7142,"50.9155","11.7142","122.050"]
[null,null,null,null,"EDBK","Kyritz",2,230,130,122.72499999999999,"Kyritz INFO","","","INFO",null,52,55.13,"N",12,25.52,"E",52.918799999999997,12.4253,"52.9188","12.4253","122.725"]
[null,null,null,null,"EDBL","Laucha",5,240,738,122.47499999999999,"Laucha INFO","","","INFO",null,51,14.76,"N",11,41.58,"E",51.246000000000002,11.693,"51.2460","11.6930","122.475"]
[null,null,null,null,"EDBM","Magdeburg/City",1,257,268,119.3,"Magdeburg INFO","","","INFO",null,52,4.42,"N",11,37.590000000000003,"E",52.073700000000002,11.6265,"52.0737","11.6265","119.300"]
[null,null,null,null,"EDBN","Neubrandenburg",2,287,228,119.175,null,null,null,null,null,53,36.130000000000003,"N",13,18.36,"E",53.602200000000003,13.305999999999999,"53.6022","13.3060","119.175"]
[null,null,null,null,"EDBO","Oehna",15,318,287,122.5,"Oehna INFO","","","INFO",null,51,53.94,"N",13,3.35,"E",51.899000000000001,13.0558,"51.8990","13.0558","122.500"]
[null,null,null,null,"EDBP","Pinnow",15,341,144,122.5,"Pinnow INFO","","","INFO",null,53,36.909999999999997,"N",11,33.659999999999997,"E",53.615200000000002,11.561,"53.6152","11.5610","122.500"]
[null,null,null,null,"EDBQ","Bronkow",2,82,423,130.32499999999999,"Bronkow INFO","","","INFO",null,51,40.24,"N",13,57.61,"E",51.670699999999997,13.9602,"51.6707","13.9602","130.325"]
[null,null,null,null,"EDBR","Rothenburg/Goerlitz",5,363,517,123.25,"Rothenburg INFO","","","INFO",null,51,21.79,"N",14,57,"E",51.363199999999999,14.95,"51.3632","14.9500","123.250"]
[null,null,null,null,"EDBS","Soemmerda-Dermsdorf",2,399,451,124,"Soemmerda INFO","","","INFO",null,51,11.94,"N",11,11.55,"E",51.198999999999998,11.192500000000001,"51.1990","11.1925","124.000"]
[null,null,null,null,"EDBT","Allstedt",19,10,932,122,"no call sign","","","",null,51,22.83,"N",11,26.8,"E",51.380499999999998,11.4467,"51.3805","11.4467","122.000"]
[null,null,null,null,"EDBU","Pritzwalk-Sommersberg",20,347,289,122.6,"Pritzwalk INFO","","","INFO",null,53,10.85,"N",12,11.13,"E",53.180799999999998,12.185499999999999,"53.1808","12.1855","122.600"]
[null,null,null,null,"EDBV","Stralsund",6,410,49,118.625,"Stralsund INFO","","","INFO",null,54,20.32,"N",13,2.81,"E",54.338700000000003,13.046799999999999,"54.3387","13.0468","118.625"]
[null,null,null,null,"EDBW","Werneuchen",20,447,263,122.6,"Werneuchen INFO","","","INFO",null,52,37.979999999999997,"N",13,46.02,"E",52.633000000000003,13.766999999999999,"52.6330","13.7670","122.600"]
[null,null,null,null,"EDBX","Goerlitz",19,149,778,122,"Goerlitz INFO","","","INFO",null,51,9.5299999999999994,"N",14,57.02,"E",51.158799999999999,14.9503,"51.1588","14.9503","122.000"]
[null,null,null,null,"EDBY","Schmoldow",15,378,105,122.85,"Schmoldow INFO","","","INFO",null,53,58.24,"N",13,20.64,"E",53.970700000000001,13.343999999999999,"53.9707","13.3440","122.850"]
[null,null,null,null,"EDBZ","Schwarzheide-Schipkau",6,387,330,129.97499999999999,"Schwarzheide INFO","","","INFO",null,51,29.39,"N",13,52.76,"E",51.489800000000002,13.879300000000001,"51.4898","13.8793","129.975"]
[null,null,null,null,"EDCA","Anklam",3,14,18,122.65,"Anklam INFO","","","INFO",null,53,49.91,"N",13,40.39,"E",53.831800000000001,13.6732,"53.8318","13.6732","122.650"]
[null,null,null,null,"EDCB","Ballenstedt",5,44,502,122.7,"Ballenstedt INFO","","","INFO",null,51,44.78,"N",11,13.86,"E",51.746299999999998,11.231,"51.7463","11.2310","122.700"]
[null,null,null,null,"EDCD","Cottbus-Drewitz",4,90,274,118.125,"Drewitz INFO","","","INFO",null,51,53.37,"N",14,31.92,"E",51.889499999999998,14.532,"51.8895","14.5320","118.125"]
[null,null,null,null,"EDCE","Eggersdorf",24,112,223,123,"Eggersdorf INFO","","","INFO",null,52,28.97,"N",14,5.45,"E",52.482799999999997,14.0908,"52.4828","14.0908","123.000"]
[null,null,null,null,"EDCG","Ruegen",24,366,69,123,"Rügen INFO","","","INFO",null,54,23.03,"N",13,19.54,"E",54.383800000000001,13.325699999999999,"54.3838","13.3257","123.000"]
[null,null,null,null,"EDCH","Sprossen",9,402,672,0,"no call sign","","","",null,51,2.59,"N",12,13.99,"E",51.043199999999999,12.2332,"51.0432","12.2332",{"$error":"#VALUE!"}]
[null,null,null,null,"EDCI","Klix",2,221,486,118.6,"Klix INFO","","","INFO",null,51,16.420000000000002,"N",14,30.39,"E",51.273699999999998,14.506500000000001,"51.2737","14.5065","118.600"]
[null,null,null,null,"EDCJ","Chemnitz/Jahnsdorf",15,87,1202,122.5,"Jahnsdorf INFO","","","INFO",null,50,44.84,"N",12,50.24,"E",50.747300000000003,12.837300000000001,"50.7473","12.8373","122.500"]
[null,null,null,null,"EDCK","Koethen",18,224,304,123.65,"Koethen INFO","","","INFO",null,51,43.35,"N",11,56.83,"E",51.722499999999997,11.9472,"51.7225","11.9472","123.650"]
[null,null,null,null,"EDCL","Klietz/Scharlibbe",4,220,95,122.375,"Klietz INFO","","","INFO",null,52,42.57,"N",12,4.4000000000000004,"E",52.709499999999998,12.0733,"52.7095","12.0733","122.375"]
[null,null,null,null,"EDCM","Kamenz",9,209,495,122.05,"Kamenz INFO","","","INFO",null,51,17.82,"N",14,7.65,"E",51.296999999999997,14.1275,"51.2970","14.1275","122.050"]
[null,null,null,null,"EDCO","Obermehler-Schlotheim",3,310,909,122.9,"Obermehrler INFO","","","INFO",null,51,16.600000000000001,"N",10,38.090000000000003,"E",51.276699999999998,10.6348,"51.2767","10.6348","122.900"]
[null,null,null,null,"EDCP","Peenemuende",5,334,7,122.47499999999999,"Peenemuende INFO","","","INFO",null,54,9.4700000000000006,"N",13,46.36,"E",54.157800000000002,13.7727,"54.1578","13.7727","122.475"]
[null,null,null,null,"EDCQ","Aschersleben",5,21,525,123.375,"Aschersleben INFO","","","INFO",null,51,45.92,"N",11,29.91,"E",51.765300000000003,11.4985,"51.7653","11.4985","123.375"]
[null,null,null,null,"EDCR","Rerik-Zweedorf",3,355,30,126.5,"Rerik INFO","","","INFO",null,54,4.93,"N",11,39.299999999999997,"E",54.0822,11.654999999999999,"54.0822","11.6550","126.500"]
[null,null,null,null,"EDCS","Saarmund",18,370,174,123.65,"Saarmund INFO","","","INFO",null,52,18.55,"N",13,6.03,"E",52.309199999999997,13.1005,"52.3092","13.1005","123.650"]
[null,null,null,null,"EDCT","Taucha",12,417,492,122.4,"Taucha INFO","","","INFO",null,51,23.68,"N",12,32.21,"E",51.3947,12.536799999999999,"51.3947","12.5368","122.400"]
[null,null,null,null,"EDCU","Guestrow",{"$f":"COUNTIF($J$2:$J$445,J66)","v":19},166,46,122,"Guestrow INFO","","","INFO",null,53,48.41,"N",12,13.91,"E",{"$f":"IF(P66+(Q66/60)<>0,ROUND(P66+(Q66/60),4),\"\")","v":53.806800000000003},{"$f":"IF(S66+(T66/60)<>0,ROUND(S66+(T66/60),4),\"\")","v":12.2318},{"$f":"LEFT(V66,2)&\".\"&RIGHT(TEXT(V66,\"00,0000\"),4)","v":"53.8068"},{"$f":"LEFT(W66,IF(W66<10,1,2))&\".\"&RIGHT(TEXT(W66,\"00,0000\"),4)","v":"12.2318"},{"$f":"LEFT(J66,3)&\".\"&IF(LEN(J66)=3,\"\",RIGHT(J66,LEN(J66)-4))&IF(LEN(J66)=3,\"000\",IF(LEN(J66)=5,\"00\",IF(LEN(J66)=6,\"0\",\"\")))","v":"122.000"}]
[null,null,null,null,"EDCV","Pasewalk",18,331,72,123.65,"Pasewalk INFO","","","INFO",null,53,30.33,"N",13,56.9,"E",53.505499999999998,13.9483,"53.5055","13.9483","123.650"]
[null,null,null,null,"EDCW","Wismar",11,458,43,123.05,"Wismar INFO","","","INFO",null,53,54.87,"N",11,29.97,"E",53.914499999999997,11.499499999999999,"53.9145","11.4995","123.050"]
[null,null,null,null,"EDCX","Purkshof",12,348,66,122.4,"Purkshof INFO","","","INFO",null,54,9.65,"N",12,14.91,"E",54.160800000000002,12.2485,"54.1608","12.2485","122.400"]
[null,null,null,null,"EDCY","Welzow",1,445,375,134.85,"Welzow INFO","","","INFO",null,51,34.619999999999997,"N",14,8.2200000000000006,"E",51.576999999999998,14.137,"51.5770","14.1370","134.850"]
[null,null,null,null,"EDDB","Berlin/Schoenefeld",1,56,157,119.575,"Schoenefeld TURM/TOWER","",123.77500000000001,"TWR",null,52,21.73,"N",13,30.04,"E",52.362200000000001,13.5007,"52.3622","13.5007","119.575"]
[null,null,null,null,"EDDC","Dresden",5,107,754,122.925,"Dresden TURM/TOWER",121.97499999999999,118.875,"TWR",null,51,8.06,"N",13,46.08,"E",51.134300000000003,13.768000000000001,"51.1343","13.7680","122.925"]
[null,null,null,null,"EDDE","Erfurt-Weimar",1,121,1036,121.15,"Erfurt TURM/TOWER",121.75,133.44999999999999,"TWR",null,50,58.783333333333331,"N",10,57.483333333333334,"E",50.979700000000001,10.9581,"50.9797","10.9581","121.150"]
[null,null,null,null,"EDDF","Frankfurt Main",1,131,364,119.9,"Frankfurt TURM/TOWER",121.8,118.02500000000001,"TWR",null,50,2,"N",8,34.229999999999997,"E",50.033299999999997,8.5704999999999991,"50.0333","8.5705","119.900"]
[null,null,null,null,"EDDG","Muenster/Osnabrueck",3,281,160,129.80000000000001,"Muenster TURM/TOWER",121.875,127.175,"TWR",null,52,8.08,"N",7,41.09,"E",52.134700000000002,7.6848000000000001,"52.1347","7.6848","129.800"]
[null,null,null,null,"EDDH","Hamburg",1,169,53,121.27500000000001,"Hamburg TURM/TOWER",121.8,123.125,"TWR",null,53,37.82,"N",9,59.29,"E",53.630299999999998,9.9882000000000009,"53.6303","9.9882","121.275"]
[null,null,null,null,"EDDK","Koeln/Bonn",2,223,302,124.97499999999999,"Koeln-Bonn TURM/TOWER",121.72499999999999,112.15,"TWR",null,50,51.95,"N",7,8.56,"E",50.8658,7.1426999999999996,"50.8658","7.1427","124.975"]
[null,null,null,null,"EDDL","Duesseldorf",3,108,147,118.3,"Duesseldorf TURM/TOWER",121.9,123.77500000000001,"TWR",null,51,16.86,"N",6,45.44,"E",51.280999999999999,6.7572999999999999,"51.2810","6.7573","118.300"]
[null,null,null,null,"EDDM","Muenchen",3,280,1487,118.7,"Muenchen TURM/TOWER",121.72499999999999,123.125,"TWR",null,48,21.23,"N",11,47.17,"E",48.3538,11.786199999999999,"48.3538","11.7862","118.700"]
[null,null,null,null,"EDDN","Nuernberg",3,309,1046,118.3,"Nuernberg TURM/TOWER",118.1,123.075,"TWR",null,49,29.92,"N",11,4.68,"E",49.498699999999999,11.077999999999999,"49.4987","11.0780","118.300"]
[null,null,null,null,"EDDP","Leipzig/Halle",1,247,470,121.1,"Leipzig TURM/TOWER",121.675,123.95,"TWR",null,51,25.44,"N",12,14.18,"E",51.423999999999999,12.2363,"51.4240","12.2363","121.100"]
[null,null,null,null,"EDDR","Saarbruecken",3,368,1058,118.35,"Saarbruecken TURM/TOWER","",125.3,"TWR",null,49,12.87,"N",7,6.57,"E",49.214500000000001,7.1094999999999997,"49.2145","7.1095","118.350"]
[null,null,null,null,"EDDS","Stuttgart",2,413,1276,119.05,"Stuttgart TURM/TOWER",118.6,126.125,"TWR",null,48,41.39,"N",9,13.32,"E",48.689799999999998,9.2219999999999995,"48.6898","9.2220","119.050"]
[null,null,null,null,"EDDT","Berlin-Tegel",1,57,122,124.52500000000001,"Tegel TURM/TOWER","",125.9,"TWR",null,52,33.58,"N",13,17.260000000000002,"E",52.559699999999999,13.287699999999999,"52.5597","13.2877","124.525"]
[null,null,null,null,"EDDV","Hannover",1,173,183,120.175,"Hannover TURM/TOWER",121.95,136.57499999999999,"TWR",null,52,27.61,"N",9,41.01,"E",52.4602,9.6835000000000004,"52.4602","9.6835","120.175"]
[null,null,null,null,"EDDW","Bremen",1,79,14,120.325,"Bremen TURM/TOWER",121.75,123.375,"TWR",null,53,2.84,"N",8,47.2,"E",53.0473,8.7866999999999997,"53.0473","8.7867","120.325"]
[null,null,null,null,"EDEB","Bad Langensalza",6,39,650,130.125,"Bad Langensalza INFO","","","INFO",null,51,7.75,"N",10,37.299999999999997,"E",51.129199999999997,10.621700000000001,"51.1292","10.6217","130.125"]
[null,null,null,null,"EDEF","Babenhausen",1,27,436,123.2,"Babenhausen INFO","","","INFO",null,49,57.17,"N",8,58.16,"E",49.952800000000003,8.9693000000000005,"49.9528","8.9693","123.200"]
[null,null,null,null,"EDEG","Gotha-Ost",15,151,1010,122.5,"Gotha INFO","","","INFO",null,50,58.23,"N",10,43.68,"E",50.970500000000001,10.728,"50.9705","10.7280","122.500"]
[null,null,null,null,"EDEH","Herrenteich",1,182,308,132.05000000000001,"Herrenteich INFO","","","INFO",null,49,20.7,"N",8,29.26,"E",49.344999999999999,8.4877000000000002,"49.3450","8.4877","132.050"]
[null,null,null,null,"EDEL","Langenlonsheim",3,237,295,122.875,"Langenlonsheim INFO","","","INFO",null,49,54.5,"N",7,54.46,"E",49.908299999999997,7.9077000000000002,"49.9083","7.9077","122.875"]
[null,null,null,null,"EDEM","Mosenberg",11,277,1315,123.05,"Mosenberg INFO","","","INFO",null,51,3.77,"N",9,25.32,"E",51.062800000000003,9.4220000000000006,"51.0628","9.4220","123.050"]
[null,null,null,null,"EDEN","Bad Hersfeld",2,37,971,124,"Hersfeld INFO","","","INFO",null,50,50.67,"N",9,42.44,"E",50.844499999999996,9.7073,"50.8445","9.7073","124.000"]
[null,null,null,null,"EDEP","Heppenheim",5,180,315,122.47499999999999,"Heppenheim INFO","","","INFO",null,49,37.29,"N",8,37.5,"E",49.621499999999997,8.625,"49.6215","8.6250","122.475"]
[null,null,null,null,"EDEQ","Muehlhausen",15,279,814,122.85,"Muehlhausen INFO","","","INFO",null,51,12.87,"N",10,32.549999999999997,"E",51.214500000000001,10.5425,"51.2145","10.5425","122.850"]
[null,null,null,null,"EDER","Wasserkuppe",1,440,2958,118.65,"Wasserkuppe INFO","","","INFO",null,50,29.87,"N",9,56.97,"E",50.497799999999998,9.9495000000000005,"50.4978","9.9495","118.650"]
[null,null,null,null,"EDEW","Wallduern",5,437,1322,122.75,"Wallduern INFO","","","INFO",null,49,34.9,"N",9,24.13,"E",49.581699999999998,9.4022000000000006,"49.5817","9.4022","122.750"]
[null,null,null,null,"EDFA","Anspach/Taunus",5,16,1102,121.02500000000001,"Anspach INFO","","","INFO",null,50,17.34,"N",8,32.11,"E",50.289000000000001,8.5351999999999997,"50.2890","8.5352","121.025"]
[null,null,null,null,"EDFB","Reichelsheim",2,351,398,120.425,"Reichelsheim INFO","","","INFO",null,50,20.32,"N",8,52.72,"E",50.338700000000003,8.8787000000000003,"50.3387","8.8787","120.425"]
[null,null,null,null,"EDFC","Aschaffenburg",1,20,410,132.42500000000001,"Aschaffenburg INFO","","","INFO",null,49,56.33,"N",9,3.75,"E",49.938800000000001,9.0625,"49.9388","9.0625","132.425"]
[null,null,null,null,"EDFD","Bad Neustadt/Saale-Grasberg",18,41,997,123.65,"Neustadt Saale INFO","","","INFO",null,50,18.329999999999998,"N",10,13.59,"E",50.305500000000002,10.2265,"50.3055","10.2265","123.650"]
[null,null,null,null,"EDFE","Frankfurt-Egelsbach",1,129,385,118.4,"Egelsbach INFO","","","INFO",null,49,57.65,"N",8,38.49,"E",49.960799999999999,8.6415000000000006,"49.9608","8.6415","118.400"]
[null,null,null,null,"EDFG","Gelnhausen",11,141,413,123.05,"Gelnhausen INFO","","","INFO",null,50,11.83,"N",9,10.199999999999999,"E",50.197200000000002,9.17,"50.1972","9.1700","123.050"]
[null,null,null,null,"EDFH","Frankfurt-Hahn",2,130,1649,119.65,"Hahn TURM/TOWER",121.97499999999999,136.35,"TWR",null,49,56.92,"N",7,15.83,"E",49.948700000000002,7.2637999999999998,"49.9487","7.2638","119.650"]
[null,null,null,null,"EDFI","Hirzenhain",3,189,1706,118.325,"Hirzenhain INFO","","","INFO",null,50,47.29,"N",8,23.56,"E",50.788200000000003,8.3926999999999996,"50.7882","8.3927","118.325"]
[null,null,null,null,"EDFJ","Lager Hammelburg",4,233,1133,118.425,"Hammelburg INFO","","","INFO",null,50,5.91,"N",9,53.01,"E",50.098500000000001,9.8834999999999997,"50.0985","9.8835","118.425"]
[null,null,null,null,"EDFK","Bad Kissingen",19,38,653,122,"Bad Kissingen INFO","","","INFO",null,50,12.63,"N",10,4.13,"E",50.210500000000003,10.0688,"50.2105","10.0688","122.000"]
[null,null,null,null,"EDFL","Gießen-Luetzellinden",15,146,756,122.5,"Luetzellinden INFO","","","INFO",null,50,32.630000000000003,"N",8,35.409999999999997,"E",50.543799999999997,8.5901999999999994,"50.5438","8.5902","122.500"]
[null,null,null,null,"EDFM","Mannheim City",2,261,309,129.77500000000001,"Mannheim TURM/TOWER","",136.55000000000001,"TWR",null,49,28.36,"N",8,30.86,"E",49.472700000000003,8.5143000000000004,"49.4727","8.5143","129.775"]
[null,null,null,null,"EDFN","Marburg-Schoenstadt",24,262,833,123,"Marburg INFO","","","INFO",null,50,52.43,"N",8,48.82,"E",50.873800000000003,8.8137000000000008,"50.8738","8.8137","123.000"]
[null,null,null,null,"EDFO","Michelstadt/Odenwald",18,272,1143,123.65,"Michelstadt INFO","","","INFO",null,49,40.71,"N",8,58.34,"E",49.6785,8.9723000000000006,"49.6785","8.9723","123.650"]
[null,null,null,null,"EDFP","Ober-Moerlen",15,311,812,122.85,"Ober-Moerlen INFO","","","INFO",null,50,21.71,"N",8,42.64,"E",50.361800000000002,8.7106999999999992,"50.3618","8.7107","122.850"]
[null,null,null,null,"EDFQ","Allendorf/Eder",7,9,1164,118.175,"Allendorf INFO","","","INFO",null,51,2.12,"N",8,40.85,"E",51.035299999999999,8.6807999999999996,"51.0353","8.6808","118.175"]
[null,null,null,null,"EDFR","Rothenburg o.d.T.",7,362,1309,118.175,"Rothenburg INFO","","","INFO",null,49,23.44,"N",10,13.13,"E",49.390700000000002,10.2188,"49.3907","10.2188","118.175"]
[null,null,null,null,"EDFS","Schweinfurt-Sued",5,389,685,119.97499999999999,"Schweinfurt INFO","","","INFO",null,50,0.63,"N",10,15.08,"E",50.0105,10.251300000000001,"50.0105","10.2513","119.975"]
[null,null,null,null,"EDFT","Lauterbach",4,243,1210,122.175,"Lauterbach INFO","","","INFO",null,50,40.99,"N",9,24.62,"E",50.683199999999999,9.4102999999999994,"50.6832","9.4103","122.175"]
[null,null,null,null,"EDFU","Mainbullau",4,259,1501,122.375,"Mainbullau INFO","","","INFO",null,49,41.7,"N",9,10.92,"E",49.695,9.1820000000000004,"49.6950","9.1820","122.375"]
[null,null,null,null,"EDFV","Worms",1,460,295,124.6,"Worms INFO","","","INFO",null,49,36.380000000000003,"N",8,22.01,"E",49.606299999999997,8.3667999999999996,"49.6063","8.3668","124.600"]
[null,null,null,null,"EDFW","Wuerzburg-Schenkenturm",4,461,991,122.175,"Wuerzburg INFO","","","INFO",null,49,49.08,"N",9,53.83,"E",49.817999999999998,9.8971999999999998,"49.8180","9.8972","122.175"]
[null,null,null,null,"EDFX","Hockenheim",18,190,315,123.65,"Hockenheim INFO","","","INFO",null,49,19.52,"N",8,31.71,"E",49.325299999999999,8.5284999999999993,"49.3253","8.5285","123.650"]
[null,null,null,null,"EDFY","Elz",6,117,699,123.6,"Elz INFO","","","INFO",null,50,25.61,"N",8,0.66,"E",50.4268,8.0109999999999992,"50.4268","8.0110","123.600"]
[null,null,null,null,"EDFZ","Mainz/Finthen",5,260,760,122.925,"Mainz INFO","","","INFO",null,49,58.11,"N",8,8.8800000000000008,"E",49.968499999999999,8.1479999999999997,"49.9685","8.1480","122.925"]
[null,null,null,null,"EDGA","Ailertchen",11,7,1542,123.05,"Ailertchen INFO","","","INFO",null,50,35.549999999999997,"N",7,56,"E",50.592500000000001,7.9333,"50.5925","7.9333","123.050"]
[null,null,null,null,"EDGB","Breitscheid",20,78,1833,122.6,"Breitscheid INFO","","","INFO",null,50,40.630000000000003,"N",8,10.220000000000001,"E",50.677199999999999,8.1702999999999992,"50.6772","8.1703","122.600"]
[null,null,null,null,"EDGE","Eisenach-Kindel",4,114,1101,119.75,"Eisenach INFO","","","INFO",null,50,59.53,"N",10,28.56,"E",50.992199999999997,10.476000000000001,"50.9922","10.4760","119.750"]
[null,null,null,null,"EDGF","Fulda-Jossa",12,136,1558,122.4,"Jossa INFO","","","INFO",null,50,28.54,"N",9,26.52,"E",50.475700000000003,9.4420000000000002,"50.4757","9.4420","122.400"]
[null,null,null,null,"EDGH","Hettstadt",3,185,1050,122.425,"Hettstadt INFO","","","INFO",null,49,47.92,"N",9,50.21,"E",49.798699999999997,9.8368000000000002,"49.7987","9.8368","122.425"]
[null,null,null,null,"EDGI","Ingelfingen-Buehlhof",5,202,1375,130.6,"Ingelfingen INFO","","","INFO",null,49,19.3,"N",9,39.81,"E",49.3217,9.6635000000000009,"49.3217","9.6635","130.600"]
[null,null,null,null,"EDGJ","Ochsenfurt",24,316,814,123,"Ochsenfurt INFO","","","INFO",null,49,40.450000000000003,"N",10,4.29,"E",49.674199999999999,10.0715,"49.6742","10.0715","123.000"]
[null,null,null,null,"EDGK","Korbach",{"$f":"COUNTIF($J$2:$J$445,J130)","v":5},226,1280,119.97499999999999,"Korbach INFO","","","INFO",null,51,15.24,"N",8,52.57,"E",{"$f":"IF(P130+(Q130/60)<>0,ROUND(P130+(Q130/60),4),\"\")","v":51.253999999999998},{"$f":"IF(S130+(T130/60)<>0,ROUND(S130+(T130/60),4),\"\")","v":8.8762000000000008},{"$f":"LEFT(V130,2)&\".\"&RIGHT(TEXT(V130,\"00,0000\"),4)","v":"51.2540"},{"$f":"LEFT(W130,IF(W130<10,1,2))&\".\"&RIGHT(TEXT(W130,\"00,0000\"),4)","v":"8.8762"},{"$f":"LEFT(J130,3)&\".\"&IF(LEN(J130)=3,\"\",RIGHT(J130,LEN(J130)-4))&IF(LEN(J130)=3,\"000\",IF(LEN(J130)=5,\"00\",IF(LEN(J130)=6,\"0\",\"\")))","v":"119.975"}]
[null,null,null,null,"EDGM","Mosbach-Lohrbach",15,276,1083,122.85,"Mosbach INFO","","","INFO",null,49,23.94,"N",9,7.44,"E",49.399000000000001,9.1240000000000006,"49.3990","9.1240","122.850"]
[null,null,null,null,"EDGP","Oppenheim",19,323,279,122,"Oppenheim INFO","","","INFO",null,49,50.43,"N",8,22.61,"E",49.840499999999999,8.3767999999999994,"49.8405","8.3768","122.000"]
[null,null,null,null,"EDGQ","Schameder",4,374,1788,122.02500000000001,"Schameder INFO","","","INFO",null,51,0.01,"N",8,18.41,"E",51.0002,8.3068000000000008,"51.0002","8.3068","122.025"]
[null,null,null,null,"EDGR","Gießen-Reiskirchen",18,147,702,123.65,"Reiskirchen INFO","","","INFO",null,50,34.01,"N",8,52.19,"E",50.566800000000001,8.8697999999999997,"50.5668","8.8698","123.650"]
[null,null,null,null,"EDGS","Siegerland",1,395,1966,120.375,"Siegerland INFO","",128.69999999999999,"INFO",null,50,42.46,"N",8,4.9800000000000004,"E",50.707700000000003,8.0830000000000002,"50.7077","8.0830","120.375"]
[null,null,null,null,"EDGT","Bottenhorn",1,75,1683,123.8,"Bottenhorn INFO","","","INFO",null,50,47.68,"N",8,27.81,"E",50.794699999999999,8.4634999999999998,"50.7947","8.4635","123.800"]
[null,null,null,null,"EDGU","Unterschuepf",20,427,1154,122.6,"Unterschuepf INFO","","","INFO",null,49,30.93,"N",9,40.1,"E",49.515500000000003,9.6683000000000003,"49.5155","9.6683","122.600"]
[null,null,null,null,"EDGW","Wolfhagen-„Graner Berg“",2,459,1027,127.45,"Wolfenhagen INFO","","","INFO",null,51,18.420000000000002,"N",9,10.52,"E",51.307000000000002,9.1753,"51.3070","9.1753","127.450"]
[null,null,null,null,"EDGX","Walldorf",2,436,346,118.27500000000001,"Walldorf INFO","","","INFO",null,49,18.239999999999998,"N",8,39.54,"E",49.304000000000002,8.6590000000000007,"49.3040","8.6590","118.275"]
[null,null,null,null,"EDGY","Kitzingen",1,218,666,118.255,null,null,null,null,null,49,44.66,"N",10,12.25,"E",49.744300000000003,10.2042,"49.7443","10.2042","118.255"]
[null,null,null,null,"EDGZ","Weinheim/Bergstraße",6,443,317,123.6,"Weinheim INFO","","","INFO",null,49,34.049999999999997,"N",8,36.67,"E",49.567500000000003,8.6112000000000002,"49.5675","8.6112","123.600"]
[null,null,null,null,"EDHA","Ahlhorn",1,4,151,136.15,null,null,null,null,null,52,53.33,"N",8,13.79,"E",52.888800000000003,8.2297999999999991,"52.8888","8.2298","136.150"]
[null,null,null,null,"EDHB","Grube",20,161,6,122.6,"Grube INFO","","","INFO",null,54,14.72,"N",11,1.48,"E",54.2453,11.024699999999999,"54.2453","11.0247","122.600"]
[null,null,null,null,"EDHC","Luechow-Rehbeck",15,253,50,122.5,"Luechow INFO","","","INFO",null,53,0.96,"N",11,8.74,"E",53.015999999999998,11.1457,"53.0160","11.1457","122.500"]
[null,null,null,null,"EDHD","Flugplatz Eichsfeld",4,128,1195,122.2,"Heiligenstadt INFO","","","INFO",null,51,24.45,"N",10,8.7200000000000006,"E",51.407499999999999,10.145300000000001,"51.4075","10.1453","122.200"]
[null,null,null,null,"EDHE","Uetersen/Heist",5,426,22,122.7,"Uetersen INFO","","","INFO",null,53,38.82,"N",9,42.25,"E",53.646999999999998,9.7042000000000002,"53.6470","9.7042","122.700"]
[null,null,null,null,"EDHF","Itzehoe/Hungriger Wolf",5,205,82,123.375,"Itzehoe INFO","","","INFO",null,53,59.67,"N",9,34.71,"E",53.994500000000002,9.5785,"53.9945","9.5785","123.375"]
[null,null,null,null,"EDHG","Lueneburg",4,255,161,122.175,"Lueneburg INFO","","","INFO",null,53,14.9,"N",10,27.52,"E",53.2483,10.4587,"53.2483","10.4587","122.175"]
[null,null,null,null,"EDHI","Hamburg-Finkenwerder",5,170,21,123.25,"Finkenwerder TURM/TOWER","","","TWR",null,53,32.03,"N",9,49.94,"E",53.533799999999999,9.8323,"53.5338","9.8323","123.250"]
[null,null,null,null,"EDHK","Kiel-Holtenau",5,216,101,119.97499999999999,"Kiel INFO","","","INFO",null,54,22.77,"N",10,8.7100000000000009,"E",54.3795,10.145200000000001,"54.3795","10.1452","119.975"]
[null,null,null,null,"EDHL","Luebeck-Blankensee",1,252,53,128.69999999999999,"Luebeck TURM/TOWER",121.77500000000001,119.925,"TWR",null,53,48.32,"N",10,43.15,"E",53.805300000000003,10.719200000000001,"53.8053","10.7192","128.700"]
[null,null,null,null,"EDHM","Hartenholm",4,175,108,118.125,"Hartenholm INFO","","","INFO",null,53,54.9,"N",10,2.4300000000000002,"E",53.914999999999999,10.0405,"53.9150","10.0405","118.125"]
[null,null,null,null,"EDHN","Neumuenster",24,294,72,123,"Neumuenster INFO","","","INFO",null,54,4.72,"N",9,56.43,"E",54.078699999999998,9.9405000000000001,"54.0787","9.9405","123.000"]
[null,null,null,null,"EDHO","Ahrenlohe",20,5,33,122.6,"Ahrenlohe INFO","","","INFO",null,53,41.99,"N",9,44.43,"E",53.699800000000003,9.7405000000000008,"53.6998","9.7405","122.600"]
[null,null,null,null,"EDHP","Pellworm",24,337,2,123,"Pellworm INFO","","","INFO",null,54,32.15,"N",8,40.909999999999997,"E",54.535800000000002,8.6818000000000008,"54.5358","8.6818","123.000"]
[null,null,null,null,"EDHS","Stade",24,403,63,123,"Stade INFO","","","INFO",null,53,33.68,"N",9,29.9,"E",53.561300000000003,9.4983000000000004,"53.5613","9.4983","123.000"]
[null,null,null,null,"EDHU","Lauenbrueck",18,241,98,123.65,"Lauenbrueck INFO","","","INFO",null,53,12.43,"N",9,34.43,"E",53.2072,9.5738000000000003,"53.2072","9.5738","123.650"]
[null,null,null,null,"EDHW","Wahlstedt",5,435,128,121.02500000000001,"Wahlstedt INFO","","","INFO",null,53,58.17,"N",10,13.3,"E",53.969499999999996,10.2217,"53.9695","10.2217","121.025"]
[null,null,null,null,"EDJA","Memmingen",1,266,2079,126.85,"Memmingen TURM/TOWER",121.675,118.85,"TWR",null,47,59.33,"N",10,14.37,"E",47.988799999999998,10.2395,"47.9888","10.2395","126.850"]
[null,null,null,null,"EDJG","Grabenstaett",9,153,1762,0,"Grabenstaett INFO","","","INFO",null,47,51.18,"N",12,33.03,"E",47.853000000000002,12.5505,"47.8530","12.5505",{"$error":"#VALUE!"}]
[null,null,null,null,"EDKA","Aachen-Merzbrueck",3,1,623,122.875,"Aachen INFO","","","INFO",null,50,49.38,"N",6,11.18,"E",50.823,6.1863000000000001,"50.8230","6.1863","122.875"]
[null,null,null,null,"EDKB","Bonn-Hangelar",2,70,197,135.15,"Bonn-Hangelar INFO","","","INFO",null,50,46.13,"N",7,9.84,"E",50.768799999999999,7.1639999999999997,"50.7688","7.1640","135.150"]
[null,null,null,null,"EDKD","Altena-Hegenscheid",4,12,1552,122.2,"Altena INFO","","","INFO",null,51,18.78,"N",7,42.22,"E",51.313000000000002,7.7037000000000004,"51.3130","7.7037","122.200"]
[null,null,null,null,"EDKF","Bergneustadt/Auf dem Duempel",18,55,1604,123.65,"Bergneustadt INFO","","","INFO",null,51,3.11,"N",7,42.38,"E",51.0518,7.7062999999999997,"51.0518","7.7063","123.650"]
[null,null,null,null,"EDKH","Huensborn",6,198,1306,130.125,"Huensborn INFO","","","INFO",null,50,55.74,"N",7,53.95,"E",50.929000000000002,7.8992000000000004,"50.9290","7.8992","130.125"]
[null,null,null,null,"EDKI","Betzdorf-Kirchen",5,58,1126,122.75,"Betzdorf INFO","","","INFO",null,50,49.03,"N",7,49.83,"E",50.8172,7.8304999999999998,"50.8172","7.8305","122.750"]
[null,null,null,null,"EDKL","Leverkusen",3,249,157,122.425,"Leverkusen INFO","","","INFO",null,51,0.92,"N",7,0.37,"E",51.015300000000003,7.0061999999999998,"51.0153","7.0062","122.425"]
[null,null,null,null,"EDKM","Meschede-Schueren",9,271,1436,122.05,"Meschede INFO","","","INFO",null,51,18.14,"N",8,14.24,"E",51.302300000000002,8.2372999999999994,"51.3023","8.2373","122.050"]
[null,null,null,null,"EDKN","Wipperfuerth-Neye",12,457,863,122.4,"Wipperfuerth INFO","","","INFO",null,51,7.42,"N",7,22.45,"E",51.123699999999999,7.3742000000000001,"51.1237","7.3742","122.400"]
[null,null,null,null,"EDKO","Brilon/Hochsauerland",1,81,1510,129.375,"Brilon INFO","","","INFO",null,51,24.15,"N",8,38.51,"E",51.402500000000003,8.6417999999999999,"51.4025","8.6418","129.375"]
[null,null,null,null,"EDKP","Plettenberg-Hueinghausen",5,344,980,122.925,"Plettenberg INFO","","","INFO",null,51,11.52,"N",7,47.36,"E",51.192,7.7892999999999999,"51.1920","7.7893","122.925"]
[null,null,null,null,"EDKR","Schmallenberg-Rennefeld",3,376,1530,122.425,"Schmallenberg INFO","","","INFO",null,51,9.69,"N",8,15.64,"E",51.161499999999997,8.2606999999999999,"51.1615","8.2607","122.425"]
[null,null,null,null,"EDKU","Attendorn-Finnentrop",3,22,1040,121.4,"Attendorn INFO","","","INFO",null,51,8.77,"N",7,56.22,"E",51.1462,7.9370000000000003,"51.1462","7.9370","121.400"]
[null,null,null,null,"EDKV","Dahlemer Binz",4,92,1896,122.375,"Dahlemer Binz INFO","","","INFO",null,50,24.34,"N",6,31.74,"E",50.405700000000003,6.5289999999999999,"50.4057","6.5290","122.375"]
[null,null,null,null,"EDKW","Werdohl-Kuentrop",1,446,1037,118,"Werdohl INFO","","","INFO",null,51,17.82,"N",7,49.01,"E",51.296999999999997,7.8167999999999997,"51.2970","7.8168","118.000"]
[null,null,null,null,"EDKZ","Meinerzhagen",5,264,1548,130.6,"Meinerzhagen INFO","","","INFO",null,51,6.06,"N",7,35.979999999999997,"E",51.100999999999999,7.5997000000000003,"51.1010","7.5997","130.600"]
[null,null,null,null,"EDLA","Arnsberg-Menden",2,18,794,123.02500000000001,"Arnsberg INFO","","","INFO",null,51,29,"N",7,53.96,"E",51.4833,7.8993000000000002,"51.4833","7.8993","123.025"]
[null,null,null,null,"EDLB","Borkenberge",2,72,158,135,"Borkenberge INFO","","","INFO",null,51,46.75,"N",7,17.309999999999999,"E",51.779200000000003,7.2885,"51.7792","7.2885","135.000"]
[null,null,null,null,"EDLC","Kamp-Lintfort",24,210,80,123,"Kamp-Lintfort INFO","","","INFO",null,51,31.74,"N",6,32.17,"E",51.529000000000003,6.5362,"51.5290","6.5362","123.000"]
[null,null,null,null,"EDLD","Dinslaken/Schwarze Heide",5,101,213,122.7,"Dinslaken INFO","","","INFO",null,51,36.96,"N",6,51.67,"E",51.616,6.8612000000000002,"51.6160","6.8612","122.700"]
[null,null,null,null,"EDLE","Essen/Muelheim",4,122,424,119.75,"Essen/Muehlheim INFO","","","INFO",null,51,24.14,"N",6,56.24,"E",51.402299999999997,6.9372999999999996,"51.4023","6.9373","119.750"]
[null,null,null,null,"EDLF","Grefrath-Niershorst",2,156,105,123.625,"Grefrath INFO","","","INFO",null,51,20.04,"N",6,21.56,"E",51.334000000000003,6.3593000000000002,"51.3340","6.3593","123.625"]
[null,null,null,null,"EDLG","Goch-Asperden",1,150,52,118.45,"Goch INFO","","","INFO",null,51,41.45,"N",6,6.25,"E",51.690800000000003,6.1041999999999996,"51.6908","6.1042","118.450"]
[null,null,null,null,"EDLH","Hamm-Lippewiesen",1,172,190,134.05000000000001,"Hamm INFO","","","INFO",null,51,41.4,"N",7,49,"E",51.69,7.8167,"51.6900","7.8167","134.050"]
[null,null,null,null,"EDLI","Bielefeld",3,60,454,118.35,"Bielefeld INFO","","","INFO",null,51,57.89,"N",8,32.69,"E",51.964799999999997,8.5448000000000004,"51.9648","8.5448","118.350"]
[null,null,null,null,"EDLJ","Detmold",5,96,623,122.75,"Detmold INFO","","","INFO",null,51,56.46,"N",8,54.25,"E",51.941000000000003,8.9041999999999994,"51.9410","8.9042","122.750"]
[null,null,null,null,"EDLK","Krefeld-Egelsberg",1,227,141,120.675,"Krefeld INFO","","","INFO",null,51,23.1,"N",6,35.26,"E",51.384999999999998,6.5876999999999999,"51.3850","6.5877","120.675"]
[null,null,null,null,"EDLM","Marl-Loemuehle",19,263,241,122,"Marl INFO","","","INFO",null,51,38.82,"N",7,9.82,"E",51.646999999999998,7.1637000000000004,"51.6470","7.1637","122.000"]
[null,null,null,null,"EDLN","Moenchengladbach",4,274,125,118.125,"Moenchengladbach TURM/TOWER",121.925,109.8,"TWR",null,51,13.82,"N",6,30.27,"E",51.2303,6.5045000000000002,"51.2303","6.5045","118.125"]
[null,null,null,null,"EDLO","Oerlinghausen",4,320,568,122.175,"Oerlinghausen INFO","","","INFO",null,51,55.95,"N",8,39.72,"E",51.932499999999997,8.6620000000000008,"51.9325","8.6620","122.175"]
[null,null,null,null,"EDLP","Paderborn/Lippstadt",1,330,699,133.375,"Paderborn TURM/TOWER",121.925,125.72499999999999,"TWR",null,51,36.85,"N",8,36.979999999999997,"E",51.614199999999997,8.6163000000000007,"51.6142","8.6163","133.375"]
[null,null,null,null,"EDLR","Paderborn-Haxterberg",1,329,800,125.27500000000001,"Haxterberg INFO","","","INFO",null,51,41.3,"N",8,46.49,"E",51.688299999999998,8.7748000000000008,"51.6883","8.7748","125.275"]
[null,null,null,null,"EDLS","Stadtlohn-Vreden",1,404,157,119.2,"Stadtlohn INFO","","","INFO",null,51,59.75,"N",6,50.44,"E",51.995800000000003,6.8407,"51.9958","6.8407","119.200"]
[null,null,null,null,"EDLT","Muenster-Telgte",{"$f":"COUNTIF($J$2:$J$445,J194)","v":15},282,177,122.85,"Telgte INFO","","","INFO",null,51,56.68,"N",7,46.36,"E",{"$f":"IF(P194+(Q194/60)<>0,ROUND(P194+(Q194/60),4),\"\")","v":51.944699999999997},{"$f":"IF(S194+(T194/60)<>0,ROUND(S194+(T194/60),4),\"\")","v":7.7727000000000004},{"$f":"LEFT(V194,2)&\".\"&RIGHT(TEXT(V194,\"00,0000\"),4)","v":"51.9447"},{"$f":"LEFT(W194,IF(W194<10,1,2))&\".\"&RIGHT(TEXT(W194,\"00,0000\"),4)","v":"7.7727"},{"$f":"LEFT(J194,3)&\".\"&IF(LEN(J194)=3,\"\",RIGHT(J194,LEN(J194)-4))&IF(LEN(J194)=3,\"000\",IF(LEN(J194)=5,\"00\",IF(LEN(J194)=6,\"0\",\"\")))","v":"122.850"}]
[null,null,null,null,"EDLV","Niederrhein",3,299,106,129.4,"Niederrhein TURM/TOWER","",124.45,"TWR",null,51,36.14,"N",6,8.5299999999999994,"E",51.6023,6.1421999999999999,"51.6023","6.1422","129.400"]
[null,null,null,null,"EDLW","Dortmund",1,106,425,134.17500000000001,"Dortmund INFO","","","INFO",null,51,31.1,"N",7,36.729999999999997,"E",51.518300000000004,7.6121999999999996,"51.5183","7.6122","134.175"]
[null,null,null,null,"EDLX","Wesel-Roemerwardt",4,449,72,122.02500000000001,"Wesel INFO","","","INFO",null,51,39.770000000000003,"N",6,35.74,"E",51.662799999999997,6.5956999999999999,"51.6628","6.5957","122.025"]
[null,null,null,null,"EDLY","Borken-Hoxfeld",5,73,156,122.925,"Hoxfeld INFO","","","INFO",null,51,51.2,"N",6,48.89,"E",51.853299999999997,6.8148,"51.8533","6.8148","122.925"]
[null,null,null,null,"EDLZ","Soest/Bad Sassendorf",20,398,394,122.6,"Soest INFO","","","INFO",null,51,34.69,"N",8,12.88,"E",51.578200000000002,8.2147000000000006,"51.5782","8.2147","122.600"]
[null,null,null,null,"EDMA","Augsburg",2,24,1515,124.97499999999999,"Augsburg TURM/TOWER","",124.575,"TWR",null,48,25.51,"N",10,55.91,"E",48.425199999999997,10.931800000000001,"48.4252","10.9318","124.975"]
[null,null,null,null,"EDMB","Biberach a.d. Riss",5,59,1903,122.75,"Biberach INFO","","","INFO",null,48,6.66,"N",9,45.77,"E",48.110999999999997,9.7628000000000004,"48.1110","9.7628","122.750"]
[null,null,null,null,"EDMC","Blaubeuren",5,64,2217,130.6,"Blaubeuren INFO","","","INFO",null,48,25.19,"N",9,47.93,"E",48.419800000000002,9.7988,"48.4198","9.7988","130.600"]
[null,null,null,null,"EDMD","Dachau-Groebenried",4,91,1608,118.425,"Dachau INFO","","","INFO",null,48,13.71,"N",11,25.39,"E",48.228499999999997,11.4232,"48.2285","11.4232","118.425"]
[null,null,null,null,"EDME","Eggenfelden",1,111,1342,120.3,"Eggenfelden INFO","","","INFO",null,48,23.77,"N",12,43.42,"E",48.3962,12.723699999999999,"48.3962","12.7237","120.300"]
[null,null,null,null,"EDMF","Fuerstenzell",19,137,1345,122,"Fuerstenzell INFO","","","INFO",null,48,31.08,"N",13,20.76,"E",48.518000000000001,13.346,"48.5180","13.3460","122.000"]
[null,null,null,null,"EDMG","Guenzburg-Donauried",4,164,1457,118.125,"Guenzburg INFO","","","INFO",null,48,29.23,"N",10,17.010000000000002,"E",48.487200000000001,10.2835,"48.4872","10.2835","118.125"]
[null,null,null,null,"EDMH","Gunzenhausen-Reutberg",3,165,1591,118.55,"Gunzenhausen INFO","","","INFO",null,49,6.72,"N",10,46.91,"E",49.112000000000002,10.7818,"49.1120","10.7818","118.550"]
[null,null,null,null,"EDMI","Illertissen",2,201,1680,118.52500000000001,"Illertissen INFO","","","INFO",null,48,14.11,"N",10,8.26,"E",48.235199999999999,10.137700000000001,"48.2352","10.1377","118.525"]
[null,null,null,null,"EDMJ","Jesenwang",1,207,1861,120.05,"Jesenwang INFO","","","INFO",null,48,10.46,"N",11,7.5,"E",48.174300000000002,11.125,"48.1743","11.1250","120.050"]
[null,null,null,null,"EDMK","Kempten-Durach",19,215,2340,122,"Kempten INFO","","","INFO",null,47,41.56,"N",10,20.3,"E",47.692700000000002,10.3383,"47.6927","10.3383","122.000"]
[null,null,null,null,"EDML","Landshut",3,236,1312,129.80000000000001,"Landshut INFO","","","INFO",null,48,30.7,"N",12,2,"E",48.511699999999998,12.033300000000001,"48.5117","12.0333","129.800"]
[null,null,null,null,"EDMN","Mindelheim-Mattsies",1,273,1857,122.97499999999999,"Mindelheim INFO","","","INFO",null,48,6.53,"N",10,31.46,"E",48.108800000000002,10.5243,"48.1088","10.5243","122.975"]
[null,null,null,null,"EDMO","Oberpfaffenhofen",1,312,1947,119.55,"Oberpfaffenhofen TURM/TOWER","","","TWR",null,48,4.88,"N",11,16.98,"E",48.081299999999999,11.282999999999999,"48.0813","11.2830","119.550"]
[null,null,null,null,"EDMP","Vilsbiburg",24,431,1450,123,"Vilsbiburg INFO","","","INFO",null,48,25.59,"N",12,20.73,"E",48.426499999999997,12.345499999999999,"48.4265","12.3455","123.000"]
[null,null,null,null,"EDMQ","Donauwoerth-Genderkingen",1,103,1312,134.125,"Genderkinken INFO","","","INFO",null,48,42.17,"N",10,51.06,"E",48.702800000000003,10.851000000000001,"48.7028","10.8510","134.125"]
[null,null,null,null,"EDMS","Straubing",2,411,1054,127.15,"Straubing INFO","",135.52500000000001,"INFO",null,48,54.06,"N",12,31.09,"E",48.901000000000003,12.5182,"48.9010","12.5182","127.150"]
[null,null,null,null,"EDMT","Tannheim",1,416,1903,122.825,"Tannheim INFO","","","INFO",null,48,0.65,"N",10,6.05,"E",48.010800000000003,10.1008,"48.0108","10.1008","122.825"]
[null,null,null,null,"EDMU","Gundelfingen",15,163,1446,122.5,"Gundelfingen INFO","","","INFO",null,48,34.17,"N",10,21.54,"E",48.569499999999998,10.359,"48.5695","10.3590","122.500"]
[null,null,null,null,"EDMV","Vilshofen",2,432,991,119.175,"Vilshofen INFO","","","INFO",null,48,38.11,"N",13,11.74,"E",48.635199999999998,13.1957,"48.6352","13.1957","119.175"]
[null,null,null,null,"EDMW","Deggendorf",4,94,1030,122.02500000000001,"Deggendorf INFO","","","INFO",null,48,49.81,"N",12,52.79,"E",48.830199999999998,12.879799999999999,"48.8302","12.8798","122.025"]
[null,null,null,null,"EDMY","Muehldorf",1,278,1331,119.77500000000001,"Muehldorf INFO","","","INFO",null,48,16.8,"N",12,30.11,"E",48.28,12.501799999999999,"48.2800","12.5018","119.775"]
[null,null,null,null,"EDNA","Ampfing-Waldkraiburg",6,13,1360,123.6,"Ampfing INFO","","","INFO",null,48,15.78,"N",12,24.66,"E",48.262999999999998,12.411,"48.2630","12.4110","123.600"]
[null,null,null,null,"EDNB","Arnbruck",3,17,1716,118.55,"Arnbruck INFO","","","INFO",null,49,7.51,"N",12,59.1,"E",49.1252,12.984999999999999,"49.1252","12.9850","118.550"]
[null,null,null,null,"EDNC","Beilngries",3,53,1210,118.35,"Beilngries INFO","","","INFO",null,49,1.29,"N",11,29.08,"E",49.021500000000003,11.4847,"49.0215","11.4847","118.350"]
[null,null,null,null,"EDND","Dinkelsbuehl-Sinbronn",4,100,1598,118.425,"Dinkelsbuehl INFO","","","INFO",null,49,3.9,"N",10,24.06,"E",49.064999999999998,10.401,"49.0650","10.4010","118.425"]
[null,null,null,null,"EDNE","Erbach",2,120,1558,118.27500000000001,"Erbach INFO","","","INFO",null,48,20.52,"N",9,55,"E",48.341999999999999,9.9167000000000005,"48.3420","9.9167","118.275"]
[null,null,null,null,"EDNF","Elsenthal/Grafenau",15,118,1417,122.5,"Grafenau INFO",0,0,"INFO",null,48,49.34,"N",13,22.05,"E",48.822299999999998,13.3675,"48.8223","13.3675","122.500"]
[null,null,null,null,"EDNG","Giengen/Brenz",4,145,1695,122.35,"Giengen INFO","","","INFO",null,48,38.11,"N",10,12.93,"E",48.635199999999998,10.2155,"48.6352","10.2155","122.350"]
[null,null,null,null,"EDNH","Bad Woerishofen-Nord",20,43,2034,122.6,"Bad Woerishofen INFO","","","INFO",null,48,0.98,"N",10,36.96,"E",48.016300000000001,10.616,"48.0163","10.6160","122.600"]
[null,null,null,null,"EDNI","Berching",9,54,1275,0,"no call sign","","","",null,49,7.83,"N",11,26.65,"E",49.130499999999998,11.4442,"49.1305","11.4442",{"$error":"#VALUE!"}]
[null,null,null,null,"EDNJ","Neuburg-Egweil",4,288,1345,123.47499999999999,"Egweil INFO","","","INFO",null,48,46.94,"N",11,12.92,"E",48.782299999999999,11.215299999999999,"48.7823","11.2153","123.475"]
[null,null,null,null,"EDNK","Kirchdorf/Inn",6,217,1138,118.625,"Kirchdorf INFO","","","INFO",null,48,14.31,"N",12,58.61,"E",48.238500000000002,12.976800000000001,"48.2385","12.9768","118.625"]
[null,null,null,null,"EDNL","Leutkirch-Unterzeil",3,248,2099,122.875,"Leutkirch INFO","","","INFO",null,47,51.53,"N",10,0.86,"E",47.858800000000002,10.0143,"47.8588","10.0143","122.875"]
[null,null,null,null,"EDNO","Noerdlingen",1,307,1384,133.07499999999999,"Noerdlingen INFO","","","INFO",null,48,52.26,"N",10,30.35,"E",48.871000000000002,10.505800000000001,"48.8710","10.5058","133.075"]
[null,null,null,null,"EDNP","Pfarrkirchen",5,339,1266,119.97499999999999,"Pfarrkirchen INFO","","","INFO",null,48,25.21,"N",12,51.89,"E",48.420200000000001,12.864800000000001,"48.4202","12.8648","119.975"]
[null,null,null,null,"EDNQ","Bopfingen",15,71,2028,122.85,"Bopfingen INFO","","","INFO",null,48,50.91,"N",10,20.03,"E",48.848500000000001,10.3338,"48.8485","10.3338","122.850"]
[null,null,null,null,"EDNR","Regensburg-Oberhub",2,350,1298,120.425,"Regensburg INFO","","","INFO",null,49,8.52,"N",12,4.91,"E",49.142000000000003,12.081799999999999,"49.1420","12.0818","120.425"]
[null,null,null,null,"EDNS","Schwabmuenchen",15,385,1805,122.5,"Schwabmuenchen INFO","","","INFO",null,48,10.76,"N",10,42.17,"E",48.179299999999998,10.7028,"48.1793","10.7028","122.500"]
[null,null,null,null,"EDNT","Treuchtlingen-Bubenheim",20,422,127,122.6,"Diepholz INFO","","","INFO",null,52,35.130000000000003,"N",8,20.440000000000001,"E",52.585500000000003,8.3407,"52.5855","8.3407","122.600"]
[null,null,null,null,"EDNU","Thannhausen",7,419,1611,118.175,"Thannhausen INFO","","","INFO",null,48,17.41,"N",10,26.52,"E",48.290199999999999,10.442,"48.2902","10.4420","118.175"]
[null,null,null,null,"EDNV","Vogtareuth",5,433,1535,121.02500000000001,"Vogtareuth INFO","","","INFO",null,47,56.76,"N",12,12.28,"E",47.945999999999998,12.204700000000001,"47.9460","12.2047","121.025"]
[null,null,null,null,"EDNW","Weißenhorn",1,444,1642,119.425,"Weissenhorn INFO","","","INFO",null,48,17.36,"N",10,8.41,"E",48.289299999999997,10.1402,"48.2893","10.1402","119.425"]
[null,null,null,null,"EDNX","Oberschleißheim",3,314,1596,129.4,"Oberschleissheim INFO","","","INFO",null,48,14.34,"N",11,33.549999999999997,"E",48.238999999999997,11.559200000000001,"48.2390","11.5592","129.400"]
[null,null,null,null,"EDNY","Friedrichshafen",1,134,1368,120.075,"Friedrichshafen TURM/TOWER","",129.6,"TWR",null,47,40.28,"N",9,30.69,"E",47.671300000000002,9.5114999999999998,"47.6713","9.5115","120.075"]
[null,null,null,null,"EDNZ","Zell-Haidberg",5,463,1902,123.375,"Haidberg INFO","","","INFO",null,50,8.1999999999999993,"N",11,47.67,"E",50.136699999999998,11.794499999999999,"50.1367","11.7945","123.375"]
[null,null,null,null,"EDOA","Auerbach",5,23,1878,122.7,"Auerbach INFO","","","INFO",null,50,29.84,"N",12,22.68,"E",50.497300000000003,12.378,"50.4973","12.3780","122.700"]
[null,null,null,null,"EDOB","Bad Berka",18,30,1024,123.65,"Bad Berka INFO","","","INFO",null,50,54.26,"N",11,15.42,"E",50.904299999999999,11.257,"50.9043","11.2570","123.650"]
[null,null,null,null,"EDOC","Gardelegen",15,140,230,122.85,"Gardelegen INFO","","","INFO",null,52,31.66,"N",11,21.25,"E",52.527700000000003,11.354200000000001,"52.5277","11.3542","122.850"]
[null,null,null,null,"EDOD","Reinsdorf",15,352,335,122.85,"Reinsdorf INFO","","","INFO",null,51,54.06,"N",13,11.66,"E",51.901000000000003,13.1943,"51.9010","13.1943","122.850"]
[null,null,null,null,"EDOE","Boehlen",24,68,430,123,"Boehlen INFO","","","INFO",null,51,12.92,"N",12,22.07,"E",51.215299999999999,12.367800000000001,"51.2153","12.3678","123.000"]
[null,null,null,null,"EDOF","Bad Frankenhausen",20,35,786,122.6,"Bad Frankenhausen INFO","","","INFO",null,51,22.39,"N",11,8.48,"E",51.373199999999997,11.141299999999999,"51.3732","11.1413","122.600"]
[null,null,null,null,"EDOG","Torgau-Beilrode",9,420,269,0,"no call sign","","","",null,51,34.270000000000003,"N",13,3.13,"E",51.571199999999997,13.052199999999999,"51.5712","13.0522",{"$error":"#VALUE!"}]
[null,null,null,null,"EDOH","Langhennersdorf",9,239,1266,0,"no call sign","","","",null,50,56.9,"N",13,15.7,"E",50.948300000000003,13.261699999999999,"50.9483","13.2617",{"$error":"#VALUE!"}]
[null,null,null,null,"EDOI","Bienenfarm",15,61,120,122.85,"Bienenfarm INFO","","","INFO",null,52,39.6,"N",12,44.75,"E",52.66,12.745799999999999,"52.6600","12.7458","122.850"]
[null,null,null,null,"EDOJ","Luesse",6,256,213,129.97499999999999,"Luesse INFO","","","INFO",null,52,8.65,"N",12,40.18,"E",52.144199999999998,12.669700000000001,"52.1442","12.6697","129.975"]
[null,null,null,null,"EDOK","Rudolstadt-Groschwitz",3,365,1535,118.325,"Rudolstadt INFO","","","INFO",null,50,43.96,"N",11,14.16,"E",50.732700000000001,11.236000000000001,"50.7327","11.2360","118.325"]
[null,null,null,null,"EDOL","Oschersleben",3,325,341,129.4,"Oschersleben INFO","","","INFO",null,52,2.42,"N",11,12.17,"E",52.040300000000002,11.2028,"52.0403","11.2028","129.400"]
[null,null,null,null,"EDOM","Klein Muehlingen",{"$f":"COUNTIF($J$2:$J$445,J258)","v":19},219,171,122,"Muehlingen INFO","","","INFO",null,51,56.85,"N",11,46.19,"E",{"$f":"IF(P258+(Q258/60)<>0,ROUND(P258+(Q258/60),4),\"\")","v":51.947499999999998},{"$f":"IF(S258+(T258/60)<>0,ROUND(S258+(T258/60),4),\"\")","v":11.7698},{"$f":"LEFT(V258,2)&\".\"&RIGHT(TEXT(V258,\"00,0000\"),4)","v":"51.9475"},{"$f":"LEFT(W258,IF(W258<10,1,2))&\".\"&RIGHT(TEXT(W258,\"00,0000\"),4)","v":"11.7698"},{"$f":"LEFT(J258,3)&\".\"&IF(LEN(J258)=3,\"\",RIGHT(J258,LEN(J258)-4))&IF(LEN(J258)=3,\"000\",IF(LEN(J258)=5,\"00\",IF(LEN(J258)=6,\"0\",\"\")))","v":"122.000"}]
[null,null,null,null,"EDON","Neuhardenberg",1,289,35,119.125,"Neuhardenberg INFO","","","INFO",null,52,36.78,"N",14,14.56,"E",52.613,14.242699999999999,"52.6130","14.2427","119.125"]
[null,null,null,null,"EDOP","Schwerin-Parchim",1,391,166,128.9,"Parchim TURM/TOWER","","","TWR",null,53,25.62,"N",11,47.01,"E",53.427,11.7835,"53.4270","11.7835","128.900"]
[null,null,null,null,"EDOQ","Oschatz",4,324,502,122.2,"no call sign","","","",null,51,17.82,"N",13,4.68,"E",51.296999999999997,13.077999999999999,"51.2970","13.0780","122.200"]
[null,null,null,null,"EDOR","Stoelln/Rhinow",19,409,131,122,"Stölln INFO","","","INFO",null,52,44.46,"N",12,23.4,"E",52.741,12.39,"52.7410","12.3900","122.000"]
[null,null,null,null,"EDOS","Pennewitz",11,338,1500,123.05,"Pennewitz INFO","","","INFO",null,50,40.17,"N",11,3.04,"E",50.669499999999999,11.050700000000001,"50.6695","11.0507","123.050"]
[null,null,null,null,"EDOT","Greiz-Obergrochlitz",19,157,1279,122,"Greiz INFO","","","INFO",null,50,38.65,"N",12,10.49,"E",50.644199999999998,12.174799999999999,"50.6442","12.1748","122.000"]
[null,null,null,null,"EDOU","Weimar-Umpferstedt",12,442,984,122.4,"Weimar INFO","","","INFO",null,50,57.89,"N",11,24.02,"E",50.964799999999997,11.4003,"50.9648","11.4003","122.400"]
[null,null,null,null,"EDOV","Stendal-Borstel",12,406,184,122.4,"Stendal INFO","","","INFO",null,52,37.729999999999997,"N",11,49.2,"E",52.628799999999998,11.82,"52.6288","11.8200","122.400"]
[null,null,null,null,"EDOW","Waren/Vielist",2,439,282,130.32499999999999,"Waren INFO","","","INFO",null,53,34.119999999999997,"N",12,39.17,"E",53.5687,12.652799999999999,"53.5687","12.6528","130.325"]
[null,null,null,null,"EDOX","Renneritz",4,354,308,123.47499999999999,"Renneritz INFO","","","INFO",null,51,35.590000000000003,"N",12,14.24,"E",51.593200000000003,12.237299999999999,"51.5932","12.2373","123.475"]
[null,null,null,null,"EDOZ","Schoenebeck-Zackmuende",24,380,167,123,"Schoenebeck INFO","","","INFO",null,51,59.78,"N",11,47.53,"E",51.996299999999998,11.792199999999999,"51.9963","11.7922","123.000"]
[null,null,null,null,"EDPA","Aalen-Heidenheim/Elchingen",3,2,1916,121.4,"Aalen INFO","","","INFO",null,48,46.67,"N",10,15.88,"E",48.777799999999999,10.264699999999999,"48.7778","10.2647","121.400"]
[null,null,null,null,"EDPB","Bad Ditzenbach",4,32,2362,122.35,"Ditzenbach INFO","","","INFO",null,48,33.770000000000003,"N",9,43.75,"E",48.562800000000003,9.7292000000000005,"48.5628","9.7292","122.350"]
[null,null,null,null,"EDPC","Bad Endorf/Jolling",5,34,1687,122.47499999999999,null,null,null,null,null,47,55.61,"N",12,17.23,"E",47.9268,12.2872,"47.9268","12.2872","122.475"]
[null,null,null,null,"EDPD","Dingolfing",6,99,1165,123.6,"Dingolfing INFO","","","INFO",null,48,39.47,"N",12,30.03,"E",48.657800000000002,12.500500000000001,"48.6578","12.5005","123.600"]
[null,null,null,null,"EDPE","Eichstaett",24,113,1713,123,"Eichstaett INFO","","","INFO",null,48,52.62,"N",11,10.94,"E",48.877000000000002,11.1823,"48.8770","11.1823","123.000"]
[null,null,null,null,"EDPF","Schwandorf",1,386,1270,121.2,"Schwandorf INFO","","","INFO",null,49,20.440000000000001,"N",12,11.08,"E",49.340699999999998,12.184699999999999,"49.3407","12.1847","121.200"]
[null,null,null,null,"EDPG","Griesau",20,158,1060,122.6,"Griesau INFO","","","INFO",null,48,57.22,"N",12,25.28,"E",48.953699999999998,12.4213,"48.9537","12.4213","122.600"]
[null,null,null,null,"EDPH","Schwabach-Buechenbach",1,382,1181,135.42500000000001,"Schwabach INFO","","","INFO",null,49,16.12,"N",11,0.56999999999999995,"E",49.268700000000003,11.009499999999999,"49.2687","11.0095","135.425"]
[null,null,null,null,"EDPI","Moosburg „Auf der Kippe“",18,275,1376,123.65,"Moosburg INFO",0,0,"INFO",null,48,27.45,"N",11,56.57,"E",48.457500000000003,11.9428,"48.4575","11.9428","123.650"]
[null,null,null,null,"EDPJ","Laichingen",1,235,2434,127.7,"Laichingen INFO","","","INFO",null,48,29.79,"N",9,38.35,"E",48.496499999999997,9.6392000000000007,"48.4965","9.6392","127.700"]
[null,null,null,null,"EDPK","Schoenberg",3,379,1780,118.55,"Schoenberg INFO","","","INFO",null,48,2.86,"N",12,30.04,"E",48.047699999999999,12.5007,"48.0477","12.5007","118.550"]
[null,null,null,null,"EDPM","Donzdorf",20,105,2272,122.6,"Donzdorf INFO","","","INFO",null,48,40.69,"N",9,50.61,"E",48.678199999999997,9.8435000000000006,"48.6782","9.8435","122.600"]
[null,null,null,null,"EDPO","Neumarkt/Opf.",5,293,1394,119.97499999999999,"Neumarkt INFO","","","INFO",null,49,17.14,"N",11,26.68,"E",49.285699999999999,11.444699999999999,"49.2857","11.4447","119.975"]
[null,null,null,null,"EDPQ","Schmidgaden",24,377,1247,123,"Schmidgaden INFO","","","INFO",null,49,25.79,"N",12,5.81,"E",49.4298,12.0968,"49.4298","12.0968","123.000"]
[null,null,null,null,"EDPS","Sonnen",9,400,2702,122.05,"Sonnen INFO","","","INFO",null,48,40.97,"N",13,41.75,"E",48.6828,13.6958,"48.6828","13.6958","122.050"]
[null,null,null,null,"EDPT","Gerstetten",24,143,1975,123,"Gerstetten INFO","","","INFO",null,48,37.270000000000003,"N",10,3.66,"E",48.621200000000002,10.061,"48.6212","10.0610","123.000"]
[null,null,null,null,"EDPU","Bartholomae-Amalienhof",9,49,2100,0,"no call sign","","","",null,48,44.8,"N",10,0.3,"E",48.746699999999997,10.005000000000001,"48.7467","10.0050",{"$error":"#VALUE!"}]
[null,null,null,null,"EDPW","Thalmaessing-Waizenhofen",18,418,1892,123.65,"Thalmaessing INFO","","","INFO",null,49,3.86,"N",11,12.57,"E",49.064300000000003,11.2095,"49.0643","11.2095","123.650"]
[null,null,null,null,"EDPY","Ellwangen",19,116,1649,122,"Ellwangen INFO","","","INFO",null,48,57.66,"N",10,14.19,"E",48.960999999999999,10.236499999999999,"48.9610","10.2365","122.000"]
[null,null,null,null,"EDPZ","Paterzell",1,332,{"$f":"600*3","v":1800},123.35,null,null,null,null,null,47,51,"N",11,3.78,"E",47.85,11.063000000000001,"47.8500","11.0630","123.350"]
[null,null,null,null,"EDQC","Coburg-Brandensteinsebene",1,88,1486,128.67500000000001,"Coburg INFO","","","INFO",null,50,15.8,"N",10,59.7,"E",50.263300000000001,10.994999999999999,"50.2633","10.9950","128.675"]
[null,null,null,null,"EDQD","Bayreuth",1,51,1601,127.52500000000001,"Bayreuth INFO","","","INFO",null,49,59.07,"N",11,38.31,"E",49.984499999999997,11.638500000000001,"49.9845","11.6385","127.525"]
[null,null,null,null,"EDQE","Burg Feuerstein",2,85,1674,130.77500000000001,"Feuerstein INFO","","","INFO",null,49,47.63,"N",11,7.99,"E",49.793799999999997,11.1332,"49.7938","11.1332","130.775"]
[null,null,null,null,"EDQF","Ansbach-Petersdorf",18,15,1375,123.65,"Ansbach INFO","","","INFO",null,49,21.72,"N",10,40.18,"E",49.362000000000002,10.669700000000001,"49.3620","10.6697","123.650"]
[null,null,null,null,"EDQG","Giebelstadt",15,144,979,122.5,"Giebelstadt INFO","","","INFO",null,49,38.89,"N",9,57.99,"E",49.648200000000003,9.9664999999999999,"49.6482","9.9665","122.500"]
[null,null,null,null,"EDQH","Herzogenaurach",15,184,1070,122.85,"Herzogenaurach INFO","","","INFO",null,49,34.96,"N",10,52.69,"E",49.582700000000003,10.8782,"49.5827","10.8782","122.850"]
[null,null,null,null,"EDQI","Lauf-Lillinghof",1,242,1788,133.5,"Lauf INFO","","","INFO",null,49,36.28,"N",11,17.03,"E",49.604700000000001,11.283799999999999,"49.6047","11.2838","133.500"]
[null,null,null,null,"EDQK","Kulmbach",2,229,1660,118.52500000000001,"Kulmbach INFO","","","INFO",null,50,8.1,"N",11,27.52,"E",50.134999999999998,11.4587,"50.1350","11.4587","118.525"]
[null,null,null,null,"EDQL","Lichtenfels",24,250,853,123,"Lichtenfels INFO","","","INFO",null,50,8.9,"N",11,2.84,"E",50.148299999999999,11.0473,"50.1483","11.0473","123.000"]
[null,null,null,null,"EDQM","Hof-Plauen",2,192,1960,124.35,"Hof TURM/TOWER","","","TWR",null,50,17.329999999999998,"N",11,51.3,"E",50.288800000000002,11.855,"50.2888","11.8550","124.350"]
[null,null,null,null,"EDQN","Neustadt/Aisch",3,296,1198,118.925,"Neustadt/Aisch INFO","","","INFO",null,49,35.270000000000003,"N",10,34.659999999999997,"E",49.587800000000001,10.5777,"49.5878","10.5777","118.925"]
[null,null,null,null,"EDQO","Ottengruener Heide",24,327,1880,123,"Ottengruener Heide INFO","","","INFO",null,50,13.55,"N",11,43.95,"E",50.2258,11.7325,"50.2258","11.7325","123.000"]
[null,null,null,null,"EDQP","Rosenthal-Field-Ploessen",2,360,1496,127.45,"Rosenthal INFO","","","INFO",null,49,51.78,"N",11,47.26,"E",49.863,11.787699999999999,"49.8630","11.7877","127.450"]
[null,null,null,null,"EDQR","Ebern-Sendelbach",15,109,828,122.5,"Ebern INFO","","","INFO",null,50,2.38,"N",10,49.37,"E",50.039700000000003,10.822800000000001,"50.0397","10.8228","122.500"]
[null,null,null,null,"EDQS","Suhl-Goldlauter",1,414,1928,124.55,"Suhl INFO","","","INFO",null,50,37.93,"N",10,43.56,"E",50.632199999999997,10.726000000000001,"50.6322","10.7260","124.550"]
[null,null,null,null,"EDQT","Haßfurt-Schweinfurt",1,176,718,119.8,"Hassfurt INFO","","","INFO",null,50,1.08,"N",10,31.77,"E",50.018000000000001,10.529500000000001,"50.0180","10.5295","119.800"]
[null,null,null,null,"EDQW","Weiden",1,441,1330,120.25,"Weiden INFO","","","INFO",null,49,40.729999999999997,"N",12,6.99,"E",49.678800000000003,12.1165,"49.6788","12.1165","120.250"]
[null,null,null,null,"EDQX","Hetzleser Berg",6,186,1749,123.6,"Hetzleser Berg INFO","","","INFO",null,49,38.53,"N",11,9.6999999999999993,"E",49.642200000000003,11.1617,"49.6422","11.1617","123.600"]
[null,null,null,null,"EDQY","Coburg-Steinruecken",3,89,1184,129.80000000000001,"Steinruecken INFO","","","INFO",null,50,13.81,"N",10,59.75,"E",50.230200000000004,10.995799999999999,"50.2302","10.9958","129.800"]
[null,null,null,null,"EDQZ","Pegnitz-Zipser Berg",1,335,1792,132.02500000000001,"Pegnitz INFO","","","INFO",null,49,45.73,"N",11,34.479999999999997,"E",49.7622,11.5747,"49.7622","11.5747","132.025"]
[null,null,null,null,"EDRA","Bad Neuenahr-Ahrweiler",4,40,672,122.35,"Neuenahr INFO","","","INFO",null,50,33.47,"N",7,8.23,"E",50.5578,7.1372,"50.5578","7.1372","122.350"]
[null,null,null,null,"EDRB","Bitburg",3,63,1223,118.7,"Bitburg INFO","","","INFO",null,49,56.72,"N",6,33.9,"E",49.945300000000003,6.5650000000000004,"49.9453","6.5650","118.700"]
[null,null,null,null,"EDRD","Neumagen-Dhron",7,292,879,118.175,"Neumagen INFO","","","INFO",null,49,50.56,"N",6,54.97,"E",49.842700000000001,6.9161999999999999,"49.8427","6.9162","118.175"]
[null,null,null,null,"EDRE","Mendig",4,267,571,123.47499999999999,"Mendig INFO","","","INFO",null,50,21.96,"N",7,18.920000000000002,"E",50.366,7.3152999999999997,"50.3660","7.3153","123.475"]
[null,null,null,null,"EDRF","Bad Duerkheim",12,33,351,122.4,"Duerkheim INFO","","","INFO",null,49,28.38,"N",8,11.78,"E",49.472999999999999,8.1963000000000008,"49.4730","8.1963","122.400"]
[null,null,null,null,"EDRG","Idar-Oberstein/Goettschied",15,200,1575,122.85,"Idar-Oberstein INFO","","","INFO",null,49,43.97,"N",7,20.28,"E",49.732799999999997,7.3380000000000001,"49.7328","7.3380","122.850"]
[null,null,null,null,"EDRH","Hoppstaedten-Weiersbach",1,195,1093,130.65,"Hoppstaedten INFO","","","INFO",null,49,36.68,"N",7,11.1,"E",49.6113,7.1849999999999996,"49.6113","7.1850","130.650"]
[null,null,null,null,"EDRI","Linkenheim",20,251,325,122.6,"Linkenheim INFO","","","INFO",null,49,8.4700000000000006,"N",8,23.68,"E",49.141199999999998,8.3947000000000003,"49.1412","8.3947","122.600"]
[null,null,null,null,"EDRJ","Saarlouis-Dueren",20,369,1120,122.6,"Saarlouis INFO","","","INFO",null,49,18.75,"N",6,40.44,"E",49.3125,6.6740000000000004,"49.3125","6.6740","122.600"]
[null,null,null,null,"EDRK","Koblenz-Winningen",3,222,640,122.65,"Koblenz INFO","","","INFO",null,50,19.53,"N",7,31.72,"E",50.325499999999998,7.5286999999999997,"50.3255","7.5287","122.650"]
[null,null,null,null,"EDRL","Lachen-Speyerdorf",7,232,394,118.175,"Lachen INFO","","","INFO",null,49,19.850000000000001,"N",8,12.31,"E",49.330800000000004,8.2051999999999996,"49.3308","8.2052","118.175"]
[null,null,null,null,"EDRM","Traben-Trarbach/Mont Royal",24,421,919,123,"Traben-Trarbach INFO","","","INFO",null,49,58.07,"N",7,6.7,"E",49.967799999999997,7.1116999999999999,"49.9678","7.1117","123.000"]
[null,null,null,null,"EDRN","Nannhausen",{"$f":"COUNTIF($J$2:$J$445,J322)","v":5},285,1223,130.6,"Nannhausen INFO","","","INFO",null,49,58.2,"N",7,28.75,"E",{"$f":"IF(P322+(Q322/60)<>0,ROUND(P322+(Q322/60),4),\"\")","v":49.97},{"$f":"IF(S322+(T322/60)<>0,ROUND(S322+(T322/60),4),\"\")","v":7.4791999999999996},{"$f":"LEFT(V322,2)&\".\"&RIGHT(TEXT(V322,\"00,0000\"),4)","v":"49.9700"},{"$f":"LEFT(W322,IF(W322<10,1,2))&\".\"&RIGHT(TEXT(W322,\"00,0000\"),4)","v":"7.4792"},{"$f":"LEFT(J322,3)&\".\"&IF(LEN(J322)=3,\"\",RIGHT(J322,LEN(J322)-4))&IF(LEN(J322)=3,\"000\",IF(LEN(J322)=5,\"00\",IF(LEN(J322)=6,\"0\",\"\")))","v":"130.600"}]
[null,null,null,null,"EDRO","Schweighofen",24,388,492,123,"Schweighofen INFO","","","INFO",null,49,1.9,"N",7,59.4,"E",49.031700000000001,7.99,"49.0317","7.9900","123.000"]
[null,null,null,null,"EDRP","Pirmasens",4,342,1247,122.35,"Pirmasens INFO","","","INFO",null,49,15.94,"N",7,29.45,"E",49.265700000000002,7.4908000000000001,"49.2657","7.4908","122.350"]
[null,null,null,null,"EDRS","Bad Sobernheim-Domberg",1,42,810,118.952,"Sobernheim INFO","","","INFO",null,49,47.45,"N",7,39.950000000000003,"E",49.790799999999997,7.6657999999999999,"49.7908","7.6658","118.952"]
[null,null,null,null,"EDRT","Trier-Foehren",9,423,666,122.05,"Trier INFO","","","INFO",null,49,51.85,"N",6,47.27,"E",49.864199999999997,6.7877999999999998,"49.8642","6.7878","122.050"]
[null,null,null,null,"EDRV","Wershofen/Eifel",12,448,1582,122.4,"Wershofen INFO","","","INFO",null,50,27.11,"N",6,47.16,"E",50.451799999999999,6.7859999999999996,"50.4518","6.7860","122.400"]
[null,null,null,null,"EDRW","Dierdorf-Wienau",1,98,951,128.92500000000001,"Dierdorf INFO","","","INFO",null,50,33.979999999999997,"N",7,39.229999999999997,"E",50.566299999999998,7.6538000000000004,"50.5663","7.6538","128.925"]
[null,null,null,null,"EDRY","Speyer",3,401,312,118.075,"Speyer INFO","","","INFO",null,49,18.13,"N",8,27.1,"E",49.302199999999999,8.4517000000000007,"49.3022","8.4517","118.075"]
[null,null,null,null,"EDRZ","Zweibruecken",1,465,1133,123.825,"Zweibruecken TURM/TOWER","",124.65,"TWR",null,49,12.57,"N",7,24.04,"E",49.209499999999998,7.4006999999999996,"49.2095","7.4007","123.825"]
[null,null,null,null,"EDSA","Albstadt-Degerfeld",1,8,2924,125.1,"Degerfeld INFO","","","INFO",null,48,14.98,"N",9,3.62,"E",48.249699999999997,9.0602999999999998,"48.2497","9.0603","125.100"]
[null,null,null,null,"EDSB","Karlsruhe/Baden-Baden",1,212,409,134.1,"Baden TURM/TOWER",121.825,121.27500000000001,"TWR",null,48,46.76,"N",8,4.83,"E",48.779299999999999,8.0805000000000007,"48.7793","8.0805","134.100"]
[null,null,null,null,"EDSE","Goeppingen-Bezgenriet",9,152,1208,0,"no call sign","","","",null,48,39.5,"N",9,37.5,"E",48.658299999999997,9.625,"48.6583","9.6250",{"$error":"#VALUE!"}]
[null,null,null,null,"EDSG","Grabenstetten",6,154,2329,130.125,"Grabenstetten INFO","","","INFO",null,48,32.17,"N",9,26.22,"E",48.536200000000001,9.4369999999999994,"48.5362","9.4370","130.125"]
[null,null,null,null,"EDSH","Backnang-Heiningen",3,28,963,126.5,"Backnang INFO","","","INFO",null,48,55.19,"N",9,27.32,"E",48.919800000000002,9.4552999999999994,"48.9198","9.4553","126.500"]
[null,null,null,null,"EDSI","Binningen",5,62,1594,130.6,"Binningen INFO","","","INFO",null,47,47.95,"N",8,43.23,"E",47.799199999999999,8.7204999999999995,"47.7992","8.7205","130.600"]
[null,null,null,null,"EDSK","Kehl-Sundheim",5,214,452,122.75,"Kehl INFO","","","INFO",null,48,33.700000000000003,"N",7,50.64,"E",48.561700000000002,7.8440000000000003,"48.5617","7.8440","122.750"]
[null,null,null,null,"EDSL","Blumberg",11,67,2291,123.05,"Blumberg INFO","","","INFO",null,47,50.7,"N",8,33.94,"E",47.844999999999999,8.5656999999999996,"47.8450","8.5657","123.050"]
[null,null,null,null,"EDSN","Neuhausen ob Eck",1,291,2648,119.6,"Neuhausen ob Eck INFO","","","INFO",null,47,58.61,"N",8,54.31,"E",47.976799999999997,8.9052000000000007,"47.9768","8.9052","119.600"]
[null,null,null,null,"EDSO","Gruibingen-Nortel",6,162,2323,129.97499999999999,null,null,null,null,null,48,37.270000000000003,"N",9,39.35,"E",48.621200000000002,9.6557999999999993,"48.6212","9.6558","129.975"]
[null,null,null,null,"EDSR","Radolfzell-Stahringen",6,349,1381,130.125,"Stahringen INFO","","","INFO",null,47,48.16,"N",8,58.78,"E",47.802700000000002,8.9796999999999993,"47.8027","8.9797","130.125"]
[null,null,null,null,"EDST","Hahnweide",5,167,1167,123.25,"Hahnweide INFO","","","INFO",null,48,37.909999999999997,"N",9,25.77,"E",48.631799999999998,9.4295000000000009,"48.6318","9.4295","123.250"]
[null,null,null,null,"EDSV","Waechtersberg",4,434,1962,123.47499999999999,null,null,null,null,null,48,36.909999999999997,"N",8,45.34,"E",48.615200000000002,8.7556999999999992,"48.6152","8.7557","123.475"]
[null,null,null,null,"EDSW","Altdorf-Wallburg",2,11,625,127.15,"Altdorf INFO","","","INFO",null,48,16.190000000000001,"N",7,50.53,"E",48.269799999999996,7.8422000000000001,"48.2698","7.8422","127.150"]
[null,null,null,null,"EDSZ","Rottweil-Zepfenhan",1,364,2444,129.5,"Rottweil INFO","","","INFO",null,48,11.19,"N",8,43.27,"E",48.186500000000002,8.7211999999999996,"48.1865","8.7212","129.500"]
[null,null,null,null,"EDTB","Baden-Oos",1,29,405,121,"Oos INFO","","","INFO",null,48,47.51,"N",8,11.2,"E",48.791800000000002,8.1867000000000001,"48.7918","8.1867","121.000"]
[null,null,null,null,"EDTC","Bruchsal",1,83,364,128.375,"Bruchsal INFO","","","INFO",null,49,8.1,"N",8,33.81,"E",49.134999999999998,8.5634999999999994,"49.1350","8.5635","128.375"]
[null,null,null,null,"EDTD","Donaueschingen-Villingen",1,102,2231,124.25,"Donaueschingen INFO","","","INFO",null,47,58.41,"N",8,31.33,"E",47.973500000000001,8.5221999999999998,"47.9735","8.5222","124.250"]
[null,null,null,null,"EDTE","Eutingen im Gaeu",6,123,1640,129.97499999999999,null,null,null,null,null,48,29.13,"N",8,46.69,"E",48.485500000000002,8.7782,"48.4855","8.7782","129.975"]
[null,null,null,null,"EDTF","Freiburg i. Br.",2,132,799,118.25,"Freiburg INFO","","","INFO",null,48,1.23,"N",7,50.02,"E",48.020499999999998,7.8337000000000003,"48.0205","7.8337","118.250"]
[null,null,null,null,"EDTG","Bremgarten",19,80,695,122,"Bremgarten INFO","","","INFO",null,47,54.19,"N",7,37.07,"E",47.903199999999998,7.6177999999999999,"47.9032","7.6178","122.000"]
[null,null,null,null,"EDTH","Heubach",2,187,1423,123.02500000000001,"Heubach INFO","","","INFO",null,48,48.14,"N",9,55.65,"E",48.802300000000002,9.9275000000000002,"48.8023","9.9275","123.025"]
[null,null,null,null,"EDTK","Sinsheim",5,397,519,122.47499999999999,null,null,null,null,null,49,14.9,"N",8,53.68,"E",49.2483,8.8947000000000003,"49.2483","8.8947","122.475"]
[null,null,null,null,"EDTL","Lahr",1,234,511,125.175,"Lahr TURM/TOWER","","","TWR",null,48,22.16,"N",7,49.66,"E",48.369300000000003,7.8277000000000001,"48.3693","7.8277","125.175"]
[null,null,null,null,"EDTM","Mengen-Hohentengen",1,268,1821,135.17500000000001,"Mengen INFO","","","INFO",null,48,3.23,"N",9,22.37,"E",48.053800000000003,9.3727999999999998,"48.0538","9.3728","135.175"]
[null,null,null,null,"EDTN","Nabern/Teck",3,284,1215,118.325,"Nabern INFO","","","INFO",null,48,36.76,"N",9,28.63,"E",48.612699999999997,9.4771999999999998,"48.6127","9.4772","118.325"]
[null,null,null,null,"EDTO","Offenburg",4,321,509,119.75,"Offenburg INFO","","","INFO",null,48,26.99,"N",7,55.48,"E",48.449800000000003,7.9246999999999996,"48.4498","7.9247","119.750"]
[null,null,null,null,"EDTP","Pfullendorf",5,340,2301,123.25,"Pfullendorf INFO","","","INFO",null,47,54.51,"N",9,15.1,"E",47.908499999999997,9.2516999999999996,"47.9085","9.2517","123.250"]
[null,null,null,null,"EDTQ","Pattonville",18,333,926,123.65,"Pattonville INFO","","","INFO",null,48,51.84,"N",9,13.45,"E",48.863999999999997,9.2241999999999997,"48.8640","9.2242","123.650"]
[null,null,null,null,"EDTR","Herten-Rheinfelden",5,183,925,123.25,"Rheinfelden INFO","","","INFO",null,47,33.6,"N",7,44.9,"E",47.56,7.7483000000000004,"47.5600","7.7483","123.250"]
[null,null,null,null,"EDTS","Schwenningen am Neckar",15,390,2169,122.85,"Schwenningen INFO","","","INFO",null,48,3.94,"N",8,34.28,"E",48.0657,8.5713000000000008,"48.0657","8.5713","122.850"]
[null,null,null,null,"EDTU","Saulgau",6,373,1907,123.6,"Saulgau INFO","","","INFO",null,48,1.76,"N",9,30.44,"E",48.029299999999999,9.5073000000000008,"48.0293","9.5073","123.600"]
[null,null,null,null,"EDTW","Winzeln-Schramberg",18,456,2202,123.65,"Winzeln INFO","",0,"INFO",null,48,16.75,"N",8,25.7,"E",48.279200000000003,8.4283000000000001,"48.2792","8.4283","123.650"]
[null,null,null,null,"EDTX","Schwaebisch Hall-Weckriede",2,384,1311,129.22499999999999,"Schwaebisch Hall INFO","",133.875,"INFO",null,49,7.44,"N",9,46.88,"E",49.124000000000002,9.7812999999999999,"49.1240","9.7813","129.225"]
[null,null,null,null,"EDTY","Schwaebisch Hall",2,383,1311,129.22499999999999,"Schwaebisch Hall INFO","",133.875,"INFO",null,49,7.1,"N",9,47.04,"E",49.118299999999998,9.7840000000000007,"49.1183","9.7840","129.225"]
[null,null,null,null,"EDTZ","Konstanz",2,225,1302,124.35,"Konstanz INFO","","","INFO",null,47,40.909999999999997,"N",9,8.24,"E",47.681800000000003,9.1372999999999998,"47.6818","9.1373","124.350"]
[null,null,null,null,"EDUA","Stechow-Ferchesar",4,405,148,122.2,"Stechow INFO","","","INFO",null,52,39.04,"N",12,29.27,"E",52.650700000000001,12.4878,"52.6507","12.4878","122.200"]
[null,null,null,null,"EDUF","Falkenberg-Loennewitz",6,124,248,130.125,"Lönnewitz INFO","","","INFO",null,51,32.869999999999997,"N",13,13.69,"E",51.547800000000002,13.228199999999999,"51.5478","13.2282","130.125"]
[null,null,null,null,"EDUO","Oberrißdorf",9,313,739,0,"no call sign","","","",null,51,32.549999999999997,"N",11,35.75,"E",51.542499999999997,11.595800000000001,"51.5425","11.5958",{"$error":"#VALUE!"}]
[null,null,null,null,"EDUS","Finsterwalde/Schacksdorf",11,126,399,123.05,"Schacksdorf INFO","","","INFO",null,51,36.450000000000003,"N",13,44.28,"E",51.607500000000002,13.738,"51.6075","13.7380","123.050"]
[null,null,null,null,"EDUW","Tutow",6,424,23,130.125,"Tutow INFO","","","INFO",null,53,55.05,"N",13,13.22,"E",53.917499999999997,13.2203,"53.9175","13.2203","130.125"]
[null,null,null,null,"EDUY","Sedlitzer See",9,392,331,null,"no call sign",0,0,0,null,51,33.47,"N",14,6.3,"E",51.5578,14.105,"51.5578","14.1050",{"$error":"#VALUE!"}]
[null,null,null,null,"EDUZ","Zerbst",11,464,266,123.05,"Zerbst INFO","","","INFO",null,52,0.05,"N",12,8.9499999999999993,"E",52.000799999999998,12.1492,"52.0008","12.1492","123.050"]
[null,null,null,null,"EDVA","Bad Gandersheim",24,36,792,123,"Gandersheim INFO","","","INFO",null,51,51.17,"N",10,1.59,"E",51.852800000000002,10.0265,"51.8528","10.0265","123.000"]
[null,null,null,null,"EDVC","Celle-Arloh",18,86,207,123.65,"Arloh INFO","","","INFO",null,52,41.27,"N",10,6.74,"E",52.687800000000003,10.112299999999999,"52.6878","10.1123","123.650"]
[null,null,null,null,"EDVE","Braunschweig-Wolfsburg",2,77,297,120.5,"Braunschweig TURM/TOWER (INFO)","","","INFO",null,52,19.16,"N",10,33.53,"E",52.319299999999998,10.5588,"52.3193","10.5588","120.500"]
[null,null,null,null,"EDVF","Blomberg-Borkhausen",3,66,535,118.925,"Borkhausen INFO","","","INFO",null,51,55.08,"N",9,6.8,"E",51.917999999999999,9.1133000000000006,"51.9180","9.1133","118.925"]
[null,null,null,null,"EDVG","Mengeringhausen",5,269,1190,121.02500000000001,"Mengeringhausen INFO","","","INFO",null,51,22.59,"N",8,58.87,"E",51.3765,8.9811999999999994,"51.3765","8.9812","121.025"]
[null,null,null,null,"EDVH","Hodenhagen",1,191,79,119,"Hodenhagen INFO","","","INFO",null,52,45.75,"N",9,36.5,"E",52.762500000000003,9.6082999999999998,"52.7625","9.6083","119.000"]
[null,null,null,null,"EDVI","Hoexter-Holzminden",2,194,934,123.625,"Hoexter INFO","","","INFO",null,51,48.38,"N",9,22.7,"E",51.8063,9.3782999999999994,"51.8063","9.3783","123.625"]
[null,null,null,null,"EDVJ","Salzgitter-Schaeferstuhl",15,372,742,122.5,"Schaeferstuhl INFO","","","INFO",null,52,1.72,"N",10,22.1,"E",52.028700000000001,10.3683,"52.0287","10.3683","122.500"]
[null,null,null,null,"EDVK","Kassel-Calden",1,213,861,118.1,"Kassel TURM/TOWER",121.9,129.19999999999999,"TWR",null,51,25.25,"N",9,23.53,"E",51.4208,9.3922000000000008,"51.4208","9.3922","118.100"]
[null,null,null,null,"EDVL","Hoelleberg",19,193,837,122,"Hoelleberg INFO","","","INFO",null,51,36.67,"N",9,23.85,"E",51.611199999999997,9.3975000000000009,"51.6112","9.3975","122.000"]
[null,null,null,null,"EDVM","Hildesheim",3,188,293,118.3,"Hildesheim INFO","","","INFO",null,52,10.79,"N",9,56.74,"E",52.1798,9.9457000000000004,"52.1798","9.9457","118.300"]
[null,null,null,null,"EDVN","Northeim",3,308,404,118.7,"Northeim INFO","","","INFO",null,51,42.4,"N",10,2.37,"E",51.706699999999998,10.0395,"51.7067","10.0395","118.700"]
[null,null,null,null,"EDVP","Peine-Glindbruchkippe",{"$f":"COUNTIF($J$2:$J$445,J386)","v":1},336,246,122.83,null,null,null,null,null,52,19.45,"N",10,10.88,null,{"$f":"IF(P386+(Q386/60)<>0,ROUND(P386+(Q386/60),4),\"\")","v":52.324199999999998},{"$f":"IF(S386+(T386/60)<>0,ROUND(S386+(T386/60),4),\"\")","v":10.1813},{"$f":"LEFT(V386,2)&\".\"&RIGHT(TEXT(V386,\"00,0000\"),4)","v":"52.3242"},{"$f":"LEFT(W386,IF(W386<10,1,2))&\".\"&RIGHT(TEXT(W386,\"00,0000\"),4)","v":"10.1813"},{"$f":"LEFT(J386,3)&\".\"&IF(LEN(J386)=3,\"\",RIGHT(J386,LEN(J386)-4))&IF(LEN(J386)=3,\"000\",IF(LEN(J386)=5,\"00\",IF(LEN(J386)=6,\"0\",\"\")))","v":"122.830"}]
[null,null,null,null,"EDVQ","Wilsche",6,455,180,129.97499999999999,"Wilsche INFO","","","INFO",null,52,31.47,"N",10,27.77,"E",52.524500000000003,10.4628,"52.5245","10.4628","129.975"]
[null,null,null,null,"EDVR","Rinteln",5,358,180,122.925,"Rinteln INFO","","","INFO",null,52,10.52,"N",9,3.2,"E",52.1753,9.0533000000000001,"52.1753","9.0533","122.925"]
[null,null,null,null,"EDVS","Salzgitter-Druette",15,371,328,122.85,"Salzgitter INFO","","","INFO",null,52,9.25,"N",10,25.59,"E",52.154200000000003,10.426500000000001,"52.1542","10.4265","122.850"]
[null,null,null,null,"EDVT","Ithwiesen",5,204,1280,123.375,"Ithwiesen INFO","","","INFO",null,51,57.08,"N",9,39.729999999999997,"E",51.951300000000003,9.6622000000000003,"51.9513","9.6622","123.375"]
[null,null,null,null,"EDVU","Uelzen",1,425,246,130.9,"Uelzen INFO","","","INFO",null,52,58.99,"N",10,27.92,"E",52.983199999999997,10.465299999999999,"52.9832","10.4653","130.900"]
[null,null,null,null,"EDVW","Hameln-Pyrmont",1,171,1177,121.175,"Pyrmont INFO","","","INFO",null,51,58.05,"N",9,17.579999999999998,"E",51.967500000000001,9.2929999999999993,"51.9675","9.2930","121.175"]
[null,null,null,null,"EDVY","Porta Westfalica",4,346,148,122.375,"Porta INFO","","","INFO",null,52,13.33,"N",8,51.77,"E",52.222200000000001,8.8628,"52.2222","8.8628","122.375"]
[null,null,null,null,"EDWC","Damme",1,93,151,133.30000000000001,"Damme INFO","","","INFO",null,52,29.25,"N",8,11.16,"E",52.487499999999997,8.1859999999999999,"52.4875","8.1860","133.300"]
[null,null,null,null,"EDWE","Emden",2,119,2,118.6,"Emden INFO","","","INFO",null,53,23.46,"N",7,13.54,"E",53.390999999999998,7.2256999999999998,"53.3910","7.2257","118.600"]
[null,null,null,null,"EDWF","Leer-Papenburg",2,245,3,130.77500000000001,"Leer INFO","","","INFO",null,53,16.32,"N",7,26.52,"E",53.271999999999998,7.4420000000000002,"53.2720","7.4420","130.775"]
[null,null,null,null,"EDWG","Wangerooge",12,438,6,122.4,"Wooge INFO","","","INFO",null,53,47.18,"N",7,54.74,"E",53.786299999999997,7.9123000000000001,"53.7863","7.9123","122.400"]
[null,null,null,null,"EDWH","Oldenburg-Hatten",7,322,26,118.175,"Oldenburg INFO","","","INFO",null,53,4.1399999999999997,"N",8,18.809999999999999,"E",53.069000000000003,8.3134999999999994,"53.0690","8.3135","118.175"]
[null,null,null,null,"EDWI","Wilhelmshaven",1,453,19,129.25,"Wilhelmshaven INFO","",124.325,"INFO",null,53,30.18,"N",8,3.17,"E",53.503,8.0527999999999995,"53.5030","8.0528","129.250"]
[null,null,null,null,"EDWJ","Juist",2,208,8,120.5,"Juist INFO","","","INFO",null,53,40.840000000000003,"N",7,3.47,"E",53.680700000000002,7.0578000000000003,"53.6807","7.0578","120.500"]
[null,null,null,null,"EDWK","Karlshoefen",3,211,20,118.925,"Karlshoefen INFO","","","INFO",null,53,19.96,"N",9,1.67,"E",53.332700000000003,9.0277999999999992,"53.3327","9.0278","118.925"]
[null,null,null,null,"EDWL","Langeoog",4,238,7,122.02500000000001,"Langeoog INFO","","","INFO",null,53,44.57,"N",7,29.92,"E",53.742800000000003,7.4987000000000004,"53.7428","7.4987","122.025"]
[null,null,null,null,"EDWM","Weser-Wuemme",20,450,59,122.6,"Weser-Wuemme INFO","","","INFO",null,53,3.24,"N",9,12.52,"E",53.054000000000002,9.2087000000000003,"53.0540","9.2087","122.600"]
[null,null,null,null,"EDWN","Nordhorn-Lingen",3,306,85,122.65,"Nordhorn INFO","","","INFO",null,52,27.45,"N",7,10.96,"E",52.457500000000003,7.1826999999999996,"52.4575","7.1827","122.650"]
[null,null,null,null,"EDWO","Osnabrueck-Atterheide",2,326,287,118.675,"Osnabrueck INFO","","","INFO",null,52,17.18,"N",7,58.4,"E",52.286299999999997,7.9733000000000001,"52.2863","7.9733","118.675"]
[null,null,null,null,"EDWP","Wiefelstede/Conneforde",3,452,30,126.5,"Conneforde INFO","","","INFO",null,53,19.28,"N",8,4.41,"E",53.321300000000001,8.0734999999999992,"53.3213","8.0735","126.500"]
[null,null,null,null,"EDWQ","Ganderkesee Atlas Airfield",6,139,96,118.625,"Ganderkesee INFO","","","INFO",null,53,2.16,"N",8,30.31,"E",53.036000000000001,8.5052000000000003,"53.0360","8.5052","118.625"]
[null,null,null,null,"EDWR","Borkum",24,74,3,123,"Borkum INFO","","","INFO",null,53,35.729999999999997,"N",6,42.55,"E",53.595500000000001,6.7092000000000001,"53.5955","6.7092","123.000"]
[null,null,null,null,"EDWS","Norden-Norddeich",3,301,3,121.4,"Norddeich INFO","","","INFO",null,53,37.99,"N",7,11.37,"E",53.633200000000002,7.1894999999999998,"53.6332","7.1895","121.400"]
[null,null,null,null,"EDWT","Blexen",2,65,10,120.6,"Blexen INFO","","","INFO",null,53,32.299999999999997,"N",8,32.299999999999997,"E",53.5383,8.5382999999999996,"53.5383","8.5383","120.600"]
[null,null,null,null,"EDWU","Varrelbusch",24,429,128,123,"Varrelbusch INFO","","","INFO",null,52,54.51,"N",8,2.56,"E",52.908499999999997,8.0427,"52.9085","8.0427","123.000"]
[null,null,null,null,"EDWV","Verden-Scharnhorst",12,430,144,122.4,"Verden INFO","","","INFO",null,52,57.91,"N",9,17.05,"E",52.965200000000003,9.2842000000000002,"52.9652","9.2842","122.400"]
[null,null,null,null,"EDWX","Westerstede-Felde",18,451,30,123.65,"Westerstede INFO","","","INFO",null,53,17.329999999999998,"N",7,55.88,"E",53.288800000000002,7.9313000000000002,"53.2888","7.9313","123.650"]
[null,null,null,null,"EDWY","Norderney",20,302,6,122.6,"Norderney INFO","","","INFO",null,53,42.42,"N",7,13.72,"E",53.707000000000001,7.2286999999999999,"53.7070","7.2287","122.600"]
[null,null,null,null,"EDWZ","Baltrum",11,45,7,123.05,"Baltrum INFO","","","INFO",null,53,43.52,"N",7,22.33,"E",53.725299999999997,7.3722000000000003,"53.7253","7.3722","123.050"]
[null,null,null,null,"EDXA","Achmer",11,3,177,123.05,"Achmer INFO","","","INFO",null,52,22.65,"N",7,54.81,"E",52.377499999999998,7.9135,"52.3775","7.9135","123.050"]
[null,null,null,null,"EDXB","Heide-Buesum",20,177,7,122.6,"Buesum INFO","","","INFO",null,54,9.1999999999999993,"N",8,54.1,"E",54.153300000000002,8.9016999999999999,"54.1533","8.9017","122.600"]
[null,null,null,null,"EDXC","Schleswig-Kropp",2,375,54,118.675,"Kropp INFO","","","INFO",null,54,25.53,"N",9,32.43,"E",54.4255,9.5404999999999998,"54.4255","9.5405","118.675"]
[null,null,null,null,"EDXD","Bohmte-Bad Essen",15,69,151,122.5,"Bohmte INFO","","","INFO",null,52,21.08,"N",8,19.57,"E",52.351300000000002,8.3262,"52.3513","8.3262","122.500"]
[null,null,null,null,"EDXE","Rheine-Eschendorf",9,356,131,122.05,"Rheine INFO","","","INFO",null,52,16.55,"N",7,29.48,"E",52.275799999999997,7.4912999999999998,"52.2758","7.4913","122.050"]
[null,null,null,null,"EDXF","Flensburg-Schaeferhaus",15,127,130,122.85,"Flensburg INFO","","","INFO",null,54,46.4,"N",9,22.73,"E",54.773299999999999,9.3788,"54.7733","9.3788","122.850"]
[null,null,null,null,"EDXG","Melle-Groenegau",12,265,236,122.4,"Melle INFO","","","INFO",null,52,12.05,"N",8,22.66,"E",52.200800000000001,8.3777000000000008,"52.2008","8.3777","122.400"]
[null,null,null,null,"EDXH","Helgoland-Duene",1,178,8,122.45,"Helgoland INFO","","","INFO",null,54,11.12,"N",7,54.95,"E",54.185299999999998,7.9157999999999999,"54.1853","7.9158","122.450"]
[null,null,null,null,"EDXI","Nienburg-Holzbalge",19,300,82,122,"Nienburg INFO","","","INFO",null,52,42.58,"N",9,9.75,"E",52.709699999999998,9.1624999999999996,"52.7097","9.1625","122.000"]
[null,null,null,null,"EDXJ","Husum-Schwesing",9,197,62,122.05,"Husum INFO","","","INFO",null,54,30.6,"N",9,8.3000000000000007,"E",54.51,9.1382999999999992,"54.5100","9.1383","122.050"]
[null,null,null,null,"EDXK","Leck",20,244,24,122.6,"Leck INFO","","","INFO",null,54,47.4,"N",8,57.69,"E",54.79,8.9614999999999991,"54.7900","8.9615","122.600"]
[null,null,null,null,"EDXL","Barssel",19,47,10,122,"Barssel INFO","","","INFO",null,53,9.81,"N",7,47.56,"E",53.163499999999999,7.7927,"53.1635","7.7927","122.000"]
[null,null,null,null,"EDXM","St. Michaelisdonn",15,407,124,122.5,"St. Michel INFO","","","INFO",null,53,58.7,"N",9,8.6,"E",53.978299999999997,9.1433,"53.9783","9.1433","122.500"]
[null,null,null,null,"EDXN","Nordholz-Spieka",5,305,72,121.02500000000001,"Spieka INFO","","","INFO",null,53,46.02,"N",8,38.619999999999997,"E",53.767000000000003,8.6437000000000008,"53.7670","8.6437","121.025"]
[null,null,null,null,"EDXO","St. Peter-Ording",2,408,5,129.77500000000001,"St. Peter INFO","","","INFO",null,54,18.54,"N",8,41.21,"E",54.308999999999997,8.6867999999999999,"54.3090","8.6868","129.775"]
[null,null,null,null,"EDXP","Harle",12,174,7,122.4,"Harle INFO","","","INFO",null,53,42.42,"N",7,49.28,"E",53.707000000000001,7.8212999999999999,"53.7070","7.8213","122.400"]
[null,null,null,null,"EDXQ","Rotenburg (Wuemme)",9,361,97,122.05,"Wuemme INFO","","","INFO",null,53,7.66,"N",9,20.91,"E",53.127699999999997,9.3484999999999996,"53.1277","9.3485","122.050"]
[null,null,null,null,"EDXR","Rendsburg-Schachtholm",18,353,23,123.65,"Rendsburg INFO","","","INFO",null,54,13.09,"N",9,36.200000000000003,"E",54.218200000000003,9.6033000000000008,"54.2182","9.6033","123.650"]
[null,null,null,null,"EDXS","Seedorf",2,393,72,119.65,"Seedorf INFO","","","INFO",null,53,20.14,"N",9,15.57,"E",53.335700000000003,9.2594999999999992,"53.3357","9.2595","119.650"]
[null,null,null,null,"EDXT","Sierksdorf/Hof Altona",19,396,80,122,"Sierksdorf INFO","","","INFO",null,54,4.07,"N",10,44.59,"E",54.067799999999998,10.7432,"54.0678","10.7432","122.000"]
[null,null,null,null,"EDXU","Huettenbusch",15,199,10,122.85,"Huettenbusch INFO","","","INFO",null,53,17.18,"N",8,56.84,"E",53.286299999999997,8.9473000000000003,"53.2863","8.9473","122.850"]
[null,null,null,null,"EDXW","Sylt",4,415,51,119.75,"Sylt TURM/TOWER","",118.4,"TWR",null,54,54.7,"N",8,20.54,"E",54.911700000000003,8.3422999999999998,"54.9117","8.3423","119.750"]
[null,null,null,null,"EDXY","Wyk auf Foehr",2,462,25,118.25,"Wyk INFO","","","INFO",null,54,41.12,"N",8,31.91,"E",54.685299999999998,8.5318000000000005,"54.6853","8.5318","118.250"]
[null,null,null,null,"EDXZ","Kuehrstedt-Bederkesa",2,228,26,135,"Kuehrstedt INFO","","","INFO",null,53,34.08,"N",8,47.36,"E",53.567999999999998,8.7893000000000008,"53.5680","8.7893","135.000"]
[null,null,null,null,"ETHF","Fritzlar",2,135,566,122.1,"Fritzlar TURM/TOWER","","","TWR",null,51,6.87,"N",9,17.149999999999999,"E",51.1145,9.2858000000000001,"51.1145","9.2858","122.100"]
[null,null,null,null,"ETHN","Niederstetten",2,298,1536,122.1,"Stetten TURM/TOWER","","","TWR",null,49,23.51,"N",9,57.49,"E",49.391800000000003,9.9581999999999997,"49.3918","9.9582","122.100"]
[null,null,null,null,"ETMN","Nordholz",1,304,74,131.25,"Nordholz  TURM/TOWER","","","TWR",null,53,46.06,"N",8,39.51,"E",53.767699999999998,8.6585000000000001,"53.7677","8.6585","131.250"]
[null,null,null,null,"ETND","Diepholz",20,97,127,122.6,null,null,null,null,null,52,35.130000000000003,"N",8,20.440000000000001,"E",52.585500000000003,8.3407,"52.5855","8.3407","122.600"]
[null,null,null,null,"ETNL","Laage",4,231,140,118.425,"Laage TURM/TOWER","","","TWR",null,53,55.09,"N",12,16.760000000000002,"E",53.918199999999999,12.279299999999999,"53.9182","12.2793","118.425"]
[null,null,null,null,"ETSI","Ingolstadt/Manching",1,203,1203,125.25,"Ingo TURM/TOWER","","","TWR",null,48,42.94,"N",11,32.020000000000003,"E",48.715699999999998,11.5337,"48.7157","11.5337","125.250"]

{"sheet":"Funknavigation","index":14,"n_rows":189,"n_cols":28,"rows_kept":189,"cut":false,"hidden":true,"merged":[]}
["#","Station","Anlage",null,null,null,"ID","Freq [MHz]","Channel","Freq [kHz]","Lat ° ","Lat '","Lat ''",null,"Long ° ","Long '","Long ''",null,"Reichweite","Lat","Long",null,null,"MHz","kHz"]
[1,"Allgaeu ","DME ",{"$f":"IF(C2<>\"DME\",COUNTIF($H$2:$H$177,H2),0)","v":1},{"$f":"COUNTIF($I$2:$I$177,I2)","v":1},{"$f":"COUNTIF($J$2:$J$177,J2)","v":0},"ALD",117.2,"119x ",null,47,59,19,"N",10,13,52,"E",25,{"$f":"IF(K2+(L2/60)<>0,ROUND(K2+(L2/60)+(M2/3600),4),\"\")","v":47.988599999999998},{"$f":"IF(O2+(P2/60)<>0,ROUND(O2+(P2/60)+(Q2/3600),4),\"\")","v":10.2311},{"$f":"LEFT(T2,2)&\".\"&RIGHT(TEXT(T2,\"00,0000\"),4)","v":"47.9886"},{"$f":"LEFT(U2,IF(U2<10,1,2))&\".\"&RIGHT(TEXT(U2,\"00,0000\"),4)","v":"10.2311"},{"$f":"IF(H2<>\"\",LEFT(H2,3)&\".\"&IF(LEN(H2)=3,\"\",RIGHT(H2,LEN(H2)-4))&IF(LEN(H2)=3,\"00\",IF(LEN(H2)=5,\"0\",IF(LEN(H2)=6,\"\",\"\"))),\"\")","v":"117.20"},{"$f":"IF(J2<>0,J2,\"\")","v":""},{"$f":"VLOOKUP(MID(G2,1,1),Morse!$A$2:$B$37,2,FALSE)&\"   \"&VLOOKUP(MID(G2,2,1),Morse!$A$2:$B$37,2,FALSE)&IF(LEN(G2)>2,\"   \"&VLOOKUP(MID(G2,3,1),Morse!$A$2:$B$37,2,FALSE),\"\")&IF(LEN(G2)>3,\"   \"&VLOOKUP(MID(G2,4,1),Morse!$A$2:$B$37,2,FALSE),\"\")","v":"· −   · − · ·   − · ·"},{"$f":"IF(I2<>\"\",\"Ch \"&I2,\"\")","v":"Ch 119x "},{"$f":"B2&\" \"&C2&\" \"&G2&\" (\"&Z2&\") \"&IF(H2<>\"\",X2&\" MHz\",\"\")","v":"Allgaeu  DME  ALD (· −   · − · ·   − · ·) 117.20 MHz"}]
[2,"Allgaeu ","NDB ",0,0,1,"ALG",null,null,341,47,59,51,"N",10,15,44,"E",25,{"$f":"IF(K3+(L3/60)<>0,ROUND(K3+(L3/60)+(M3/3600),4),\"\")","v":47.997500000000002},{"$f":"IF(O3+(P3/60)<>0,ROUND(O3+(P3/60)+(Q3/3600),4),\"\")","v":10.2622},{"$f":"LEFT(T3,2)&\".\"&RIGHT(TEXT(T3,\"00,0000\"),4)","v":"47.9975"},{"$f":"LEFT(U3,IF(U3<10,1,2))&\".\"&RIGHT(TEXT(U3,\"00,0000\"),4)","v":"10.2622"},{"$f":"IF(H3<>\"\",LEFT(H3,3)&\".\"&IF(LEN(H3)=3,\"\",RIGHT(H3,LEN(H3)-4))&IF(LEN(H3)=3,\"00\",IF(LEN(H3)=5,\"0\",IF(LEN(H3)=6,\"\",\"\"))),\"\")","v":""},{"$f":"IF(J3<>0,J3,\"\")","v":341},{"$f":"VLOOKUP(MID(G3,1,1),Morse!$A$2:$B$37,2,FALSE)&\"   \"&VLOOKUP(MID(G3,2,1),Morse!$A$2:$B$37,2,FALSE)&IF(LEN(G3)>2,\"   \"&VLOOKUP(MID(G3,3,1),Morse!$A$2:$B$37,2,FALSE),\"\")&IF(LEN(G3)>3,\"   \"&VLOOKUP(MID(G3,4,1),Morse!$A$2:$B$37,2,FALSE),\"\")","v":"· −   · − · ·   − − ·"},{"$f":"IF(I3<>\"\",\"Ch \"&I3,\"\")","v":""}]
[3,"Alster ","DME ",2,1,0,"ALF",115.8,"105x ",null,53,38,7,"N",9,59,39,"E",25,53.635300000000001,9.9941999999999993,"53.6353","9.9942","115.80","",{"$f":"VLOOKUP(MID(G4,1,1),Morse!$A$2:$B$37,2,FALSE)&\"   \"&VLOOKUP(MID(G4,2,1),Morse!$A$2:$B$37,2,FALSE)&IF(LEN(G4)>2,\"   \"&VLOOKUP(MID(G4,3,1),Morse!$A$2:$B$37,2,FALSE),\"\")&IF(LEN(G4)>3,\"   \"&VLOOKUP(MID(G4,4,1),Morse!$A$2:$B$37,2,FALSE),\"\")","v":"· −   · − · ·   · · − ·"},{"$f":"IF(I4<>\"\",\"Ch \"&I4,\"\")","v":"Ch 105x "}]
[4,"Altenburg ","NDB ",0,0,2,"ABU",null,null,330,50,59,38,"N",12,31,16,"E",25,50.993899999999996,12.521100000000001,"50.9939","12.5211","",330,{"$f":"VLOOKUP(MID(G5,1,1),Morse!$A$2:$B$37,2,FALSE)&\"   \"&VLOOKUP(MID(G5,2,1),Morse!$A$2:$B$37,2,FALSE)&IF(LEN(G5)>2,\"   \"&VLOOKUP(MID(G5,3,1),Morse!$A$2:$B$37,2,FALSE),\"\")&IF(LEN(G5)>3,\"   \"&VLOOKUP(MID(G5,4,1),Morse!$A$2:$B$37,2,FALSE),\"\")","v":"· −   − · · ·   · · −"},""]
[5,"Altenburg","DME ",2,2,0,"AGD",115.3,"100x ",null,50,58,58,"N",12,30,44,"E",25,50.982799999999997,12.5122,"50.9828","12.5122","115.30","",{"$f":"VLOOKUP(MID(G6,1,1),Morse!$A$2:$B$37,2,FALSE)&\"   \"&VLOOKUP(MID(G6,2,1),Morse!$A$2:$B$37,2,FALSE)&IF(LEN(G6)>2,\"   \"&VLOOKUP(MID(G6,3,1),Morse!$A$2:$B$37,2,FALSE),\"\")&IF(LEN(G6)>3,\"   \"&VLOOKUP(MID(G6,4,1),Morse!$A$2:$B$37,2,FALSE),\"\")","v":"· −   − − ·   − · ·"},"Ch 100x "]
[6,"Ansbach ","NDB ",0,0,1,"ANS",null,null,452,49,18,32,"N",10,37,53,"E",25,49.308900000000001,10.631399999999999,"49.3089","10.6314","",452,{"$f":"VLOOKUP(MID(G7,1,1),Morse!$A$2:$B$37,2,FALSE)&\"   \"&VLOOKUP(MID(G7,2,1),Morse!$A$2:$B$37,2,FALSE)&IF(LEN(G7)>2,\"   \"&VLOOKUP(MID(G7,3,1),Morse!$A$2:$B$37,2,FALSE),\"\")&IF(LEN(G7)>3,\"   \"&VLOOKUP(MID(G7,4,1),Morse!$A$2:$B$37,2,FALSE),\"\")","v":"· −   − ·   · · ·"},""]
[7,"Augsburg ","NDB ",0,0,2,"AGB",null,null,318,48,25,27,"N",10,55,59,"E",25,48.424199999999999,10.9331,"48.4242","10.9331","",318,{"$f":"VLOOKUP(MID(G8,1,1),Morse!$A$2:$B$37,2,FALSE)&\"   \"&VLOOKUP(MID(G8,2,1),Morse!$A$2:$B$37,2,FALSE)&IF(LEN(G8)>2,\"   \"&VLOOKUP(MID(G8,3,1),Morse!$A$2:$B$37,2,FALSE),\"\")&IF(LEN(G8)>3,\"   \"&VLOOKUP(MID(G8,4,1),Morse!$A$2:$B$37,2,FALSE),\"\")","v":"· −   − − ·   − · · ·"},""]
[8,"Augsburg","DME ",2,1,0,"AUG",115.9,"106x ",null,48,25,27,"N",10,55,59,"E",25,48.424199999999999,10.9331,"48.4242","10.9331","115.90","",{"$f":"VLOOKUP(MID(G9,1,1),Morse!$A$2:$B$37,2,FALSE)&\"   \"&VLOOKUP(MID(G9,2,1),Morse!$A$2:$B$37,2,FALSE)&IF(LEN(G9)>2,\"   \"&VLOOKUP(MID(G9,3,1),Morse!$A$2:$B$37,2,FALSE),\"\")&IF(LEN(G9)>3,\"   \"&VLOOKUP(MID(G9,4,1),Morse!$A$2:$B$37,2,FALSE),\"\")","v":"· −   · · −   − − ·"},"Ch 106x "]
[9,"Barmen ","DVOR/DME ",1,1,0,"BAM",113.6,"83x ",null,51,19,40,"N",7,10,37,"E",40,51.327800000000003,7.1768999999999998,"51.3278","7.1769","113.60","",{"$f":"VLOOKUP(MID(G10,1,1),Morse!$A$2:$B$37,2,FALSE)&\"   \"&VLOOKUP(MID(G10,2,1),Morse!$A$2:$B$37,2,FALSE)&IF(LEN(G10)>2,\"   \"&VLOOKUP(MID(G10,3,1),Morse!$A$2:$B$37,2,FALSE),\"\")&IF(LEN(G10)>3,\"   \"&VLOOKUP(MID(G10,4,1),Morse!$A$2:$B$37,2,FALSE),\"\")","v":"− · · ·   · −   − −"},"Ch 83x "]
[10,"Bayreuth ","VOR ",1,0,0,"BAY",110.6,null,null,49,59,7,"N",11,38,12,"E",40,49.985300000000002,11.636699999999999,"49.9853","11.6367","110.60","",{"$f":"VLOOKUP(MID(G11,1,1),Morse!$A$2:$B$37,2,FALSE)&\"   \"&VLOOKUP(MID(G11,2,1),Morse!$A$2:$B$37,2,FALSE)&IF(LEN(G11)>2,\"   \"&VLOOKUP(MID(G11,3,1),Morse!$A$2:$B$37,2,FALSE),\"\")&IF(LEN(G11)>3,\"   \"&VLOOKUP(MID(G11,4,1),Morse!$A$2:$B$37,2,FALSE),\"\")","v":"− · · ·   · −   − · − −"},""]
[11,"Berlin-Brandenburg ","DVOR/DME ",1,1,0,"BBI",114.1,"88x ",null,52,20,31,"N",13,27,15,"E",80,52.341900000000003,13.4542,"52.3419","13.4542","114.10","",{"$f":"VLOOKUP(MID(G12,1,1),Morse!$A$2:$B$37,2,FALSE)&\"   \"&VLOOKUP(MID(G12,2,1),Morse!$A$2:$B$37,2,FALSE)&IF(LEN(G12)>2,\"   \"&VLOOKUP(MID(G12,3,1),Morse!$A$2:$B$37,2,FALSE),\"\")&IF(LEN(G12)>3,\"   \"&VLOOKUP(MID(G12,4,1),Morse!$A$2:$B$37,2,FALSE),\"\")","v":"− · · ·   − · · ·   · ·"},"Ch 88x "]
[12,"Berlin/Schoenefeld ","DME ",1,1,0,"SDD",114.4,"91x ",null,52,22,28,"N",13,30,13,"E",25,52.374400000000001,13.5036,"52.3744","13.5036","114.40","",{"$f":"VLOOKUP(MID(G13,1,1),Morse!$A$2:$B$37,2,FALSE)&\"   \"&VLOOKUP(MID(G13,2,1),Morse!$A$2:$B$37,2,FALSE)&IF(LEN(G13)>2,\"   \"&VLOOKUP(MID(G13,3,1),Morse!$A$2:$B$37,2,FALSE),\"\")&IF(LEN(G13)>3,\"   \"&VLOOKUP(MID(G13,4,1),Morse!$A$2:$B$37,2,FALSE),\"\")","v":"· · ·   − · ·   − · ·"},"Ch 91x "]
[13,"Berlin/Schoenefeld","LO ",0,0,1,"SL",null,null,299,52,24,1,"N",13,37,21,"E",15,52.400300000000001,13.6225,"52.4003","13.6225","",299,{"$f":"VLOOKUP(MID(G14,1,1),Morse!$A$2:$B$37,2,FALSE)&\"   \"&VLOOKUP(MID(G14,2,1),Morse!$A$2:$B$37,2,FALSE)&IF(LEN(G14)>2,\"   \"&VLOOKUP(MID(G14,3,1),Morse!$A$2:$B$37,2,FALSE),\"\")&IF(LEN(G14)>3,\"   \"&VLOOKUP(MID(G14,4,1),Morse!$A$2:$B$37,2,FALSE),\"\")","v":"· · ·   · − · ·"},""]
[14,"Berlin/Schoenefeld","LO ",0,0,1,"MW",null,null,309,52,20,40,"N",13,23,15,"E",10,52.3444,13.387499999999999,{"$f":"LEFT(T15,2)&\".\"&RIGHT(TEXT(T15,\"00,0000\"),4)","v":"52.3444"},{"$f":"LEFT(U15,IF(U15<10,1,2))&\".\"&RIGHT(TEXT(U15,\"00,0000\"),4)","v":"13.3875"},"",309,{"$f":"VLOOKUP(MID(G15,1,1),Morse!$A$2:$B$37,2,FALSE)&\"   \"&VLOOKUP(MID(G15,2,1),Morse!$A$2:$B$37,2,FALSE)&IF(LEN(G15)>2,\"   \"&VLOOKUP(MID(G15,3,1),Morse!$A$2:$B$37,2,FALSE),\"\")&IF(LEN(G15)>3,\"   \"&VLOOKUP(MID(G15,4,1),Morse!$A$2:$B$37,2,FALSE),\"\")","v":"− −   · − −"},""]
[15,"Berlin-Tegel ","DVOR/DME ",2,2,0,"TGL",112.3,"70x ",null,52,33,41,"N",13,17,15,"E",80,52.561399999999999,13.2875,"52.5614","13.2875","112.30","",{"$f":"VLOOKUP(MID(G16,1,1),Morse!$A$2:$B$37,2,FALSE)&\"   \"&VLOOKUP(MID(G16,2,1),Morse!$A$2:$B$37,2,FALSE)&IF(LEN(G16)>2,\"   \"&VLOOKUP(MID(G16,3,1),Morse!$A$2:$B$37,2,FALSE),\"\")&IF(LEN(G16)>3,\"   \"&VLOOKUP(MID(G16,4,1),Morse!$A$2:$B$37,2,FALSE),\"\")","v":"−   − − ·   · − · ·"},"Ch 70x "]
[16,"(Tegel-West) ","NDB ",0,0,1,"RW",null,null,392,52,32,42,"N",13,9,4,"E",21,52.545000000000002,13.1511,"52.5450","13.1511","",392,{"$f":"VLOOKUP(MID(G17,1,1),Morse!$A$2:$B$37,2,FALSE)&\"   \"&VLOOKUP(MID(G17,2,1),Morse!$A$2:$B$37,2,FALSE)&IF(LEN(G17)>2,\"   \"&VLOOKUP(MID(G17,3,1),Morse!$A$2:$B$37,2,FALSE),\"\")&IF(LEN(G17)>3,\"   \"&VLOOKUP(MID(G17,4,1),Morse!$A$2:$B$37,2,FALSE),\"\")","v":"· − ·   · − −"},""]
[17,"(Tegel-East) ","NDB ",0,0,1,"GL",null,null,321,52,34,20,"N",13,25,34,"E",24,52.572200000000002,13.4261,"52.5722","13.4261","",321,{"$f":"VLOOKUP(MID(G18,1,1),Morse!$A$2:$B$37,2,FALSE)&\"   \"&VLOOKUP(MID(G18,2,1),Morse!$A$2:$B$37,2,FALSE)&IF(LEN(G18)>2,\"   \"&VLOOKUP(MID(G18,3,1),Morse!$A$2:$B$37,2,FALSE),\"\")&IF(LEN(G18)>3,\"   \"&VLOOKUP(MID(G18,4,1),Morse!$A$2:$B$37,2,FALSE),\"\")","v":"− − ·   · − · ·"},""]
[18,"Bottrop ","NDB ",0,0,1,"BOT",null,null,406.5,51,35,9,"N",7,1,23,"E",17,51.585799999999999,7.0231000000000003,"51.5858","7.0231","",406.5,{"$f":"VLOOKUP(MID(G19,1,1),Morse!$A$2:$B$37,2,FALSE)&\"   \"&VLOOKUP(MID(G19,2,1),Morse!$A$2:$B$37,2,FALSE)&IF(LEN(G19)>2,\"   \"&VLOOKUP(MID(G19,3,1),Morse!$A$2:$B$37,2,FALSE),\"\")&IF(LEN(G19)>3,\"   \"&VLOOKUP(MID(G19,4,1),Morse!$A$2:$B$37,2,FALSE),\"\")","v":"− · · ·   − − −   −"},""]
[19,"Braunschweig-Wolfsburg ","NDB ",0,0,1,"BRU",null,null,427,52,19,20,"N",10,36,22,"E",20,52.322200000000002,10.6061,"52.3222","10.6061","",427,{"$f":"VLOOKUP(MID(G20,1,1),Morse!$A$2:$B$37,2,FALSE)&\"   \"&VLOOKUP(MID(G20,2,1),Morse!$A$2:$B$37,2,FALSE)&IF(LEN(G20)>2,\"   \"&VLOOKUP(MID(G20,3,1),Morse!$A$2:$B$37,2,FALSE),\"\")&IF(LEN(G20)>3,\"   \"&VLOOKUP(MID(G20,4,1),Morse!$A$2:$B$37,2,FALSE),\"\")","v":"− · · ·   · − ·   · · −"},""]
[20,"Braunschweig ","DME ",1,1,0,"BWG",111.1,"48x ",null,52,19,16,"N",10,34,16,"E",0,52.321100000000001,10.571099999999999,"52.3211","10.5711","111.10","",{"$f":"VLOOKUP(MID(G21,1,1),Morse!$A$2:$B$37,2,FALSE)&\"   \"&VLOOKUP(MID(G21,2,1),Morse!$A$2:$B$37,2,FALSE)&IF(LEN(G21)>2,\"   \"&VLOOKUP(MID(G21,3,1),Morse!$A$2:$B$37,2,FALSE),\"\")&IF(LEN(G21)>3,\"   \"&VLOOKUP(MID(G21,4,1),Morse!$A$2:$B$37,2,FALSE),\"\")","v":"− · · ·   · − −   − − ·"},"Ch 48x "]
[21,"Bremen ","NDB ",0,0,2,"HIG",null,null,318,53,2,58,"N",8,54,32,"E",20,53.049399999999999,8.9088999999999992,"53.0494","8.9089","",318,{"$f":"VLOOKUP(MID(G22,1,1),Morse!$A$2:$B$37,2,FALSE)&\"   \"&VLOOKUP(MID(G22,2,1),Morse!$A$2:$B$37,2,FALSE)&IF(LEN(G22)>2,\"   \"&VLOOKUP(MID(G22,3,1),Morse!$A$2:$B$37,2,FALSE),\"\")&IF(LEN(G22)>3,\"   \"&VLOOKUP(MID(G22,4,1),Morse!$A$2:$B$37,2,FALSE),\"\")","v":"· · · ·   · ·   − − ·"},""]
[22,"Bremen","DVOR/DME ",1,1,0,"BMN",117.45,"121y ",null,53,2,47,"N",8,45,38,"E",50,53.046399999999998,8.7606000000000002,"53.0464","8.7606","117.45","",{"$f":"VLOOKUP(MID(G23,1,1),Morse!$A$2:$B$37,2,FALSE)&\"   \"&VLOOKUP(MID(G23,2,1),Morse!$A$2:$B$37,2,FALSE)&IF(LEN(G23)>2,\"   \"&VLOOKUP(MID(G23,3,1),Morse!$A$2:$B$37,2,FALSE),\"\")&IF(LEN(G23)>3,\"   \"&VLOOKUP(MID(G23,4,1),Morse!$A$2:$B$37,2,FALSE),\"\")","v":"− · · ·   − −   − ·"},"Ch 121y "]
[23,"Bremen","DME ",1,1,0,"BND",113.65,"83y ",null,53,2,39,"N",8,46,56,"E",25,53.044199999999996,8.7821999999999996,"53.0442","8.7822","113.65","",{"$f":"VLOOKUP(MID(G24,1,1),Morse!$A$2:$B$37,2,FALSE)&\"   \"&VLOOKUP(MID(G24,2,1),Morse!$A$2:$B$37,2,FALSE)&IF(LEN(G24)>2,\"   \"&VLOOKUP(MID(G24,3,1),Morse!$A$2:$B$37,2,FALSE),\"\")&IF(LEN(G24)>3,\"   \"&VLOOKUP(MID(G24,4,1),Morse!$A$2:$B$37,2,FALSE),\"\")","v":"− · · ·   − ·   − · ·"},"Ch 83y "]
[24,"Bruenkendorf ","DVOR/DME ",1,1,0,"BKD",117.7,"124x ",null,53,2,4,"N",11,32,46,"E",80,53.034399999999998,11.546099999999999,"53.0344","11.5461","117.70","",{"$f":"VLOOKUP(MID(G25,1,1),Morse!$A$2:$B$37,2,FALSE)&\"   \"&VLOOKUP(MID(G25,2,1),Morse!$A$2:$B$37,2,FALSE)&IF(LEN(G25)>2,\"   \"&VLOOKUP(MID(G25,3,1),Morse!$A$2:$B$37,2,FALSE),\"\")&IF(LEN(G25)>3,\"   \"&VLOOKUP(MID(G25,4,1),Morse!$A$2:$B$37,2,FALSE),\"\")","v":"− · · ·   − · −   − · ·"},"Ch 124x "]
[25,"Bueckeburg ","NDB ",0,0,1,"BYC",null,null,368,52,17,28,"N",9,5,28,"E",25,52.2911,9.0911000000000008,"52.2911","9.0911","",368,{"$f":"VLOOKUP(MID(G26,1,1),Morse!$A$2:$B$37,2,FALSE)&\"   \"&VLOOKUP(MID(G26,2,1),Morse!$A$2:$B$37,2,FALSE)&IF(LEN(G26)>2,\"   \"&VLOOKUP(MID(G26,3,1),Morse!$A$2:$B$37,2,FALSE),\"\")&IF(LEN(G26)>3,\"   \"&VLOOKUP(MID(G26,4,1),Morse!$A$2:$B$37,2,FALSE),\"\")","v":"− · · ·   − · − −   − · − ·"},""]
[26,"Celle ","NDB ",0,0,3,"CEL",null,null,311,52,35,23,"N",10,1,46,"E",25,52.589700000000001,10.029400000000001,"52.5897","10.0294","",311,{"$f":"VLOOKUP(MID(G27,1,1),Morse!$A$2:$B$37,2,FALSE)&\"   \"&VLOOKUP(MID(G27,2,1),Morse!$A$2:$B$37,2,FALSE)&IF(LEN(G27)>2,\"   \"&VLOOKUP(MID(G27,3,1),Morse!$A$2:$B$37,2,FALSE),\"\")&IF(LEN(G27)>3,\"   \"&VLOOKUP(MID(G27,4,1),Morse!$A$2:$B$37,2,FALSE),\"\")","v":"− · − ·   ·   · − · ·"},""]
[27,"Charlie ","VOR ",2,0,0,"CHA",115.5,null,null,49,55,16,"N",9,2,23,"E",60,49.921100000000003,9.0396999999999998,"49.9211","9.0397","115.50","",{"$f":"VLOOKUP(MID(G28,1,1),Morse!$A$2:$B$37,2,FALSE)&\"   \"&VLOOKUP(MID(G28,2,1),Morse!$A$2:$B$37,2,FALSE)&IF(LEN(G28)>2,\"   \"&VLOOKUP(MID(G28,3,1),Morse!$A$2:$B$37,2,FALSE),\"\")&IF(LEN(G28)>3,\"   \"&VLOOKUP(MID(G28,4,1),Morse!$A$2:$B$37,2,FALSE),\"\")","v":"− · − ·   · · · ·   · −"},""]
[28,"Cochstedt ","DME ",1,1,0,"COD",113.35,"80y ",null,51,51,14,"N",11,25,24,"E",25,51.853900000000003,11.423299999999999,"51.8539","11.4233","113.35","",{"$f":"VLOOKUP(MID(G29,1,1),Morse!$A$2:$B$37,2,FALSE)&\"   \"&VLOOKUP(MID(G29,2,1),Morse!$A$2:$B$37,2,FALSE)&IF(LEN(G29)>2,\"   \"&VLOOKUP(MID(G29,3,1),Morse!$A$2:$B$37,2,FALSE),\"\")&IF(LEN(G29)>3,\"   \"&VLOOKUP(MID(G29,4,1),Morse!$A$2:$B$37,2,FALSE),\"\")","v":"− · − ·   − − −   − · ·"},"Ch 80y "]
[29,"Cochstedt","NDB ",0,0,2,"CB",null,null,344,51,51,37,"N",11,27,2,"E",0,51.860300000000002,11.4506,"51.8603","11.4506","",344,{"$f":"VLOOKUP(MID(G30,1,1),Morse!$A$2:$B$37,2,FALSE)&\"   \"&VLOOKUP(MID(G30,2,1),Morse!$A$2:$B$37,2,FALSE)&IF(LEN(G30)>2,\"   \"&VLOOKUP(MID(G30,3,1),Morse!$A$2:$B$37,2,FALSE),\"\")&IF(LEN(G30)>3,\"   \"&VLOOKUP(MID(G30,4,1),Morse!$A$2:$B$37,2,FALSE),\"\")","v":"− · − ·   − · · ·"},""]
[30,"Cola ","DVOR/DME ",1,1,0,"COL",108.8,"25x ",null,50,47,1,"N",7,35,39,"E",40,50.7836,7.5941999999999998,"50.7836","7.5942","108.80","",{"$f":"VLOOKUP(MID(G31,1,1),Morse!$A$2:$B$37,2,FALSE)&\"   \"&VLOOKUP(MID(G31,2,1),Morse!$A$2:$B$37,2,FALSE)&IF(LEN(G31)>2,\"   \"&VLOOKUP(MID(G31,3,1),Morse!$A$2:$B$37,2,FALSE),\"\")&IF(LEN(G31)>3,\"   \"&VLOOKUP(MID(G31,4,1),Morse!$A$2:$B$37,2,FALSE),\"\")","v":"− · − ·   − − −   · − · ·"},"Ch 25x "]
[31,"Cottbus-Drewitz ","NDB ",0,0,1,"DRW",null,null,355,51,53,48,"N",14,33,45,"E",12,51.896700000000003,14.5625,"51.8967","14.5625","",355,{"$f":"VLOOKUP(MID(G32,1,1),Morse!$A$2:$B$37,2,FALSE)&\"   \"&VLOOKUP(MID(G32,2,1),Morse!$A$2:$B$37,2,FALSE)&IF(LEN(G32)>2,\"   \"&VLOOKUP(MID(G32,3,1),Morse!$A$2:$B$37,2,FALSE),\"\")&IF(LEN(G32)>3,\"   \"&VLOOKUP(MID(G32,4,1),Morse!$A$2:$B$37,2,FALSE),\"\")","v":"− · ·   · − ·   · − −"},""]
[32,"Cottbus-Drewitz","DME ",2,1,0,"CDD",113.7,"CH84x (*) ",null,51,53,16,"N",14,31,59,"E",25,51.887799999999999,14.533099999999999,"51.8878","14.5331","113.70","",{"$f":"VLOOKUP(MID(G33,1,1),Morse!$A$2:$B$37,2,FALSE)&\"   \"&VLOOKUP(MID(G33,2,1),Morse!$A$2:$B$37,2,FALSE)&IF(LEN(G33)>2,\"   \"&VLOOKUP(MID(G33,3,1),Morse!$A$2:$B$37,2,FALSE),\"\")&IF(LEN(G33)>3,\"   \"&VLOOKUP(MID(G33,4,1),Morse!$A$2:$B$37,2,FALSE),\"\")","v":"− · − ·   − · ·   − · ·"},"Ch CH84x (*) "]
[33,"Diepholz ","NDB ",0,0,1,"DP",null,null,325,52,35,30,"N",8,27,12,"E",35,52.591700000000003,8.4533000000000005,"52.5917","8.4533","",325,{"$f":"VLOOKUP(MID(G34,1,1),Morse!$A$2:$B$37,2,FALSE)&\"   \"&VLOOKUP(MID(G34,2,1),Morse!$A$2:$B$37,2,FALSE)&IF(LEN(G34)>2,\"   \"&VLOOKUP(MID(G34,3,1),Morse!$A$2:$B$37,2,FALSE),\"\")&IF(LEN(G34)>3,\"   \"&VLOOKUP(MID(G34,4,1),Morse!$A$2:$B$37,2,FALSE),\"\")","v":"− · ·   · − − ·"},""]
[34,"Dinkelsbuehl ","DVORTAC ",1,1,0,"DKB",117.8,"125x ",null,49,8,34,"N",10,14,18,"E",60,49.142800000000001,10.238300000000001,"49.1428","10.2383","117.80","",{"$f":"VLOOKUP(MID(G35,1,1),Morse!$A$2:$B$37,2,FALSE)&\"   \"&VLOOKUP(MID(G35,2,1),Morse!$A$2:$B$37,2,FALSE)&IF(LEN(G35)>2,\"   \"&VLOOKUP(MID(G35,3,1),Morse!$A$2:$B$37,2,FALSE),\"\")&IF(LEN(G35)>3,\"   \"&VLOOKUP(MID(G35,4,1),Morse!$A$2:$B$37,2,FALSE),\"\")","v":"− · ·   − · −   − · · ·"},"Ch 125x "]
[35,"Dortmund-Wickede ","NDB ",0,0,2,"DWI",null,null,357,51,31,34,"N",7,38,4,"E",25,51.5261,7.6344000000000003,"51.5261","7.6344","",357,{"$f":"VLOOKUP(MID(G36,1,1),Morse!$A$2:$B$37,2,FALSE)&\"   \"&VLOOKUP(MID(G36,2,1),Morse!$A$2:$B$37,2,FALSE)&IF(LEN(G36)>2,\"   \"&VLOOKUP(MID(G36,3,1),Morse!$A$2:$B$37,2,FALSE),\"\")&IF(LEN(G36)>3,\"   \"&VLOOKUP(MID(G36,4,1),Morse!$A$2:$B$37,2,FALSE),\"\")","v":"− · ·   · − −   · ·"},""]
[36,"Dresden ","DVOR/DME ",1,1,0,"DRN",114.35,"90y ",null,51,0,56,"N",13,35,56,"E",60,51.015599999999999,13.5989,"51.0156","13.5989","114.35","",{"$f":"VLOOKUP(MID(G37,1,1),Morse!$A$2:$B$37,2,FALSE)&\"   \"&VLOOKUP(MID(G37,2,1),Morse!$A$2:$B$37,2,FALSE)&IF(LEN(G37)>2,\"   \"&VLOOKUP(MID(G37,3,1),Morse!$A$2:$B$37,2,FALSE),\"\")&IF(LEN(G37)>3,\"   \"&VLOOKUP(MID(G37,4,1),Morse!$A$2:$B$37,2,FALSE),\"\")","v":"− · ·   · − ·   − ·"},"Ch 90y "]
[37,"Dresden","LO ",0,0,1,"FS",null,null,374,51,11,35,"N",13,1,0,"E",15,51.193100000000001,13.0167,"51.1931","13.0167","",374,{"$f":"VLOOKUP(MID(G38,1,1),Morse!$A$2:$B$37,2,FALSE)&\"   \"&VLOOKUP(MID(G38,2,1),Morse!$A$2:$B$37,2,FALSE)&IF(LEN(G38)>2,\"   \"&VLOOKUP(MID(G38,3,1),Morse!$A$2:$B$37,2,FALSE),\"\")&IF(LEN(G38)>3,\"   \"&VLOOKUP(MID(G38,4,1),Morse!$A$2:$B$37,2,FALSE),\"\")","v":"· · − ·   · · ·"},""]
[38,"Duesseldorf ","VOR/DME ",2,2,0,"DUS",115.15,"98y ",null,51,16,59,"N",6,45,13,"E",40,51.283099999999997,6.7535999999999996,"51.2831","6.7536","115.15","",{"$f":"VLOOKUP(MID(G39,1,1),Morse!$A$2:$B$37,2,FALSE)&\"   \"&VLOOKUP(MID(G39,2,1),Morse!$A$2:$B$37,2,FALSE)&IF(LEN(G39)>2,\"   \"&VLOOKUP(MID(G39,3,1),Morse!$A$2:$B$37,2,FALSE),\"\")&IF(LEN(G39)>3,\"   \"&VLOOKUP(MID(G39,4,1),Morse!$A$2:$B$37,2,FALSE),\"\")","v":"− · ·   · · −   · · ·"},"Ch 98y "]
[39,"Duesseldorf","LO ",0,0,1,"LI",null,null,417,51,20,49,"N",6,53,29,"E",25,51.346899999999998,6.8914,"51.3469","6.8914","",417,{"$f":"VLOOKUP(MID(G40,1,1),Morse!$A$2:$B$37,2,FALSE)&\"   \"&VLOOKUP(MID(G40,2,1),Morse!$A$2:$B$37,2,FALSE)&IF(LEN(G40)>2,\"   \"&VLOOKUP(MID(G40,3,1),Morse!$A$2:$B$37,2,FALSE),\"\")&IF(LEN(G40)>3,\"   \"&VLOOKUP(MID(G40,4,1),Morse!$A$2:$B$37,2,FALSE),\"\")","v":"· − · ·   · ·"},""]
[40,"Duesseldorf","LO ",0,0,1,"DY",null,null,284.5,51,14,4,"N",6,39,16,"E",13,51.234400000000001,6.6543999999999999,"51.2344","6.6544","",284.5,{"$f":"VLOOKUP(MID(G41,1,1),Morse!$A$2:$B$37,2,FALSE)&\"   \"&VLOOKUP(MID(G41,2,1),Morse!$A$2:$B$37,2,FALSE)&IF(LEN(G41)>2,\"   \"&VLOOKUP(MID(G41,3,1),Morse!$A$2:$B$37,2,FALSE),\"\")&IF(LEN(G41)>3,\"   \"&VLOOKUP(MID(G41,4,1),Morse!$A$2:$B$37,2,FALSE),\"\")","v":"− · ·   − · − −"},""]
[41,"Elbe ","VOR/DME ",1,1,0,"LBV",115.1,"98x ",null,53,39,9,"N",9,34,46,"E",60,53.652500000000003,9.5793999999999997,"53.6525","9.5794","115.10","",{"$f":"VLOOKUP(MID(G42,1,1),Morse!$A$2:$B$37,2,FALSE)&\"   \"&VLOOKUP(MID(G42,2,1),Morse!$A$2:$B$37,2,FALSE)&IF(LEN(G42)>2,\"   \"&VLOOKUP(MID(G42,3,1),Morse!$A$2:$B$37,2,FALSE),\"\")&IF(LEN(G42)>3,\"   \"&VLOOKUP(MID(G42,4,1),Morse!$A$2:$B$37,2,FALSE),\"\")","v":"· − · ·   − · · ·   · · · −"},"Ch 98x "]
[42,"Erfurt ","DME ",1,1,0,"EFD",112.05,"57y (*) ",null,50,58,57,"N",10,57,28,"E",25,50.982500000000002,10.957800000000001,"50.9825","10.9578","112.05","",{"$f":"VLOOKUP(MID(G43,1,1),Morse!$A$2:$B$37,2,FALSE)&\"   \"&VLOOKUP(MID(G43,2,1),Morse!$A$2:$B$37,2,FALSE)&IF(LEN(G43)>2,\"   \"&VLOOKUP(MID(G43,3,1),Morse!$A$2:$B$37,2,FALSE),\"\")&IF(LEN(G43)>3,\"   \"&VLOOKUP(MID(G43,4,1),Morse!$A$2:$B$37,2,FALSE),\"\")","v":"·   · · − ·   − · ·"},"Ch 57y (*) "]
[43,"Erfurt","DVOR/DME ",1,1,0,"ERF",113.85,"85y ",null,50,57,3,"N",11,14,12,"E",40,50.950800000000001,11.236700000000001,"50.9508","11.2367","113.85","",{"$f":"VLOOKUP(MID(G44,1,1),Morse!$A$2:$B$37,2,FALSE)&\"   \"&VLOOKUP(MID(G44,2,1),Morse!$A$2:$B$37,2,FALSE)&IF(LEN(G44)>2,\"   \"&VLOOKUP(MID(G44,3,1),Morse!$A$2:$B$37,2,FALSE),\"\")&IF(LEN(G44)>3,\"   \"&VLOOKUP(MID(G44,4,1),Morse!$A$2:$B$37,2,FALSE),\"\")","v":"·   · − ·   · · − ·"},"Ch 85y "]
[44,"Erfurt","NDB (LO) ",0,0,1,"ERT",null,null,425,50,58,57,"N",10,55,23,"E",35,50.982500000000002,10.9231,"50.9825","10.9231","",425,{"$f":"VLOOKUP(MID(G45,1,1),Morse!$A$2:$B$37,2,FALSE)&\"   \"&VLOOKUP(MID(G45,2,1),Morse!$A$2:$B$37,2,FALSE)&IF(LEN(G45)>2,\"   \"&VLOOKUP(MID(G45,3,1),Morse!$A$2:$B$37,2,FALSE),\"\")&IF(LEN(G45)>3,\"   \"&VLOOKUP(MID(G45,4,1),Morse!$A$2:$B$37,2,FALSE),\"\")","v":"·   · − ·   −"},""]
[45,"Erlangen ","VOR/DME ",1,1,0,"ERL",114.9,"96x ",null,49,39,19,"N",11,9,3,"E",60,49.655299999999997,11.1508,"49.6553","11.1508","114.90","",{"$f":"VLOOKUP(MID(G46,1,1),Morse!$A$2:$B$37,2,FALSE)&\"   \"&VLOOKUP(MID(G46,2,1),Morse!$A$2:$B$37,2,FALSE)&IF(LEN(G46)>2,\"   \"&VLOOKUP(MID(G46,3,1),Morse!$A$2:$B$37,2,FALSE),\"\")&IF(LEN(G46)>3,\"   \"&VLOOKUP(MID(G46,4,1),Morse!$A$2:$B$37,2,FALSE),\"\")","v":"·   · − ·   · − · ·"},"Ch 96x "]
[46,"Faßberg ","NDB ",0,0,1,"FSB",null,null,284,52,54,56,"N",10,11,17,"E",30,52.915599999999998,10.1881,"52.9156","10.1881","",284,{"$f":"VLOOKUP(MID(G47,1,1),Morse!$A$2:$B$37,2,FALSE)&\"   \"&VLOOKUP(MID(G47,2,1),Morse!$A$2:$B$37,2,FALSE)&IF(LEN(G47)>2,\"   \"&VLOOKUP(MID(G47,3,1),Morse!$A$2:$B$37,2,FALSE),\"\")&IF(LEN(G47)>3,\"   \"&VLOOKUP(MID(G47,4,1),Morse!$A$2:$B$37,2,FALSE),\"\")","v":"· · − ·   · · ·   − · · ·"},""]
[47,"Frankfurt (Main) ","DVORTAC ",1,1,0,"FFM",114.2,"89x ",null,50,3,13,"N",8,38,14,"E",50,50.053600000000003,8.6372,"50.0536","8.6372","114.20","",{"$f":"VLOOKUP(MID(G48,1,1),Morse!$A$2:$B$37,2,FALSE)&\"   \"&VLOOKUP(MID(G48,2,1),Morse!$A$2:$B$37,2,FALSE)&IF(LEN(G48)>2,\"   \"&VLOOKUP(MID(G48,3,1),Morse!$A$2:$B$37,2,FALSE),\"\")&IF(LEN(G48)>3,\"   \"&VLOOKUP(MID(G48,4,1),Morse!$A$2:$B$37,2,FALSE),\"\")","v":"· · − ·   · · − ·   − −"},"Ch 89x "]
[48,"Frankfurt (Main)","LO ",0,0,1,"FR",null,null,297,50,3,57,"N",8,41,1,"E",10,50.065800000000003,8.6836000000000002,"50.0658","8.6836","",297,{"$f":"VLOOKUP(MID(G49,1,1),Morse!$A$2:$B$37,2,FALSE)&\"   \"&VLOOKUP(MID(G49,2,1),Morse!$A$2:$B$37,2,FALSE)&IF(LEN(G49)>2,\"   \"&VLOOKUP(MID(G49,3,1),Morse!$A$2:$B$37,2,FALSE),\"\")&IF(LEN(G49)>3,\"   \"&VLOOKUP(MID(G49,4,1),Morse!$A$2:$B$37,2,FALSE),\"\")","v":"· · − ·   · − ·"},""]
[49,"Frankfurt (Main)","LO ",0,0,1,"FW",null,null,382,50,0,18,"N",8,25,46,"E",15,50.005000000000003,8.4293999999999993,"50.0050","8.4294","",382,{"$f":"VLOOKUP(MID(G50,1,1),Morse!$A$2:$B$37,2,FALSE)&\"   \"&VLOOKUP(MID(G50,2,1),Morse!$A$2:$B$37,2,FALSE)&IF(LEN(G50)>2,\"   \"&VLOOKUP(MID(G50,3,1),Morse!$A$2:$B$37,2,FALSE),\"\")&IF(LEN(G50)>3,\"   \"&VLOOKUP(MID(G50,4,1),Morse!$A$2:$B$37,2,FALSE),\"\")","v":"· · − ·   · − −"},""]
[50,"Fred ","DME ",2,1,0,"FRD",115.9,"106x (*) ",null,50,1,50,"N",8,34,1,"E",25,50.0306,8.5669000000000004,"50.0306","8.5669","115.90","",{"$f":"VLOOKUP(MID(G51,1,1),Morse!$A$2:$B$37,2,FALSE)&\"   \"&VLOOKUP(MID(G51,2,1),Morse!$A$2:$B$37,2,FALSE)&IF(LEN(G51)>2,\"   \"&VLOOKUP(MID(G51,3,1),Morse!$A$2:$B$37,2,FALSE),\"\")&IF(LEN(G51)>3,\"   \"&VLOOKUP(MID(G51,4,1),Morse!$A$2:$B$37,2,FALSE),\"\")","v":"· · − ·   · − ·   − · ·"},"Ch 106x (*) "]
[51,"Friedland ","DVOR/DME ",1,1,0,"FLD",117.15,"118y ",null,53,45,46,"N",13,33,47,"E",60,53.762799999999999,13.5631,"53.7628","13.5631","117.15","",{"$f":"VLOOKUP(MID(G52,1,1),Morse!$A$2:$B$37,2,FALSE)&\"   \"&VLOOKUP(MID(G52,2,1),Morse!$A$2:$B$37,2,FALSE)&IF(LEN(G52)>2,\"   \"&VLOOKUP(MID(G52,3,1),Morse!$A$2:$B$37,2,FALSE),\"\")&IF(LEN(G52)>3,\"   \"&VLOOKUP(MID(G52,4,1),Morse!$A$2:$B$37,2,FALSE),\"\")","v":"· · − ·   · − · ·   − · ·"},"Ch 118y "]
[52,"Friedrichshafen ","DME/ILS ",1,1,0,"FHD",112.6,"73x (*) ",null,47,39,59,"N",9,30,32,"E",25,47.666400000000003,9.5089000000000006,"47.6664","9.5089","112.60","",{"$f":"VLOOKUP(MID(G53,1,1),Morse!$A$2:$B$37,2,FALSE)&\"   \"&VLOOKUP(MID(G53,2,1),Morse!$A$2:$B$37,2,FALSE)&IF(LEN(G53)>2,\"   \"&VLOOKUP(MID(G53,3,1),Morse!$A$2:$B$37,2,FALSE),\"\")&IF(LEN(G53)>3,\"   \"&VLOOKUP(MID(G53,4,1),Morse!$A$2:$B$37,2,FALSE),\"\")","v":"· · − ·   · · · ·   − · ·"},"Ch 73x (*) "]
[53,"Fritzlar ","NDB ",0,0,1,"FTZ",null,null,468,51,5,3,"N",9,24,55,"E",35,51.084200000000003,9.4153000000000002,"51.0842","9.4153","",468,{"$f":"VLOOKUP(MID(G54,1,1),Morse!$A$2:$B$37,2,FALSE)&\"   \"&VLOOKUP(MID(G54,2,1),Morse!$A$2:$B$37,2,FALSE)&IF(LEN(G54)>2,\"   \"&VLOOKUP(MID(G54,3,1),Morse!$A$2:$B$37,2,FALSE),\"\")&IF(LEN(G54)>3,\"   \"&VLOOKUP(MID(G54,4,1),Morse!$A$2:$B$37,2,FALSE),\"\")","v":"· · − ·   −   − − · ·"},""]
[54,"Fuerstenwalde ","VOR/DME ",1,1,0,"FWE",113.3,"80x ",null,52,24,41,"N",14,7,50,"E",50,52.4114,14.130599999999999,"52.4114","14.1306","113.30","",{"$f":"VLOOKUP(MID(G55,1,1),Morse!$A$2:$B$37,2,FALSE)&\"   \"&VLOOKUP(MID(G55,2,1),Morse!$A$2:$B$37,2,FALSE)&IF(LEN(G55)>2,\"   \"&VLOOKUP(MID(G55,3,1),Morse!$A$2:$B$37,2,FALSE),\"\")&IF(LEN(G55)>3,\"   \"&VLOOKUP(MID(G55,4,1),Morse!$A$2:$B$37,2,FALSE),\"\")","v":"· · − ·   · − −   ·"},"Ch 80x "]
[55,"Fulda ","DVOR/DME ",1,1,0,"FUL",112.1,"58x ",null,50,35,33,"N",9,34,20,"E",100,50.592500000000001,9.5722000000000005,"50.5925","9.5722","112.10","",{"$f":"VLOOKUP(MID(G56,1,1),Morse!$A$2:$B$37,2,FALSE)&\"   \"&VLOOKUP(MID(G56,2,1),Morse!$A$2:$B$37,2,FALSE)&IF(LEN(G56)>2,\"   \"&VLOOKUP(MID(G56,3,1),Morse!$A$2:$B$37,2,FALSE),\"\")&IF(LEN(G56)>3,\"   \"&VLOOKUP(MID(G56,4,1),Morse!$A$2:$B$37,2,FALSE),\"\")","v":"· · − ·   · · −   · − · ·"},"Ch 58x "]
[56,"Gedern ","DVORTAC ",1,1,0,"GED",110.8,"45x ",null,50,24,43,"N",9,14,57,"E",70,50.411900000000003,9.2492000000000001,"50.4119","9.2492","110.80","",{"$f":"VLOOKUP(MID(G57,1,1),Morse!$A$2:$B$37,2,FALSE)&\"   \"&VLOOKUP(MID(G57,2,1),Morse!$A$2:$B$37,2,FALSE)&IF(LEN(G57)>2,\"   \"&VLOOKUP(MID(G57,3,1),Morse!$A$2:$B$37,2,FALSE),\"\")&IF(LEN(G57)>3,\"   \"&VLOOKUP(MID(G57,4,1),Morse!$A$2:$B$37,2,FALSE),\"\")","v":"− − ·   ·   − · ·"},"Ch 45x "]
[57,"Germinghausen ","DVOR/DME ",2,1,0,"GMH",115.4,"101x ",null,51,10,14,"N",7,53,31,"E",60,51.1706,7.8918999999999997,"51.1706","7.8919","115.40","",{"$f":"VLOOKUP(MID(G58,1,1),Morse!$A$2:$B$37,2,FALSE)&\"   \"&VLOOKUP(MID(G58,2,1),Morse!$A$2:$B$37,2,FALSE)&IF(LEN(G58)>2,\"   \"&VLOOKUP(MID(G58,3,1),Morse!$A$2:$B$37,2,FALSE),\"\")&IF(LEN(G58)>3,\"   \"&VLOOKUP(MID(G58,4,1),Morse!$A$2:$B$37,2,FALSE),\"\")","v":"− − ·   − −   · · · ·"},"Ch 101x "]
[58,"Gotem ","DVOR/DME ",1,1,0,"GOT",115.25,"99y ",null,51,20,35,"N",11,35,51,"E",60,51.3431,11.5975,"51.3431","11.5975","115.25","",{"$f":"VLOOKUP(MID(G59,1,1),Morse!$A$2:$B$37,2,FALSE)&\"   \"&VLOOKUP(MID(G59,2,1),Morse!$A$2:$B$37,2,FALSE)&IF(LEN(G59)>2,\"   \"&VLOOKUP(MID(G59,3,1),Morse!$A$2:$B$37,2,FALSE),\"\")&IF(LEN(G59)>3,\"   \"&VLOOKUP(MID(G59,4,1),Morse!$A$2:$B$37,2,FALSE),\"\")","v":"− − ·   − − −   −"},"Ch 99y "]
[59,"Grafenwoehr ","NDB ",0,0,1,"GRW",null,null,405,49,41,40,"N",11,56,30,"E",25,49.694400000000002,11.941700000000001,"49.6944","11.9417","",405,{"$f":"VLOOKUP(MID(G60,1,1),Morse!$A$2:$B$37,2,FALSE)&\"   \"&VLOOKUP(MID(G60,2,1),Morse!$A$2:$B$37,2,FALSE)&IF(LEN(G60)>2,\"   \"&VLOOKUP(MID(G60,3,1),Morse!$A$2:$B$37,2,FALSE),\"\")&IF(LEN(G60)>3,\"   \"&VLOOKUP(MID(G60,4,1),Morse!$A$2:$B$37,2,FALSE),\"\")","v":"− − ·   · − ·   · − −"},""]
[60,"Hahn ","NDB ",0,0,1,"HAN",null,null,376,49,57,54,"N",7,16,51,"E",15,49.965000000000003,7.2808000000000002,"49.9650","7.2808","",376,{"$f":"VLOOKUP(MID(G61,1,1),Morse!$A$2:$B$37,2,FALSE)&\"   \"&VLOOKUP(MID(G61,2,1),Morse!$A$2:$B$37,2,FALSE)&IF(LEN(G61)>2,\"   \"&VLOOKUP(MID(G61,3,1),Morse!$A$2:$B$37,2,FALSE),\"\")&IF(LEN(G61)>3,\"   \"&VLOOKUP(MID(G61,4,1),Morse!$A$2:$B$37,2,FALSE),\"\")","v":"· · · ·   · −   − ·"},""]
[61,"Hahn","DME ",1,1,0,"FHH",117.35,"120y (*) ",null,49,56,30,"N",7,15,38,"E",25,49.941699999999997,7.2606000000000002,"49.9417","7.2606","117.35","",{"$f":"VLOOKUP(MID(G62,1,1),Morse!$A$2:$B$37,2,FALSE)&\"   \"&VLOOKUP(MID(G62,2,1),Morse!$A$2:$B$37,2,FALSE)&IF(LEN(G62)>2,\"   \"&VLOOKUP(MID(G62,3,1),Morse!$A$2:$B$37,2,FALSE),\"\")&IF(LEN(G62)>3,\"   \"&VLOOKUP(MID(G62,4,1),Morse!$A$2:$B$37,2,FALSE),\"\")","v":"· · − ·   · · · ·   · · · ·"},"Ch 120y (*) "]
[62,"Hamburg ","NDB ",0,0,1,"HOS",null,null,339,53,40,37,"N",10,5,0,"E",25,53.676900000000003,10.083299999999999,"53.6769","10.0833","",339,{"$f":"VLOOKUP(MID(G63,1,1),Morse!$A$2:$B$37,2,FALSE)&\"   \"&VLOOKUP(MID(G63,2,1),Morse!$A$2:$B$37,2,FALSE)&IF(LEN(G63)>2,\"   \"&VLOOKUP(MID(G63,3,1),Morse!$A$2:$B$37,2,FALSE),\"\")&IF(LEN(G63)>3,\"   \"&VLOOKUP(MID(G63,4,1),Morse!$A$2:$B$37,2,FALSE),\"\")","v":"· · · ·   − − −   · · ·"},""]
[63,"Hamburg","DVORTAC ",2,1,0,"HAM",113.1,"78x ",null,53,41,8,"N",10,12,18,"E",60,53.685600000000001,10.205,"53.6856","10.2050","113.10","",{"$f":"VLOOKUP(MID(G64,1,1),Morse!$A$2:$B$37,2,FALSE)&\"   \"&VLOOKUP(MID(G64,2,1),Morse!$A$2:$B$37,2,FALSE)&IF(LEN(G64)>2,\"   \"&VLOOKUP(MID(G64,3,1),Morse!$A$2:$B$37,2,FALSE),\"\")&IF(LEN(G64)>3,\"   \"&VLOOKUP(MID(G64,4,1),Morse!$A$2:$B$37,2,FALSE),\"\")","v":"· · · ·   · −   − −"},"Ch 78x "]
[64,"Hamburg","LM ",0,0,1,"FU",null,null,350,53,36,53,"N",9,57,25,"E",15,53.614699999999999,9.9568999999999992,"53.6147","9.9569","",350,{"$f":"VLOOKUP(MID(G65,1,1),Morse!$A$2:$B$37,2,FALSE)&\"   \"&VLOOKUP(MID(G65,2,1),Morse!$A$2:$B$37,2,FALSE)&IF(LEN(G65)>2,\"   \"&VLOOKUP(MID(G65,3,1),Morse!$A$2:$B$37,2,FALSE),\"\")&IF(LEN(G65)>3,\"   \"&VLOOKUP(MID(G65,4,1),Morse!$A$2:$B$37,2,FALSE),\"\")","v":"· · − ·   · · −"},""]
[65,"Hamburg","LO ",{"$f":"IF(C66<>\"DME\",COUNTIF($H$2:$H$177,H66),0)","v":0},{"$f":"COUNTIF($I$2:$I$177,I66)","v":0},{"$f":"COUNTIF($J$2:$J$177,J66)","v":1},"GT",null,null,323,53,42,51,"N",9,55,27,"E",15,53.714199999999998,9.9242000000000008,"53.7142","9.9242","",323,{"$f":"VLOOKUP(MID(G66,1,1),Morse!$A$2:$B$37,2,FALSE)&\"   \"&VLOOKUP(MID(G66,2,1),Morse!$A$2:$B$37,2,FALSE)&IF(LEN(G66)>2,\"   \"&VLOOKUP(MID(G66,3,1),Morse!$A$2:$B$37,2,FALSE),\"\")&IF(LEN(G66)>3,\"   \"&VLOOKUP(MID(G66,4,1),Morse!$A$2:$B$37,2,FALSE),\"\")","v":"− − ·   −"},""]
[66,"Hamburg-Finkenwerder ","DME ",2,2,0,"IHFW",108.5,"22x (*) ",null,53,32,11,"N",9,50,27,"E",10,{"$f":"IF(K67+(L67/60)<>0,ROUND(K67+(L67/60)+(M67/3600),4),\"\")","v":53.5364},{"$f":"IF(O67+(P67/60)<>0,ROUND(O67+(P67/60)+(Q67/3600),4),\"\")","v":9.8407999999999998},"53.5364","9.8408",{"$f":"IF(H67<>\"\",LEFT(H67,3)&\".\"&IF(LEN(H67)=3,\"\",RIGHT(H67,LEN(H67)-4))&IF(LEN(H67)=3,\"00\",IF(LEN(H67)=5,\"0\",IF(LEN(H67)=6,\"\",\"\"))),\"\")","v":"108.50"},{"$f":"IF(J67<>0,J67,\"\")","v":""},{"$f":"VLOOKUP(MID(G67,1,1),Morse!$A$2:$B$37,2,FALSE)&\"   \"&VLOOKUP(MID(G67,2,1),Morse!$A$2:$B$37,2,FALSE)&IF(LEN(G67)>2,\"   \"&VLOOKUP(MID(G67,3,1),Morse!$A$2:$B$37,2,FALSE),\"\")&IF(LEN(G67)>3,\"   \"&VLOOKUP(MID(G67,4,1),Morse!$A$2:$B$37,2,FALSE),\"\")","v":"· ·   · · · ·   · · − ·   · − −"},"Ch 22x (*) "]
[67,"Hamm ","DVOR/DME ",1,1,0,"HMM",115.65,"103y ",null,51,51,25,"N",7,42,30,"E",40,51.856900000000003,7.7083000000000004,"51.8569","7.7083","115.65","",{"$f":"VLOOKUP(MID(G68,1,1),Morse!$A$2:$B$37,2,FALSE)&\"   \"&VLOOKUP(MID(G68,2,1),Morse!$A$2:$B$37,2,FALSE)&IF(LEN(G68)>2,\"   \"&VLOOKUP(MID(G68,3,1),Morse!$A$2:$B$37,2,FALSE),\"\")&IF(LEN(G68)>3,\"   \"&VLOOKUP(MID(G68,4,1),Morse!$A$2:$B$37,2,FALSE),\"\")","v":"· · · ·   − −   − −"},{"$f":"IF(I68<>\"\",\"Ch \"&I68,\"\")","v":"Ch 103y "}]
[68,"Hannover ","DME ",1,1,0,"HAD",113.95,"86y (*) ",null,52,28,8,"N",9,41,44,"E",25,52.468899999999998,9.6956000000000007,"52.4689","9.6956","113.95","",{"$f":"VLOOKUP(MID(G69,1,1),Morse!$A$2:$B$37,2,FALSE)&\"   \"&VLOOKUP(MID(G69,2,1),Morse!$A$2:$B$37,2,FALSE)&IF(LEN(G69)>2,\"   \"&VLOOKUP(MID(G69,3,1),Morse!$A$2:$B$37,2,FALSE),\"\")&IF(LEN(G69)>3,\"   \"&VLOOKUP(MID(G69,4,1),Morse!$A$2:$B$37,2,FALSE),\"\")","v":"· · · ·   · −   − · ·"},"Ch 86y (*) "]
[69,"Hannover","DME ",1,1,0,"HBD",116.9,"116x (*) ",null,52,27,19,"N",9,39,33,"E",25,52.455300000000001,9.6592000000000002,"52.4553","9.6592","116.90","",{"$f":"VLOOKUP(MID(G70,1,1),Morse!$A$2:$B$37,2,FALSE)&\"   \"&VLOOKUP(MID(G70,2,1),Morse!$A$2:$B$37,2,FALSE)&IF(LEN(G70)>2,\"   \"&VLOOKUP(MID(G70,3,1),Morse!$A$2:$B$37,2,FALSE),\"\")&IF(LEN(G70)>3,\"   \"&VLOOKUP(MID(G70,4,1),Morse!$A$2:$B$37,2,FALSE),\"\")","v":"· · · ·   − · · ·   − · ·"},"Ch 116x (*) "]
[70,"Hannover","LO",0,0,1,"HA",null,null,320,52,27,51,"N",9,48,18,"E",15,52.464199999999998,9.8049999999999997,"52.4642","9.8050","",320,{"$f":"VLOOKUP(MID(G71,1,1),Morse!$A$2:$B$37,2,FALSE)&\"   \"&VLOOKUP(MID(G71,2,1),Morse!$A$2:$B$37,2,FALSE)&IF(LEN(G71)>2,\"   \"&VLOOKUP(MID(G71,3,1),Morse!$A$2:$B$37,2,FALSE),\"\")&IF(LEN(G71)>3,\"   \"&VLOOKUP(MID(G71,4,1),Morse!$A$2:$B$37,2,FALSE),\"\")","v":"· · · ·   · −"},""]
[71,"Hannover","LO ",0,0,2,"HW",null,null,358,52,28,7,"N",9,32,47,"E",15,52.468600000000002,9.5464000000000002,"52.4686","9.5464","",358,{"$f":"VLOOKUP(MID(G72,1,1),Morse!$A$2:$B$37,2,FALSE)&\"   \"&VLOOKUP(MID(G72,2,1),Morse!$A$2:$B$37,2,FALSE)&IF(LEN(G72)>2,\"   \"&VLOOKUP(MID(G72,3,1),Morse!$A$2:$B$37,2,FALSE),\"\")&IF(LEN(G72)>3,\"   \"&VLOOKUP(MID(G72,4,1),Morse!$A$2:$B$37,2,FALSE),\"\")","v":"· · · ·   · − −"},""]
[72,"Hehlingen ","DVOR/DME ",1,1,0,"HLZ",117.3,"120x ",null,52,21,48,"N",10,47,43,"E",80,52.363300000000002,10.795299999999999,"52.3633","10.7953","117.30","",{"$f":"VLOOKUP(MID(G73,1,1),Morse!$A$2:$B$37,2,FALSE)&\"   \"&VLOOKUP(MID(G73,2,1),Morse!$A$2:$B$37,2,FALSE)&IF(LEN(G73)>2,\"   \"&VLOOKUP(MID(G73,3,1),Morse!$A$2:$B$37,2,FALSE),\"\")&IF(LEN(G73)>3,\"   \"&VLOOKUP(MID(G73,4,1),Morse!$A$2:$B$37,2,FALSE),\"\")","v":"· · · ·   · − · ·   − − · ·"},"Ch 120x "]
[73,"Helgoland ","VOR/DME ",1,1,0,"DHE",116.3,"110x ",null,54,11,8,"N",7,54,39,"E",60,54.185600000000001,7.9108000000000001,"54.1856","7.9108","116.30","",{"$f":"VLOOKUP(MID(G74,1,1),Morse!$A$2:$B$37,2,FALSE)&\"   \"&VLOOKUP(MID(G74,2,1),Morse!$A$2:$B$37,2,FALSE)&IF(LEN(G74)>2,\"   \"&VLOOKUP(MID(G74,3,1),Morse!$A$2:$B$37,2,FALSE),\"\")&IF(LEN(G74)>3,\"   \"&VLOOKUP(MID(G74,4,1),Morse!$A$2:$B$37,2,FALSE),\"\")","v":"− · ·   · · · ·   ·"},"Ch 110x "]
[74,"Heringsdorf ","DME ",1,1,0,"IHEW",111.3,"50x (*) ",null,53,52,41,"N",14,9,4,"E",25,53.878100000000003,14.1511,"53.8781","14.1511","111.30","",{"$f":"VLOOKUP(MID(G75,1,1),Morse!$A$2:$B$37,2,FALSE)&\"   \"&VLOOKUP(MID(G75,2,1),Morse!$A$2:$B$37,2,FALSE)&IF(LEN(G75)>2,\"   \"&VLOOKUP(MID(G75,3,1),Morse!$A$2:$B$37,2,FALSE),\"\")&IF(LEN(G75)>3,\"   \"&VLOOKUP(MID(G75,4,1),Morse!$A$2:$B$37,2,FALSE),\"\")","v":"· ·   · · · ·   ·   · − −"},"Ch 50x (*) "]
[75,"Heringsdorf","NDB ",0,0,2,"HC",null,null,330,53,52,27,"N",14,10,55,"E",25,53.874200000000002,14.181900000000001,"53.8742","14.1819","",330,{"$f":"VLOOKUP(MID(G76,1,1),Morse!$A$2:$B$37,2,FALSE)&\"   \"&VLOOKUP(MID(G76,2,1),Morse!$A$2:$B$37,2,FALSE)&IF(LEN(G76)>2,\"   \"&VLOOKUP(MID(G76,3,1),Morse!$A$2:$B$37,2,FALSE),\"\")&IF(LEN(G76)>3,\"   \"&VLOOKUP(MID(G76,4,1),Morse!$A$2:$B$37,2,FALSE),\"\")","v":"· · · ·   − · − ·"},""]
[76,"Hermsdorf ","DVOR/DME ",2,2,0,"HDO",108.65,"23y ",null,50,55,41,"N",14,22,8,"E",60,50.928100000000001,14.3689,"50.9281","14.3689","108.65","",{"$f":"VLOOKUP(MID(G77,1,1),Morse!$A$2:$B$37,2,FALSE)&\"   \"&VLOOKUP(MID(G77,2,1),Morse!$A$2:$B$37,2,FALSE)&IF(LEN(G77)>2,\"   \"&VLOOKUP(MID(G77,3,1),Morse!$A$2:$B$37,2,FALSE),\"\")&IF(LEN(G77)>3,\"   \"&VLOOKUP(MID(G77,4,1),Morse!$A$2:$B$37,2,FALSE),\"\")","v":"· · · ·   − · ·   − − −"},"Ch 23y "]
[77,"Hof ","DME ",1,1,0,"HOD",110.7,"44x (*) ",null,50,17,23,"N",11,51,19,"E",10,50.289700000000003,11.8553,"50.2897","11.8553","110.70","",{"$f":"VLOOKUP(MID(G78,1,1),Morse!$A$2:$B$37,2,FALSE)&\"   \"&VLOOKUP(MID(G78,2,1),Morse!$A$2:$B$37,2,FALSE)&IF(LEN(G78)>2,\"   \"&VLOOKUP(MID(G78,3,1),Morse!$A$2:$B$37,2,FALSE),\"\")&IF(LEN(G78)>3,\"   \"&VLOOKUP(MID(G78,4,1),Morse!$A$2:$B$37,2,FALSE),\"\")","v":"· · · ·   − − −   − · ·"},"Ch 44x (*) "]
[78,"Hof","NDB ",0,0,1,"HOF",null,null,484,50,17,5,"N",11,45,41,"E",15,50.284700000000001,11.7614,{"$f":"LEFT(T79,2)&\".\"&RIGHT(TEXT(T79,\"00,0000\"),4)","v":"50.2847"},{"$f":"LEFT(U79,IF(U79<10,1,2))&\".\"&RIGHT(TEXT(U79,\"00,0000\"),4)","v":"11.7614"},"",484,{"$f":"VLOOKUP(MID(G79,1,1),Morse!$A$2:$B$37,2,FALSE)&\"   \"&VLOOKUP(MID(G79,2,1),Morse!$A$2:$B$37,2,FALSE)&IF(LEN(G79)>2,\"   \"&VLOOKUP(MID(G79,3,1),Morse!$A$2:$B$37,2,FALSE),\"\")&IF(LEN(G79)>3,\"   \"&VLOOKUP(MID(G79,4,1),Morse!$A$2:$B$37,2,FALSE),\"\")","v":"· · · ·   − − −   · · − ·"},""]
[79,"Hohenfels ","NDB ",0,0,1,"HFX",null,null,286,49,13,6,"N",11,51,34,"E",25,49.218299999999999,11.859400000000001,"49.2183","11.8594","",286,{"$f":"VLOOKUP(MID(G80,1,1),Morse!$A$2:$B$37,2,FALSE)&\"   \"&VLOOKUP(MID(G80,2,1),Morse!$A$2:$B$37,2,FALSE)&IF(LEN(G80)>2,\"   \"&VLOOKUP(MID(G80,3,1),Morse!$A$2:$B$37,2,FALSE),\"\")&IF(LEN(G80)>3,\"   \"&VLOOKUP(MID(G80,4,1),Morse!$A$2:$B$37,2,FALSE),\"\")","v":"· · · ·   · · − ·   − · · −"},""]
[80,"Hohn ","NDB ",0,0,2,"HN",null,null,344,54,19,35,"N",9,40,13,"E",25,54.3264,9.6702999999999992,"54.3264","9.6703","",344,{"$f":"VLOOKUP(MID(G81,1,1),Morse!$A$2:$B$37,2,FALSE)&\"   \"&VLOOKUP(MID(G81,2,1),Morse!$A$2:$B$37,2,FALSE)&IF(LEN(G81)>2,\"   \"&VLOOKUP(MID(G81,3,1),Morse!$A$2:$B$37,2,FALSE),\"\")&IF(LEN(G81)>3,\"   \"&VLOOKUP(MID(G81,4,1),Morse!$A$2:$B$37,2,FALSE),\"\")","v":"· · · ·   − ·"},""]
[81,"Holzdorf ","NDB ",0,0,1,"HOZ",null,null,406,51,46,13,"N",13,5,52,"E",25,51.770299999999999,13.097799999999999,"51.7703","13.0978","",406,{"$f":"VLOOKUP(MID(G82,1,1),Morse!$A$2:$B$37,2,FALSE)&\"   \"&VLOOKUP(MID(G82,2,1),Morse!$A$2:$B$37,2,FALSE)&IF(LEN(G82)>2,\"   \"&VLOOKUP(MID(G82,3,1),Morse!$A$2:$B$37,2,FALSE),\"\")&IF(LEN(G82)>3,\"   \"&VLOOKUP(MID(G82,4,1),Morse!$A$2:$B$37,2,FALSE),\"\")","v":"· · · ·   − − −   − − · ·"},""]
[82,"Illesheim ","NDB ",0,0,1,"ILM",null,null,488,49,28,19,"N",10,23,18,"E",25,49.471899999999998,10.388299999999999,"49.4719","10.3883","",488,{"$f":"VLOOKUP(MID(G83,1,1),Morse!$A$2:$B$37,2,FALSE)&\"   \"&VLOOKUP(MID(G83,2,1),Morse!$A$2:$B$37,2,FALSE)&IF(LEN(G83)>2,\"   \"&VLOOKUP(MID(G83,3,1),Morse!$A$2:$B$37,2,FALSE),\"\")&IF(LEN(G83)>3,\"   \"&VLOOKUP(MID(G83,4,1),Morse!$A$2:$B$37,2,FALSE),\"\")","v":"· ·   · − · ·   − −"},""]
[83,"Ingolstadt (Manching)","NDB ",0,0,1,"IGL",null,null,345,48,44,16,"N",11,38,40,"E",22,48.7378,11.644399999999999,"48.7378","11.6444","",345,{"$f":"VLOOKUP(MID(G84,1,1),Morse!$A$2:$B$37,2,FALSE)&\"   \"&VLOOKUP(MID(G84,2,1),Morse!$A$2:$B$37,2,FALSE)&IF(LEN(G84)>2,\"   \"&VLOOKUP(MID(G84,3,1),Morse!$A$2:$B$37,2,FALSE),\"\")&IF(LEN(G84)>3,\"   \"&VLOOKUP(MID(G84,4,1),Morse!$A$2:$B$37,2,FALSE),\"\")","v":"· ·   − − ·   · − · ·"},""]
[84,"Karlsruhe ","DVOR/DME ",1,1,0,"KRH",115.95,"106y ",null,48,59,35,"N",8,35,3,"E",40,48.993099999999998,8.5841999999999992,"48.9931","8.5842","115.95","",{"$f":"VLOOKUP(MID(G85,1,1),Morse!$A$2:$B$37,2,FALSE)&\"   \"&VLOOKUP(MID(G85,2,1),Morse!$A$2:$B$37,2,FALSE)&IF(LEN(G85)>2,\"   \"&VLOOKUP(MID(G85,3,1),Morse!$A$2:$B$37,2,FALSE),\"\")&IF(LEN(G85)>3,\"   \"&VLOOKUP(MID(G85,4,1),Morse!$A$2:$B$37,2,FALSE),\"\")","v":"− · −   · − ·   · · · ·"},"Ch 106y "]
[85,"Karlsruhe/Baden-Baden ","NDB ",0,0,1,"KBA",null,null,431,48,47,53,"N",8,5,51,"E",30,48.798099999999998,8.0975000000000001,"48.7981","8.0975","",431,{"$f":"VLOOKUP(MID(G86,1,1),Morse!$A$2:$B$37,2,FALSE)&\"   \"&VLOOKUP(MID(G86,2,1),Morse!$A$2:$B$37,2,FALSE)&IF(LEN(G86)>2,\"   \"&VLOOKUP(MID(G86,3,1),Morse!$A$2:$B$37,2,FALSE),\"\")&IF(LEN(G86)>3,\"   \"&VLOOKUP(MID(G86,4,1),Morse!$A$2:$B$37,2,FALSE),\"\")","v":"− · −   − · · ·   · −"},""]
[86,"Karlsruhe/Baden-Baden","DME ",2,1,0,"KBD",115.8,"105x (*) ",null,48,46,49,"N",8,5,19,"E",25,48.780299999999997,8.0885999999999996,"48.7803","8.0886","115.80","",{"$f":"VLOOKUP(MID(G87,1,1),Morse!$A$2:$B$37,2,FALSE)&\"   \"&VLOOKUP(MID(G87,2,1),Morse!$A$2:$B$37,2,FALSE)&IF(LEN(G87)>2,\"   \"&VLOOKUP(MID(G87,3,1),Morse!$A$2:$B$37,2,FALSE),\"\")&IF(LEN(G87)>3,\"   \"&VLOOKUP(MID(G87,4,1),Morse!$A$2:$B$37,2,FALSE),\"\")","v":"− · −   − · · ·   − · ·"},"Ch 105x (*) "]
[87,"Kassel-Calden ","DME ",2,1,0,"DKS",111.5,"CH52x (*) ",null,51,25,16,"N",9,24,19,"E",25,51.421100000000003,9.4053000000000004,"51.4211","9.4053","111.50","",{"$f":"VLOOKUP(MID(G88,1,1),Morse!$A$2:$B$37,2,FALSE)&\"   \"&VLOOKUP(MID(G88,2,1),Morse!$A$2:$B$37,2,FALSE)&IF(LEN(G88)>2,\"   \"&VLOOKUP(MID(G88,3,1),Morse!$A$2:$B$37,2,FALSE),\"\")&IF(LEN(G88)>3,\"   \"&VLOOKUP(MID(G88,4,1),Morse!$A$2:$B$37,2,FALSE),\"\")","v":"− · ·   − · −   · · ·"},"Ch CH52x (*) "]
[88,"Kempten ","DVOR/DME ",1,1,0,"KPT",108.4,"21x ",null,47,44,45,"N",10,20,59,"E",60,47.745800000000003,10.3497,"47.7458","10.3497","108.40","",{"$f":"VLOOKUP(MID(G89,1,1),Morse!$A$2:$B$37,2,FALSE)&\"   \"&VLOOKUP(MID(G89,2,1),Morse!$A$2:$B$37,2,FALSE)&IF(LEN(G89)>2,\"   \"&VLOOKUP(MID(G89,3,1),Morse!$A$2:$B$37,2,FALSE),\"\")&IF(LEN(G89)>3,\"   \"&VLOOKUP(MID(G89,4,1),Morse!$A$2:$B$37,2,FALSE),\"\")","v":"− · −   · − − ·   −"},"Ch 21x "]
[89,"Kiel-Holtenau ","NDB ",0,0,1,"KIL",null,null,353,54,22,39,"N",10,7,12,"E",30,54.377499999999998,10.119999999999999,"54.3775","10.1200","",353,{"$f":"VLOOKUP(MID(G90,1,1),Morse!$A$2:$B$37,2,FALSE)&\"   \"&VLOOKUP(MID(G90,2,1),Morse!$A$2:$B$37,2,FALSE)&IF(LEN(G90)>2,\"   \"&VLOOKUP(MID(G90,3,1),Morse!$A$2:$B$37,2,FALSE),\"\")&IF(LEN(G90)>3,\"   \"&VLOOKUP(MID(G90,4,1),Morse!$A$2:$B$37,2,FALSE),\"\")","v":"− · −   · ·   · − · ·"},""]
[90,"Kiel-Holtenau","DME ",1,1,0,"KHD",109.5,"32x ",null,54,22,44,"N",10,8,43,"E",25,54.378900000000002,10.145300000000001,"54.3789","10.1453","109.50","",{"$f":"VLOOKUP(MID(G91,1,1),Morse!$A$2:$B$37,2,FALSE)&\"   \"&VLOOKUP(MID(G91,2,1),Morse!$A$2:$B$37,2,FALSE)&IF(LEN(G91)>2,\"   \"&VLOOKUP(MID(G91,3,1),Morse!$A$2:$B$37,2,FALSE),\"\")&IF(LEN(G91)>3,\"   \"&VLOOKUP(MID(G91,4,1),Morse!$A$2:$B$37,2,FALSE),\"\")","v":"− · −   · · · ·   − · ·"},"Ch 32x "]
[91,"Klasdorf ","DVOR/DME ",2,2,0,"KLF",115.15,"98y ",null,52,1,10,"N",13,33,48,"E",60,52.019399999999997,13.5633,"52.0194","13.5633","115.15","",{"$f":"VLOOKUP(MID(G92,1,1),Morse!$A$2:$B$37,2,FALSE)&\"   \"&VLOOKUP(MID(G92,2,1),Morse!$A$2:$B$37,2,FALSE)&IF(LEN(G92)>2,\"   \"&VLOOKUP(MID(G92,3,1),Morse!$A$2:$B$37,2,FALSE),\"\")&IF(LEN(G92)>3,\"   \"&VLOOKUP(MID(G92,4,1),Morse!$A$2:$B$37,2,FALSE),\"\")","v":"− · −   · − · ·   · · − ·"},"Ch 98y "]
[92,"Koeln/Bonn ","VOR/DME ",2,1,0,"KBO",112.15,"58y ",null,50,51,42,"N",7,8,44,"E",25,50.861699999999999,7.1456,"50.8617","7.1456","112.15","",{"$f":"VLOOKUP(MID(G93,1,1),Morse!$A$2:$B$37,2,FALSE)&\"   \"&VLOOKUP(MID(G93,2,1),Morse!$A$2:$B$37,2,FALSE)&IF(LEN(G93)>2,\"   \"&VLOOKUP(MID(G93,3,1),Morse!$A$2:$B$37,2,FALSE),\"\")&IF(LEN(G93)>3,\"   \"&VLOOKUP(MID(G93,4,1),Morse!$A$2:$B$37,2,FALSE),\"\")","v":"− · −   − · · ·   − − −"},"Ch 58y "]
[93,"Koeln/Bonn","LO ",0,0,1,"LW",null,null,300.5,50,53,54,"N",7,15,10,"E",11,50.898299999999999,7.2527999999999997,"50.8983","7.2528","",300.5,{"$f":"VLOOKUP(MID(G94,1,1),Morse!$A$2:$B$37,2,FALSE)&\"   \"&VLOOKUP(MID(G94,2,1),Morse!$A$2:$B$37,2,FALSE)&IF(LEN(G94)>2,\"   \"&VLOOKUP(MID(G94,3,1),Morse!$A$2:$B$37,2,FALSE),\"\")&IF(LEN(G94)>3,\"   \"&VLOOKUP(MID(G94,4,1),Morse!$A$2:$B$37,2,FALSE),\"\")","v":"· − · ·   · − −"},""]
[94,"Koeln/Bonn","LO ",0,0,1,"LV",null,null,327,50,48,15,"N",7,14,25,"E",15,50.804200000000002,7.2403000000000004,"50.8042","7.2403","",327,{"$f":"VLOOKUP(MID(G95,1,1),Morse!$A$2:$B$37,2,FALSE)&\"   \"&VLOOKUP(MID(G95,2,1),Morse!$A$2:$B$37,2,FALSE)&IF(LEN(G95)>2,\"   \"&VLOOKUP(MID(G95,3,1),Morse!$A$2:$B$37,2,FALSE),\"\")&IF(LEN(G95)>3,\"   \"&VLOOKUP(MID(G95,4,1),Morse!$A$2:$B$37,2,FALSE),\"\")","v":"· − · ·   · · · −"},""]
[95,"Koeln/Bonn","LO ",0,0,1,"LJ",null,null,365,50,55,37,"N",7,3,44,"E",25,50.926900000000003,7.0621999999999998,"50.9269","7.0622","",365,{"$f":"VLOOKUP(MID(G96,1,1),Morse!$A$2:$B$37,2,FALSE)&\"   \"&VLOOKUP(MID(G96,2,1),Morse!$A$2:$B$37,2,FALSE)&IF(LEN(G96)>2,\"   \"&VLOOKUP(MID(G96,3,1),Morse!$A$2:$B$37,2,FALSE),\"\")&IF(LEN(G96)>3,\"   \"&VLOOKUP(MID(G96,4,1),Morse!$A$2:$B$37,2,FALSE),\"\")","v":"· − · ·   · − − −"},""]
[96,"Lahr ","DME ",3,2,0,"LRD",108.05,"17y (*) ",null,48,21,51,"N",7,49,39,"E",25,48.364199999999997,7.8274999999999997,"48.3642","7.8275","108.05","",{"$f":"VLOOKUP(MID(G97,1,1),Morse!$A$2:$B$37,2,FALSE)&\"   \"&VLOOKUP(MID(G97,2,1),Morse!$A$2:$B$37,2,FALSE)&IF(LEN(G97)>2,\"   \"&VLOOKUP(MID(G97,3,1),Morse!$A$2:$B$37,2,FALSE),\"\")&IF(LEN(G97)>3,\"   \"&VLOOKUP(MID(G97,4,1),Morse!$A$2:$B$37,2,FALSE),\"\")","v":"· − · ·   · − ·   − · ·"},"Ch 17y (*) "]
[97,"Lahr","NDB ",0,0,1,"LHR",null,null,337,48,20,55,"N",7,48,40,"E",17,48.348599999999998,7.8110999999999997,"48.3486","7.8111","",337,{"$f":"VLOOKUP(MID(G98,1,1),Morse!$A$2:$B$37,2,FALSE)&\"   \"&VLOOKUP(MID(G98,2,1),Morse!$A$2:$B$37,2,FALSE)&IF(LEN(G98)>2,\"   \"&VLOOKUP(MID(G98,3,1),Morse!$A$2:$B$37,2,FALSE),\"\")&IF(LEN(G98)>3,\"   \"&VLOOKUP(MID(G98,4,1),Morse!$A$2:$B$37,2,FALSE),\"\")","v":"· − · ·   · · · ·   · − ·"},""]
[98,"Landsberg ","NDB ",0,0,1,"LQ",null,null,448,48,5,41,"N",11,1,8,"E",25,48.094700000000003,11.0189,"48.0947","11.0189","",448,{"$f":"VLOOKUP(MID(G99,1,1),Morse!$A$2:$B$37,2,FALSE)&\"   \"&VLOOKUP(MID(G99,2,1),Morse!$A$2:$B$37,2,FALSE)&IF(LEN(G99)>2,\"   \"&VLOOKUP(MID(G99,3,1),Morse!$A$2:$B$37,2,FALSE),\"\")&IF(LEN(G99)>3,\"   \"&VLOOKUP(MID(G99,4,1),Morse!$A$2:$B$37,2,FALSE),\"\")","v":"· − · ·   − − · −"},""]
[99,"Laupheim ","NDB ",0,0,1,"LUP",null,null,407,48,13,6,"N",9,54,41,"E",25,48.218299999999999,9.9114000000000004,"48.2183","9.9114","",407,{"$f":"VLOOKUP(MID(G100,1,1),Morse!$A$2:$B$37,2,FALSE)&\"   \"&VLOOKUP(MID(G100,2,1),Morse!$A$2:$B$37,2,FALSE)&IF(LEN(G100)>2,\"   \"&VLOOKUP(MID(G100,3,1),Morse!$A$2:$B$37,2,FALSE),\"\")&IF(LEN(G100)>3,\"   \"&VLOOKUP(MID(G100,4,1),Morse!$A$2:$B$37,2,FALSE),\"\")","v":"· − · ·   · · −   · − − ·"},""]
[100,"Leine ","DVOR/DME ",2,2,0,"DLE",115.2,"99x ",null,52,15,1,"N",9,53,1,"E",60,52.250300000000003,9.8835999999999995,"52.2503","9.8836","115.20","",{"$f":"VLOOKUP(MID(G101,1,1),Morse!$A$2:$B$37,2,FALSE)&\"   \"&VLOOKUP(MID(G101,2,1),Morse!$A$2:$B$37,2,FALSE)&IF(LEN(G101)>2,\"   \"&VLOOKUP(MID(G101,3,1),Morse!$A$2:$B$37,2,FALSE),\"\")&IF(LEN(G101)>3,\"   \"&VLOOKUP(MID(G101,4,1),Morse!$A$2:$B$37,2,FALSE),\"\")","v":"− · ·   · − · ·   ·"},"Ch 99x "]
[101,"Leipzig ","VOR/DME ",1,1,0,"LEG",115.85,"105y ",null,51,26,10,"N",12,28,25,"E",80,51.436100000000003,12.473599999999999,"51.4361","12.4736","115.85","",{"$f":"VLOOKUP(MID(G102,1,1),Morse!$A$2:$B$37,2,FALSE)&\"   \"&VLOOKUP(MID(G102,2,1),Morse!$A$2:$B$37,2,FALSE)&IF(LEN(G102)>2,\"   \"&VLOOKUP(MID(G102,3,1),Morse!$A$2:$B$37,2,FALSE),\"\")&IF(LEN(G102)>3,\"   \"&VLOOKUP(MID(G102,4,1),Morse!$A$2:$B$37,2,FALSE),\"\")","v":"· − · ·   ·   − − ·"},"Ch 105y "]
[102,"Leipzig","NDB ",0,0,1,"ZIG",null,null,340,51,26,2,"N",12,16,50,"E",15,51.433900000000001,12.2806,"51.4339","12.2806","",340,{"$f":"VLOOKUP(MID(G103,1,1),Morse!$A$2:$B$37,2,FALSE)&\"   \"&VLOOKUP(MID(G103,2,1),Morse!$A$2:$B$37,2,FALSE)&IF(LEN(G103)>2,\"   \"&VLOOKUP(MID(G103,3,1),Morse!$A$2:$B$37,2,FALSE),\"\")&IF(LEN(G103)>3,\"   \"&VLOOKUP(MID(G103,4,1),Morse!$A$2:$B$37,2,FALSE),\"\")","v":"− − · ·   · ·   − − ·"},""]
[103,"Lima ","NDB ",0,0,3,"LMA",null,null,311,51,22,15,"N",6,23,42,"E",15,51.370800000000003,6.3949999999999996,"51.3708","6.3950","",311,{"$f":"VLOOKUP(MID(G104,1,1),Morse!$A$2:$B$37,2,FALSE)&\"   \"&VLOOKUP(MID(G104,2,1),Morse!$A$2:$B$37,2,FALSE)&IF(LEN(G104)>2,\"   \"&VLOOKUP(MID(G104,3,1),Morse!$A$2:$B$37,2,FALSE),\"\")&IF(LEN(G104)>3,\"   \"&VLOOKUP(MID(G104,4,1),Morse!$A$2:$B$37,2,FALSE),\"\")","v":"· − · ·   − −   · −"},""]
[104,"Loewenberg ","DVOR/DME ",1,1,0,"LWB",114.55,"92y ",null,52,54,36,"N",13,8,5,"E",80,52.91,13.1347,"52.9100","13.1347","114.55","",{"$f":"VLOOKUP(MID(G105,1,1),Morse!$A$2:$B$37,2,FALSE)&\"   \"&VLOOKUP(MID(G105,2,1),Morse!$A$2:$B$37,2,FALSE)&IF(LEN(G105)>2,\"   \"&VLOOKUP(MID(G105,3,1),Morse!$A$2:$B$37,2,FALSE),\"\")&IF(LEN(G105)>3,\"   \"&VLOOKUP(MID(G105,4,1),Morse!$A$2:$B$37,2,FALSE),\"\")","v":"· − · ·   · − −   − · · ·"},"Ch 92y "]
[105,"Luburg ","VOR/DME ",1,1,0,"LBU",109.2,"29x ",null,48,54,47,"N",9,20,25,"E",40,48.9131,9.3402999999999992,"48.9131","9.3403","109.20","",{"$f":"VLOOKUP(MID(G106,1,1),Morse!$A$2:$B$37,2,FALSE)&\"   \"&VLOOKUP(MID(G106,2,1),Morse!$A$2:$B$37,2,FALSE)&IF(LEN(G106)>2,\"   \"&VLOOKUP(MID(G106,3,1),Morse!$A$2:$B$37,2,FALSE),\"\")&IF(LEN(G106)>3,\"   \"&VLOOKUP(MID(G106,4,1),Morse!$A$2:$B$37,2,FALSE),\"\")","v":"· − · ·   − · · ·   · · −"},"Ch 29x "]
[106,"Luebars ","NDB ",0,0,1,"DLS",null,null,413.5,52,36,50,"N",13,21,49,"E",0,52.613900000000001,13.3636,"52.6139","13.3636","",413.5,{"$f":"VLOOKUP(MID(G107,1,1),Morse!$A$2:$B$37,2,FALSE)&\"   \"&VLOOKUP(MID(G107,2,1),Morse!$A$2:$B$37,2,FALSE)&IF(LEN(G107)>2,\"   \"&VLOOKUP(MID(G107,3,1),Morse!$A$2:$B$37,2,FALSE),\"\")&IF(LEN(G107)>3,\"   \"&VLOOKUP(MID(G107,4,1),Morse!$A$2:$B$37,2,FALSE),\"\")","v":"− · ·   · − · ·   · · ·"},""]
[107,"Luebeck-Blankensee ","LO ",0,0,1,"LYE",null,null,394,53,48,3,"N",10,41,45,"E",15,53.800800000000002,10.6958,"53.8008","10.6958","",394,{"$f":"VLOOKUP(MID(G108,1,1),Morse!$A$2:$B$37,2,FALSE)&\"   \"&VLOOKUP(MID(G108,2,1),Morse!$A$2:$B$37,2,FALSE)&IF(LEN(G108)>2,\"   \"&VLOOKUP(MID(G108,3,1),Morse!$A$2:$B$37,2,FALSE),\"\")&IF(LEN(G108)>3,\"   \"&VLOOKUP(MID(G108,4,1),Morse!$A$2:$B$37,2,FALSE),\"\")","v":"· − · ·   − · − −   ·"},""]
[108,"Luebeck-Blankensee","DME ",1,1,0,"ILUE",109.35,"30y",null,53,48,23,"N",10,43,7,"E",25,53.806399999999996,10.7186,"53.8064","10.7186","109.35","",{"$f":"VLOOKUP(MID(G109,1,1),Morse!$A$2:$B$37,2,FALSE)&\"   \"&VLOOKUP(MID(G109,2,1),Morse!$A$2:$B$37,2,FALSE)&IF(LEN(G109)>2,\"   \"&VLOOKUP(MID(G109,3,1),Morse!$A$2:$B$37,2,FALSE),\"\")&IF(LEN(G109)>3,\"   \"&VLOOKUP(MID(G109,4,1),Morse!$A$2:$B$37,2,FALSE),\"\")","v":"· ·   · − · ·   · · −   ·"},"Ch 30y"]
[109,"Magdeburg ","VOR/DME ",1,1,0,"MAG",110.45,"41y ",null,51,59,42,"N",11,47,40,"E",80,51.994999999999997,11.7944,"51.9950","11.7944","110.45","",{"$f":"VLOOKUP(MID(G110,1,1),Morse!$A$2:$B$37,2,FALSE)&\"   \"&VLOOKUP(MID(G110,2,1),Morse!$A$2:$B$37,2,FALSE)&IF(LEN(G110)>2,\"   \"&VLOOKUP(MID(G110,3,1),Morse!$A$2:$B$37,2,FALSE),\"\")&IF(LEN(G110)>3,\"   \"&VLOOKUP(MID(G110,4,1),Morse!$A$2:$B$37,2,FALSE),\"\")","v":"− −   · −   − − ·"},"Ch 41y "]
[110,"Maisach ","DVOR/DME ",2,2,0,"MAH",115.2,"99x ",null,48,15,48,"N",11,18,43,"E",40,48.263300000000001,11.3119,"48.2633","11.3119","115.20","",{"$f":"VLOOKUP(MID(G111,1,1),Morse!$A$2:$B$37,2,FALSE)&\"   \"&VLOOKUP(MID(G111,2,1),Morse!$A$2:$B$37,2,FALSE)&IF(LEN(G111)>2,\"   \"&VLOOKUP(MID(G111,3,1),Morse!$A$2:$B$37,2,FALSE),\"\")&IF(LEN(G111)>3,\"   \"&VLOOKUP(MID(G111,4,1),Morse!$A$2:$B$37,2,FALSE),\"\")","v":"− −   · −   · · · ·"},"Ch 99x "]
[111,"Mannheim ","DME ",1,1,0,"MND",113.55,"82y () ",null,49,28,14,"N",8,30,58,"E",15,49.470599999999997,8.5160999999999998,"49.4706","8.5161","113.55","",{"$f":"VLOOKUP(MID(G112,1,1),Morse!$A$2:$B$37,2,FALSE)&\"   \"&VLOOKUP(MID(G112,2,1),Morse!$A$2:$B$37,2,FALSE)&IF(LEN(G112)>2,\"   \"&VLOOKUP(MID(G112,3,1),Morse!$A$2:$B$37,2,FALSE),\"\")&IF(LEN(G112)>3,\"   \"&VLOOKUP(MID(G112,4,1),Morse!$A$2:$B$37,2,FALSE),\"\")","v":"− −   − ·   − · ·"},"Ch 82y () "]
[112,"Metro ","VOR ",1,0,0,"MTR",110,null,null,50,16,35,"N",8,50,55,"E",60,50.276400000000002,8.8485999999999994,"50.2764","8.8486","110.00","",{"$f":"VLOOKUP(MID(G113,1,1),Morse!$A$2:$B$37,2,FALSE)&\"   \"&VLOOKUP(MID(G113,2,1),Morse!$A$2:$B$37,2,FALSE)&IF(LEN(G113)>2,\"   \"&VLOOKUP(MID(G113,3,1),Morse!$A$2:$B$37,2,FALSE),\"\")&IF(LEN(G113)>3,\"   \"&VLOOKUP(MID(G113,4,1),Morse!$A$2:$B$37,2,FALSE),\"\")","v":"− −   −   · − ·"},""]
[113,"Michaelsdorf ","DVOR ",2,0,0,"MIC",112.2,null,null,54,18,20,"N",11,0,19,"E",60,54.305599999999998,11.0053,"54.3056","11.0053","112.20","",{"$f":"VLOOKUP(MID(G114,1,1),Morse!$A$2:$B$37,2,FALSE)&\"   \"&VLOOKUP(MID(G114,2,1),Morse!$A$2:$B$37,2,FALSE)&IF(LEN(G114)>2,\"   \"&VLOOKUP(MID(G114,3,1),Morse!$A$2:$B$37,2,FALSE),\"\")&IF(LEN(G114)>3,\"   \"&VLOOKUP(MID(G114,4,1),Morse!$A$2:$B$37,2,FALSE),\"\")","v":"− −   · ·   − · − ·"},""]
[114,"Mike ","NDB ",0,0,1,"MIQ",null,null,426,48,34,13,"N",11,35,51,"E",24,48.570300000000003,11.5975,"48.5703","11.5975","",426,{"$f":"VLOOKUP(MID(G115,1,1),Morse!$A$2:$B$37,2,FALSE)&\"   \"&VLOOKUP(MID(G115,2,1),Morse!$A$2:$B$37,2,FALSE)&IF(LEN(G115)>2,\"   \"&VLOOKUP(MID(G115,3,1),Morse!$A$2:$B$37,2,FALSE),\"\")&IF(LEN(G115)>3,\"   \"&VLOOKUP(MID(G115,4,1),Morse!$A$2:$B$37,2,FALSE),\"\")","v":"− −   · ·   − − · −"},""]
[115,"Moenchengladbach ","DVOR ",1,0,0,"MHV",109.8,null,null,51,14,14,"N",6,29,25,"E",40,51.237200000000001,6.4903000000000004,"51.2372","6.4903","109.80","",{"$f":"VLOOKUP(MID(G116,1,1),Morse!$A$2:$B$37,2,FALSE)&\"   \"&VLOOKUP(MID(G116,2,1),Morse!$A$2:$B$37,2,FALSE)&IF(LEN(G116)>2,\"   \"&VLOOKUP(MID(G116,3,1),Morse!$A$2:$B$37,2,FALSE),\"\")&IF(LEN(G116)>3,\"   \"&VLOOKUP(MID(G116,4,1),Morse!$A$2:$B$37,2,FALSE),\"\")","v":"− −   · · · ·   · · · −"},""]
[116,"Moenchengladbach","DME ",1,1,0,"MHD",112.5,"72x (*)",null,51,14,6,"N",6,29,31,"E",25,51.234999999999999,6.4919000000000002,"51.2350","6.4919","112.50","",{"$f":"VLOOKUP(MID(G117,1,1),Morse!$A$2:$B$37,2,FALSE)&\"   \"&VLOOKUP(MID(G117,2,1),Morse!$A$2:$B$37,2,FALSE)&IF(LEN(G117)>2,\"   \"&VLOOKUP(MID(G117,3,1),Morse!$A$2:$B$37,2,FALSE),\"\")&IF(LEN(G117)>3,\"   \"&VLOOKUP(MID(G117,4,1),Morse!$A$2:$B$37,2,FALSE),\"\")","v":"− −   · · · ·   − · ·"},"Ch 72x (*)"]
[117,"Muenchen ","DME ",1,1,0,"DMN",116,"107x (*) ",null,48,22,1,"N",11,47,38,"E",25,48.366900000000001,11.793900000000001,"48.3669","11.7939","116.00","",{"$f":"VLOOKUP(MID(G118,1,1),Morse!$A$2:$B$37,2,FALSE)&\"   \"&VLOOKUP(MID(G118,2,1),Morse!$A$2:$B$37,2,FALSE)&IF(LEN(G118)>2,\"   \"&VLOOKUP(MID(G118,3,1),Morse!$A$2:$B$37,2,FALSE),\"\")&IF(LEN(G118)>3,\"   \"&VLOOKUP(MID(G118,4,1),Morse!$A$2:$B$37,2,FALSE),\"\")","v":"− · ·   − −   − ·"},"Ch 107x (*) "]
[118,"Muenchen","DME ",1,1,0,"DMS",115,"97x (*) ",null,48,20,26,"N",11,46,41,"E",25,48.340600000000002,11.7781,"48.3406","11.7781","115.00","",{"$f":"VLOOKUP(MID(G119,1,1),Morse!$A$2:$B$37,2,FALSE)&\"   \"&VLOOKUP(MID(G119,2,1),Morse!$A$2:$B$37,2,FALSE)&IF(LEN(G119)>2,\"   \"&VLOOKUP(MID(G119,3,1),Morse!$A$2:$B$37,2,FALSE),\"\")&IF(LEN(G119)>3,\"   \"&VLOOKUP(MID(G119,4,1),Morse!$A$2:$B$37,2,FALSE),\"\")","v":"− · ·   − −   · · ·"},"Ch 97x (*) "]
[119,"Muenchen","VOR/DME ",2,2,0,"MUN",112.3,"70x ",null,48,10,49,"N",11,48,58,"E",40,48.180300000000003,11.8161,"48.1803","11.8161","112.30","",{"$f":"VLOOKUP(MID(G120,1,1),Morse!$A$2:$B$37,2,FALSE)&\"   \"&VLOOKUP(MID(G120,2,1),Morse!$A$2:$B$37,2,FALSE)&IF(LEN(G120)>2,\"   \"&VLOOKUP(MID(G120,3,1),Morse!$A$2:$B$37,2,FALSE),\"\")&IF(LEN(G120)>3,\"   \"&VLOOKUP(MID(G120,4,1),Morse!$A$2:$B$37,2,FALSE),\"\")","v":"− −   · · −   − ·"},"Ch 70x "]
[120,"Muenchen","LO ",0,0,1,"MNE",null,null,369,48,21,19,"N",11,40,34,"E",22,48.3553,11.6761,"48.3553","11.6761","",369,{"$f":"VLOOKUP(MID(G121,1,1),Morse!$A$2:$B$37,2,FALSE)&\"   \"&VLOOKUP(MID(G121,2,1),Morse!$A$2:$B$37,2,FALSE)&IF(LEN(G121)>2,\"   \"&VLOOKUP(MID(G121,3,1),Morse!$A$2:$B$37,2,FALSE),\"\")&IF(LEN(G121)>3,\"   \"&VLOOKUP(MID(G121,4,1),Morse!$A$2:$B$37,2,FALSE),\"\")","v":"− −   − ·   ·"},""]
[121,"Muenchen","LO ",0,0,2,"MSE",null,null,358,48,20,0,"N",11,39,10,"E",25,48.333300000000001,11.652799999999999,"48.3333","11.6528","",358,{"$f":"VLOOKUP(MID(G122,1,1),Morse!$A$2:$B$37,2,FALSE)&\"   \"&VLOOKUP(MID(G122,2,1),Morse!$A$2:$B$37,2,FALSE)&IF(LEN(G122)>2,\"   \"&VLOOKUP(MID(G122,3,1),Morse!$A$2:$B$37,2,FALSE),\"\")&IF(LEN(G122)>3,\"   \"&VLOOKUP(MID(G122,4,1),Morse!$A$2:$B$37,2,FALSE),\"\")","v":"− −   · · ·   ·"},""]
[122,"Muenchen","LO ",0,0,1,"MNW",null,null,338,48,22,27,"N",11,54,51,"E",25,48.374200000000002,11.914199999999999,"48.3742","11.9142","",338,{"$f":"VLOOKUP(MID(G123,1,1),Morse!$A$2:$B$37,2,FALSE)&\"   \"&VLOOKUP(MID(G123,2,1),Morse!$A$2:$B$37,2,FALSE)&IF(LEN(G123)>2,\"   \"&VLOOKUP(MID(G123,3,1),Morse!$A$2:$B$37,2,FALSE),\"\")&IF(LEN(G123)>3,\"   \"&VLOOKUP(MID(G123,4,1),Morse!$A$2:$B$37,2,FALSE),\"\")","v":"− −   − ·   · − −"},""]
[123,"Muenchen","LO",0,0,1,"MSW",null,null,400,48,21,9,"N",11,54,14,"E",24,48.352499999999999,11.9039,"48.3525","11.9039","",400,{"$f":"VLOOKUP(MID(G124,1,1),Morse!$A$2:$B$37,2,FALSE)&\"   \"&VLOOKUP(MID(G124,2,1),Morse!$A$2:$B$37,2,FALSE)&IF(LEN(G124)>2,\"   \"&VLOOKUP(MID(G124,3,1),Morse!$A$2:$B$37,2,FALSE),\"\")&IF(LEN(G124)>3,\"   \"&VLOOKUP(MID(G124,4,1),Morse!$A$2:$B$37,2,FALSE),\"\")","v":"− −   · · ·   · − −"},""]
[124,"Muenster/Osnabrueck ","NDB ",0,0,1,"MYN",null,null,371,52,9,34,"N",7,48,0,"E",17,52.159399999999998,7.8,"52.1594","7.8000","",371,{"$f":"VLOOKUP(MID(G125,1,1),Morse!$A$2:$B$37,2,FALSE)&\"   \"&VLOOKUP(MID(G125,2,1),Morse!$A$2:$B$37,2,FALSE)&IF(LEN(G125)>2,\"   \"&VLOOKUP(MID(G125,3,1),Morse!$A$2:$B$37,2,FALSE),\"\")&IF(LEN(G125)>3,\"   \"&VLOOKUP(MID(G125,4,1),Morse!$A$2:$B$37,2,FALSE),\"\")","v":"− −   − · − −   − ·"},""]
[125,"Muenster/Osnabrueck","DME ",1,1,0,"MOD",114.05,"87y (*) ",null,52,8,17,"N",7,41,14,"E",25,52.138100000000001,7.6871999999999998,"52.1381","7.6872","114.05","",{"$f":"VLOOKUP(MID(G126,1,1),Morse!$A$2:$B$37,2,FALSE)&\"   \"&VLOOKUP(MID(G126,2,1),Morse!$A$2:$B$37,2,FALSE)&IF(LEN(G126)>2,\"   \"&VLOOKUP(MID(G126,3,1),Morse!$A$2:$B$37,2,FALSE),\"\")&IF(LEN(G126)>3,\"   \"&VLOOKUP(MID(G126,4,1),Morse!$A$2:$B$37,2,FALSE),\"\")","v":"− −   − − −   − · ·"},"Ch 87y (*) "]
[126,"Nattenheim ","VORTACAN ",2,2,0,"NTM",115.3,"100x ",null,50,0,57,"N",6,31,54,"E",60,50.015799999999999,6.5316999999999998,"50.0158","6.5317","115.30","",{"$f":"VLOOKUP(MID(G127,1,1),Morse!$A$2:$B$37,2,FALSE)&\"   \"&VLOOKUP(MID(G127,2,1),Morse!$A$2:$B$37,2,FALSE)&IF(LEN(G127)>2,\"   \"&VLOOKUP(MID(G127,3,1),Morse!$A$2:$B$37,2,FALSE),\"\")&IF(LEN(G127)>3,\"   \"&VLOOKUP(MID(G127,4,1),Morse!$A$2:$B$37,2,FALSE),\"\")","v":"− ·   −   − −"},"Ch 100x "]
[127,"Nauheim ","DVOR ",1,0,0,"VFM",113.75,null,null,49,57,43,"N",8,28,16,"E",3,49.9619,8.4710999999999999,"49.9619","8.4711","113.75","",{"$f":"VLOOKUP(MID(G128,1,1),Morse!$A$2:$B$37,2,FALSE)&\"   \"&VLOOKUP(MID(G128,2,1),Morse!$A$2:$B$37,2,FALSE)&IF(LEN(G128)>2,\"   \"&VLOOKUP(MID(G128,3,1),Morse!$A$2:$B$37,2,FALSE),\"\")&IF(LEN(G128)>3,\"   \"&VLOOKUP(MID(G128,4,1),Morse!$A$2:$B$37,2,FALSE),\"\")","v":"· · · −   · · − ·   − −"},""]
[128,"Neckar ","NDB ",0,0,1,"NKR",null,null,292,49,20,12,"N",8,43,58,"E",25,{"$f":"IF(K129+(L129/60)<>0,ROUND(K129+(L129/60)+(M129/3600),4),\"\")","v":49.3367},{"$f":"IF(O129+(P129/60)<>0,ROUND(O129+(P129/60)+(Q129/3600),4),\"\")","v":8.7327999999999992},"49.3367","8.7328",{"$f":"IF(H129<>\"\",LEFT(H129,3)&\".\"&IF(LEN(H129)=3,\"\",RIGHT(H129,LEN(H129)-4))&IF(LEN(H129)=3,\"00\",IF(LEN(H129)=5,\"0\",IF(LEN(H129)=6,\"\",\"\"))),\"\")","v":""},{"$f":"IF(J129<>0,J129,\"\")","v":292},{"$f":"VLOOKUP(MID(G129,1,1),Morse!$A$2:$B$37,2,FALSE)&\"   \"&VLOOKUP(MID(G129,2,1),Morse!$A$2:$B$37,2,FALSE)&IF(LEN(G129)>2,\"   \"&VLOOKUP(MID(G129,3,1),Morse!$A$2:$B$37,2,FALSE),\"\")&IF(LEN(G129)>3,\"   \"&VLOOKUP(MID(G129,4,1),Morse!$A$2:$B$37,2,FALSE),\"\")","v":"− ·   − · −   · − ·"},""]
[129,"Niederrhein ","NDB ",{"$f":"IF(C130<>\"DME\",COUNTIF($H$2:$H$177,H130),0)","v":0},{"$f":"COUNTIF($I$2:$I$177,I130)","v":0},{"$f":"COUNTIF($J$2:$J$177,J130)","v":1},"LAA",null,null,352,51,36,6,"N",6,10,22,"E",23,51.601700000000001,6.1727999999999996,"51.6017","6.1728","",352,{"$f":"VLOOKUP(MID(G130,1,1),Morse!$A$2:$B$37,2,FALSE)&\"   \"&VLOOKUP(MID(G130,2,1),Morse!$A$2:$B$37,2,FALSE)&IF(LEN(G130)>2,\"   \"&VLOOKUP(MID(G130,3,1),Morse!$A$2:$B$37,2,FALSE),\"\")&IF(LEN(G130)>3,\"   \"&VLOOKUP(MID(G130,4,1),Morse!$A$2:$B$37,2,FALSE),\"\")","v":"· − · ·   · −   · −"},{"$f":"IF(I130<>\"\",\"Ch \"&I130,\"\")","v":""}]
[130,"Niederrhein","DME",0,1,0,"NID",115.5,"102x (*) ",null,51,36,0,"N",6,8,29,"E",25,51.6,6.1414,"51.6000","6.1414","115.50","",{"$f":"VLOOKUP(MID(G131,1,1),Morse!$A$2:$B$37,2,FALSE)&\"   \"&VLOOKUP(MID(G131,2,1),Morse!$A$2:$B$37,2,FALSE)&IF(LEN(G131)>2,\"   \"&VLOOKUP(MID(G131,3,1),Morse!$A$2:$B$37,2,FALSE),\"\")&IF(LEN(G131)>3,\"   \"&VLOOKUP(MID(G131,4,1),Morse!$A$2:$B$37,2,FALSE),\"\")","v":"− ·   · ·   − · ·"},"Ch 102x (*) "]
[131,"Niederstetten ","NDB ",0,0,3,"NSN",null,null,311,49,23,41,"N",9,57,54,"E",25,49.3947,9.9649999999999999,"49.3947","9.9650","",311,{"$f":"VLOOKUP(MID(G132,1,1),Morse!$A$2:$B$37,2,FALSE)&\"   \"&VLOOKUP(MID(G132,2,1),Morse!$A$2:$B$37,2,FALSE)&IF(LEN(G132)>2,\"   \"&VLOOKUP(MID(G132,3,1),Morse!$A$2:$B$37,2,FALSE),\"\")&IF(LEN(G132)>3,\"   \"&VLOOKUP(MID(G132,4,1),Morse!$A$2:$B$37,2,FALSE),\"\")","v":"− ·   · · ·   − ·"},""]
[132,"Niederstetten","DME ",1,1,0,"NDD",108.7,"24x (*) ",null,49,23,36,"N",9,57,39,"E",0,49.393300000000004,9.9608000000000008,"49.3933","9.9608","108.70","",{"$f":"VLOOKUP(MID(G133,1,1),Morse!$A$2:$B$37,2,FALSE)&\"   \"&VLOOKUP(MID(G133,2,1),Morse!$A$2:$B$37,2,FALSE)&IF(LEN(G133)>2,\"   \"&VLOOKUP(MID(G133,3,1),Morse!$A$2:$B$37,2,FALSE),\"\")&IF(LEN(G133)>3,\"   \"&VLOOKUP(MID(G133,4,1),Morse!$A$2:$B$37,2,FALSE),\"\")","v":"− ·   − · ·   − · ·"},"Ch 24x (*) "]
[133,"Nienburg ","VOR ",1,0,0,"NIE",116.5,null,null,52,37,33,"N",9,22,19,"E",40,52.625799999999998,9.3719000000000001,"52.6258","9.3719","116.50","",{"$f":"VLOOKUP(MID(G134,1,1),Morse!$A$2:$B$37,2,FALSE)&\"   \"&VLOOKUP(MID(G134,2,1),Morse!$A$2:$B$37,2,FALSE)&IF(LEN(G134)>2,\"   \"&VLOOKUP(MID(G134,3,1),Morse!$A$2:$B$37,2,FALSE),\"\")&IF(LEN(G134)>3,\"   \"&VLOOKUP(MID(G134,4,1),Morse!$A$2:$B$37,2,FALSE),\"\")","v":"− ·   · ·   ·"},""]
[134,"Nordholz ","NDB ",0,0,1,"NDO",null,null,372,53,47,8,"N",8,48,24,"E",30,53.785600000000002,8.8066999999999993,"53.7856","8.8067","",372,{"$f":"VLOOKUP(MID(G135,1,1),Morse!$A$2:$B$37,2,FALSE)&\"   \"&VLOOKUP(MID(G135,2,1),Morse!$A$2:$B$37,2,FALSE)&IF(LEN(G135)>2,\"   \"&VLOOKUP(MID(G135,3,1),Morse!$A$2:$B$37,2,FALSE),\"\")&IF(LEN(G135)>3,\"   \"&VLOOKUP(MID(G135,4,1),Morse!$A$2:$B$37,2,FALSE),\"\")","v":"− ·   − · ·   − − −"},""]
[135,"Noervenich ","VORTAC ",1,1,0,"NVO",116.2,"109x ",null,50,49,21,"N",6,38,11,"E",60,50.822499999999998,6.6364000000000001,"50.8225","6.6364","116.20","",{"$f":"VLOOKUP(MID(G136,1,1),Morse!$A$2:$B$37,2,FALSE)&\"   \"&VLOOKUP(MID(G136,2,1),Morse!$A$2:$B$37,2,FALSE)&IF(LEN(G136)>2,\"   \"&VLOOKUP(MID(G136,3,1),Morse!$A$2:$B$37,2,FALSE),\"\")&IF(LEN(G136)>3,\"   \"&VLOOKUP(MID(G136,4,1),Morse!$A$2:$B$37,2,FALSE),\"\")","v":"− ·   · · · −   − − −"},"Ch 109x "]
[136,"Nuernberg ","DME ",2,1,0,"NGD",113.1,"78x (*) ",null,49,30,4,"N",11,4,49,"E",25,49.501100000000001,11.080299999999999,"49.5011","11.0803","113.10","",{"$f":"VLOOKUP(MID(G137,1,1),Morse!$A$2:$B$37,2,FALSE)&\"   \"&VLOOKUP(MID(G137,2,1),Morse!$A$2:$B$37,2,FALSE)&IF(LEN(G137)>2,\"   \"&VLOOKUP(MID(G137,3,1),Morse!$A$2:$B$37,2,FALSE),\"\")&IF(LEN(G137)>3,\"   \"&VLOOKUP(MID(G137,4,1),Morse!$A$2:$B$37,2,FALSE),\"\")","v":"− ·   − − ·   − · ·"},"Ch 78x (*) "]
[137,"Nuernberg","VOR/DME ",1,1,0,"NUB",115.75,"CH104y ",null,49,30,11,"N",11,2,5,"E",40,49.503100000000003,11.034700000000001,"49.5031","11.0347","115.75","",{"$f":"VLOOKUP(MID(G138,1,1),Morse!$A$2:$B$37,2,FALSE)&\"   \"&VLOOKUP(MID(G138,2,1),Morse!$A$2:$B$37,2,FALSE)&IF(LEN(G138)>2,\"   \"&VLOOKUP(MID(G138,3,1),Morse!$A$2:$B$37,2,FALSE),\"\")&IF(LEN(G138)>3,\"   \"&VLOOKUP(MID(G138,4,1),Morse!$A$2:$B$37,2,FALSE),\"\")","v":"− ·   · · −   − · · ·"},"Ch CH104y "]
[138,"Oberpfaffenhofen ","NDB ",0,0,1,"OBI",null,null,429,48,4,50,"N",11,17,7,"E",20,48.080599999999997,11.285299999999999,"48.0806","11.2853","",429,{"$f":"VLOOKUP(MID(G139,1,1),Morse!$A$2:$B$37,2,FALSE)&\"   \"&VLOOKUP(MID(G139,2,1),Morse!$A$2:$B$37,2,FALSE)&IF(LEN(G139)>2,\"   \"&VLOOKUP(MID(G139,3,1),Morse!$A$2:$B$37,2,FALSE),\"\")&IF(LEN(G139)>3,\"   \"&VLOOKUP(MID(G139,4,1),Morse!$A$2:$B$37,2,FALSE),\"\")","v":"− − −   − · · ·   · ·"},""]
[139,"Oberpfaffenhofen","DME ",1,1,0,"OBI",110.5,"42x (*)",null,48,4,50,"N",11,17,7,"E",10,48.080599999999997,11.285299999999999,{"$f":"LEFT(T140,2)&\".\"&RIGHT(TEXT(T140,\"00,0000\"),4)","v":"48.0806"},{"$f":"LEFT(U140,IF(U140<10,1,2))&\".\"&RIGHT(TEXT(U140,\"00,0000\"),4)","v":"11.2853"},"110.50","",{"$f":"VLOOKUP(MID(G140,1,1),Morse!$A$2:$B$37,2,FALSE)&\"   \"&VLOOKUP(MID(G140,2,1),Morse!$A$2:$B$37,2,FALSE)&IF(LEN(G140)>2,\"   \"&VLOOKUP(MID(G140,3,1),Morse!$A$2:$B$37,2,FALSE),\"\")&IF(LEN(G140)>3,\"   \"&VLOOKUP(MID(G140,4,1),Morse!$A$2:$B$37,2,FALSE),\"\")","v":"− − −   − · · ·   · ·"},"Ch 42x (*)"]
[140,"Osnabrueck ","DVOR ",1,0,0,"OSN",114.3,null,null,52,12,0,"N",8,17,8,"E",60,52.2,8.2856000000000005,"52.2000","8.2856","114.30","",{"$f":"VLOOKUP(MID(G141,1,1),Morse!$A$2:$B$37,2,FALSE)&\"   \"&VLOOKUP(MID(G141,2,1),Morse!$A$2:$B$37,2,FALSE)&IF(LEN(G141)>2,\"   \"&VLOOKUP(MID(G141,3,1),Morse!$A$2:$B$37,2,FALSE),\"\")&IF(LEN(G141)>3,\"   \"&VLOOKUP(MID(G141,4,1),Morse!$A$2:$B$37,2,FALSE),\"\")","v":"− − −   · · ·   − ·"},""]
[141,"Paderborn/Lippstadt ","NDB ",0,0,1,"PAD",null,null,354,51,37,25,"N",8,38,22,"E",12,51.623600000000003,8.6394000000000002,"51.6236","8.6394","",354,{"$f":"VLOOKUP(MID(G142,1,1),Morse!$A$2:$B$37,2,FALSE)&\"   \"&VLOOKUP(MID(G142,2,1),Morse!$A$2:$B$37,2,FALSE)&IF(LEN(G142)>2,\"   \"&VLOOKUP(MID(G142,3,1),Morse!$A$2:$B$37,2,FALSE),\"\")&IF(LEN(G142)>3,\"   \"&VLOOKUP(MID(G142,4,1),Morse!$A$2:$B$37,2,FALSE),\"\")","v":"· − − ·   · −   − · ·"},""]
[142,"Paderborn/Lippstadt","DME ",2,2,0,"PAD",108.5,"22x (*) ",null,51,36,37,"N",8,37,7,"E",25,51.610300000000002,8.6186000000000007,"51.6103","8.6186","108.50","",{"$f":"VLOOKUP(MID(G143,1,1),Morse!$A$2:$B$37,2,FALSE)&\"   \"&VLOOKUP(MID(G143,2,1),Morse!$A$2:$B$37,2,FALSE)&IF(LEN(G143)>2,\"   \"&VLOOKUP(MID(G143,3,1),Morse!$A$2:$B$37,2,FALSE),\"\")&IF(LEN(G143)>3,\"   \"&VLOOKUP(MID(G143,4,1),Morse!$A$2:$B$37,2,FALSE),\"\")","v":"· − − ·   · −   − · ·"},"Ch 22x (*) "]
[143,"Rheine-Bentlage ","NDB ",0,0,1,"BET",null,null,401.5,52,17,16,"N",7,23,8,"E",25,52.287799999999997,7.3856000000000002,"52.2878","7.3856","",401.5,{"$f":"VLOOKUP(MID(G144,1,1),Morse!$A$2:$B$37,2,FALSE)&\"   \"&VLOOKUP(MID(G144,2,1),Morse!$A$2:$B$37,2,FALSE)&IF(LEN(G144)>2,\"   \"&VLOOKUP(MID(G144,3,1),Morse!$A$2:$B$37,2,FALSE),\"\")&IF(LEN(G144)>3,\"   \"&VLOOKUP(MID(G144,4,1),Morse!$A$2:$B$37,2,FALSE),\"\")","v":"− · · ·   ·   −"},""]
[144,"Ried ","DVOR/DME ",2,1,0,"RID",112.2,"59x ",null,49,46,54,"N",8,32,29,"E",40,49.781700000000001,8.5413999999999994,"49.7817","8.5414","112.20","",{"$f":"VLOOKUP(MID(G145,1,1),Morse!$A$2:$B$37,2,FALSE)&\"   \"&VLOOKUP(MID(G145,2,1),Morse!$A$2:$B$37,2,FALSE)&IF(LEN(G145)>2,\"   \"&VLOOKUP(MID(G145,3,1),Morse!$A$2:$B$37,2,FALSE),\"\")&IF(LEN(G145)>3,\"   \"&VLOOKUP(MID(G145,4,1),Morse!$A$2:$B$37,2,FALSE),\"\")","v":"· − ·   · ·   − · ·"},"Ch 59x "]
[145,"Roding ","DVOR/DME ",1,1,0,"RDG",114.7,"94x ",null,49,2,25,"N",12,31,36,"E",60,49.040300000000002,12.5267,"49.0403","12.5267","114.70","",{"$f":"VLOOKUP(MID(G146,1,1),Morse!$A$2:$B$37,2,FALSE)&\"   \"&VLOOKUP(MID(G146,2,1),Morse!$A$2:$B$37,2,FALSE)&IF(LEN(G146)>2,\"   \"&VLOOKUP(MID(G146,3,1),Morse!$A$2:$B$37,2,FALSE),\"\")&IF(LEN(G146)>3,\"   \"&VLOOKUP(MID(G146,4,1),Morse!$A$2:$B$37,2,FALSE),\"\")","v":"· − ·   − · ·   − − ·"},"Ch 94x "]
[146,"Roethenbach ","NDB ",0,0,1,"RTB",null,null,415,49,28,58,"N",11,15,10,"E",10,49.482799999999997,11.252800000000001,"49.4828","11.2528","",415,{"$f":"VLOOKUP(MID(G147,1,1),Morse!$A$2:$B$37,2,FALSE)&\"   \"&VLOOKUP(MID(G147,2,1),Morse!$A$2:$B$37,2,FALSE)&IF(LEN(G147)>2,\"   \"&VLOOKUP(MID(G147,3,1),Morse!$A$2:$B$37,2,FALSE),\"\")&IF(LEN(G147)>3,\"   \"&VLOOKUP(MID(G147,4,1),Morse!$A$2:$B$37,2,FALSE),\"\")","v":"· − ·   −   − · · ·"},""]
[147,"Saarbruecken ","NDB ",0,0,1,"SBN",null,null,343,49,13,8,"N",7,7,6,"E",34,49.218899999999998,7.1182999999999996,"49.2189","7.1183","",343,{"$f":"VLOOKUP(MID(G148,1,1),Morse!$A$2:$B$37,2,FALSE)&\"   \"&VLOOKUP(MID(G148,2,1),Morse!$A$2:$B$37,2,FALSE)&IF(LEN(G148)>2,\"   \"&VLOOKUP(MID(G148,3,1),Morse!$A$2:$B$37,2,FALSE),\"\")&IF(LEN(G148)>3,\"   \"&VLOOKUP(MID(G148,4,1),Morse!$A$2:$B$37,2,FALSE),\"\")","v":"· · ·   − · · ·   − ·"},""]
[148,"Saarbruecken","DME ",1,1,0,"SAD",116.75,"114y (*) ",null,49,12,45,"N",7,6,58,"E",25,49.212499999999999,7.1161000000000003,"49.2125","7.1161","116.75","",{"$f":"VLOOKUP(MID(G149,1,1),Morse!$A$2:$B$37,2,FALSE)&\"   \"&VLOOKUP(MID(G149,2,1),Morse!$A$2:$B$37,2,FALSE)&IF(LEN(G149)>2,\"   \"&VLOOKUP(MID(G149,3,1),Morse!$A$2:$B$37,2,FALSE),\"\")&IF(LEN(G149)>3,\"   \"&VLOOKUP(MID(G149,4,1),Morse!$A$2:$B$37,2,FALSE),\"\")","v":"· · ·   · −   − · ·"},"Ch 114y (*) "]
[149,"Saarbruecken","LO ",0,0,1,"SR",null,null,360,49,13,4,"N",7,13,10,"E",10,49.217799999999997,7.2194000000000003,"49.2178","7.2194","",360,{"$f":"VLOOKUP(MID(G150,1,1),Morse!$A$2:$B$37,2,FALSE)&\"   \"&VLOOKUP(MID(G150,2,1),Morse!$A$2:$B$37,2,FALSE)&IF(LEN(G150)>2,\"   \"&VLOOKUP(MID(G150,3,1),Morse!$A$2:$B$37,2,FALSE),\"\")&IF(LEN(G150)>3,\"   \"&VLOOKUP(MID(G150,4,1),Morse!$A$2:$B$37,2,FALSE),\"\")","v":"· · ·   · − ·"},""]
[150,"Schkeuditz ","NDB ",0,0,2,"SKZ",null,null,357,51,24,54,"N",12,16,17,"E",15,51.414999999999999,12.2714,"51.4150","12.2714","",357,{"$f":"VLOOKUP(MID(G151,1,1),Morse!$A$2:$B$37,2,FALSE)&\"   \"&VLOOKUP(MID(G151,2,1),Morse!$A$2:$B$37,2,FALSE)&IF(LEN(G151)>2,\"   \"&VLOOKUP(MID(G151,3,1),Morse!$A$2:$B$37,2,FALSE),\"\")&IF(LEN(G151)>3,\"   \"&VLOOKUP(MID(G151,4,1),Morse!$A$2:$B$37,2,FALSE),\"\")","v":"· · ·   − · −   − − · ·"},""]
[151,"Schkeuditz Nord ","DME ",1,1,0,"LND",113.5,"82x (*) ",null,51,26,4,"N",12,13,33,"E",25,51.434399999999997,12.2258,"51.4344","12.2258","113.50","",{"$f":"VLOOKUP(MID(G152,1,1),Morse!$A$2:$B$37,2,FALSE)&\"   \"&VLOOKUP(MID(G152,2,1),Morse!$A$2:$B$37,2,FALSE)&IF(LEN(G152)>2,\"   \"&VLOOKUP(MID(G152,3,1),Morse!$A$2:$B$37,2,FALSE),\"\")&IF(LEN(G152)>3,\"   \"&VLOOKUP(MID(G152,4,1),Morse!$A$2:$B$37,2,FALSE),\"\")","v":"· − · ·   − ·   − · ·"},"Ch 82x (*) "]
[152,"Schkeuditz Sued ","DME ",2,1,0,"LLD",112.15,"58y (*) ",null,51,24,54,"N",12,13,49,"E",25,51.414999999999999,12.2303,"51.4150","12.2303","112.15","",{"$f":"VLOOKUP(MID(G153,1,1),Morse!$A$2:$B$37,2,FALSE)&\"   \"&VLOOKUP(MID(G153,2,1),Morse!$A$2:$B$37,2,FALSE)&IF(LEN(G153)>2,\"   \"&VLOOKUP(MID(G153,3,1),Morse!$A$2:$B$37,2,FALSE),\"\")&IF(LEN(G153)>3,\"   \"&VLOOKUP(MID(G153,4,1),Morse!$A$2:$B$37,2,FALSE),\"\")","v":"· − · ·   · − · ·   − · ·"},"Ch 58y (*) "]
[153,"Schwaebisch Hall ","DME ",3,1,0,"SHD",108.05,"17y ",null,49,6,59,"N",9,46,41,"E",14,49.116399999999999,9.7781000000000002,"49.1164","9.7781","108.05","",{"$f":"VLOOKUP(MID(G154,1,1),Morse!$A$2:$B$37,2,FALSE)&\"   \"&VLOOKUP(MID(G154,2,1),Morse!$A$2:$B$37,2,FALSE)&IF(LEN(G154)>2,\"   \"&VLOOKUP(MID(G154,3,1),Morse!$A$2:$B$37,2,FALSE),\"\")&IF(LEN(G154)>3,\"   \"&VLOOKUP(MID(G154,4,1),Morse!$A$2:$B$37,2,FALSE),\"\")","v":"· · ·   · · · ·   − · ·"},"Ch 17y "]
[154,"Schwerin-Parchim ","NDB ",0,0,1,"PI",null,null,333,53,27,41,"N",11,54,26,"E",0,53.461399999999998,11.9072,"53.4614","11.9072","",333,{"$f":"VLOOKUP(MID(G155,1,1),Morse!$A$2:$B$37,2,FALSE)&\"   \"&VLOOKUP(MID(G155,2,1),Morse!$A$2:$B$37,2,FALSE)&IF(LEN(G155)>2,\"   \"&VLOOKUP(MID(G155,3,1),Morse!$A$2:$B$37,2,FALSE),\"\")&IF(LEN(G155)>3,\"   \"&VLOOKUP(MID(G155,4,1),Morse!$A$2:$B$37,2,FALSE),\"\")","v":"· − − ·   · ·"},""]
[155,"Schwerin-Parchim","NDB ",0,0,1,"PAH",null,null,315,53,23,39,"N",11,39,57,"E",0,53.394199999999998,11.665800000000001,"53.3942","11.6658","",315,{"$f":"VLOOKUP(MID(G156,1,1),Morse!$A$2:$B$37,2,FALSE)&\"   \"&VLOOKUP(MID(G156,2,1),Morse!$A$2:$B$37,2,FALSE)&IF(LEN(G156)>2,\"   \"&VLOOKUP(MID(G156,3,1),Morse!$A$2:$B$37,2,FALSE),\"\")&IF(LEN(G156)>3,\"   \"&VLOOKUP(MID(G156,4,1),Morse!$A$2:$B$37,2,FALSE),\"\")","v":"· − − ·   · −   · · · ·"},""]
[156,"Schwerin-Parchim","DME ",1,1,0,"PMD",117.5,"122x (*) ",null,53,25,30,"N",11,47,6,"E",25,53.424999999999997,11.785,"53.4250","11.7850","117.50","",{"$f":"VLOOKUP(MID(G157,1,1),Morse!$A$2:$B$37,2,FALSE)&\"   \"&VLOOKUP(MID(G157,2,1),Morse!$A$2:$B$37,2,FALSE)&IF(LEN(G157)>2,\"   \"&VLOOKUP(MID(G157,3,1),Morse!$A$2:$B$37,2,FALSE),\"\")&IF(LEN(G157)>3,\"   \"&VLOOKUP(MID(G157,4,1),Morse!$A$2:$B$37,2,FALSE),\"\")","v":"· − − ·   − −   − · ·"},"Ch 122x (*) "]
[157,"Siegerland ","L ",0,0,1,"SIL",null,null,489,50,40,48,"N",8,8,19,"E",20,50.68,8.1386000000000003,"50.6800","8.1386","",489,{"$f":"VLOOKUP(MID(G158,1,1),Morse!$A$2:$B$37,2,FALSE)&\"   \"&VLOOKUP(MID(G158,2,1),Morse!$A$2:$B$37,2,FALSE)&IF(LEN(G158)>2,\"   \"&VLOOKUP(MID(G158,3,1),Morse!$A$2:$B$37,2,FALSE),\"\")&IF(LEN(G158)>3,\"   \"&VLOOKUP(MID(G158,4,1),Morse!$A$2:$B$37,2,FALSE),\"\")","v":"· · ·   · ·   · − · ·"},""]
[158,"Siegerland","DME ",3,2,0,"SLD",108.05,"17y (*) ",null,50,42,24,"N",8,4,43,"E",20,50.706699999999998,8.0785999999999998,"50.7067","8.0786","108.05","",{"$f":"VLOOKUP(MID(G159,1,1),Morse!$A$2:$B$37,2,FALSE)&\"   \"&VLOOKUP(MID(G159,2,1),Morse!$A$2:$B$37,2,FALSE)&IF(LEN(G159)>2,\"   \"&VLOOKUP(MID(G159,3,1),Morse!$A$2:$B$37,2,FALSE),\"\")&IF(LEN(G159)>3,\"   \"&VLOOKUP(MID(G159,4,1),Morse!$A$2:$B$37,2,FALSE),\"\")","v":"· · ·   · − · ·   − · ·"},"Ch 17y (*) "]
[159,"Spessart ","NDB ",0,0,1,"PSA",null,null,370,49,51,44,"N",9,20,54,"E",13,49.862200000000001,9.3483000000000001,"49.8622","9.3483","",370,{"$f":"VLOOKUP(MID(G160,1,1),Morse!$A$2:$B$37,2,FALSE)&\"   \"&VLOOKUP(MID(G160,2,1),Morse!$A$2:$B$37,2,FALSE)&IF(LEN(G160)>2,\"   \"&VLOOKUP(MID(G160,3,1),Morse!$A$2:$B$37,2,FALSE),\"\")&IF(LEN(G160)>3,\"   \"&VLOOKUP(MID(G160,4,1),Morse!$A$2:$B$37,2,FALSE),\"\")","v":"· − − ·   · · ·   · −"},""]
[160,"Stuttgart ","DVOR/DME ",1,1,0,"STG",116.85,"115y () ",null,48,41,47,"N",9,15,24,"E",40,48.696399999999997,9.2567000000000004,"48.6964","9.2567","116.85","",{"$f":"VLOOKUP(MID(G161,1,1),Morse!$A$2:$B$37,2,FALSE)&\"   \"&VLOOKUP(MID(G161,2,1),Morse!$A$2:$B$37,2,FALSE)&IF(LEN(G161)>2,\"   \"&VLOOKUP(MID(G161,3,1),Morse!$A$2:$B$37,2,FALSE),\"\")&IF(LEN(G161)>3,\"   \"&VLOOKUP(MID(G161,4,1),Morse!$A$2:$B$37,2,FALSE),\"\")","v":"· · ·   −   − − ·"},"Ch 115y () "]
[161,"Stuttgart","DME ",1,1,0,"SGD",115.45,"101y (*) ",null,48,41,17,"N",9,13,27,"E",25,48.688099999999999,9.2241999999999997,"48.6881","9.2242","115.45","",{"$f":"VLOOKUP(MID(G162,1,1),Morse!$A$2:$B$37,2,FALSE)&\"   \"&VLOOKUP(MID(G162,2,1),Morse!$A$2:$B$37,2,FALSE)&IF(LEN(G162)>2,\"   \"&VLOOKUP(MID(G162,3,1),Morse!$A$2:$B$37,2,FALSE),\"\")&IF(LEN(G162)>3,\"   \"&VLOOKUP(MID(G162,4,1),Morse!$A$2:$B$37,2,FALSE),\"\")","v":"· · ·   − − ·   − · ·"},"Ch 101y (*) "]
[162,"Sulz ","DVOR ",1,0,0,"SUL",116.1,null,null,48,22,54,"N",8,38,41,"E",60,48.381700000000002,8.6447000000000003,"48.3817","8.6447","116.10","",{"$f":"VLOOKUP(MID(G163,1,1),Morse!$A$2:$B$37,2,FALSE)&\"   \"&VLOOKUP(MID(G163,2,1),Morse!$A$2:$B$37,2,FALSE)&IF(LEN(G163)>2,\"   \"&VLOOKUP(MID(G163,3,1),Morse!$A$2:$B$37,2,FALSE),\"\")&IF(LEN(G163)>3,\"   \"&VLOOKUP(MID(G163,4,1),Morse!$A$2:$B$37,2,FALSE),\"\")","v":"· · ·   · · −   · − · ·"},""]
[163,"Taunus ","DVORTAC ",1,1,0,"TAU",116.7,"114x ",null,50,15,2,"N",8,9,45,"E",40,50.250599999999999,8.1624999999999996,"50.2506","8.1625","116.70","",{"$f":"VLOOKUP(MID(G164,1,1),Morse!$A$2:$B$37,2,FALSE)&\"   \"&VLOOKUP(MID(G164,2,1),Morse!$A$2:$B$37,2,FALSE)&IF(LEN(G164)>2,\"   \"&VLOOKUP(MID(G164,3,1),Morse!$A$2:$B$37,2,FALSE),\"\")&IF(LEN(G164)>3,\"   \"&VLOOKUP(MID(G164,4,1),Morse!$A$2:$B$37,2,FALSE),\"\")","v":"−   · −   · · −"},"Ch 114x "]
[164,"Trent ","VOR/DME",1,1,0,"TRT",108.45,"21y ",null,54,30,39,"N",13,14,58,"E",60,54.510800000000003,13.2494,"54.5108","13.2494","108.45","",{"$f":"VLOOKUP(MID(G165,1,1),Morse!$A$2:$B$37,2,FALSE)&\"   \"&VLOOKUP(MID(G165,2,1),Morse!$A$2:$B$37,2,FALSE)&IF(LEN(G165)>2,\"   \"&VLOOKUP(MID(G165,3,1),Morse!$A$2:$B$37,2,FALSE),\"\")&IF(LEN(G165)>3,\"   \"&VLOOKUP(MID(G165,4,1),Morse!$A$2:$B$37,2,FALSE),\"\")","v":"−   · − ·   −"},"Ch 21y "]
[165,"Walda ","DVOR/DME ",1,1,0,"WLD",112.8,"75x ",null,48,34,46,"N",11,7,46,"E",60,48.5794,11.1294,"48.5794","11.1294","112.80","",{"$f":"VLOOKUP(MID(G166,1,1),Morse!$A$2:$B$37,2,FALSE)&\"   \"&VLOOKUP(MID(G166,2,1),Morse!$A$2:$B$37,2,FALSE)&IF(LEN(G166)>2,\"   \"&VLOOKUP(MID(G166,3,1),Morse!$A$2:$B$37,2,FALSE),\"\")&IF(LEN(G166)>3,\"   \"&VLOOKUP(MID(G166,4,1),Morse!$A$2:$B$37,2,FALSE),\"\")","v":"· − −   · − · ·   − · ·"},"Ch 75x "]
[166,"Warburg ","DVOR/DME ",2,1,0,"WRB",113.7,"84x ",null,51,30,21,"N",9,6,39,"E",80,51.505800000000001,9.1107999999999993,"51.5058","9.1108","113.70","",{"$f":"VLOOKUP(MID(G167,1,1),Morse!$A$2:$B$37,2,FALSE)&\"   \"&VLOOKUP(MID(G167,2,1),Morse!$A$2:$B$37,2,FALSE)&IF(LEN(G167)>2,\"   \"&VLOOKUP(MID(G167,3,1),Morse!$A$2:$B$37,2,FALSE),\"\")&IF(LEN(G167)>3,\"   \"&VLOOKUP(MID(G167,4,1),Morse!$A$2:$B$37,2,FALSE),\"\")","v":"· − −   · − ·   − · · ·"},"Ch 84x "]
[167,"Wax ","DME ",2,1,0,"DND",115.4,"101x (*) ",null,51,7,46,"N",13,45,27,"E",25,51.129399999999997,13.7575,{"$f":"LEFT(T168,2)&\".\"&RIGHT(TEXT(T168,\"00,0000\"),4)","v":"51.1294"},{"$f":"LEFT(U168,IF(U168<10,1,2))&\".\"&RIGHT(TEXT(U168,\"00,0000\"),4)","v":"13.7575"},"115.40","",{"$f":"VLOOKUP(MID(G168,1,1),Morse!$A$2:$B$37,2,FALSE)&\"   \"&VLOOKUP(MID(G168,2,1),Morse!$A$2:$B$37,2,FALSE)&IF(LEN(G168)>2,\"   \"&VLOOKUP(MID(G168,3,1),Morse!$A$2:$B$37,2,FALSE),\"\")&IF(LEN(G168)>3,\"   \"&VLOOKUP(MID(G168,4,1),Morse!$A$2:$B$37,2,FALSE),\"\")","v":"− · ·   − ·   − · ·"},"Ch 101x (*) "]
[168,"Weser ","NDB ",0,0,1,"WSN",null,null,378,53,20,50,"N",8,52,29,"E",60,53.347200000000001,8.8747000000000007,"53.3472","8.8747","",378,{"$f":"VLOOKUP(MID(G169,1,1),Morse!$A$2:$B$37,2,FALSE)&\"   \"&VLOOKUP(MID(G169,2,1),Morse!$A$2:$B$37,2,FALSE)&IF(LEN(G169)>2,\"   \"&VLOOKUP(MID(G169,3,1),Morse!$A$2:$B$37,2,FALSE),\"\")&IF(LEN(G169)>3,\"   \"&VLOOKUP(MID(G169,4,1),Morse!$A$2:$B$37,2,FALSE),\"\")","v":"· − −   · · ·   − ·"},""]
[169,"Westerland/Sylt ","NDB ",0,0,1,"SLT",null,null,387,54,51,25,"N",8,24,36,"E",25,54.856900000000003,8.41,"54.8569","8.4100","",387,{"$f":"VLOOKUP(MID(G170,1,1),Morse!$A$2:$B$37,2,FALSE)&\"   \"&VLOOKUP(MID(G170,2,1),Morse!$A$2:$B$37,2,FALSE)&IF(LEN(G170)>2,\"   \"&VLOOKUP(MID(G170,3,1),Morse!$A$2:$B$37,2,FALSE),\"\")&IF(LEN(G170)>3,\"   \"&VLOOKUP(MID(G170,4,1),Morse!$A$2:$B$37,2,FALSE),\"\")","v":"· · ·   · − · ·   −"},""]
[170,"Westerland/Sylt ","DME/ILS ",2,1,0,"WES",111.5,"52x ",null,54,54,38,"N",8,20,23,"E",25,54.910600000000002,8.3397000000000006,"54.9106","8.3397","111.50","",{"$f":"VLOOKUP(MID(G171,1,1),Morse!$A$2:$B$37,2,FALSE)&\"   \"&VLOOKUP(MID(G171,2,1),Morse!$A$2:$B$37,2,FALSE)&IF(LEN(G171)>2,\"   \"&VLOOKUP(MID(G171,3,1),Morse!$A$2:$B$37,2,FALSE),\"\")&IF(LEN(G171)>3,\"   \"&VLOOKUP(MID(G171,4,1),Morse!$A$2:$B$37,2,FALSE),\"\")","v":"· − −   ·   · · ·"},"Ch 52x "]
[171,"Wickede ","DVOR/DME",2,2,0,"DOR",108.65,"23y ",null,51,31,31,"N",7,37,52,"E",25,51.525300000000001,7.6311,"51.5253","7.6311","108.65","",{"$f":"VLOOKUP(MID(G172,1,1),Morse!$A$2:$B$37,2,FALSE)&\"   \"&VLOOKUP(MID(G172,2,1),Morse!$A$2:$B$37,2,FALSE)&IF(LEN(G172)>2,\"   \"&VLOOKUP(MID(G172,3,1),Morse!$A$2:$B$37,2,FALSE),\"\")&IF(LEN(G172)>3,\"   \"&VLOOKUP(MID(G172,4,1),Morse!$A$2:$B$37,2,FALSE),\"\")","v":"− · ·   − − −   · − ·"},"Ch 23y "]
[172,"Wiesbaden ","NDB ",0,0,1,"WBD",null,null,399,50,2,57,"N",8,19,43,"E",25,50.049199999999999,8.3285999999999998,"50.0492","8.3286","",399,{"$f":"VLOOKUP(MID(G173,1,1),Morse!$A$2:$B$37,2,FALSE)&\"   \"&VLOOKUP(MID(G173,2,1),Morse!$A$2:$B$37,2,FALSE)&IF(LEN(G173)>2,\"   \"&VLOOKUP(MID(G173,3,1),Morse!$A$2:$B$37,2,FALSE),\"\")&IF(LEN(G173)>3,\"   \"&VLOOKUP(MID(G173,4,1),Morse!$A$2:$B$37,2,FALSE),\"\")","v":"· − −   − · · ·   − · ·"},""]
[173,"Wipper ","VOR ",1,0,0,"WYP",109.6,null,null,51,2,54,"N",7,16,48,"E",25,51.048299999999998,7.28,"51.0483","7.2800","109.60","",{"$f":"VLOOKUP(MID(G174,1,1),Morse!$A$2:$B$37,2,FALSE)&\"   \"&VLOOKUP(MID(G174,2,1),Morse!$A$2:$B$37,2,FALSE)&IF(LEN(G174)>2,\"   \"&VLOOKUP(MID(G174,3,1),Morse!$A$2:$B$37,2,FALSE),\"\")&IF(LEN(G174)>3,\"   \"&VLOOKUP(MID(G174,4,1),Morse!$A$2:$B$37,2,FALSE),\"\")","v":"· − −   − · − −   · − − ·"},""]
[174,"Wunstorf ","NDB ",0,0,1,"WUN",null,null,419,52,27,34,"N",9,27,17,"E",25,52.459400000000002,9.4547000000000008,"52.4594","9.4547","",419,{"$f":"VLOOKUP(MID(G175,1,1),Morse!$A$2:$B$37,2,FALSE)&\"   \"&VLOOKUP(MID(G175,2,1),Morse!$A$2:$B$37,2,FALSE)&IF(LEN(G175)>2,\"   \"&VLOOKUP(MID(G175,3,1),Morse!$A$2:$B$37,2,FALSE),\"\")&IF(LEN(G175)>3,\"   \"&VLOOKUP(MID(G175,4,1),Morse!$A$2:$B$37,2,FALSE),\"\")","v":"· − −   · · −   − ·"},""]
[175,"Wuerzburg ","VOR ",1,0,0,"WUR",110.2,null,null,49,43,3,"N",9,56,49,"E",60,{"$f":"IF(K176+(L176/60)<>0,ROUND(K176+(L176/60)+(M176/3600),4),\"\")","v":49.717500000000001},{"$f":"IF(O176+(P176/60)<>0,ROUND(O176+(P176/60)+(Q176/3600),4),\"\")","v":9.9468999999999994},{"$f":"LEFT(T176,2)&\".\"&RIGHT(TEXT(T176,\"00,0000\"),4)","v":"49.7175"},{"$f":"LEFT(U176,IF(U176<10,1,2))&\".\"&RIGHT(TEXT(U176,\"00,0000\"),4)","v":"9.9469"},{"$f":"IF(H176<>\"\",LEFT(H176,3)&\".\"&IF(LEN(H176)=3,\"\",RIGHT(H176,LEN(H176)-4))&IF(LEN(H176)=3,\"00\",IF(LEN(H176)=5,\"0\",IF(LEN(H176)=6,\"\",\"\"))),\"\")","v":"110.20"},{"$f":"IF(J176<>0,J176,\"\")","v":""},{"$f":"VLOOKUP(MID(G176,1,1),Morse!$A$2:$B$37,2,FALSE)&\"   \"&VLOOKUP(MID(G176,2,1),Morse!$A$2:$B$37,2,FALSE)&IF(LEN(G176)>2,\"   \"&VLOOKUP(MID(G176,3,1),Morse!$A$2:$B$37,2,FALSE),\"\")&IF(LEN(G176)>3,\"   \"&VLOOKUP(MID(G176,4,1),Morse!$A$2:$B$37,2,FALSE),\"\")","v":"· − −   · · −   · − ·"},{"$f":"IF(I176<>\"\",\"Ch \"&I176,\"\")","v":""}]
[176,"Zweibruecken ","DVOR/DME ",{"$f":"IF(C177<>\"DME\",COUNTIF($H$2:$H$177,H177),0)","v":1},{"$f":"COUNTIF($I$2:$I$177,I177)","v":1},{"$f":"COUNTIF($J$2:$J$177,J177)","v":0},"ZWN",114.8,"95x ",null,49,13,45,"N",7,25,4,"E",60,49.229199999999999,7.4177999999999997,"49.2292","7.4178","114.80","",{"$f":"VLOOKUP(MID(G177,1,1),Morse!$A$2:$B$37,2,FALSE)&\"   \"&VLOOKUP(MID(G177,2,1),Morse!$A$2:$B$37,2,FALSE)&IF(LEN(G177)>2,\"   \"&VLOOKUP(MID(G177,3,1),Morse!$A$2:$B$37,2,FALSE),\"\")&IF(LEN(G177)>3,\"   \"&VLOOKUP(MID(G177,4,1),Morse!$A$2:$B$37,2,FALSE),\"\")","v":"− − · ·   · − −   − ·"},"Ch 95x "]
[]
[]
[]
[]
[]
[]
[]
[]
[]
[]
[]
["Achtung: Wenn in dieser Funk-Nav Liste Zeilen hinzugefügt oder gelöscht werden, muss auch in \"Funknavauswahl\" die Tabelle verlänert/verkürzt werden!"]

{"sheet":"Funknav Auswahl","index":15,"n_rows":193,"n_cols":136,"rows_kept":193,"cut":false,"hidden":true,"merged":[]}
[null,null,null,null,null,null,null,null,null,null,null,null,null,null,null,null,null,null,null,null,null,null,null,null,null,null,null,null,null,null,null,null,null,null,null,"Ziel","Start"]
[null,null,null,null,null,null,null,null,null,null,null,null,null,null,null,null,null,null,null,null,null,null,null,null,null,null,null,null,null,null,null,null,null,null,null,null,1,2,3,4,5,6,7,8,9,10,11,12,13,14,15,16,17,18,19,20,21,22,23,24,25,26,27,28,29,30,31,32,33,34,35,36,37,38,39,40,41,42,43,44,45,46,47,48,49,50,51,52,53,54,55,56,57,58,59,60,61,62,63,64,65,66,67,68,69,70,71,72,73,74,75,76,77,78,79,80,81,82,83,84,85,86,87,88,89,90,91,92,93,94,95,96,97,98,99,100]
[null,null,null,null,null,null,null,null,null,null,null,null,null,null,null,null,null,null,null,null,null,null,null,null,null,null,null,15,"NM",null,null,null,null,null,null,null,"OK",{"$f":"IF(OR(AK12<$AB$3,AK3=\"STOP\"),\"STOP\",\"OK\")","v":{"$error":"#N/A"}},{"$f":"IF(OR(AL12<$AB$3,AL3=\"STOP\"),\"STOP\",\"OK\")","v":{"$error":"#N/A"}},{"$error":"#N/A"},{"$error":"#N/A"},{"$error":"#N/A"},{"$error":"#N/A"},{"$error":"#N/A"},{"$error":"#N/A"},{"$error":"#N/A"},{"$error":"#N/A"},{"$f":"IF(OR(AU12<$AB$3,AU3=\"STOP\"),\"STOP\",\"OK\")","v":{"$error":"#N/A"}},{"$error":"#N/A"},{"$error":"#N/A"},{"$error":"#N/A"},{"$error":"#N/A"},{"$error":"#N/A"},{"$error":"#N/A"},{"$error":"#N/A"},{"$error":"#N/A"},{"$error":"#N/A"},{"$error":"#N/A"},{"$error":"#N/A"},{"$error":"#N/A"},{"$error":"#N/A"},{"$error":"#N/A"},{"$error":"#N/A"},{"$error":"#N/A"},{"$error":"#N/A"},{"$error":"#N/A"},{"$error":"#N/A"},{"$error":"#N/A"},{"$error":"#N/A"},{"$error":"#N/A"},{"$error":"#N/A"},{"$error":"#N/A"},{"$error":"#N/A"},{"$error":"#N/A"},{"$error":"#N/A"},{"$error":"#N/A"},{"$error":"#N/A"},{"$error":"#N/A"},{"$error":"#N/A"},{"$f":"IF(OR(CA12<$AB$3,CA3=\"STOP\"),\"STOP\",\"OK\")","v":{"$error":"#N/A"}},{"$error":"#N/A"},{"$error":"#N/A"},{"$error":"#N/A"},{"$error":"#N/A"},{"$error":"#N/A"},{"$error":"#N/A"},{"$error":"#N/A"},{"$error":"#N/A"},{"$error":"#N/A"},{"$error":"#N/A"},{"$error":"#N/A"},{"$error":"#N/A"},{"$error":"#N/A"},{"$error":"#N/A"},{"$error":"#N/A"},{"$error":"#N/A"},{"$error":"#N/A"},{"$error":"#N/A"},{"$error":"#N/A"},{"$error":"#N/A"},{"$error":"#N/A"},{"$error":"#N/A"},{"$error":"#N/A"},{"$error":"#N/A"},{"$error":"#N/A"},{"$error":"#N/A"},{"$error":"#N/A"},{"$error":"#N/A"},{"$error":"#N/A"},{"$error":"#N/A"},{"$f":"IF(OR(DF12<$AB$3,DF3=\"STOP\"),\"STOP\",\"OK\")","v":{"$error":"#N/A"}},{"$error":"#N/A"},{"$error":"#N/A"},{"$error":"#N/A"},{"$error":"#N/A"},{"$error":"#N/A"},{"$error":"#N/A"},{"$error":"#N/A"},{"$error":"#N/A"},{"$error":"#N/A"},{"$error":"#N/A"},{"$error":"#N/A"},{"$error":"#N/A"},{"$error":"#N/A"},{"$error":"#N/A"},{"$error":"#N/A"},{"$error":"#N/A"},{"$error":"#N/A"},{"$error":"#N/A"},{"$error":"#N/A"},{"$error":"#N/A"},{"$error":"#N/A"},{"$error":"#N/A"},{"$error":"#N/A"},{"$error":"#N/A"},{"$error":"#N/A"}]
[null,null,null,null,null,null,null,null,null,null,null,null,null,null,null,null,null,null,null,null,null,null,null,null,null,null,null,"Breite",null,null,null,null,null,null,null,{"$f":"Flugplätze!AH5","v":{"$error":"#N/A"}},{"$f":"Flugplätze!AC5","v":{"$error":"#N/A"}},{"$f":"IF(AL3=\"OK\",AK4+COS(AK13*PI()/180)*$AB3/60,\"-\")","v":{"$error":"#N/A"}},{"$f":"IF(AM3=\"OK\",AL4+COS(AL13*PI()/180)*$AB3/60,\"-\")","v":{"$error":"#N/A"}},{"$error":"#N/A"},{"$error":"#N/A"},{"$error":"#N/A"},{"$error":"#N/A"},{"$error":"#N/A"},{"$error":"#N/A"},{"$error":"#N/A"},{"$error":"#N/A"},{"$f":"IF(AV3=\"OK\",AU4+COS(AU13*PI()/180)*$AB3/60,\"-\")","v":{"$error":"#N/A"}},{"$f":"IF(AW3=\"OK\",AV4+COS(AV13*PI()/180)*$AB3/60,\"-\")","v":{"$error":"#N/A"}},{"$f":"IF(AX3=\"OK\",AW4+COS(AW13*PI()/180)*$AB3/60,\"-\")","v":{"$error":"#N/A"}},{"$f":"IF(AY3=\"OK\",AX4+COS(AX13*PI()/180)*$AB3/60,\"-\")","v":{"$error":"#N/A"}},{"$f":"IF(AZ3=\"OK\",AY4+COS(AY13*PI()/180)*$AB3/60,\"-\")","v":{"$error":"#N/A"}},{"$f":"IF(BA3=\"OK\",AZ4+COS(AZ13*PI()/180)*$AB3/60,\"-\")","v":{"$error":"#N/A"}},{"$f":"IF(BB3=\"OK\",BA4+COS(BA13*PI()/180)*$AB3/60,\"-\")","v":{"$error":"#N/A"}},{"$f":"IF(BC3=\"OK\",BB4+COS(BB13*PI()/180)*$AB3/60,\"-\")","v":{"$error":"#N/A"}},{"$f":"IF(BD3=\"OK\",BC4+COS(BC13*PI()/180)*$AB3/60,\"-\")","v":{"$error":"#N/A"}},{"$f":"IF(BE3=\"OK\",BD4+COS(BD13*PI()/180)*$AB3/60,\"-\")","v":{"$error":"#N/A"}},{"$f":"IF(BF3=\"OK\",BE4+COS(BE13*PI()/180)*$AB3/60,\"-\")","v":{"$error":"#N/A"}},{"$f":"IF(BG3=\"OK\",BF4+COS(BF13*PI()/180)*$AB3/60,\"-\")","v":{"$error":"#N/A"}},{"$f":"IF(BH3=\"OK\",BG4+COS(BG13*PI()/180)*$AB3/60,\"-\")","v":{"$error":"#N/A"}},{"$f":"IF(BI3=\"OK\",BH4+COS(BH13*PI()/180)*$AB3/60,\"-\")","v":{"$error":"#N/A"}},{"$f":"IF(BJ3=\"OK\",BI4+COS(BI13*PI()/180)*$AB3/60,\"-\")","v":{"$error":"#N/A"}},{"$f":"IF(BK3=\"OK\",BJ4+COS(BJ13*PI()/180)*$AB3/60,\"-\")","v":{"$error":"#N/A"}},{"$f":"IF(BL3=\"OK\",BK4+COS(BK13*PI()/180)*$AB3/60,\"-\")","v":{"$error":"#N/A"}},{"$f":"IF(BM3=\"OK\",BL4+COS(BL13*PI()/180)*$AB3/60,\"-\")","v":{"$error":"#N/A"}},{"$f":"IF(BN3=\"OK\",BM4+COS(BM13*PI()/180)*$AB3/60,\"-\")","v":{"$error":"#N/A"}},{"$f":"IF(BO3=\"OK\",BN4+COS(BN13*PI()/180)*$AB3/60,\"-\")","v":{"$error":"#N/A"}},{"$f":"IF(BP3=\"OK\",BO4+COS(BO13*PI()/180)*$AB3/60,\"-\")","v":{"$error":"#N/A"}},{"$f":"IF(BQ3=\"OK\",BP4+COS(BP13*PI()/180)*$AB3/60,\"-\")","v":{"$error":"#N/A"}},{"$f":"IF(BR3=\"OK\",BQ4+COS(BQ13*PI()/180)*$AB3/60,\"-\")","v":{"$error":"#N/A"}},{"$f":"IF(BS3=\"OK\",BR4+COS(BR13*PI()/180)*$AB3/60,\"-\")","v":{"$error":"#N/A"}},{"$f":"IF(BT3=\"OK\",BS4+COS(BS13*PI()/180)*$AB3/60,\"-\")","v":{"$error":"#N/A"}},{"$f":"IF(BU3=\"OK\",BT4+COS(BT13*PI()/180)*$AB3/60,\"-\")","v":{"$error":"#N/A"}},{"$f":"IF(BV3=\"OK\",BU4+COS(BU13*PI()/180)*$AB3/60,\"-\")","v":{"$error":"#N/A"}},{"$f":"IF(BW3=\"OK\",BV4+COS(BV13*PI()/180)*$AB3/60,\"-\")","v":{"$error":"#N/A"}},{"$f":"IF(BX3=\"OK\",BW4+COS(BW13*PI()/180)*$AB3/60,\"-\")","v":{"$error":"#N/A"}},{"$f":"IF(BY3=\"OK\",BX4+COS(BX13*PI()/180)*$AB3/60,\"-\")","v":{"$error":"#N/A"}},{"$f":"IF(BZ3=\"OK\",BY4+COS(BY13*PI()/180)*$AB3/60,\"-\")","v":{"$error":"#N/A"}},{"$f":"IF(CA3=\"OK\",BZ4+COS(BZ13*PI()/180)*$AB3/60,\"-\")","v":{"$error":"#N/A"}},{"$f":"IF(CB3=\"OK\",CA4+COS(CA13*PI()/180)*$AB3/60,\"-\")","v":{"$error":"#N/A"}},{"$f":"IF(CC3=\"OK\",CB4+COS(CB13*PI()/180)*$AB3/60,\"-\")","v":{"$error":"#N/A"}},{"$f":"IF(CD3=\"OK\",CC4+COS(CC13*PI()/180)*$AB3/60,\"-\")","v":{"$error":"#N/A"}},{"$f":"IF(CE3=\"OK\",CD4+COS(CD13*PI()/180)*$AB3/60,\"-\")","v":{"$error":"#N/A"}},{"$f":"IF(CF3=\"OK\",CE4+COS(CE13*PI()/180)*$AB3/60,\"-\")","v":{"$error":"#N/A"}},{"$f":"IF(CG3=\"OK\",CF4+COS(CF13*PI()/180)*$AB3/60,\"-\")","v":{"$error":"#N/A"}},{"$f":"IF(CH3=\"OK\",CG4+COS(CG13*PI()/180)*$AB3/60,\"-\")","v":{"$error":"#N/A"}},{"$f":"IF(CI3=\"OK\",CH4+COS(CH13*PI()/180)*$AB3/60,\"-\")","v":{"$error":"#N/A"}},{"$f":"IF(CJ3=\"OK\",CI4+COS(CI13*PI()/180)*$AB3/60,\"-\")","v":{"$error":"#N/A"}},{"$f":"IF(CK3=\"OK\",CJ4+COS(CJ13*PI()/180)*$AB3/60,\"-\")","v":{"$error":"#N/A"}},{"$f":"IF(CL3=\"OK\",CK4+COS(CK13*PI()/180)*$AB3/60,\"-\")","v":{"$error":"#N/A"}},{"$f":"IF(CM3=\"OK\",CL4+COS(CL13*PI()/180)*$AB3/60,\"-\")","v":{"$error":"#N/A"}},{"$f":"IF(CN3=\"OK\",CM4+COS(CM13*PI()/180)*$AB3/60,\"-\")","v":{"$error":"#N/A"}},{"$f":"IF(CO3=\"OK\",CN4+COS(CN13*PI()/180)*$AB3/60,\"-\")","v":{"$error":"#N/A"}},{"$f":"IF(CP3=\"OK\",CO4+COS(CO13*PI()/180)*$AB3/60,\"-\")","v":{"$error":"#N/A"}},{"$f":"IF(CQ3=\"OK\",CP4+COS(CP13*PI()/180)*$AB3/60,\"-\")","v":{"$error":"#N/A"}},{"$f":"IF(CR3=\"OK\",CQ4+COS(CQ13*PI()/180)*$AB3/60,\"-\")","v":{"$error":"#N/A"}},{"$f":"IF(CS3=\"OK\",CR4+COS(CR13*PI()/180)*$AB3/60,\"-\")","v":{"$error":"#N/A"}},{"$f":"IF(CT3=\"OK\",CS4+COS(CS13*PI()/180)*$AB3/60,\"-\")","v":{"$error":"#N/A"}},{"$f":"IF(CU3=\"OK\",CT4+COS(CT13*PI()/180)*$AB3/60,\"-\")","v":{"$error":"#N/A"}},{"$f":"IF(CV3=\"OK\",CU4+COS(CU13*PI()/180)*$AB3/60,\"-\")","v":{"$error":"#N/A"}},{"$f":"IF(CW3=\"OK\",CV4+COS(CV13*PI()/180)*$AB3/60,\"-\")","v":{"$error":"#N/A"}},{"$f":"IF(CX3=\"OK\",CW4+COS(CW13*PI()/180)*$AB3/60,\"-\")","v":{"$error":"#N/A"}},{"$f":"IF(CY3=\"OK\",CX4+COS(CX13*PI()/180)*$AB3/60,\"-\")","v":{"$error":"#N/A"}},{"$f":"IF(CZ3=\"OK\",CY4+COS(CY13*PI()/180)*$AB3/60,\"-\")","v":{"$error":"#N/A"}},{"$f":"IF(DA3=\"OK\",CZ4+COS(CZ13*PI()/180)*$AB3/60,\"-\")","v":{"$error":"#N/A"}},{"$f":"IF(DB3=\"OK\",DA4+COS(DA13*PI()/180)*$AB3/60,\"-\")","v":{"$error":"#N/A"}},{"$f":"IF(DC3=\"OK\",DB4+COS(DB13*PI()/180)*$AB3/60,\"-\")","v":{"$error":"#N/A"}},{"$f":"IF(DD3=\"OK\",DC4+COS(DC13*PI()/180)*$AB3/60,\"-\")","v":{"$error":"#N/A"}},{"$f":"IF(DE3=\"OK\",DD4+COS(DD13*PI()/180)*$AB3/60,\"-\")","v":{"$error":"#N/A"}},{"$f":"IF(DF3=\"OK\",DE4+COS(DE13*PI()/180)*$AB3/60,\"-\")","v":{"$error":"#N/A"}},{"$f":"IF(DG3=\"OK\",DF4+COS(DF13*PI()/180)*$AB3/60,\"-\")","v":{"$error":"#N/A"}},{"$f":"IF(DH3=\"OK\",DG4+COS(DG13*PI()/180)*$AB3/60,\"-\")","v":{"$error":"#N/A"}},{"$f":"IF(DI3=\"OK\",DH4+COS(DH13*PI()/180)*$AB3/60,\"-\")","v":{"$error":"#N/A"}},{"$f":"IF(DJ3=\"OK\",DI4+COS(DI13*PI()/180)*$AB3/60,\"-\")","v":{"$error":"#N/A"}},{"$f":"IF(DK3=\"OK\",DJ4+COS(DJ13*PI()/180)*$AB3/60,\"-\")","v":{"$error":"#N/A"}},{"$f":"IF(DL3=\"OK\",DK4+COS(DK13*PI()/180)*$AB3/60,\"-\")","v":{"$error":"#N/A"}},{"$f":"IF(DM3=\"OK\",DL4+COS(DL13*PI()/180)*$AB3/60,\"-\")","v":{"$error":"#N/A"}},{"$f":"IF(DN3=\"OK\",DM4+COS(DM13*PI()/180)*$AB3/60,\"-\")","v":{"$error":"#N/A"}},{"$f":"IF(DO3=\"OK\",DN4+COS(DN13*PI()/180)*$AB3/60,\"-\")","v":{"$error":"#N/A"}},{"$f":"IF(DP3=\"OK\",DO4+COS(DO13*PI()/180)*$AB3/60,\"-\")","v":{"$error":"#N/A"}},{"$f":"IF(DQ3=\"OK\",DP4+COS(DP13*PI()/180)*$AB3/60,\"-\")","v":{"$error":"#N/A"}},{"$f":"IF(DR3=\"OK\",DQ4+COS(DQ13*PI()/180)*$AB3/60,\"-\")","v":{"$error":"#N/A"}},{"$f":"IF(DS3=\"OK\",DR4+COS(DR13*PI()/180)*$AB3/60,\"-\")","v":{"$error":"#N/A"}},{"$f":"IF(DT3=\"OK\",DS4+COS(DS13*PI()/180)*$AB3/60,\"-\")","v":{"$error":"#N/A"}},{"$f":"IF(DU3=\"OK\",DT4+COS(DT13*PI()/180)*$AB3/60,\"-\")","v":{"$error":"#N/A"}},{"$f":"IF(DV3=\"OK\",DU4+COS(DU13*PI()/180)*$AB3/60,\"-\")","v":{"$error":"#N/A"}},{"$f":"IF(DW3=\"OK\",DV4+COS(DV13*PI()/180)*$AB3/60,\"-\")","v":{"$error":"#N/A"}},{"$f":"IF(DX3=\"OK\",DW4+COS(DW13*PI()/180)*$AB3/60,\"-\")","v":{"$error":"#N/A"}},{"$f":"IF(DY3=\"OK\",DX4+COS(DX13*PI()/180)*$AB3/60,\"-\")","v":{"$error":"#N/A"}},{"$f":"IF(DZ3=\"OK\",DY4+COS(DY13*PI()/180)*$AB3/60,\"-\")","v":{"$error":"#N/A"}},{"$f":"IF(EA3=\"OK\",DZ4+COS(DZ13*PI()/180)*$AB3/60,\"-\")","v":{"$error":"#N/A"}},{"$f":"IF(EB3=\"OK\",EA4+COS(EA13*PI()/180)*$AB3/60,\"-\")","v":{"$error":"#N/A"}},{"$f":"IF(EC3=\"OK\",EB4+COS(EB13*PI()/180)*$AB3/60,\"-\")","v":{"$error":"#N/A"}},{"$f":"IF(ED3=\"OK\",EC4+COS(EC13*PI()/180)*$AB3/60,\"-\")","v":{"$error":"#N/A"}},{"$f":"IF(EE3=\"OK\",ED4+COS(ED13*PI()/180)*$AB3/60,\"-\")","v":{"$error":"#N/A"}},{"$f":"IF(EF3=\"OK\",EE4+COS(EE13*PI()/180)*$AB3/60,\"-\")","v":{"$error":"#N/A"}}]
[null,null,null,null,null,null,null,null,null,null,null,null,null,null,null,null,null,null,null,null,null,null,null,null,null,null,null,"Länge",null,null,null,null,null,null,null,{"$f":"Flugplätze!AI5","v":{"$error":"#N/A"}},{"$f":"Flugplätze!AD5","v":{"$error":"#N/A"}},{"$f":"IF(AL3=\"OK\",AK5+SIN(AK13*PI()/180)*$AB3/60/COS(AK6),\"-\")","v":{"$error":"#N/A"}},{"$f":"IF(AM3=\"OK\",AL5+SIN(AL13*PI()/180)*$AB3/60/COS(AL6),\"-\")","v":{"$error":"#N/A"}},{"$error":"#N/A"},{"$error":"#N/A"},{"$error":"#N/A"},{"$error":"#N/A"},{"$error":"#N/A"},{"$error":"#N/A"},{"$error":"#N/A"},{"$error":"#N/A"},{"$f":"IF(AV3=\"OK\",AU5+SIN(AU13*PI()/180)*$AB3/60/COS(AU6),\"-\")","v":{"$error":"#N/A"}},{"$error":"#N/A"},{"$error":"#N/A"},{"$error":"#N/A"},{"$error":"#N/A"},{"$error":"#N/A"},{"$error":"#N/A"},{"$error":"#N/A"},{"$error":"#N/A"},{"$error":"#N/A"},{"$error":"#N/A"},{"$error":"#N/A"},{"$error":"#N/A"},{"$error":"#N/A"},{"$error":"#N/A"},{"$error":"#N/A"},{"$error":"#N/A"},{"$error":"#N/A"},{"$error":"#N/A"},{"$error":"#N/A"},{"$error":"#N/A"},{"$error":"#N/A"},{"$error":"#N/A"},{"$error":"#N/A"},{"$error":"#N/A"},{"$error":"#N/A"},{"$error":"#N/A"},{"$error":"#N/A"},{"$error":"#N/A"},{"$error":"#N/A"},{"$error":"#N/A"},{"$error":"#N/A"},{"$f":"IF(CB3=\"OK\",CA5+SIN(CA13*PI()/180)*$AB3/60/COS(CA6),\"-\")","v":{"$error":"#N/A"}},{"$error":"#N/A"},{"$error":"#N/A"},{"$error":"#N/A"},{"$error":"#N/A"},{"$error":"#N/A"},{"$error":"#N/A"},{"$error":"#N/A"},{"$error":"#N/A"},{"$error":"#N/A"},{"$error":"#N/A"},{"$error":"#N/A"},{"$error":"#N/A"},{"$error":"#N/A"},{"$error":"#N/A"},{"$error":"#N/A"},{"$error":"#N/A"},{"$error":"#N/A"},{"$error":"#N/A"},{"$error":"#N/A"},{"$error":"#N/A"},{"$error":"#N/A"},{"$error":"#N/A"},{"$error":"#N/A"},{"$error":"#N/A"},{"$error":"#N/A"},{"$error":"#N/A"},{"$error":"#N/A"},{"$error":"#N/A"},{"$error":"#N/A"},{"$error":"#N/A"},{"$f":"IF(DG3=\"OK\",DF5+SIN(DF13*PI()/180)*$AB3/60/COS(DF6),\"-\")","v":{"$error":"#N/A"}},{"$error":"#N/A"},{"$error":"#N/A"},{"$error":"#N/A"},{"$error":"#N/A"},{"$error":"#N/A"},{"$error":"#N/A"},{"$error":"#N/A"},{"$error":"#N/A"},{"$error":"#N/A"},{"$error":"#N/A"},{"$error":"#N/A"},{"$error":"#N/A"},{"$error":"#N/A"},{"$error":"#N/A"},{"$error":"#N/A"},{"$error":"#N/A"},{"$error":"#N/A"},{"$error":"#N/A"},{"$error":"#N/A"},{"$error":"#N/A"},{"$error":"#N/A"},{"$error":"#N/A"},{"$error":"#N/A"},{"$error":"#N/A"},{"$error":"#N/A"}]
[null,null,null,null,null,null,null,null,null,null,null,null,null,null,null,null,null,null,null,null,null,null,null,null,null,null,null,"j=",null,null,null,null,null,null,null,{"$f":"AJ4*PI()/180","v":{"$error":"#N/A"}},{"$f":"AK4*PI()/180","v":{"$error":"#N/A"}},{"$f":"IF(AL3=\"OK\",AL4*PI()/180,\"-\")","v":{"$error":"#N/A"}},{"$f":"IF(AM3=\"OK\",AM4*PI()/180,\"-\")","v":{"$error":"#N/A"}},{"$error":"#N/A"},{"$error":"#N/A"},{"$error":"#N/A"},{"$error":"#N/A"},{"$error":"#N/A"},{"$error":"#N/A"},{"$error":"#N/A"},{"$error":"#N/A"},{"$f":"IF(AV3=\"OK\",AV4*PI()/180,\"-\")","v":{"$error":"#N/A"}},{"$error":"#N/A"},{"$error":"#N/A"},{"$f":"IF(AY3=\"OK\",AY4*PI()/180,\"-\")","v":{"$error":"#N/A"}},{"$error":"#N/A"},{"$error":"#N/A"},{"$error":"#N/A"},{"$error":"#N/A"},{"$error":"#N/A"},{"$error":"#N/A"},{"$error":"#N/A"},{"$error":"#N/A"},{"$error":"#N/A"},{"$error":"#N/A"},{"$error":"#N/A"},{"$error":"#N/A"},{"$error":"#N/A"},{"$error":"#N/A"},{"$error":"#N/A"},{"$error":"#N/A"},{"$error":"#N/A"},{"$error":"#N/A"},{"$error":"#N/A"},{"$error":"#N/A"},{"$error":"#N/A"},{"$error":"#N/A"},{"$error":"#N/A"},{"$error":"#N/A"},{"$error":"#N/A"},{"$error":"#N/A"},{"$error":"#N/A"},{"$error":"#N/A"},{"$error":"#N/A"},{"$error":"#N/A"},{"$error":"#N/A"},{"$error":"#N/A"},{"$error":"#N/A"},{"$error":"#N/A"},{"$error":"#N/A"},{"$error":"#N/A"},{"$error":"#N/A"},{"$error":"#N/A"},{"$error":"#N/A"},{"$f":"IF(CM3=\"OK\",CM4*PI()/180,\"-\")","v":{"$error":"#N/A"}},{"$error":"#N/A"},{"$error":"#N/A"},{"$error":"#N/A"},{"$error":"#N/A"},{"$error":"#N/A"},{"$error":"#N/A"},{"$error":"#N/A"},{"$error":"#N/A"},{"$error":"#N/A"},{"$error":"#N/A"},{"$error":"#N/A"},{"$error":"#N/A"},{"$error":"#N/A"},{"$error":"#N/A"},{"$error":"#N/A"},{"$error":"#N/A"},{"$error":"#N/A"},{"$error":"#N/A"},{"$error":"#N/A"},{"$f":"IF(DG3=\"OK\",DG4*PI()/180,\"-\")","v":{"$error":"#N/A"}},{"$error":"#N/A"},{"$error":"#N/A"},{"$error":"#N/A"},{"$error":"#N/A"},{"$error":"#N/A"},{"$error":"#N/A"},{"$error":"#N/A"},{"$error":"#N/A"},{"$error":"#N/A"},{"$error":"#N/A"},{"$error":"#N/A"},{"$error":"#N/A"},{"$error":"#N/A"},{"$error":"#N/A"},{"$error":"#N/A"},{"$error":"#N/A"},{"$error":"#N/A"},{"$error":"#N/A"},{"$error":"#N/A"},{"$error":"#N/A"},{"$error":"#N/A"},{"$error":"#N/A"},{"$error":"#N/A"},{"$error":"#N/A"},{"$error":"#N/A"}]
[null,null,null,null,null,null,null,null,null,null,null,null,null,null,null,null,null,null,null,null,null,null,null,null,null,null,null,"l=",null,null,null,null,null,null,null,{"$f":"AJ5*PI()/180","v":{"$error":"#N/A"}},{"$f":"AK5*PI()/180","v":{"$error":"#N/A"}},{"$f":"IF(AL3=\"OK\",AL5*PI()/180,\"-\")","v":{"$error":"#N/A"}},{"$f":"IF(AM3=\"OK\",AM5*PI()/180,\"-\")","v":{"$error":"#N/A"}},{"$error":"#N/A"},{"$error":"#N/A"},{"$error":"#N/A"},{"$error":"#N/A"},{"$error":"#N/A"},{"$error":"#N/A"},{"$error":"#N/A"},{"$error":"#N/A"},{"$f":"IF(AV3=\"OK\",AV5*PI()/180,\"-\")","v":{"$error":"#N/A"}},{"$error":"#N/A"},{"$error":"#N/A"},{"$f":"IF(AY3=\"OK\",AY5*PI()/180,\"-\")","v":{"$error":"#N/A"}},{"$error":"#N/A"},{"$error":"#N/A"},{"$error":"#N/A"},{"$error":"#N/A"},{"$error":"#N/A"},{"$error":"#N/A"},{"$error":"#N/A"},{"$error":"#N/A"},{"$error":"#N/A"},{"$error":"#N/A"},{"$error":"#N/A"},{"$error":"#N/A"},{"$error":"#N/A"},{"$error":"#N/A"},{"$error":"#N/A"},{"$error":"#N/A"},{"$error":"#N/A"},{"$error":"#N/A"},{"$error":"#N/A"},{"$error":"#N/A"},{"$error":"#N/A"},{"$error":"#N/A"},{"$error":"#N/A"},{"$error":"#N/A"},{"$error":"#N/A"},{"$error":"#N/A"},{"$error":"#N/A"},{"$error":"#N/A"},{"$error":"#N/A"},{"$error":"#N/A"},{"$error":"#N/A"},{"$error":"#N/A"},{"$error":"#N/A"},{"$error":"#N/A"},{"$error":"#N/A"},{"$error":"#N/A"},{"$error":"#N/A"},{"$error":"#N/A"},{"$error":"#N/A"},{"$f":"IF(CM3=\"OK\",CM5*PI()/180,\"-\")","v":{"$error":"#N/A"}},{"$error":"#N/A"},{"$error":"#N/A"},{"$error":"#N/A"},{"$error":"#N/A"},{"$error":"#N/A"},{"$error":"#N/A"},{"$error":"#N/A"},{"$error":"#N/A"},{"$error":"#N/A"},{"$error":"#N/A"},{"$error":"#N/A"},{"$error":"#N/A"},{"$error":"#N/A"},{"$error":"#N/A"},{"$error":"#N/A"},{"$error":"#N/A"},{"$error":"#N/A"},{"$error":"#N/A"},{"$error":"#N/A"},{"$f":"IF(DG3=\"OK\",DG5*PI()/180,\"-\")","v":{"$error":"#N/A"}},{"$error":"#N/A"},{"$error":"#N/A"},{"$error":"#N/A"},{"$error":"#N/A"},{"$error":"#N/A"},{"$error":"#N/A"},{"$error":"#N/A"},{"$error":"#N/A"},{"$error":"#N/A"},{"$error":"#N/A"},{"$error":"#N/A"},{"$error":"#N/A"},{"$error":"#N/A"},{"$error":"#N/A"},{"$error":"#N/A"},{"$error":"#N/A"},{"$error":"#N/A"},{"$error":"#N/A"},{"$error":"#N/A"},{"$error":"#N/A"},{"$error":"#N/A"},{"$error":"#N/A"},{"$error":"#N/A"},{"$error":"#N/A"},{"$error":"#N/A"}]
[null,null,null,null,null,null,null,null,null,null,null,null,null,null,null,null,null,null,null,null,null,null,null,null,null,null,null,"z=",null,null,null,null,null,null,null,null,{"$f":"ACOS(SIN($AJ6)*SIN(AK6)+COS(AK6)*COS($AJ6)*COS($AJ7-AK7))","v":{"$error":"#N/A"}},{"$f":"IF(AL3=\"OK\",ACOS(SIN($AJ6)*SIN(AL6)+COS(AL6)*COS($AJ6)*COS($AJ7-AL7)),\"-\")","v":{"$error":"#N/A"}},{"$f":"IF(AM3=\"OK\",ACOS(SIN($AJ6)*SIN(AM6)+COS(AM6)*COS($AJ6)*COS($AJ7-AM7)),\"-\")","v":{"$error":"#N/A"}},{"$f":"IF(AN3=\"OK\",ACOS(SIN($AJ6)*SIN(AN6)+COS(AN6)*COS($AJ6)*COS($AJ7-AN7)),\"-\")","v":{"$error":"#N/A"}},{"$error":"#N/A"},{"$error":"#N/A"},{"$error":"#N/A"},{"$error":"#N/A"},{"$f":"IF(AS3=\"OK\",ACOS(SIN($AJ6)*SIN(AS6)+COS(AS6)*COS($AJ6)*COS($AJ7-AS7)),\"-\")","v":{"$error":"#N/A"}},{"$f":"IF(AT3=\"OK\",ACOS(SIN($AJ6)*SIN(AT6)+COS(AT6)*COS($AJ6)*COS($AJ7-AT7)),\"-\")","v":{"$error":"#N/A"}},{"$f":"IF(AU3=\"OK\",ACOS(SIN($AJ6)*SIN(AU6)+COS(AU6)*COS($AJ6)*COS($AJ7-AU7)),\"-\")","v":{"$error":"#N/A"}},{"$error":"#N/A"},{"$error":"#N/A"},{"$f":"IF(AX3=\"OK\",ACOS(SIN($AJ6)*SIN(AX6)+COS(AX6)*COS($AJ6)*COS($AJ7-AX7)),\"-\")","v":{"$error":"#N/A"}},{"$f":"IF(AY3=\"OK\",ACOS(SIN($AJ6)*SIN(AY6)+COS(AY6)*COS($AJ6)*COS($AJ7-AY7)),\"-\")","v":{"$error":"#N/A"}},{"$f":"IF(AZ3=\"OK\",ACOS(SIN($AJ6)*SIN(AZ6)+COS(AZ6)*COS($AJ6)*COS($AJ7-AZ7)),\"-\")","v":{"$error":"#N/A"}},{"$error":"#N/A"},{"$error":"#N/A"},{"$f":"IF(BC3=\"OK\",ACOS(SIN($AJ6)*SIN(BC6)+COS(BC6)*COS($AJ6)*COS($AJ7-BC7)),\"-\")","v":{"$error":"#N/A"}},{"$f":"IF(BD3=\"OK\",ACOS(SIN($AJ6)*SIN(BD6)+COS(BD6)*COS($AJ6)*COS($AJ7-BD7)),\"-\")","v":{"$error":"#N/A"}},{"$f":"IF(BE3=\"OK\",ACOS(SIN($AJ6)*SIN(BE6)+COS(BE6)*COS($AJ6)*COS($AJ7-BE7)),\"-\")","v":{"$error":"#N/A"}},{"$error":"#N/A"},{"$error":"#N/A"},{"$f":"IF(BH3=\"OK\",ACOS(SIN($AJ6)*SIN(BH6)+COS(BH6)*COS($AJ6)*COS($AJ7-BH7)),\"-\")","v":{"$error":"#N/A"}},{"$f":"IF(BI3=\"OK\",ACOS(SIN($AJ6)*SIN(BI6)+COS(BI6)*COS($AJ6)*COS($AJ7-BI7)),\"-\")","v":{"$error":"#N/A"}},{"$f":"IF(BJ3=\"OK\",ACOS(SIN($AJ6)*SIN(BJ6)+COS(BJ6)*COS($AJ6)*COS($AJ7-BJ7)),\"-\")","v":{"$error":"#N/A"}},{"$error":"#N/A"},{"$error":"#N/A"},{"$f":"IF(BM3=\"OK\",ACOS(SIN($AJ6)*SIN(BM6)+COS(BM6)*COS($AJ6)*COS($AJ7-BM7)),\"-\")","v":{"$error":"#N/A"}},{"$f":"IF(BN3=\"OK\",ACOS(SIN($AJ6)*SIN(BN6)+COS(BN6)*COS($AJ6)*COS($AJ7-BN7)),\"-\")","v":{"$error":"#N/A"}},{"$f":"IF(BO3=\"OK\",ACOS(SIN($AJ6)*SIN(BO6)+COS(BO6)*COS($AJ6)*COS($AJ7-BO7)),\"-\")","v":{"$error":"#N/A"}},{"$error":"#N/A"},{"$error":"#N/A"},{"$f":"IF(BR3=\"OK\",ACOS(SIN($AJ6)*SIN(BR6)+COS(BR6)*COS($AJ6)*COS($AJ7-BR7)),\"-\")","v":{"$error":"#N/A"}},{"$f":"IF(BS3=\"OK\",ACOS(SIN($AJ6)*SIN(BS6)+COS(BS6)*COS($AJ6)*COS($AJ7-BS7)),\"-\")","v":{"$error":"#N/A"}},{"$f":"IF(BT3=\"OK\",ACOS(SIN($AJ6)*SIN(BT6)+COS(BT6)*COS($AJ6)*COS($AJ7-BT7)),\"-\")","v":{"$error":"#N/A"}},{"$error":"#N/A"},{"$error":"#N/A"},{"$f":"IF(BW3=\"OK\",ACOS(SIN($AJ6)*SIN(BW6)+COS(BW6)*COS($AJ6)*COS($AJ7-BW7)),\"-\")","v":{"$error":"#N/A"}},{"$f":"IF(BX3=\"OK\",ACOS(SIN($AJ6)*SIN(BX6)+COS(BX6)*COS($AJ6)*COS($AJ7-BX7)),\"-\")","v":{"$error":"#N/A"}},{"$f":"IF(BY3=\"OK\",ACOS(SIN($AJ6)*SIN(BY6)+COS(BY6)*COS($AJ6)*COS($AJ7-BY7)),\"-\")","v":{"$error":"#N/A"}},{"$error":"#N/A"},{"$error":"#N/A"},{"$f":"IF(CB3=\"OK\",ACOS(SIN($AJ6)*SIN(CB6)+COS(CB6)*COS($AJ6)*COS($AJ7-CB7)),\"-\")","v":{"$error":"#N/A"}},{"$f":"IF(CC3=\"OK\",ACOS(SIN($AJ6)*SIN(CC6)+COS(CC6)*COS($AJ6)*COS($AJ7-CC7)),\"-\")","v":{"$error":"#N/A"}},{"$f":"IF(CD3=\"OK\",ACOS(SIN($AJ6)*SIN(CD6)+COS(CD6)*COS($AJ6)*COS($AJ7-CD7)),\"-\")","v":{"$error":"#N/A"}},{"$error":"#N/A"},{"$error":"#N/A"},{"$f":"IF(CG3=\"OK\",ACOS(SIN($AJ6)*SIN(CG6)+COS(CG6)*COS($AJ6)*COS($AJ7-CG7)),\"-\")","v":{"$error":"#N/A"}},{"$f":"IF(CH3=\"OK\",ACOS(SIN($AJ6)*SIN(CH6)+COS(CH6)*COS($AJ6)*COS($AJ7-CH7)),\"-\")","v":{"$error":"#N/A"}},{"$f":"IF(CI3=\"OK\",ACOS(SIN($AJ6)*SIN(CI6)+COS(CI6)*COS($AJ6)*COS($AJ7-CI7)),\"-\")","v":{"$error":"#N/A"}},{"$error":"#N/A"},{"$error":"#N/A"},{"$f":"IF(CL3=\"OK\",ACOS(SIN($AJ6)*SIN(CL6)+COS(CL6)*COS($AJ6)*COS($AJ7-CL7)),\"-\")","v":{"$error":"#N/A"}},{"$f":"IF(CM3=\"OK\",ACOS(SIN($AJ6)*SIN(CM6)+COS(CM6)*COS($AJ6)*COS($AJ7-CM7)),\"-\")","v":{"$error":"#N/A"}},{"$f":"IF(CN3=\"OK\",ACOS(SIN($AJ6)*SIN(CN6)+COS(CN6)*COS($AJ6)*COS($AJ7-CN7)),\"-\")","v":{"$error":"#N/A"}},{"$error":"#N/A"},{"$error":"#N/A"},{"$f":"IF(CQ3=\"OK\",ACOS(SIN($AJ6)*SIN(CQ6)+COS(CQ6)*COS($AJ6)*COS($AJ7-CQ7)),\"-\")","v":{"$error":"#N/A"}},{"$f":"IF(CR3=\"OK\",ACOS(SIN($AJ6)*SIN(CR6)+COS(CR6)*COS($AJ6)*COS($AJ7-CR7)),\"-\")","v":{"$error":"#N/A"}},{"$f":"IF(CS3=\"OK\",ACOS(SIN($AJ6)*SIN(CS6)+COS(CS6)*COS($AJ6)*COS($AJ7-CS7)),\"-\")","v":{"$error":"#N/A"}},{"$error":"#N/A"},{"$error":"#N/A"},{"$f":"IF(CV3=\"OK\",ACOS(SIN($AJ6)*SIN(CV6)+COS(CV6)*COS($AJ6)*COS($AJ7-CV7)),\"-\")","v":{"$error":"#N/A"}},{"$f":"IF(CW3=\"OK\",ACOS(SIN($AJ6)*SIN(CW6)+COS(CW6)*COS($AJ6)*COS($AJ7-CW7)),\"-\")","v":{"$error":"#N/A"}},{"$f":"IF(CX3=\"OK\",ACOS(SIN($AJ6)*SIN(CX6)+COS(CX6)*COS($AJ6)*COS($AJ7-CX7)),\"-\")","v":{"$error":"#N/A"}},{"$error":"#N/A"},{"$error":"#N/A"},{"$f":"IF(DA3=\"OK\",ACOS(SIN($AJ6)*SIN(DA6)+COS(DA6)*COS($AJ6)*COS($AJ7-DA7)),\"-\")","v":{"$error":"#N/A"}},{"$f":"IF(DB3=\"OK\",ACOS(SIN($AJ6)*SIN(DB6)+COS(DB6)*COS($AJ6)*COS($AJ7-DB7)),\"-\")","v":{"$error":"#N/A"}},{"$f":"IF(DC3=\"OK\",ACOS(SIN($AJ6)*SIN(DC6)+COS(DC6)*COS($AJ6)*COS($AJ7-DC7)),\"-\")","v":{"$error":"#N/A"}},{"$error":"#N/A"},{"$error":"#N/A"},{"$f":"IF(DF3=\"OK\",ACOS(SIN($AJ6)*SIN(DF6)+COS(DF6)*COS($AJ6)*COS($AJ7-DF7)),\"-\")","v":{"$error":"#N/A"}},{"$f":"IF(DG3=\"OK\",ACOS(SIN($AJ6)*SIN(DG6)+COS(DG6)*COS($AJ6)*COS($AJ7-DG7)),\"-\")","v":{"$error":"#N/A"}},{"$f":"IF(DH3=\"OK\",ACOS(SIN($AJ6)*SIN(DH6)+COS(DH6)*COS($AJ6)*COS($AJ7-DH7)),\"-\")","v":{"$error":"#N/A"}},{"$error":"#N/A"},{"$error":"#N/A"},{"$f":"IF(DK3=\"OK\",ACOS(SIN($AJ6)*SIN(DK6)+COS(DK6)*COS($AJ6)*COS($AJ7-DK7)),\"-\")","v":{"$error":"#N/A"}},{"$f":"IF(DL3=\"OK\",ACOS(SIN($AJ6)*SIN(DL6)+COS(DL6)*COS($AJ6)*COS($AJ7-DL7)),\"-\")","v":{"$error":"#N/A"}},{"$f":"IF(DM3=\"OK\",ACOS(SIN($AJ6)*SIN(DM6)+COS(DM6)*COS($AJ6)*COS($AJ7-DM7)),\"-\")","v":{"$error":"#N/A"}},{"$error":"#N/A"},{"$error":"#N/A"},{"$f":"IF(DP3=\"OK\",ACOS(SIN($AJ6)*SIN(DP6)+COS(DP6)*COS($AJ6)*COS($AJ7-DP7)),\"-\")","v":{"$error":"#N/A"}},{"$f":"IF(DQ3=\"OK\",ACOS(SIN($AJ6)*SIN(DQ6)+COS(DQ6)*COS($AJ6)*COS($AJ7-DQ7)),\"-\")","v":{"$error":"#N/A"}},{"$f":"IF(DR3=\"OK\",ACOS(SIN($AJ6)*SIN(DR6)+COS(DR6)*COS($AJ6)*COS($AJ7-DR7)),\"-\")","v":{"$error":"#N/A"}},{"$error":"#N/A"},{"$error":"#N/A"},{"$f":"IF(DU3=\"OK\",ACOS(SIN($AJ6)*SIN(DU6)+COS(DU6)*COS($AJ6)*COS($AJ7-DU7)),\"-\")","v":{"$error":"#N/A"}},{"$f":"IF(DV3=\"OK\",ACOS(SIN($AJ6)*SIN(DV6)+COS(DV6)*COS($AJ6)*COS($AJ7-DV7)),\"-\")","v":{"$error":"#N/A"}},{"$f":"IF(DW3=\"OK\",ACOS(SIN($AJ6)*SIN(DW6)+COS(DW6)*COS($AJ6)*COS($AJ7-DW7)),\"-\")","v":{"$error":"#N/A"}},{"$error":"#N/A"},{"$error":"#N/A"},{"$f":"IF(DZ3=\"OK\",ACOS(SIN($AJ6)*SIN(DZ6)+COS(DZ6)*COS($AJ6)*COS($AJ7-DZ7)),\"-\")","v":{"$error":"#N/A"}},{"$f":"IF(EA3=\"OK\",ACOS(SIN($AJ6)*SIN(EA6)+COS(EA6)*COS($AJ6)*COS($AJ7-EA7)),\"-\")","v":{"$error":"#N/A"}},{"$f":"IF(EB3=\"OK\",ACOS(SIN($AJ6)*SIN(EB6)+COS(EB6)*COS($AJ6)*COS($AJ7-EB7)),\"-\")","v":{"$error":"#N/A"}},{"$error":"#N/A"},{"$error":"#N/A"},{"$f":"IF(EE3=\"OK\",ACOS(SIN($AJ6)*SIN(EE6)+COS(EE6)*COS($AJ6)*COS($AJ7-EE7)),\"-\")","v":{"$error":"#N/A"}},{"$f":"IF(EF3=\"OK\",ACOS(SIN($AJ6)*SIN(EF6)+COS(EF6)*COS($AJ6)*COS($AJ7-EF7)),\"-\")","v":{"$error":"#N/A"}}]
[null,null,null,null,null,null,null,null,null,"mit Einheit? (1=ja, 0=nein)",null,null,null,null,null,null,null,null,null,null,null,null,null,null,null,null,null,"a=",null,null,null,null,null,null,null,null,{"$f":"ACOS((SIN($AJ6)-SIN(AK6)*COS(AK8))/(COS(AK6)*SIN(AK8)))","v":{"$error":"#N/A"}},{"$f":"IF(AL3=\"OK\",ACOS((SIN($AJ6)-SIN(AL6)*COS(AL8))/(COS(AL6)*SIN(AL8))),\"-\")","v":{"$error":"#N/A"}},{"$f":"IF(AM3=\"OK\",ACOS((SIN($AJ6)-SIN(AM6)*COS(AM8))/(COS(AM6)*SIN(AM8))),\"-\")","v":{"$error":"#N/A"}},{"$f":"IF(AN3=\"OK\",ACOS((SIN($AJ6)-SIN(AN6)*COS(AN8))/(COS(AN6)*SIN(AN8))),\"-\")","v":{"$error":"#N/A"}},{"$error":"#N/A"},{"$error":"#N/A"},{"$error":"#N/A"},{"$error":"#N/A"},{"$f":"IF(AS3=\"OK\",ACOS((SIN($AJ6)-SIN(AS6)*COS(AS8))/(COS(AS6)*SIN(AS8))),\"-\")","v":{"$error":"#N/A"}},{"$f":"IF(AT3=\"OK\",ACOS((SIN($AJ6)-SIN(AT6)*COS(AT8))/(COS(AT6)*SIN(AT8))),\"-\")","v":{"$error":"#N/A"}},{"$f":"IF(AU3=\"OK\",ACOS((SIN($AJ6)-SIN(AU6)*COS(AU8))/(COS(AU6)*SIN(AU8))),\"-\")","v":{"$error":"#N/A"}},{"$error":"#N/A"},{"$error":"#N/A"},{"$f":"IF(AX3=\"OK\",ACOS((SIN($AJ6)-SIN(AX6)*COS(AX8))/(COS(AX6)*SIN(AX8))),\"-\")","v":{"$error":"#N/A"}},{"$f":"IF(AY3=\"OK\",ACOS((SIN($AJ6)-SIN(AY6)*COS(AY8))/(COS(AY6)*SIN(AY8))),\"-\")","v":{"$error":"#N/A"}},{"$f":"IF(AZ3=\"OK\",ACOS((SIN($AJ6)-SIN(AZ6)*COS(AZ8))/(COS(AZ6)*SIN(AZ8))),\"-\")","v":{"$error":"#N/A"}},{"$error":"#N/A"},{"$error":"#N/A"},{"$f":"IF(BC3=\"OK\",ACOS((SIN($AJ6)-SIN(BC6)*COS(BC8))/(COS(BC6)*SIN(BC8))),\"-\")","v":{"$error":"#N/A"}},{"$f":"IF(BD3=\"OK\",ACOS((SIN($AJ6)-SIN(BD6)*COS(BD8))/(COS(BD6)*SIN(BD8))),\"-\")","v":{"$error":"#N/A"}},{"$f":"IF(BE3=\"OK\",ACOS((SIN($AJ6)-SIN(BE6)*COS(BE8))/(COS(BE6)*SIN(BE8))),\"-\")","v":{"$error":"#N/A"}},{"$error":"#N/A"},{"$error":"#N/A"},{"$f":"IF(BH3=\"OK\",ACOS((SIN($AJ6)-SIN(BH6)*COS(BH8))/(COS(BH6)*SIN(BH8))),\"-\")","v":{"$error":"#N/A"}},{"$f":"IF(BI3=\"OK\",ACOS((SIN($AJ6)-SIN(BI6)*COS(BI8))/(COS(BI6)*SIN(BI8))),\"-\")","v":{"$error":"#N/A"}},{"$f":"IF(BJ3=\"OK\",ACOS((SIN($AJ6)-SIN(BJ6)*COS(BJ8))/(COS(BJ6)*SIN(BJ8))),\"-\")","v":{"$error":"#N/A"}},{"$error":"#N/A"},{"$error":"#N/A"},{"$f":"IF(BM3=\"OK\",ACOS((SIN($AJ6)-SIN(BM6)*COS(BM8))/(COS(BM6)*SIN(BM8))),\"-\")","v":{"$error":"#N/A"}},{"$f":"IF(BN3=\"OK\",ACOS((SIN($AJ6)-SIN(BN6)*COS(BN8))/(COS(BN6)*SIN(BN8))),\"-\")","v":{"$error":"#N/A"}},{"$f":"IF(BO3=\"OK\",ACOS((SIN($AJ6)-SIN(BO6)*COS(BO8))/(COS(BO6)*SIN(BO8))),\"-\")","v":{"$error":"#N/A"}},{"$error":"#N/A"},{"$error":"#N/A"},{"$f":"IF(BR3=\"OK\",ACOS((SIN($AJ6)-SIN(BR6)*COS(BR8))/(COS(BR6)*SIN(BR8))),\"-\")","v":{"$error":"#N/A"}},{"$f":"IF(BS3=\"OK\",ACOS((SIN($AJ6)-SIN(BS6)*COS(BS8))/(COS(BS6)*SIN(BS8))),\"-\")","v":{"$error":"#N/A"}},{"$f":"IF(BT3=\"OK\",ACOS((SIN($AJ6)-SIN(BT6)*COS(BT8))/(COS(BT6)*SIN(BT8))),\"-\")","v":{"$error":"#N/A"}},{"$error":"#N/A"},{"$error":"#N/A"},{"$f":"IF(BW3=\"OK\",ACOS((SIN($AJ6)-SIN(BW6)*COS(BW8))/(COS(BW6)*SIN(BW8))),\"-\")","v":{"$error":"#N/A"}},{"$f":"IF(BX3=\"OK\",ACOS((SIN($AJ6)-SIN(BX6)*COS(BX8))/(COS(BX6)*SIN(BX8))),\"-\")","v":{"$error":"#N/A"}},{"$f":"IF(BY3=\"OK\",ACOS((SIN($AJ6)-SIN(BY6)*COS(BY8))/(COS(BY6)*SIN(BY8))),\"-\")","v":{"$error":"#N/A"}},{"$error":"#N/A"},{"$error":"#N/A"},{"$f":"IF(CB3=\"OK\",ACOS((SIN($AJ6)-SIN(CB6)*COS(CB8))/(COS(CB6)*SIN(CB8))),\"-\")","v":{"$error":"#N/A"}},{"$f":"IF(CC3=\"OK\",ACOS((SIN($AJ6)-SIN(CC6)*COS(CC8))/(COS(CC6)*SIN(CC8))),\"-\")","v":{"$error":"#N/A"}},{"$f":"IF(CD3=\"OK\",ACOS((SIN($AJ6)-SIN(CD6)*COS(CD8))/(COS(CD6)*SIN(CD8))),\"-\")","v":{"$error":"#N/A"}},{"$error":"#N/A"},{"$error":"#N/A"},{"$f":"IF(CG3=\"OK\",ACOS((SIN($AJ6)-SIN(CG6)*COS(CG8))/(COS(CG6)*SIN(CG8))),\"-\")","v":{"$error":"#N/A"}},{"$f":"IF(CH3=\"OK\",ACOS((SIN($AJ6)-SIN(CH6)*COS(CH8))/(COS(CH6)*SIN(CH8))),\"-\")","v":{"$error":"#N/A"}},{"$f":"IF(CI3=\"OK\",ACOS((SIN($AJ6)-SIN(CI6)*COS(CI8))/(COS(CI6)*SIN(CI8))),\"-\")","v":{"$error":"#N/A"}},{"$error":"#N/A"},{"$error":"#N/A"},{"$f":"IF(CL3=\"OK\",ACOS((SIN($AJ6)-SIN(CL6)*COS(CL8))/(COS(CL6)*SIN(CL8))),\"-\")","v":{"$error":"#N/A"}},{"$f":"IF(CM3=\"OK\",ACOS((SIN($AJ6)-SIN(CM6)*COS(CM8))/(COS(CM6)*SIN(CM8))),\"-\")","v":{"$error":"#N/A"}},{"$f":"IF(CN3=\"OK\",ACOS((SIN($AJ6)-SIN(CN6)*COS(CN8))/(COS(CN6)*SIN(CN8))),\"-\")","v":{"$error":"#N/A"}},{"$error":"#N/A"},{"$error":"#N/A"},{"$f":"IF(CQ3=\"OK\",ACOS((SIN($AJ6)-SIN(CQ6)*COS(CQ8))/(COS(CQ6)*SIN(CQ8))),\"-\")","v":{"$error":"#N/A"}},{"$f":"IF(CR3=\"OK\",ACOS((SIN($AJ6)-SIN(CR6)*COS(CR8))/(COS(CR6)*SIN(CR8))),\"-\")","v":{"$error":"#N/A"}},{"$f":"IF(CS3=\"OK\",ACOS((SIN($AJ6)-SIN(CS6)*COS(CS8))/(COS(CS6)*SIN(CS8))),\"-\")","v":{"$error":"#N/A"}},{"$error":"#N/A"},{"$error":"#N/A"},{"$f":"IF(CV3=\"OK\",ACOS((SIN($AJ6)-SIN(CV6)*COS(CV8))/(COS(CV6)*SIN(CV8))),\"-\")","v":{"$error":"#N/A"}},{"$f":"IF(CW3=\"OK\",ACOS((SIN($AJ6)-SIN(CW6)*COS(CW8))/(COS(CW6)*SIN(CW8))),\"-\")","v":{"$error":"#N/A"}},{"$f":"IF(CX3=\"OK\",ACOS((SIN($AJ6)-SIN(CX6)*COS(CX8))/(COS(CX6)*SIN(CX8))),\"-\")","v":{"$error":"#N/A"}},{"$error":"#N/A"},{"$error":"#N/A"},{"$f":"IF(DA3=\"OK\",ACOS((SIN($AJ6)-SIN(DA6)*COS(DA8))/(COS(DA6)*SIN(DA8))),\"-\")","v":{"$error":"#N/A"}},{"$f":"IF(DB3=\"OK\",ACOS((SIN($AJ6)-SIN(DB6)*COS(DB8))/(COS(DB6)*SIN(DB8))),\"-\")","v":{"$error":"#N/A"}},{"$f":"IF(DC3=\"OK\",ACOS((SIN($AJ6)-SIN(DC6)*COS(DC8))/(COS(DC6)*SIN(DC8))),\"-\")","v":{"$error":"#N/A"}},{"$error":"#N/A"},{"$error":"#N/A"},{"$f":"IF(DF3=\"OK\",ACOS((SIN($AJ6)-SIN(DF6)*COS(DF8))/(COS(DF6)*SIN(DF8))),\"-\")","v":{"$error":"#N/A"}},{"$f":"IF(DG3=\"OK\",ACOS((SIN($AJ6)-SIN(DG6)*COS(DG8))/(COS(DG6)*SIN(DG8))),\"-\")","v":{"$error":"#N/A"}},{"$f":"IF(DH3=\"OK\",ACOS((SIN($AJ6)-SIN(DH6)*COS(DH8))/(COS(DH6)*SIN(DH8))),\"-\")","v":{"$error":"#N/A"}},{"$error":"#N/A"},{"$error":"#N/A"},{"$f":"IF(DK3=\"OK\",ACOS((SIN($AJ6)-SIN(DK6)*COS(DK8))/(COS(DK6)*SIN(DK8))),\"-\")","v":{"$error":"#N/A"}},{"$f":"IF(DL3=\"OK\",ACOS((SIN($AJ6)-SIN(DL6)*COS(DL8))/(COS(DL6)*SIN(DL8))),\"-\")","v":{"$error":"#N/A"}},{"$f":"IF(DM3=\"OK\",ACOS((SIN($AJ6)-SIN(DM6)*COS(DM8))/(COS(DM6)*SIN(DM8))),\"-\")","v":{"$error":"#N/A"}},{"$error":"#N/A"},{"$error":"#N/A"},{"$f":"IF(DP3=\"OK\",ACOS((SIN($AJ6)-SIN(DP6)*COS(DP8))/(COS(DP6)*SIN(DP8))),\"-\")","v":{"$error":"#N/A"}},{"$f":"IF(DQ3=\"OK\",ACOS((SIN($AJ6)-SIN(DQ6)*COS(DQ8))/(COS(DQ6)*SIN(DQ8))),\"-\")","v":{"$error":"#N/A"}},{"$f":"IF(DR3=\"OK\",ACOS((SIN($AJ6)-SIN(DR6)*COS(DR8))/(COS(DR6)*SIN(DR8))),\"-\")","v":{"$error":"#N/A"}},{"$error":"#N/A"},{"$error":"#N/A"},{"$f":"IF(DU3=\"OK\",ACOS((SIN($AJ6)-SIN(DU6)*COS(DU8))/(COS(DU6)*SIN(DU8))),\"-\")","v":{"$error":"#N/A"}},{"$f":"IF(DV3=\"OK\",ACOS((SIN($AJ6)-SIN(DV6)*COS(DV8))/(COS(DV6)*SIN(DV8))),\"-\")","v":{"$error":"#N/A"}},{"$f":"IF(DW3=\"OK\",ACOS((SIN($AJ6)-SIN(DW6)*COS(DW8))/(COS(DW6)*SIN(DW8))),\"-\")","v":{"$error":"#N/A"}},{"$error":"#N/A"},{"$error":"#N/A"},{"$f":"IF(DZ3=\"OK\",ACOS((SIN($AJ6)-SIN(DZ6)*COS(DZ8))/(COS(DZ6)*SIN(DZ8))),\"-\")","v":{"$error":"#N/A"}},{"$f":"IF(EA3=\"OK\",ACOS((SIN($AJ6)-SIN(EA6)*COS(EA8))/(COS(EA6)*SIN(EA8))),\"-\")","v":{"$error":"#N/A"}},{"$f":"IF(EB3=\"OK\",ACOS((SIN($AJ6)-SIN(EB6)*COS(EB8))/(COS(EB6)*SIN(EB8))),\"-\")","v":{"$error":"#N/A"}},{"$error":"#N/A"},{"$error":"#N/A"},{"$f":"IF(EE3=\"OK\",ACOS((SIN($AJ6)-SIN(EE6)*COS(EE8))/(COS(EE6)*SIN(EE8))),\"-\")","v":{"$error":"#N/A"}},{"$f":"IF(EF3=\"OK\",ACOS((SIN($AJ6)-SIN(EF6)*COS(EF8))/(COS(EF6)*SIN(EF8))),\"-\")","v":{"$error":"#N/A"}}]
[null,null,null,null,null,null,null,null,null,{"$f":"IF('Flugdurchführungsplan (n. DFS)'!AR18,1,0)","v":0},null,null,null,null,null,null,null,null,null,null,null,null,null,null,null,null,null,"b=",null,null,null,null,null,null,null,null,{"$f":"ACOS((SIN(AK6)-SIN($AJ6)*COS(AK8))/(COS(AK6)*SIN(AK8)))","v":{"$error":"#N/A"}},{"$f":"IF(AL3=\"OK\",ACOS((SIN(AL6)-SIN($AJ6)*COS(AL8))/(COS(AL6)*SIN(AL8))),\"-\")","v":{"$error":"#N/A"}},{"$f":"IF(AM3=\"OK\",ACOS((SIN(AM6)-SIN($AJ6)*COS(AM8))/(COS(AM6)*SIN(AM8))),\"-\")","v":{"$error":"#N/A"}},{"$f":"IF(AN3=\"OK\",ACOS((SIN(AN6)-SIN($AJ6)*COS(AN8))/(COS(AN6)*SIN(AN8))),\"-\")","v":{"$error":"#N/A"}},{"$error":"#N/A"},{"$error":"#N/A"},{"$error":"#N/A"},{"$error":"#N/A"},{"$f":"IF(AS3=\"OK\",ACOS((SIN(AS6)-SIN($AJ6)*COS(AS8))/(COS(AS6)*SIN(AS8))),\"-\")","v":{"$error":"#N/A"}},{"$error":"#N/A"},{"$error":"#N/A"},{"$error":"#N/A"},{"$error":"#N/A"},{"$error":"#N/A"},{"$error":"#N/A"},{"$error":"#N/A"},{"$error":"#N/A"},{"$error":"#N/A"},{"$error":"#N/A"},{"$error":"#N/A"},{"$error":"#N/A"},{"$error":"#N/A"},{"$error":"#N/A"},{"$error":"#N/A"},{"$error":"#N/A"},{"$error":"#N/A"},{"$error":"#N/A"},{"$error":"#N/A"},{"$error":"#N/A"},{"$error":"#N/A"},{"$error":"#N/A"},{"$error":"#N/A"},{"$error":"#N/A"},{"$error":"#N/A"},{"$error":"#N/A"},{"$error":"#N/A"},{"$error":"#N/A"},{"$error":"#N/A"},{"$error":"#N/A"},{"$error":"#N/A"},{"$error":"#N/A"},{"$error":"#N/A"},{"$error":"#N/A"},{"$error":"#N/A"},{"$error":"#N/A"},{"$error":"#N/A"},{"$error":"#N/A"},{"$error":"#N/A"},{"$error":"#N/A"},{"$error":"#N/A"},{"$error":"#N/A"},{"$error":"#N/A"},{"$error":"#N/A"},{"$error":"#N/A"},{"$error":"#N/A"},{"$error":"#N/A"},{"$error":"#N/A"},{"$error":"#N/A"},{"$error":"#N/A"},{"$error":"#N/A"},{"$error":"#N/A"},{"$error":"#N/A"},{"$error":"#N/A"},{"$error":"#N/A"},{"$error":"#N/A"},{"$error":"#N/A"},{"$error":"#N/A"},{"$error":"#N/A"},{"$error":"#N/A"},{"$error":"#N/A"},{"$error":"#N/A"},{"$error":"#N/A"},{"$f":"IF(DE3=\"OK\",ACOS((SIN(DE6)-SIN($AJ6)*COS(DE8))/(COS(DE6)*SIN(DE8))),\"-\")","v":{"$error":"#N/A"}},{"$error":"#N/A"},{"$error":"#N/A"},{"$error":"#N/A"},{"$error":"#N/A"},{"$error":"#N/A"},{"$error":"#N/A"},{"$error":"#N/A"},{"$error":"#N/A"},{"$error":"#N/A"},{"$error":"#N/A"},{"$error":"#N/A"},{"$error":"#N/A"},{"$error":"#N/A"},{"$error":"#N/A"},{"$error":"#N/A"},{"$error":"#N/A"},{"$error":"#N/A"},{"$error":"#N/A"},{"$error":"#N/A"},{"$error":"#N/A"},{"$error":"#N/A"},{"$error":"#N/A"},{"$error":"#N/A"},{"$error":"#N/A"},{"$error":"#N/A"},{"$error":"#N/A"},{"$error":"#N/A"}]
[null,null,null,null,null,null,null,null,null,"mit Kanal? (1=ja, 0=nein)",null,null,null,null,null,null,null,null,null,null,null,null,null,null,null,null,null,null,null,null,null,null,null,null,null,null,{"$f":"IF(AK7>$AJ7,-1,1)","v":{"$error":"#N/A"}},{"$f":"IF(AL3=\"OK\",IF(AL7>$AJ7,-1,1),\"-\")","v":{"$error":"#N/A"}},{"$f":"IF(AM3=\"OK\",IF(AM7>$AJ7,-1,1),\"-\")","v":{"$error":"#N/A"}},{"$f":"IF(AN3=\"OK\",IF(AN7>$AJ7,-1,1),\"-\")","v":{"$error":"#N/A"}},{"$error":"#N/A"},{"$error":"#N/A"},{"$error":"#N/A"},{"$error":"#N/A"},{"$f":"IF(AS3=\"OK\",IF(AS7>$AJ7,-1,1),\"-\")","v":{"$error":"#N/A"}},{"$error":"#N/A"},{"$error":"#N/A"},{"$error":"#N/A"},{"$error":"#N/A"},{"$error":"#N/A"},{"$error":"#N/A"},{"$error":"#N/A"},{"$error":"#N/A"},{"$error":"#N/A"},{"$error":"#N/A"},{"$error":"#N/A"},{"$error":"#N/A"},{"$error":"#N/A"},{"$error":"#N/A"},{"$error":"#N/A"},{"$error":"#N/A"},{"$error":"#N/A"},{"$error":"#N/A"},{"$error":"#N/A"},{"$error":"#N/A"},{"$error":"#N/A"},{"$error":"#N/A"},{"$error":"#N/A"},{"$error":"#N/A"},{"$error":"#N/A"},{"$error":"#N/A"},{"$error":"#N/A"},{"$error":"#N/A"},{"$error":"#N/A"},{"$error":"#N/A"},{"$error":"#N/A"},{"$error":"#N/A"},{"$error":"#N/A"},{"$error":"#N/A"},{"$error":"#N/A"},{"$error":"#N/A"},{"$error":"#N/A"},{"$error":"#N/A"},{"$error":"#N/A"},{"$error":"#N/A"},{"$error":"#N/A"},{"$error":"#N/A"},{"$error":"#N/A"},{"$error":"#N/A"},{"$error":"#N/A"},{"$error":"#N/A"},{"$error":"#N/A"},{"$error":"#N/A"},{"$error":"#N/A"},{"$error":"#N/A"},{"$error":"#N/A"},{"$error":"#N/A"},{"$error":"#N/A"},{"$error":"#N/A"},{"$error":"#N/A"},{"$error":"#N/A"},{"$error":"#N/A"},{"$error":"#N/A"},{"$error":"#N/A"},{"$error":"#N/A"},{"$error":"#N/A"},{"$error":"#N/A"},{"$error":"#N/A"},{"$f":"IF(DE3=\"OK\",IF(DE7>$AJ7,-1,1),\"-\")","v":{"$error":"#N/A"}},{"$error":"#N/A"},{"$error":"#N/A"},{"$error":"#N/A"},{"$error":"#N/A"},{"$error":"#N/A"},{"$error":"#N/A"},{"$error":"#N/A"},{"$error":"#N/A"},{"$error":"#N/A"},{"$error":"#N/A"},{"$error":"#N/A"},{"$error":"#N/A"},{"$error":"#N/A"},{"$error":"#N/A"},{"$error":"#N/A"},{"$error":"#N/A"},{"$error":"#N/A"},{"$error":"#N/A"},{"$error":"#N/A"},{"$error":"#N/A"},{"$error":"#N/A"},{"$error":"#N/A"},{"$error":"#N/A"},{"$error":"#N/A"},{"$error":"#N/A"},{"$error":"#N/A"},{"$error":"#N/A"}]
[null,null,null,null,null,null,null,null,null,{"$f":"IF('Flugdurchführungsplan (n. DFS)'!AS18,1,0)","v":0},null,null,null,null,null,null,null,null,null,null,null,null,null,null,null,null,null,"Distance=",null,null,null,null,null,null,"NM",0,{"$f":"AK8*21600/(2*PI())","v":{"$error":"#N/A"}},{"$f":"IF(AL3=\"OK\",AL8*21600/(2*PI()),\"-\")","v":{"$error":"#N/A"}},{"$f":"IF(AM3=\"OK\",AM8*21600/(2*PI()),\"-\")","v":{"$error":"#N/A"}},{"$f":"IF(AN3=\"OK\",AN8*21600/(2*PI()),\"-\")","v":{"$error":"#N/A"}},{"$error":"#N/A"},{"$error":"#N/A"},{"$error":"#N/A"},{"$error":"#N/A"},{"$f":"IF(AS3=\"OK\",AS8*21600/(2*PI()),\"-\")","v":{"$error":"#N/A"}},{"$error":"#N/A"},{"$error":"#N/A"},{"$error":"#N/A"},{"$error":"#N/A"},{"$error":"#N/A"},{"$error":"#N/A"},{"$error":"#N/A"},{"$error":"#N/A"},{"$error":"#N/A"},{"$error":"#N/A"},{"$error":"#N/A"},{"$error":"#N/A"},{"$error":"#N/A"},{"$error":"#N/A"},{"$error":"#N/A"},{"$error":"#N/A"},{"$error":"#N/A"},{"$error":"#N/A"},{"$error":"#N/A"},{"$error":"#N/A"},{"$error":"#N/A"},{"$error":"#N/A"},{"$error":"#N/A"},{"$error":"#N/A"},{"$error":"#N/A"},{"$error":"#N/A"},{"$error":"#N/A"},{"$error":"#N/A"},{"$error":"#N/A"},{"$error":"#N/A"},{"$error":"#N/A"},{"$error":"#N/A"},{"$error":"#N/A"},{"$error":"#N/A"},{"$error":"#N/A"},{"$error":"#N/A"},{"$error":"#N/A"},{"$error":"#N/A"},{"$error":"#N/A"},{"$error":"#N/A"},{"$error":"#N/A"},{"$error":"#N/A"},{"$error":"#N/A"},{"$error":"#N/A"},{"$error":"#N/A"},{"$error":"#N/A"},{"$error":"#N/A"},{"$error":"#N/A"},{"$error":"#N/A"},{"$error":"#N/A"},{"$error":"#N/A"},{"$error":"#N/A"},{"$error":"#N/A"},{"$error":"#N/A"},{"$error":"#N/A"},{"$error":"#N/A"},{"$error":"#N/A"},{"$error":"#N/A"},{"$error":"#N/A"},{"$error":"#N/A"},{"$error":"#N/A"},{"$error":"#N/A"},{"$error":"#N/A"},{"$f":"IF(DE3=\"OK\",DE8*21600/(2*PI()),\"-\")","v":{"$error":"#N/A"}},{"$error":"#N/A"},{"$error":"#N/A"},{"$error":"#N/A"},{"$error":"#N/A"},{"$error":"#N/A"},{"$error":"#N/A"},{"$error":"#N/A"},{"$error":"#N/A"},{"$error":"#N/A"},{"$error":"#N/A"},{"$error":"#N/A"},{"$error":"#N/A"},{"$error":"#N/A"},{"$error":"#N/A"},{"$error":"#N/A"},{"$error":"#N/A"},{"$error":"#N/A"},{"$error":"#N/A"},{"$error":"#N/A"},{"$error":"#N/A"},{"$error":"#N/A"},{"$error":"#N/A"},{"$error":"#N/A"},{"$error":"#N/A"},{"$error":"#N/A"},{"$error":"#N/A"},{"$error":"#N/A"}]
[null,null,null,null,null,null,null,null,null,"mit Namen?  (1=ja, 0=nein)",null,null,null,null,null,null,null,null,null,null,null,null,null,null,null,null,null,"True Course=",null,null,null,null,null,null,"°",null,{"$f":"IF(AK11=-1,360-(AK9*180/PI()),AK9*180/PI())","v":{"$error":"#N/A"}},{"$f":"IF(AL3=\"OK\",IF(AL11=-1,360-(AL9*180/PI()),AL9*180/PI()),\"-\")","v":{"$error":"#N/A"}},{"$f":"IF(AM3=\"OK\",IF(AM11=-1,360-(AM9*180/PI()),AM9*180/PI()),\"-\")","v":{"$error":"#N/A"}},{"$f":"IF(AN3=\"OK\",IF(AN11=-1,360-(AN9*180/PI()),AN9*180/PI()),\"-\")","v":{"$error":"#N/A"}},{"$error":"#N/A"},{"$error":"#N/A"},{"$error":"#N/A"},{"$error":"#N/A"},{"$f":"IF(AS3=\"OK\",IF(AS11=-1,360-(AS9*180/PI()),AS9*180/PI()),\"-\")","v":{"$error":"#N/A"}},{"$error":"#N/A"},{"$error":"#N/A"},{"$error":"#N/A"},{"$error":"#N/A"},{"$error":"#N/A"},{"$error":"#N/A"},{"$error":"#N/A"},{"$error":"#N/A"},{"$error":"#N/A"},{"$error":"#N/A"},{"$error":"#N/A"},{"$error":"#N/A"},{"$error":"#N/A"},{"$error":"#N/A"},{"$error":"#N/A"},{"$error":"#N/A"},{"$error":"#N/A"},{"$error":"#N/A"},{"$error":"#N/A"},{"$error":"#N/A"},{"$error":"#N/A"},{"$error":"#N/A"},{"$error":"#N/A"},{"$error":"#N/A"},{"$error":"#N/A"},{"$error":"#N/A"},{"$error":"#N/A"},{"$error":"#N/A"},{"$error":"#N/A"},{"$error":"#N/A"},{"$error":"#N/A"},{"$error":"#N/A"},{"$error":"#N/A"},{"$error":"#N/A"},{"$error":"#N/A"},{"$error":"#N/A"},{"$error":"#N/A"},{"$error":"#N/A"},{"$error":"#N/A"},{"$error":"#N/A"},{"$error":"#N/A"},{"$error":"#N/A"},{"$error":"#N/A"},{"$error":"#N/A"},{"$error":"#N/A"},{"$error":"#N/A"},{"$error":"#N/A"},{"$error":"#N/A"},{"$error":"#N/A"},{"$error":"#N/A"},{"$error":"#N/A"},{"$error":"#N/A"},{"$error":"#N/A"},{"$error":"#N/A"},{"$error":"#N/A"},{"$error":"#N/A"},{"$error":"#N/A"},{"$error":"#N/A"},{"$error":"#N/A"},{"$error":"#N/A"},{"$error":"#N/A"},{"$error":"#N/A"},{"$error":"#N/A"},{"$f":"IF(DE3=\"OK\",IF(DE11=-1,360-(DE9*180/PI()),DE9*180/PI()),\"-\")","v":{"$error":"#N/A"}},{"$error":"#N/A"},{"$error":"#N/A"},{"$error":"#N/A"},{"$error":"#N/A"},{"$error":"#N/A"},{"$error":"#N/A"},{"$error":"#N/A"},{"$error":"#N/A"},{"$error":"#N/A"},{"$error":"#N/A"},{"$error":"#N/A"},{"$error":"#N/A"},{"$error":"#N/A"},{"$error":"#N/A"},{"$error":"#N/A"},{"$error":"#N/A"},{"$error":"#N/A"},{"$error":"#N/A"},{"$error":"#N/A"},{"$error":"#N/A"},{"$error":"#N/A"},{"$error":"#N/A"},{"$error":"#N/A"},{"$error":"#N/A"},{"$error":"#N/A"},{"$error":"#N/A"},{"$error":"#N/A"}]
[null,null,null,null,null,null,null,null,null,{"$f":"IF('Flugdurchführungsplan (n. DFS)'!AS19,1,0)","v":1},null,null,null,null,null,null,null,null,null,null,null,null,null,null,null,null,null,"TC (rad)",null,null,null,null,null,null,null,null,{"$f":"AK13*PI()/180","v":{"$error":"#N/A"}},{"$f":"IF(AL3=\"OK\",AL13*PI()/180,\"-\")","v":{"$error":"#N/A"}},{"$f":"IF(AM3=\"OK\",AM13*PI()/180,\"-\")","v":{"$error":"#N/A"}},{"$f":"IF(AN3=\"OK\",AN13*PI()/180,\"-\")","v":{"$error":"#N/A"}},{"$error":"#N/A"},{"$error":"#N/A"},{"$error":"#N/A"},{"$error":"#N/A"},{"$f":"IF(AS3=\"OK\",AS13*PI()/180,\"-\")","v":{"$error":"#N/A"}},{"$f":"IF(AT3=\"OK\",AT13*PI()/180,\"-\")","v":{"$error":"#N/A"}},{"$f":"IF(AU3=\"OK\",AU13*PI()/180,\"-\")","v":{"$error":"#N/A"}},{"$error":"#N/A"},{"$error":"#N/A"},{"$f":"IF(AX3=\"OK\",AX13*PI()/180,\"-\")","v":{"$error":"#N/A"}},{"$f":"IF(AY3=\"OK\",AY13*PI()/180,\"-\")","v":{"$error":"#N/A"}},{"$f":"IF(AZ3=\"OK\",AZ13*PI()/180,\"-\")","v":{"$error":"#N/A"}},{"$error":"#N/A"},{"$error":"#N/A"},{"$f":"IF(BC3=\"OK\",BC13*PI()/180,\"-\")","v":{"$error":"#N/A"}},{"$f":"IF(BD3=\"OK\",BD13*PI()/180,\"-\")","v":{"$error":"#N/A"}},{"$f":"IF(BE3=\"OK\",BE13*PI()/180,\"-\")","v":{"$error":"#N/A"}},{"$error":"#N/A"},{"$error":"#N/A"},{"$f":"IF(BH3=\"OK\",BH13*PI()/180,\"-\")","v":{"$error":"#N/A"}},{"$f":"IF(BI3=\"OK\",BI13*PI()/180,\"-\")","v":{"$error":"#N/A"}},{"$f":"IF(BJ3=\"OK\",BJ13*PI()/180,\"-\")","v":{"$error":"#N/A"}},{"$error":"#N/A"},{"$error":"#N/A"},{"$f":"IF(BM3=\"OK\",BM13*PI()/180,\"-\")","v":{"$error":"#N/A"}},{"$f":"IF(BN3=\"OK\",BN13*PI()/180,\"-\")","v":{"$error":"#N/A"}},{"$f":"IF(BO3=\"OK\",BO13*PI()/180,\"-\")","v":{"$error":"#N/A"}},{"$error":"#N/A"},{"$error":"#N/A"},{"$f":"IF(BR3=\"OK\",BR13*PI()/180,\"-\")","v":{"$error":"#N/A"}},{"$f":"IF(BS3=\"OK\",BS13*PI()/180,\"-\")","v":{"$error":"#N/A"}},{"$f":"IF(BT3=\"OK\",BT13*PI()/180,\"-\")","v":{"$error":"#N/A"}},{"$error":"#N/A"},{"$error":"#N/A"},{"$f":"IF(BW3=\"OK\",BW13*PI()/180,\"-\")","v":{"$error":"#N/A"}},{"$f":"IF(BX3=\"OK\",BX13*PI()/180,\"-\")","v":{"$error":"#N/A"}},{"$f":"IF(BY3=\"OK\",BY13*PI()/180,\"-\")","v":{"$error":"#N/A"}},{"$error":"#N/A"},{"$error":"#N/A"},{"$f":"IF(CB3=\"OK\",CB13*PI()/180,\"-\")","v":{"$error":"#N/A"}},{"$f":"IF(CC3=\"OK\",CC13*PI()/180,\"-\")","v":{"$error":"#N/A"}},{"$f":"IF(CD3=\"OK\",CD13*PI()/180,\"-\")","v":{"$error":"#N/A"}},{"$error":"#N/A"},{"$error":"#N/A"},{"$f":"IF(CG3=\"OK\",CG13*PI()/180,\"-\")","v":{"$error":"#N/A"}},{"$f":"IF(CH3=\"OK\",CH13*PI()/180,\"-\")","v":{"$error":"#N/A"}},{"$f":"IF(CI3=\"OK\",CI13*PI()/180,\"-\")","v":{"$error":"#N/A"}},{"$error":"#N/A"},{"$error":"#N/A"},{"$f":"IF(CL3=\"OK\",CL13*PI()/180,\"-\")","v":{"$error":"#N/A"}},{"$f":"IF(CM3=\"OK\",CM13*PI()/180,\"-\")","v":{"$error":"#N/A"}},{"$f":"IF(CN3=\"OK\",CN13*PI()/180,\"-\")","v":{"$error":"#N/A"}},{"$error":"#N/A"},{"$error":"#N/A"},{"$f":"IF(CQ3=\"OK\",CQ13*PI()/180,\"-\")","v":{"$error":"#N/A"}},{"$f":"IF(CR3=\"OK\",CR13*PI()/180,\"-\")","v":{"$error":"#N/A"}},{"$f":"IF(CS3=\"OK\",CS13*PI()/180,\"-\")","v":{"$error":"#N/A"}},{"$error":"#N/A"},{"$error":"#N/A"},{"$f":"IF(CV3=\"OK\",CV13*PI()/180,\"-\")","v":{"$error":"#N/A"}},{"$f":"IF(CW3=\"OK\",CW13*PI()/180,\"-\")","v":{"$error":"#N/A"}},{"$f":"IF(CX3=\"OK\",CX13*PI()/180,\"-\")","v":{"$error":"#N/A"}},{"$error":"#N/A"},{"$error":"#N/A"},{"$f":"IF(DA3=\"OK\",DA13*PI()/180,\"-\")","v":{"$error":"#N/A"}},{"$f":"IF(DB3=\"OK\",DB13*PI()/180,\"-\")","v":{"$error":"#N/A"}},{"$f":"IF(DC3=\"OK\",DC13*PI()/180,\"-\")","v":{"$error":"#N/A"}},{"$error":"#N/A"},{"$error":"#N/A"},{"$f":"IF(DF3=\"OK\",DF13*PI()/180,\"-\")","v":{"$error":"#N/A"}},{"$f":"IF(DG3=\"OK\",DG13*PI()/180,\"-\")","v":{"$error":"#N/A"}},{"$f":"IF(DH3=\"OK\",DH13*PI()/180,\"-\")","v":{"$error":"#N/A"}},{"$error":"#N/A"},{"$error":"#N/A"},{"$f":"IF(DK3=\"OK\",DK13*PI()/180,\"-\")","v":{"$error":"#N/A"}},{"$f":"IF(DL3=\"OK\",DL13*PI()/180,\"-\")","v":{"$error":"#N/A"}},{"$f":"IF(DM3=\"OK\",DM13*PI()/180,\"-\")","v":{"$error":"#N/A"}},{"$error":"#N/A"},{"$error":"#N/A"},{"$f":"IF(DP3=\"OK\",DP13*PI()/180,\"-\")","v":{"$error":"#N/A"}},{"$f":"IF(DQ3=\"OK\",DQ13*PI()/180,\"-\")","v":{"$error":"#N/A"}},{"$f":"IF(DR3=\"OK\",DR13*PI()/180,\"-\")","v":{"$error":"#N/A"}},{"$error":"#N/A"},{"$error":"#N/A"},{"$f":"IF(DU3=\"OK\",DU13*PI()/180,\"-\")","v":{"$error":"#N/A"}},{"$f":"IF(DV3=\"OK\",DV13*PI()/180,\"-\")","v":{"$error":"#N/A"}},{"$f":"IF(DW3=\"OK\",DW13*PI()/180,\"-\")","v":{"$error":"#N/A"}},{"$error":"#N/A"},{"$error":"#N/A"},{"$f":"IF(DZ3=\"OK\",DZ13*PI()/180,\"-\")","v":{"$error":"#N/A"}},{"$f":"IF(EA3=\"OK\",EA13*PI()/180,\"-\")","v":{"$error":"#N/A"}},{"$f":"IF(EB3=\"OK\",EB13*PI()/180,\"-\")","v":{"$error":"#N/A"}},{"$error":"#N/A"},{"$error":"#N/A"},{"$f":"IF(EE3=\"OK\",EE13*PI()/180,\"-\")","v":{"$error":"#N/A"}},{"$f":"IF(EF3=\"OK\",EF13*PI()/180,\"-\")","v":{"$error":"#N/A"}}]
[null,null,"AUSWAHL",null,null,null,null,null,null,"mit Morse-Code? (1=ja, 0=nein)"]
[null,null,null,null,null,null,null,null,null,{"$f":"IF('Flugdurchführungsplan (n. DFS)'!AR19,1,0)","v":1},null,null,null,null,null,null,null,null,null,null,null,null,null,null,null,null,null,null,{"$f":"MAX(AC18:AC193)","v":{"$error":"#N/A"}},{"$f":"MAX(AD18:AD193)","v":{"$error":"#N/A"}},null,null,null,2]
[null,null,2,3,4,9,11,10,5,null,null,null,null,2,3,7,26,1,20,21,24,25,27,19,null,null,"j","l",null,null,null,null,null,null,null,null,"NM"]
[1,{"$f":"IF(A18<=$AC$16,VLOOKUP(A18,$L$18:$M$193,2,FALSE),\"-\")","v":{"$error":"#N/A"}},{"$f":"IF($B18<>\"-\",VLOOKUP($B18,$M$18:$X$193,C$17,FALSE),\"\")","v":{"$error":"#N/A"}},{"$error":"#N/A"},{"$error":"#N/A"},{"$error":"#N/A"},{"$error":"#N/A"},{"$error":"#N/A"},{"$error":"#N/A"},{"$f":"IF(B18<>\"-\",IF($J$14=1,C18&\"-\",\"\")&D18&\" '\"&E18&\"' \",\"\")&IF(F18<>\"\",F18&IF($J$10=1,\"MHz \",\" \"),\"\")&IF(AND(G18<>\"\",$J$12=1),G18&\" \",\"\")&IF(H18<>\"\",H18&IF($J$10=1,\"kHz \",\" \"),\"\")&IF(AND($J$16=1,B18<>\"-\"),\"(\"&I18&\")\",\"\")","v":{"$error":"#N/A"}},null,{"$f":"MAX(AC18:AD18)","v":{"$error":"#N/A"}},1,{"$f":"VLOOKUP($M18,Funknavigation!$A$2:$AC$185,N$17,FALSE)","v":"Allgaeu "},{"$f":"VLOOKUP($M18,Funknavigation!$A$2:$AC$185,O$17,FALSE)","v":"DME "},{"$f":"VLOOKUP($M18,Funknavigation!$A$2:$AC$185,P$17,FALSE)","v":"ALD"},{"$f":"VLOOKUP($M18,Funknavigation!$A$2:$AC$185,Q$17,FALSE)","v":"· −   · − · ·   − · ·"},{"$f":"VLOOKUP($M18,Funknavigation!$A$2:$AC$185,R$17,FALSE)","v":1},{"$f":"VLOOKUP($M18,Funknavigation!$A$2:$AC$185,S$17,FALSE)","v":47.988599999999998},{"$f":"VLOOKUP($M18,Funknavigation!$A$2:$AC$185,T$17,FALSE)","v":10.2311},{"$f":"VLOOKUP($M18,Funknavigation!$A$2:$AC$185,U$17,FALSE)","v":"117.20"},{"$f":"VLOOKUP($M18,Funknavigation!$A$2:$AC$185,V$17,FALSE)","v":""},{"$f":"VLOOKUP($M18,Funknavigation!$A$2:$AC$185,W$17,FALSE)","v":"Ch 119x "},{"$f":"VLOOKUP($M18,Funknavigation!$A$2:$AC$185,X$17,FALSE)","v":25},null,null,{"$f":"S18*PI()/180","v":0.83755907342255087},{"$f":"T18*PI()/180","v":0.17856638110079184},{"$f":"IF(AG18=1,MAX($AD$18:$AD$193)+1,\"-\")","v":{"$error":"#N/A"}},{"$f":"IF(AH18=1,1,\"-\")","v":{"$error":"#N/A"}},{"$f":"IF(AH18=1,AF18,\"-\")","v":{"$error":"#N/A"}},{"$f":"MIN(AJ18:EF18)","v":{"$error":"#N/A"}},{"$f":"IF(AND(AI18=1,AH18<>1),1,0)","v":{"$error":"#N/A"}},{"$f":"IF(MIN(AJ18:EF18)<(X18/$AH$16),1,0)","v":{"$error":"#N/A"}},{"$f":"IF(MIN(AJ18:EF18)<X18,1,0)","v":{"$error":"#N/A"}},{"$f":"(21600/(2*PI()))*ACOS(SIN($AA18)*SIN(AJ$6)+COS(AJ$6)*COS($AA18)*COS($AB18-AJ$7))","v":{"$error":"#N/A"}},{"$f":"(21600/(2*PI()))*ACOS(SIN($AA18)*SIN(AK$6)+COS(AK$6)*COS($AA18)*COS($AB18-AK$7))","v":{"$error":"#N/A"}},{"$f":"IF(AL$3=\"OK\",(21600/(2*PI()))*ACOS(SIN($AA18)*SIN(AL$6)+COS(AL$6)*COS($AA18)*COS($AB18-AL$7)),\"-\")","v":{"$error":"#N/A"}},{"$error":"#N/A"},{"$error":"#N/A"},{"$error":"#N/A"},{"$error":"#N/A"},{"$error":"#N/A"},{"$error":"#N/A"},{"$error":"#N/A"},{"$error":"#N/A"},{"$error":"#N/A"},{"$f":"IF(AV$3=\"OK\",(21600/(2*PI()))*ACOS(SIN($AA18)*SIN(AV$6)+COS(AV$6)*COS($AA18)*COS($AB18-AV$7)),\"-\")","v":{"$error":"#N/A"}},{"$error":"#N/A"},{"$error":"#N/A"},{"$error":"#N/A"},{"$error":"#N/A"},{"$error":"#N/A"},{"$error":"#N/A"},{"$error":"#N/A"},{"$error":"#N/A"},{"$error":"#N/A"},{"$f":"IF(BF$3=\"OK\",(21600/(2*PI()))*ACOS(SIN($AA18)*SIN(BF$6)+COS(BF$6)*COS($AA18)*COS($AB18-BF$7)),\"-\")","v":{"$error":"#N/A"}},{"$error":"#N/A"},{"$error":"#N/A"},{"$error":"#N/A"},{"$error":"#N/A"},{"$error":"#N/A"},{"$error":"#N/A"},{"$error":"#N/A"},{"$error":"#N/A"},{"$error":"#N/A"},{"$f":"IF(BP$3=\"OK\",(21600/(2*PI()))*ACOS(SIN($AA18)*SIN(BP$6)+COS(BP$6)*COS($AA18)*COS($AB18-BP$7)),\"-\")","v":{"$error":"#N/A"}},{"$error":"#N/A"},{"$error":"#N/A"},{"$error":"#N/A"},{"$error":"#N/A"},{"$error":"#N/A"},{"$error":"#N/A"},{"$error":"#N/A"},{"$error":"#N/A"},{"$error":"#N/A"},{"$f":"IF(BZ$3=\"OK\",(21600/(2*PI()))*ACOS(SIN($AA18)*SIN(BZ$6)+COS(BZ$6)*COS($AA18)*COS($AB18-BZ$7)),\"-\")","v":{"$error":"#N/A"}},{"$error":"#N/A"},{"$error":"#N/A"},{"$error":"#N/A"},{"$error":"#N/A"},{"$error":"#N/A"},{"$error":"#N/A"},{"$error":"#N/A"},{"$error":"#N/A"},{"$error":"#N/A"},{"$f":"IF(CJ$3=\"OK\",(21600/(2*PI()))*ACOS(SIN($AA18)*SIN(CJ$6)+COS(CJ$6)*COS($AA18)*COS($AB18-CJ$7)),\"-\")","v":{"$error":"#N/A"}},{"$error":"#N/A"},{"$error":"#N/A"},{"$error":"#N/A"},{"$error":"#N/A"},{"$error":"#N/A"},{"$error":"#N/A"},{"$error":"#N/A"},{"$error":"#N/A"},{"$error":"#N/A"},{"$f":"IF(CT$3=\"OK\",(21600/(2*PI()))*ACOS(SIN($AA18)*SIN(CT$6)+COS(CT$6)*COS($AA18)*COS($AB18-CT$7)),\"-\")","v":{"$error":"#N/A"}},{"$error":"#N/A"},{"$error":"#N/A"},{"$error":"#N/A"},{"$error":"#N/A"},{"$error":"#N/A"},{"$error":"#N/A"},{"$error":"#N/A"},{"$error":"#N/A"},{"$error":"#N/A"},{"$error":"#N/A"},{"$error":"#N/A"},{"$error":"#N/A"},{"$f":"IF(DG$3=\"OK\",(21600/(2*PI()))*ACOS(SIN($AA18)*SIN(DG$6)+COS(DG$6)*COS($AA18)*COS($AB18-DG$7)),\"-\")","v":{"$error":"#N/A"}},{"$error":"#N/A"},{"$error":"#N/A"},{"$error":"#N/A"},{"$error":"#N/A"},{"$error":"#N/A"},{"$error":"#N/A"},{"$error":"#N/A"},{"$error":"#N/A"},{"$error":"#N/A"},{"$error":"#N/A"},{"$error":"#N/A"},{"$error":"#N/A"},{"$error":"#N/A"},{"$error":"#N/A"},{"$error":"#N/A"},{"$error":"#N/A"},{"$error":"#N/A"},{"$error":"#N/A"},{"$error":"#N/A"},{"$error":"#N/A"},{"$error":"#N/A"},{"$error":"#N/A"},{"$error":"#N/A"},{"$error":"#N/A"},{"$error":"#N/A"}]
[2,{"$error":"#N/A"},{"$error":"#N/A"},{"$error":"#N/A"},{"$error":"#N/A"},{"$error":"#N/A"},{"$error":"#N/A"},{"$error":"#N/A"},{"$error":"#N/A"},{"$f":"IF(B19<>\"-\",IF($J$14=1,C19&\"-\",\"\")&D19&\" '\"&E19&\"' \",\"\")&IF(F19<>\"\",F19&IF($J$10=1,\"MHz \",\" \"),\"\")&IF(AND(G19<>\"\",$J$12=1),G19&\" \",\"\")&IF(H19<>\"\",H19&IF($J$10=1,\"kHz \",\" \"),\"\")&IF(AND($J$16=1,B19<>\"-\"),\"(\"&I19&\")\",\"\")","v":{"$error":"#N/A"}},null,{"$f":"MAX(AC19:AD19)","v":{"$error":"#N/A"}},2,{"$f":"VLOOKUP($M19,Funknavigation!$A$2:$AC$185,N$17,FALSE)","v":"Allgaeu "},{"$f":"VLOOKUP($M19,Funknavigation!$A$2:$AC$185,O$17,FALSE)","v":"NDB "},{"$f":"VLOOKUP($M19,Funknavigation!$A$2:$AC$185,P$17,FALSE)","v":"ALG"},{"$f":"VLOOKUP($M19,Funknavigation!$A$2:$AC$185,Q$17,FALSE)","v":"· −   · − · ·   − − ·"},{"$f":"VLOOKUP($M19,Funknavigation!$A$2:$AC$185,R$17,FALSE)","v":2},{"$f":"VLOOKUP($M19,Funknavigation!$A$2:$AC$185,S$17,FALSE)","v":47.997500000000002},{"$f":"VLOOKUP($M19,Funknavigation!$A$2:$AC$185,T$17,FALSE)","v":10.2622},{"$f":"VLOOKUP($M19,Funknavigation!$A$2:$AC$185,U$17,FALSE)","v":""},{"$f":"VLOOKUP($M19,Funknavigation!$A$2:$AC$185,V$17,FALSE)","v":341},{"$f":"VLOOKUP($M19,Funknavigation!$A$2:$AC$185,W$17,FALSE)","v":""},{"$f":"VLOOKUP($M19,Funknavigation!$A$2:$AC$185,X$17,FALSE)","v":25},null,null,{"$f":"S19*PI()/180","v":0.83771440772597838},{"$f":"T19*PI()/180","v":0.17910917849816207},{"$f":"IF(AG19=1,MAX(MAX(AC$18:$AC18),MAX($AD$18:$AD$193))+1,\"-\")","v":{"$error":"#N/A"}},{"$f":"IF(AH19=1,MAX($AD$18:AD18)+1,\"-\")","v":{"$error":"#N/A"}},{"$f":"IF(AH19=1,AF19,\"-\")","v":{"$error":"#N/A"}},{"$f":"MIN(AJ19:EF19)","v":{"$error":"#N/A"}},{"$f":"IF(AND(AI19=1,AH19<>1),1,0)","v":{"$error":"#N/A"}},{"$error":"#N/A"},{"$error":"#N/A"},{"$f":"(21600/(2*PI()))*ACOS(SIN($AA19)*SIN(AJ$6)+COS(AJ$6)*COS($AA19)*COS($AB19-AJ$7))","v":{"$error":"#N/A"}},{"$f":"(21600/(2*PI()))*ACOS(SIN($AA19)*SIN(AK$6)+COS(AK$6)*COS($AA19)*COS($AB19-AK$7))","v":{"$error":"#N/A"}},{"$error":"#N/A"},{"$error":"#N/A"},{"$error":"#N/A"},{"$error":"#N/A"},{"$error":"#N/A"},{"$error":"#N/A"},{"$error":"#N/A"},{"$error":"#N/A"},{"$error":"#N/A"},{"$error":"#N/A"},{"$error":"#N/A"},{"$error":"#N/A"},{"$error":"#N/A"},{"$error":"#N/A"},{"$error":"#N/A"},{"$error":"#N/A"},{"$error":"#N/A"},{"$error":"#N/A"},{"$error":"#N/A"},{"$error":"#N/A"},{"$error":"#N/A"},{"$error":"#N/A"},{"$error":"#N/A"},{"$error":"#N/A"},{"$error":"#N/A"},{"$error":"#N/A"},{"$error":"#N/A"},{"$error":"#N/A"},{"$error":"#N/A"},{"$error":"#N/A"},{"$error":"#N/A"},{"$error":"#N/A"},{"$error":"#N/A"},{"$error":"#N/A"},{"$error":"#N/A"},{"$error":"#N/A"},{"$error":"#N/A"},{"$error":"#N/A"},{"$error":"#N/A"},{"$error":"#N/A"},{"$error":"#N/A"},{"$error":"#N/A"},{"$error":"#N/A"},{"$error":"#N/A"},{"$error":"#N/A"},{"$error":"#N/A"},{"$error":"#N/A"},{"$error":"#N/A"},{"$error":"#N/A"},{"$error":"#N/A"},{"$error":"#N/A"},{"$error":"#N/A"},{"$error":"#N/A"},{"$error":"#N/A"},{"$error":"#N/A"},{"$error":"#N/A"},{"$error":"#N/A"},{"$error":"#N/A"},{"$error":"#N/A"},{"$error":"#N/A"},{"$error":"#N/A"},{"$error":"#N/A"},{"$error":"#N/A"},{"$error":"#N/A"},{"$error":"#N/A"},{"$error":"#N/A"},{"$error":"#N/A"},{"$error":"#N/A"},{"$error":"#N/A"},{"$error":"#N/A"},{"$error":"#N/A"},{"$error":"#N/A"},{"$error":"#N/A"},{"$error":"#N/A"},{"$error":"#N/A"},{"$error":"#N/A"},{"$error":"#N/A"},{"$error":"#N/A"},{"$error":"#N/A"},{"$error":"#N/A"},{"$error":"#N/A"},{"$error":"#N/A"},{"$error":"#N/A"},{"$error":"#N/A"},{"$error":"#N/A"},{"$error":"#N/A"},{"$error":"#N/A"},{"$error":"#N/A"},{"$error":"#N/A"},{"$error":"#N/A"},{"$error":"#N/A"},{"$error":"#N/A"},{"$error":"#N/A"},{"$error":"#N/A"},{"$error":"#N/A"},{"$error":"#N/A"},{"$error":"#N/A"},{"$error":"#N/A"},{"$error":"#N/A"}]
[3,{"$error":"#N/A"},{"$error":"#N/A"},{"$error":"#N/A"},{"$error":"#N/A"},{"$error":"#N/A"},{"$error":"#N/A"},{"$error":"#N/A"},{"$error":"#N/A"},{"$error":"#N/A"},null,{"$error":"#N/A"},3,{"$f":"VLOOKUP($M20,Funknavigation!$A$2:$AC$185,N$17,FALSE)","v":"Alster "},{"$f":"VLOOKUP($M20,Funknavigation!$A$2:$AC$185,O$17,FALSE)","v":"DME "},{"$f":"VLOOKUP($M20,Funknavigation!$A$2:$AC$185,P$17,FALSE)","v":"ALF"},{"$f":"VLOOKUP($M20,Funknavigation!$A$2:$AC$185,Q$17,FALSE)","v":"· −   · − · ·   · · − ·"},{"$f":"VLOOKUP($M20,Funknavigation!$A$2:$AC$185,R$17,FALSE)","v":3},{"$f":"VLOOKUP($M20,Funknavigation!$A$2:$AC$185,S$17,FALSE)","v":53.635300000000001},{"$f":"VLOOKUP($M20,Funknavigation!$A$2:$AC$185,T$17,FALSE)","v":9.9941999999999993},{"$f":"VLOOKUP($M20,Funknavigation!$A$2:$AC$185,U$17,FALSE)","v":"115.80"},{"$f":"VLOOKUP($M20,Funknavigation!$A$2:$AC$185,V$17,FALSE)","v":""},{"$f":"VLOOKUP($M20,Funknavigation!$A$2:$AC$185,W$17,FALSE)","v":"Ch 105x "},{"$f":"VLOOKUP($M20,Funknavigation!$A$2:$AC$185,X$17,FALSE)","v":25},null,null,0.93611258029491462,0.17443169610281728,{"$f":"IF(AG20=1,MAX(MAX(AC$18:$AC19),MAX($AD$18:$AD$193))+1,\"-\")","v":{"$error":"#N/A"}},{"$f":"IF(AH20=1,MAX($AD$18:AD19)+1,\"-\")","v":{"$error":"#N/A"}},{"$error":"#N/A"},{"$error":"#N/A"},{"$error":"#N/A"},{"$error":"#N/A"},{"$error":"#N/A"},{"$error":"#N/A"},{"$error":"#N/A"},{"$error":"#N/A"},{"$error":"#N/A"},{"$error":"#N/A"},{"$error":"#N/A"},{"$error":"#N/A"},{"$error":"#N/A"},{"$error":"#N/A"},{"$error":"#N/A"},{"$error":"#N/A"},{"$error":"#N/A"},{"$error":"#N/A"},{"$error":"#N/A"},{"$error":"#N/A"},{"$error":"#N/A"},{"$error":"#N/A"},{"$error":"#N/A"},{"$error":"#N/A"},{"$error":"#N/A"},{"$error":"#N/A"},{"$error":"#N/A"},{"$error":"#N/A"},{"$error":"#N/A"},{"$error":"#N/A"},{"$error":"#N/A"},{"$error":"#N/A"},{"$error":"#N/A"},{"$error":"#N/A"},{"$error":"#N/A"},{"$error":"#N/A"},{"$error":"#N/A"},{"$error":"#N/A"},{"$error":"#N/A"},{"$error":"#N/A"},{"$error":"#N/A"},{"$error":"#N/A"},{"$error":"#N/A"},{"$error":"#N/A"},{"$error":"#N/A"},{"$error":"#N/A"},{"$error":"#N/A"},{"$error":"#N/A"},{"$error":"#N/A"},{"$error":"#N/A"},{"$error":"#N/A"},{"$error":"#N/A"},{"$error":"#N/A"},{"$error":"#N/A"},{"$error":"#N/A"},{"$error":"#N/A"},{"$error":"#N/A"},{"$error":"#N/A"},{"$error":"#N/A"},{"$error":"#N/A"},{"$error":"#N/A"},{"$error":"#N/A"},{"$error":"#N/A"},{"$error":"#N/A"},{"$error":"#N/A"},{"$error":"#N/A"},{"$error":"#N/A"},{"$error":"#N/A"},{"$error":"#N/A"},{"$error":"#N/A"},{"$error":"#N/A"},{"$error":"#N/A"},{"$error":"#N/A"},{"$error":"#N/A"},{"$error":"#N/A"},{"$error":"#N/A"},{"$error":"#N/A"},{"$error":"#N/A"},{"$error":"#N/A"},{"$error":"#N/A"},{"$error":"#N/A"},{"$error":"#N/A"},{"$error":"#N/A"},{"$error":"#N/A"},{"$error":"#N/A"},{"$error":"#N/A"},{"$error":"#N/A"},{"$error":"#N/A"},{"$error":"#N/A"},{"$error":"#N/A"},{"$error":"#N/A"},{"$error":"#N/A"},{"$error":"#N/A"},{"$error":"#N/A"},{"$error":"#N/A"},{"$error":"#N/A"},{"$error":"#N/A"},{"$error":"#N/A"},{"$error":"#N/A"},{"$error":"#N/A"},{"$error":"#N/A"},{"$error":"#N/A"},{"$error":"#N/A"},{"$error":"#N/A"},{"$error":"#N/A"},{"$error":"#N/A"}]
[4,{"$error":"#N/A"},{"$error":"#N/A"},{"$error":"#N/A"},{"$error":"#N/A"},{"$error":"#N/A"},{"$error":"#N/A"},{"$error":"#N/A"},{"$error":"#N/A"},{"$error":"#N/A"},null,{"$error":"#N/A"},4,{"$f":"VLOOKUP($M21,Funknavigation!$A$2:$AC$185,N$17,FALSE)","v":"Altenburg "},{"$f":"VLOOKUP($M21,Funknavigation!$A$2:$AC$185,O$17,FALSE)","v":"NDB "},{"$f":"VLOOKUP($M21,Funknavigation!$A$2:$AC$185,P$17,FALSE)","v":"ABU"},{"$f":"VLOOKUP($M21,Funknavigation!$A$2:$AC$185,Q$17,FALSE)","v":"· −   − · · ·   · · −"},{"$f":"VLOOKUP($M21,Funknavigation!$A$2:$AC$185,R$17,FALSE)","v":4},{"$f":"VLOOKUP($M21,Funknavigation!$A$2:$AC$185,S$17,FALSE)","v":50.993899999999996},{"$f":"VLOOKUP($M21,Funknavigation!$A$2:$AC$185,T$17,FALSE)","v":12.521100000000001},{"$f":"VLOOKUP($M21,Funknavigation!$A$2:$AC$185,U$17,FALSE)","v":""},{"$f":"VLOOKUP($M21,Funknavigation!$A$2:$AC$185,V$17,FALSE)","v":330},{"$f":"VLOOKUP($M21,Funknavigation!$A$2:$AC$185,W$17,FALSE)","v":""},{"$f":"VLOOKUP($M21,Funknavigation!$A$2:$AC$185,X$17,FALSE)","v":25},null,null,0.89001145343273635,0.21853442097146203,{"$f":"IF(AG21=1,MAX(MAX(AC$18:$AC20),MAX($AD$18:$AD$193))+1,\"-\")","v":{"$error":"#N/A"}},{"$f":"IF(AH21=1,MAX($AD$18:AD20)+1,\"-\")","v":{"$error":"#N/A"}},{"$error":"#N/A"},{"$error":"#N/A"},{"$error":"#N/A"},{"$error":"#N/A"},{"$error":"#N/A"},{"$error":"#N/A"},{"$error":"#N/A"},{"$error":"#N/A"},{"$error":"#N/A"},{"$error":"#N/A"},{"$error":"#N/A"},{"$error":"#N/A"},{"$error":"#N/A"},{"$error":"#N/A"},{"$error":"#N/A"},{"$error":"#N/A"},{"$error":"#N/A"},{"$error":"#N/A"},{"$error":"#N/A"},{"$error":"#N/A"},{"$error":"#N/A"},{"$error":"#N/A"},{"$error":"#N/A"},{"$error":"#N/A"},{"$error":"#N/A"},{"$error":"#N/A"},{"$error":"#N/A"},{"$error":"#N/A"},{"$error":"#N/A"},{"$error":"#N/A"},{"$error":"#N/A"},{"$error":"#N/A"},{"$error":"#N/A"},{"$error":"#N/A"},{"$error":"#N/A"},{"$error":"#N/A"},{"$error":"#N/A"},{"$error":"#N/A"},{"$error":"#N/A"},{"$error":"#N/A"},{"$error":"#N/A"},{"$error":"#N/A"},{"$error":"#N/A"},{"$error":"#N/A"},{"$error":"#N/A"},{"$error":"#N/A"},{"$error":"#N/A"},{"$error":"#N/A"},{"$error":"#N/A"},{"$error":"#N/A"},{"$error":"#N/A"},{"$error":"#N/A"},{"$error":"#N/A"},{"$error":"#N/A"},{"$error":"#N/A"},{"$error":"#N/A"},{"$error":"#N/A"},{"$error":"#N/A"},{"$error":"#N/A"},{"$error":"#N/A"},{"$error":"#N/A"},{"$error":"#N/A"},{"$error":"#N/A"},{"$error":"#N/A"},{"$error":"#N/A"},{"$error":"#N/A"},{"$error":"#N/A"},{"$error":"#N/A"},{"$error":"#N/A"},{"$error":"#N/A"},{"$error":"#N/A"},{"$error":"#N/A"},{"$error":"#N/A"},{"$error":"#N/A"},{"$error":"#N/A"},{"$error":"#N/A"},{"$error":"#N/A"},{"$error":"#N/A"},{"$error":"#N/A"},{"$error":"#N/A"},{"$error":"#N/A"},{"$error":"#N/A"},{"$error":"#N/A"},{"$error":"#N/A"},{"$error":"#N/A"},{"$error":"#N/A"},{"$error":"#N/A"},{"$error":"#N/A"},{"$error":"#N/A"},{"$error":"#N/A"},{"$error":"#N/A"},{"$error":"#N/A"},{"$error":"#N/A"},{"$error":"#N/A"},{"$error":"#N/A"},{"$error":"#N/A"},{"$error":"#N/A"},{"$error":"#N/A"},{"$error":"#N/A"},{"$error":"#N/A"},{"$error":"#N/A"},{"$error":"#N/A"},{"$error":"#N/A"},{"$error":"#N/A"},{"$error":"#N/A"},{"$error":"#N/A"}]
[5,{"$error":"#N/A"},{"$error":"#N/A"},{"$error":"#N/A"},{"$error":"#N/A"},{"$error":"#N/A"},{"$error":"#N/A"},{"$error":"#N/A"},{"$error":"#N/A"},{"$error":"#N/A"},null,{"$error":"#N/A"},5,{"$f":"VLOOKUP($M22,Funknavigation!$A$2:$AC$185,N$17,FALSE)","v":"Altenburg"},{"$f":"VLOOKUP($M22,Funknavigation!$A$2:$AC$185,O$17,FALSE)","v":"DME "},{"$f":"VLOOKUP($M22,Funknavigation!$A$2:$AC$185,P$17,FALSE)","v":"AGD"},{"$f":"VLOOKUP($M22,Funknavigation!$A$2:$AC$185,Q$17,FALSE)","v":"· −   − − ·   − · ·"},{"$f":"VLOOKUP($M22,Funknavigation!$A$2:$AC$185,R$17,FALSE)","v":5},{"$f":"VLOOKUP($M22,Funknavigation!$A$2:$AC$185,S$17,FALSE)","v":50.982799999999997},{"$f":"VLOOKUP($M22,Funknavigation!$A$2:$AC$185,T$17,FALSE)","v":12.5122},{"$f":"VLOOKUP($M22,Funknavigation!$A$2:$AC$185,U$17,FALSE)","v":"115.30"},{"$f":"VLOOKUP($M22,Funknavigation!$A$2:$AC$185,V$17,FALSE)","v":""},{"$f":"VLOOKUP($M22,Funknavigation!$A$2:$AC$185,W$17,FALSE)","v":"Ch 100x "},{"$f":"VLOOKUP($M22,Funknavigation!$A$2:$AC$185,X$17,FALSE)","v":25},null,null,0.88981772188576491,0.21837908666803449,{"$f":"IF(AG22=1,MAX(MAX(AC$18:$AC21),MAX($AD$18:$AD$193))+1,\"-\")","v":{"$error":"#N/A"}},{"$f":"IF(AH22=1,MAX($AD$18:AD21)+1,\"-\")","v":{"$error":"#N/A"}},{"$f":"IF(AH22=1,AF22,\"-\")","v":{"$error":"#N/A"}},{"$error":"#N/A"},{"$error":"#N/A"},{"$error":"#N/A"},{"$error":"#N/A"},{"$error":"#N/A"},{"$error":"#N/A"},{"$error":"#N/A"},{"$error":"#N/A"},{"$error":"#N/A"},{"$error":"#N/A"},{"$error":"#N/A"},{"$error":"#N/A"},{"$error":"#N/A"},{"$error":"#N/A"},{"$error":"#N/A"},{"$error":"#N/A"},{"$error":"#N/A"},{"$error":"#N/A"},{"$error":"#N/A"},{"$error":"#N/A"},{"$error":"#N/A"},{"$error":"#N/A"},{"$error":"#N/A"},{"$error":"#N/A"},{"$error":"#N/A"},{"$error":"#N/A"},{"$error":"#N/A"},{"$error":"#N/A"},{"$error":"#N/A"},{"$error":"#N/A"},{"$error":"#N/A"},{"$error":"#N/A"},{"$error":"#N/A"},{"$error":"#N/A"},{"$error":"#N/A"},{"$error":"#N/A"},{"$error":"#N/A"},{"$error":"#N/A"},{"$error":"#N/A"},{"$error":"#N/A"},{"$error":"#N/A"},{"$error":"#N/A"},{"$error":"#N/A"},{"$error":"#N/A"},{"$error":"#N/A"},{"$error":"#N/A"},{"$error":"#N/A"},{"$error":"#N/A"},{"$error":"#N/A"},{"$error":"#N/A"},{"$error":"#N/A"},{"$error":"#N/A"},{"$error":"#N/A"},{"$error":"#N/A"},{"$error":"#N/A"},{"$error":"#N/A"},{"$error":"#N/A"},{"$error":"#N/A"},{"$error":"#N/A"},{"$error":"#N/A"},{"$error":"#N/A"},{"$error":"#N/A"},{"$error":"#N/A"},{"$error":"#N/A"},{"$error":"#N/A"},{"$error":"#N/A"},{"$error":"#N/A"},{"$error":"#N/A"},{"$error":"#N/A"},{"$error":"#N/A"},{"$error":"#N/A"},{"$error":"#N/A"},{"$error":"#N/A"},{"$error":"#N/A"},{"$error":"#N/A"},{"$error":"#N/A"},{"$error":"#N/A"},{"$error":"#N/A"},{"$error":"#N/A"},{"$error":"#N/A"},{"$error":"#N/A"},{"$error":"#N/A"},{"$error":"#N/A"},{"$error":"#N/A"},{"$error":"#N/A"},{"$error":"#N/A"},{"$error":"#N/A"},{"$error":"#N/A"},{"$error":"#N/A"},{"$error":"#N/A"},{"$error":"#N/A"},{"$error":"#N/A"},{"$error":"#N/A"},{"$error":"#N/A"},{"$error":"#N/A"},{"$error":"#N/A"},{"$error":"#N/A"},{"$error":"#N/A"},{"$error":"#N/A"},{"$error":"#N/A"},{"$error":"#N/A"},{"$error":"#N/A"},{"$error":"#N/A"},{"$error":"#N/A"},{"$error":"#N/A"}]
[6,{"$error":"#N/A"},{"$error":"#N/A"},{"$error":"#N/A"},{"$error":"#N/A"},{"$error":"#N/A"},{"$error":"#N/A"},{"$error":"#N/A"},{"$error":"#N/A"},{"$error":"#N/A"},null,{"$error":"#N/A"},6,{"$f":"VLOOKUP($M23,Funknavigation!$A$2:$AC$185,N$17,FALSE)","v":"Ansbach "},{"$f":"VLOOKUP($M23,Funknavigation!$A$2:$AC$185,O$17,FALSE)","v":"NDB "},{"$f":"VLOOKUP($M23,Funknavigation!$A$2:$AC$185,P$17,FALSE)","v":"ANS"},{"$f":"VLOOKUP($M23,Funknavigation!$A$2:$AC$185,Q$17,FALSE)","v":"· −   − ·   · · ·"},{"$f":"VLOOKUP($M23,Funknavigation!$A$2:$AC$185,R$17,FALSE)","v":6},{"$f":"VLOOKUP($M23,Funknavigation!$A$2:$AC$185,S$17,FALSE)","v":49.308900000000001},{"$f":"VLOOKUP($M23,Funknavigation!$A$2:$AC$185,T$17,FALSE)","v":10.631399999999999},{"$f":"VLOOKUP($M23,Funknavigation!$A$2:$AC$185,U$17,FALSE)","v":""},{"$f":"VLOOKUP($M23,Funknavigation!$A$2:$AC$185,V$17,FALSE)","v":452},{"$f":"VLOOKUP($M23,Funknavigation!$A$2:$AC$185,W$17,FALSE)","v":""},{"$f":"VLOOKUP($M23,Funknavigation!$A$2:$AC$185,X$17,FALSE)","v":25},null,null,0.86060265553663196,0.18555293409652512,{"$f":"IF(AG23=1,MAX(MAX(AC$18:$AC22),MAX($AD$18:$AD$193))+1,\"-\")","v":{"$error":"#N/A"}},{"$f":"IF(AH23=1,MAX($AD$18:AD22)+1,\"-\")","v":{"$error":"#N/A"}},{"$error":"#N/A"},{"$error":"#N/A"},{"$error":"#N/A"},{"$error":"#N/A"},{"$error":"#N/A"},{"$error":"#N/A"},{"$error":"#N/A"},{"$error":"#N/A"},{"$error":"#N/A"},{"$error":"#N/A"},{"$error":"#N/A"},{"$error":"#N/A"},{"$error":"#N/A"},{"$error":"#N/A"},{"$error":"#N/A"},{"$error":"#N/A"},{"$error":"#N/A"},{"$error":"#N/A"},{"$error":"#N/A"},{"$error":"#N/A"},{"$error":"#N/A"},{"$error":"#N/A"},{"$error":"#N/A"},{"$error":"#N/A"},{"$error":"#N/A"},{"$error":"#N/A"},{"$error":"#N/A"},{"$error":"#N/A"},{"$error":"#N/A"},{"$error":"#N/A"},{"$error":"#N/A"},{"$error":"#N/A"},{"$error":"#N/A"},{"$error":"#N/A"},{"$error":"#N/A"},{"$error":"#N/A"},{"$error":"#N/A"},{"$error":"#N/A"},{"$error":"#N/A"},{"$error":"#N/A"},{"$error":"#N/A"},{"$error":"#N/A"},{"$error":"#N/A"},{"$error":"#N/A"},{"$error":"#N/A"},{"$error":"#N/A"},{"$error":"#N/A"},{"$error":"#N/A"},{"$error":"#N/A"},{"$error":"#N/A"},{"$error":"#N/A"},{"$error":"#N/A"},{"$error":"#N/A"},{"$error":"#N/A"},{"$error":"#N/A"},{"$error":"#N/A"},{"$error":"#N/A"},{"$error":"#N/A"},{"$error":"#N/A"},{"$error":"#N/A"},{"$error":"#N/A"},{"$error":"#N/A"},{"$error":"#N/A"},{"$error":"#N/A"},{"$error":"#N/A"},{"$error":"#N/A"},{"$error":"#N/A"},{"$error":"#N/A"},{"$error":"#N/A"},{"$error":"#N/A"},{"$error":"#N/A"},{"$error":"#N/A"},{"$error":"#N/A"},{"$error":"#N/A"},{"$error":"#N/A"},{"$error":"#N/A"},{"$error":"#N/A"},{"$error":"#N/A"},{"$error":"#N/A"},{"$error":"#N/A"},{"$error":"#N/A"},{"$error":"#N/A"},{"$error":"#N/A"},{"$error":"#N/A"},{"$error":"#N/A"},{"$error":"#N/A"},{"$error":"#N/A"},{"$error":"#N/A"},{"$error":"#N/A"},{"$error":"#N/A"},{"$error":"#N/A"},{"$error":"#N/A"},{"$error":"#N/A"},{"$error":"#N/A"},{"$error":"#N/A"},{"$error":"#N/A"},{"$error":"#N/A"},{"$error":"#N/A"},{"$error":"#N/A"},{"$error":"#N/A"},{"$error":"#N/A"},{"$error":"#N/A"},{"$error":"#N/A"},{"$error":"#N/A"},{"$error":"#N/A"},{"$error":"#N/A"}]
[7,{"$error":"#N/A"},{"$error":"#N/A"},{"$error":"#N/A"},{"$error":"#N/A"},{"$error":"#N/A"},{"$error":"#N/A"},{"$error":"#N/A"},{"$error":"#N/A"},{"$error":"#N/A"},null,{"$error":"#N/A"},7,{"$f":"VLOOKUP($M24,Funknavigation!$A$2:$AC$185,N$17,FALSE)","v":"Augsburg "},{"$f":"VLOOKUP($M24,Funknavigation!$A$2:$AC$185,O$17,FALSE)","v":"NDB "},{"$f":"VLOOKUP($M24,Funknavigation!$A$2:$AC$185,P$17,FALSE)","v":"AGB"},{"$f":"VLOOKUP($M24,Funknavigation!$A$2:$AC$185,Q$17,FALSE)","v":"· −   − − ·   − · · ·"},{"$f":"VLOOKUP($M24,Funknavigation!$A$2:$AC$185,R$17,FALSE)","v":7},{"$f":"VLOOKUP($M24,Funknavigation!$A$2:$AC$185,S$17,FALSE)","v":48.424199999999999},{"$f":"VLOOKUP($M24,Funknavigation!$A$2:$AC$185,T$17,FALSE)","v":10.9331},{"$f":"VLOOKUP($M24,Funknavigation!$A$2:$AC$185,U$17,FALSE)","v":""},{"$f":"VLOOKUP($M24,Funknavigation!$A$2:$AC$185,V$17,FALSE)","v":318},{"$f":"VLOOKUP($M24,Funknavigation!$A$2:$AC$185,W$17,FALSE)","v":""},{"$f":"VLOOKUP($M24,Funknavigation!$A$2:$AC$185,X$17,FALSE)","v":25},null,null,0.84516172764423803,0.19081859244979202,{"$f":"IF(AG24=1,MAX(MAX(AC$18:$AC23),MAX($AD$18:$AD$193))+1,\"-\")","v":{"$error":"#N/A"}},{"$f":"IF(AH24=1,MAX($AD$18:AD23)+1,\"-\")","v":{"$error":"#N/A"}},{"$error":"#N/A"},{"$error":"#N/A"},{"$f":"IF(AND(AI24=1,AH24<>1),1,0)","v":{"$error":"#N/A"}},{"$f":"IF(MIN(AJ24:EF24)<(X24/$AH$16),1,0)","v":{"$error":"#N/A"}},{"$f":"IF(MIN(AJ24:EF24)<X24,1,0)","v":{"$error":"#N/A"}},{"$error":"#N/A"},{"$error":"#N/A"},{"$error":"#N/A"},{"$error":"#N/A"},{"$error":"#N/A"},{"$error":"#N/A"},{"$error":"#N/A"},{"$error":"#N/A"},{"$error":"#N/A"},{"$error":"#N/A"},{"$error":"#N/A"},{"$error":"#N/A"},{"$error":"#N/A"},{"$error":"#N/A"},{"$error":"#N/A"},{"$error":"#N/A"},{"$error":"#N/A"},{"$error":"#N/A"},{"$error":"#N/A"},{"$error":"#N/A"},{"$error":"#N/A"},{"$error":"#N/A"},{"$error":"#N/A"},{"$error":"#N/A"},{"$error":"#N/A"},{"$error":"#N/A"},{"$error":"#N/A"},{"$error":"#N/A"},{"$error":"#N/A"},{"$error":"#N/A"},{"$error":"#N/A"},{"$error":"#N/A"},{"$error":"#N/A"},{"$error":"#N/A"},{"$error":"#N/A"},{"$error":"#N/A"},{"$error":"#N/A"},{"$error":"#N/A"},{"$error":"#N/A"},{"$error":"#N/A"},{"$error":"#N/A"},{"$error":"#N/A"},{"$error":"#N/A"},{"$error":"#N/A"},{"$error":"#N/A"},{"$error":"#N/A"},{"$error":"#N/A"},{"$error":"#N/A"},{"$error":"#N/A"},{"$error":"#N/A"},{"$error":"#N/A"},{"$error":"#N/A"},{"$error":"#N/A"},{"$error":"#N/A"},{"$error":"#N/A"},{"$error":"#N/A"},{"$error":"#N/A"},{"$error":"#N/A"},{"$error":"#N/A"},{"$error":"#N/A"},{"$error":"#N/A"},{"$error":"#N/A"},{"$error":"#N/A"},{"$error":"#N/A"},{"$error":"#N/A"},{"$error":"#N/A"},{"$error":"#N/A"},{"$error":"#N/A"},{"$error":"#N/A"},{"$error":"#N/A"},{"$error":"#N/A"},{"$error":"#N/A"},{"$error":"#N/A"},{"$error":"#N/A"},{"$error":"#N/A"},{"$error":"#N/A"},{"$error":"#N/A"},{"$error":"#N/A"},{"$error":"#N/A"},{"$error":"#N/A"},{"$error":"#N/A"},{"$error":"#N/A"},{"$error":"#N/A"},{"$error":"#N/A"},{"$error":"#N/A"},{"$error":"#N/A"},{"$error":"#N/A"},{"$error":"#N/A"},{"$error":"#N/A"},{"$error":"#N/A"},{"$error":"#N/A"},{"$error":"#N/A"},{"$error":"#N/A"},{"$error":"#N/A"},{"$error":"#N/A"},{"$error":"#N/A"},{"$error":"#N/A"},{"$error":"#N/A"},{"$error":"#N/A"},{"$error":"#N/A"},{"$error":"#N/A"}]
[8,{"$error":"#N/A"},{"$error":"#N/A"},{"$error":"#N/A"},{"$error":"#N/A"},{"$error":"#N/A"},{"$error":"#N/A"},{"$error":"#N/A"},{"$error":"#N/A"},{"$error":"#N/A"},null,{"$error":"#N/A"},8,{"$f":"VLOOKUP($M25,Funknavigation!$A$2:$AC$185,N$17,FALSE)","v":"Augsburg"},{"$f":"VLOOKUP($M25,Funknavigation!$A$2:$AC$185,O$17,FALSE)","v":"DME "},{"$f":"VLOOKUP($M25,Funknavigation!$A$2:$AC$185,P$17,FALSE)","v":"AUG"},{"$f":"VLOOKUP($M25,Funknavigation!$A$2:$AC$185,Q$17,FALSE)","v":"· −   · · −   − − ·"},{"$f":"VLOOKUP($M25,Funknavigation!$A$2:$AC$185,R$17,FALSE)","v":8},{"$f":"VLOOKUP($M25,Funknavigation!$A$2:$AC$185,S$17,FALSE)","v":48.424199999999999},{"$f":"VLOOKUP($M25,Funknavigation!$A$2:$AC$185,T$17,FALSE)","v":10.9331},{"$f":"VLOOKUP($M25,Funknavigation!$A$2:$AC$185,U$17,FALSE)","v":"115.90"},{"$f":"VLOOKUP($M25,Funknavigation!$A$2:$AC$185,V$17,FALSE)","v":""},{"$f":"VLOOKUP($M25,Funknavigation!$A$2:$AC$185,W$17,FALSE)","v":"Ch 106x "},{"$f":"VLOOKUP($M25,Funknavigation!$A$2:$AC$185,X$17,FALSE)","v":25},null,null,0.84516172764423803,0.19081859244979202,{"$f":"IF(AG25=1,MAX(MAX(AC$18:$AC24),MAX($AD$18:$AD$193))+1,\"-\")","v":{"$error":"#N/A"}},{"$f":"IF(AH25=1,MAX($AD$18:AD24)+1,\"-\")","v":{"$error":"#N/A"}},{"$error":"#N/A"},{"$error":"#N/A"},{"$error":"#N/A"},{"$error":"#N/A"},{"$error":"#N/A"},{"$error":"#N/A"},{"$error":"#N/A"},{"$error":"#N/A"},{"$error":"#N/A"},{"$error":"#N/A"},{"$error":"#N/A"},{"$error":"#N/A"},{"$error":"#N/A"},{"$error":"#N/A"},{"$error":"#N/A"},{"$error":"#N/A"},{"$error":"#N/A"},{"$error":"#N/A"},{"$error":"#N/A"},{"$error":"#N/A"},{"$error":"#N/A"},{"$error":"#N/A"},{"$error":"#N/A"},{"$error":"#N/A"},{"$error":"#N/A"},{"$error":"#N/A"},{"$error":"#N/A"},{"$error":"#N/A"},{"$error":"#N/A"},{"$error":"#N/A"},{"$error":"#N/A"},{"$error":"#N/A"},{"$error":"#N/A"},{"$error":"#N/A"},{"$error":"#N/A"},{"$error":"#N/A"},{"$error":"#N/A"},{"$error":"#N/A"},{"$error":"#N/A"},{"$error":"#N/A"},{"$error":"#N/A"},{"$error":"#N/A"},{"$error":"#N/A"},{"$error":"#N/A"},{"$error":"#N/A"},{"$error":"#N/A"},{"$error":"#N/A"},{"$error":"#N/A"},{"$error":"#N/A"},{"$error":"#N/A"},{"$error":"#N/A"},{"$error":"#N/A"},{"$error":"#N/A"},{"$error":"#N/A"},{"$error":"#N/A"},{"$error":"#N/A"},{"$error":"#N/A"},{"$error":"#N/A"},{"$error":"#N/A"},{"$error":"#N/A"},{"$error":"#N/A"},{"$error":"#N/A"},{"$error":"#N/A"},{"$error":"#N/A"},{"$error":"#N/A"},{"$error":"#N/A"},{"$error":"#N/A"},{"$error":"#N/A"},{"$error":"#N/A"},{"$error":"#N/A"},{"$error":"#N/A"},{"$error":"#N/A"},{"$error":"#N/A"},{"$error":"#N/A"},{"$error":"#N/A"},{"$error":"#N/A"},{"$error":"#N/A"},{"$error":"#N/A"},{"$error":"#N/A"},{"$error":"#N/A"},{"$error":"#N/A"},{"$error":"#N/A"},{"$error":"#N/A"},{"$error":"#N/A"},{"$error":"#N/A"},{"$error":"#N/A"},{"$error":"#N/A"},{"$error":"#N/A"},{"$error":"#N/A"},{"$error":"#N/A"},{"$error":"#N/A"},{"$error":"#N/A"},{"$error":"#N/A"},{"$error":"#N/A"},{"$error":"#N/A"},{"$error":"#N/A"},{"$error":"#N/A"},{"$error":"#N/A"},{"$error":"#N/A"},{"$error":"#N/A"},{"$error":"#N/A"},{"$error":"#N/A"},{"$error":"#N/A"},{"$error":"#N/A"},{"$error":"#N/A"},{"$error":"#N/A"}]
[9,{"$error":"#N/A"},{"$error":"#N/A"},{"$error":"#N/A"},{"$error":"#N/A"},{"$error":"#N/A"},{"$error":"#N/A"},{"$error":"#N/A"},{"$error":"#N/A"},{"$error":"#N/A"},null,{"$error":"#N/A"},9,{"$f":"VLOOKUP($M26,Funknavigation!$A$2:$AC$185,N$17,FALSE)","v":"Barmen "},{"$f":"VLOOKUP($M26,Funknavigation!$A$2:$AC$185,O$17,FALSE)","v":"DVOR/DME "},{"$f":"VLOOKUP($M26,Funknavigation!$A$2:$AC$185,P$17,FALSE)","v":"BAM"},{"$f":"VLOOKUP($M26,Funknavigation!$A$2:$AC$185,Q$17,FALSE)","v":"− · · ·   · −   − −"},{"$f":"VLOOKUP($M26,Funknavigation!$A$2:$AC$185,R$17,FALSE)","v":9},{"$f":"VLOOKUP($M26,Funknavigation!$A$2:$AC$185,S$17,FALSE)","v":51.327800000000003},{"$f":"VLOOKUP($M26,Funknavigation!$A$2:$AC$185,T$17,FALSE)","v":7.1768999999999998},{"$f":"VLOOKUP($M26,Funknavigation!$A$2:$AC$185,U$17,FALSE)","v":"113.60"},{"$f":"VLOOKUP($M26,Funknavigation!$A$2:$AC$185,V$17,FALSE)","v":""},{"$f":"VLOOKUP($M26,Funknavigation!$A$2:$AC$185,W$17,FALSE)","v":"Ch 83x "},{"$f":"VLOOKUP($M26,Funknavigation!$A$2:$AC$185,X$17,FALSE)","v":40},null,null,0.89583910780514553,0.12526053508638105,{"$f":"IF(AG26=1,MAX(MAX(AC$18:$AC25),MAX($AD$18:$AD$193))+1,\"-\")","v":{"$error":"#N/A"}},{"$f":"IF(AH26=1,MAX($AD$18:AD25)+1,\"-\")","v":{"$error":"#N/A"}},{"$error":"#N/A"},{"$error":"#N/A"},{"$error":"#N/A"},{"$error":"#N/A"},{"$error":"#N/A"},{"$error":"#N/A"},{"$error":"#N/A"},{"$error":"#N/A"},{"$error":"#N/A"},{"$error":"#N/A"},{"$error":"#N/A"},{"$error":"#N/A"},{"$error":"#N/A"},{"$error":"#N/A"},{"$error":"#N/A"},{"$error":"#N/A"},{"$error":"#N/A"},{"$error":"#N/A"},{"$error":"#N/A"},{"$error":"#N/A"},{"$error":"#N/A"},{"$error":"#N/A"},{"$error":"#N/A"},{"$error":"#N/A"},{"$error":"#N/A"},{"$error":"#N/A"},{"$error":"#N/A"},{"$error":"#N/A"},{"$error":"#N/A"},{"$error":"#N/A"},{"$error":"#N/A"},{"$error":"#N/A"},{"$error":"#N/A"},{"$error":"#N/A"},{"$error":"#N/A"},{"$error":"#N/A"},{"$error":"#N/A"},{"$error":"#N/A"},{"$error":"#N/A"},{"$error":"#N/A"},{"$error":"#N/A"},{"$error":"#N/A"},{"$error":"#N/A"},{"$error":"#N/A"},{"$error":"#N/A"},{"$error":"#N/A"},{"$error":"#N/A"},{"$error":"#N/A"},{"$error":"#N/A"},{"$error":"#N/A"},{"$error":"#N/A"},{"$error":"#N/A"},{"$error":"#N/A"},{"$error":"#N/A"},{"$error":"#N/A"},{"$error":"#N/A"},{"$error":"#N/A"},{"$error":"#N/A"},{"$error":"#N/A"},{"$error":"#N/A"},{"$error":"#N/A"},{"$error":"#N/A"},{"$error":"#N/A"},{"$error":"#N/A"},{"$error":"#N/A"},{"$error":"#N/A"},{"$error":"#N/A"},{"$error":"#N/A"},{"$error":"#N/A"},{"$error":"#N/A"},{"$error":"#N/A"},{"$error":"#N/A"},{"$error":"#N/A"},{"$error":"#N/A"},{"$error":"#N/A"},{"$error":"#N/A"},{"$error":"#N/A"},{"$error":"#N/A"},{"$error":"#N/A"},{"$error":"#N/A"},{"$error":"#N/A"},{"$error":"#N/A"},{"$error":"#N/A"},{"$error":"#N/A"},{"$error":"#N/A"},{"$error":"#N/A"},{"$error":"#N/A"},{"$error":"#N/A"},{"$error":"#N/A"},{"$error":"#N/A"},{"$error":"#N/A"},{"$error":"#N/A"},{"$error":"#N/A"},{"$error":"#N/A"},{"$error":"#N/A"},{"$error":"#N/A"},{"$error":"#N/A"},{"$error":"#N/A"},{"$error":"#N/A"},{"$error":"#N/A"},{"$error":"#N/A"},{"$error":"#N/A"},{"$error":"#N/A"},{"$error":"#N/A"},{"$error":"#N/A"},{"$error":"#N/A"}]
[10,{"$error":"#N/A"},{"$error":"#N/A"},{"$error":"#N/A"},{"$error":"#N/A"},{"$error":"#N/A"},{"$error":"#N/A"},{"$error":"#N/A"},{"$error":"#N/A"},{"$error":"#N/A"},null,{"$error":"#N/A"},10,{"$f":"VLOOKUP($M27,Funknavigation!$A$2:$AC$185,N$17,FALSE)","v":"Bayreuth "},{"$f":"VLOOKUP($M27,Funknavigation!$A$2:$AC$185,O$17,FALSE)","v":"VOR "},{"$f":"VLOOKUP($M27,Funknavigation!$A$2:$AC$185,P$17,FALSE)","v":"BAY"},{"$f":"VLOOKUP($M27,Funknavigation!$A$2:$AC$185,Q$17,FALSE)","v":"− · · ·   · −   − · − −"},{"$f":"VLOOKUP($M27,Funknavigation!$A$2:$AC$185,R$17,FALSE)","v":10},{"$f":"VLOOKUP($M27,Funknavigation!$A$2:$AC$185,S$17,FALSE)","v":49.985300000000002},{"$f":"VLOOKUP($M27,Funknavigation!$A$2:$AC$185,T$17,FALSE)","v":11.636699999999999},{"$f":"VLOOKUP($M27,Funknavigation!$A$2:$AC$185,U$17,FALSE)","v":"110.60"},{"$f":"VLOOKUP($M27,Funknavigation!$A$2:$AC$185,V$17,FALSE)","v":""},{"$f":"VLOOKUP($M27,Funknavigation!$A$2:$AC$185,W$17,FALSE)","v":""},{"$f":"VLOOKUP($M27,Funknavigation!$A$2:$AC$185,X$17,FALSE)","v":40},null,null,0.87240806259712167,0.20309872906682414,{"$f":"IF(AG27=1,MAX(MAX(AC$18:$AC26),MAX($AD$18:$AD$193))+1,\"-\")","v":{"$error":"#N/A"}},{"$f":"IF(AH27=1,MAX($AD$18:AD26)+1,\"-\")","v":{"$error":"#N/A"}},{"$error":"#N/A"},{"$error":"#N/A"},{"$error":"#N/A"},{"$error":"#N/A"},{"$error":"#N/A"},{"$error":"#N/A"},{"$error":"#N/A"},{"$error":"#N/A"},{"$error":"#N/A"},{"$error":"#N/A"},{"$error":"#N/A"},{"$error":"#N/A"},{"$error":"#N/A"},{"$error":"#N/A"},{"$error":"#N/A"},{"$error":"#N/A"},{"$error":"#N/A"},{"$error":"#N/A"},{"$error":"#N/A"},{"$error":"#N/A"},{"$error":"#N/A"},{"$error":"#N/A"},{"$error":"#N/A"},{"$error":"#N/A"},{"$error":"#N/A"},{"$error":"#N/A"},{"$error":"#N/A"},{"$error":"#N/A"},{"$error":"#N/A"},{"$error":"#N/A"},{"$error":"#N/A"},{"$error":"#N/A"},{"$error":"#N/A"},{"$error":"#N/A"},{"$error":"#N/A"},{"$error":"#N/A"},{"$error":"#N/A"},{"$error":"#N/A"},{"$error":"#N/A"},{"$error":"#N/A"},{"$error":"#N/A"},{"$error":"#N/A"},{"$error":"#N/A"},{"$error":"#N/A"},{"$error":"#N/A"},{"$error":"#N/A"},{"$error":"#N/A"},{"$error":"#N/A"},{"$error":"#N/A"},{"$error":"#N/A"},{"$error":"#N/A"},{"$error":"#N/A"},{"$error":"#N/A"},{"$error":"#N/A"},{"$error":"#N/A"},{"$error":"#N/A"},{"$error":"#N/A"},{"$error":"#N/A"},{"$error":"#N/A"},{"$error":"#N/A"},{"$error":"#N/A"},{"$error":"#N/A"},{"$error":"#N/A"},{"$error":"#N/A"},{"$error":"#N/A"},{"$error":"#N/A"},{"$error":"#N/A"},{"$error":"#N/A"},{"$error":"#N/A"},{"$error":"#N/A"},{"$error":"#N/A"},{"$error":"#N/A"},{"$error":"#N/A"},{"$error":"#N/A"},{"$error":"#N/A"},{"$error":"#N/A"},{"$error":"#N/A"},{"$error":"#N/A"},{"$error":"#N/A"},{"$error":"#N/A"},{"$error":"#N/A"},{"$error":"#N/A"},{"$error":"#N/A"},{"$error":"#N/A"},{"$error":"#N/A"},{"$error":"#N/A"},{"$error":"#N/A"},{"$error":"#N/A"},{"$error":"#N/A"},{"$error":"#N/A"},{"$error":"#N/A"},{"$error":"#N/A"},{"$error":"#N/A"},{"$error":"#N/A"},{"$error":"#N/A"},{"$error":"#N/A"},{"$error":"#N/A"},{"$error":"#N/A"},{"$error":"#N/A"},{"$error":"#N/A"},{"$error":"#N/A"},{"$f":"IF(EB$3=\"OK\",(21600/(2*PI()))*ACOS(SIN($AA27)*SIN(EB$6)+COS(EB$6)*COS($AA27)*COS($AB27-EB$7)),\"-\")","v":{"$error":"#N/A"}},{"$error":"#N/A"},{"$error":"#N/A"},{"$error":"#N/A"},{"$error":"#N/A"}]
[11,{"$error":"#N/A"},{"$f":"IF($B28<>\"-\",VLOOKUP($B28,$M$18:$X$193,C$17,FALSE),\"\")","v":{"$error":"#N/A"}},{"$error":"#N/A"},{"$error":"#N/A"},{"$error":"#N/A"},{"$error":"#N/A"},{"$error":"#N/A"},{"$error":"#N/A"},{"$error":"#N/A"},null,{"$error":"#N/A"},11,{"$f":"VLOOKUP($M28,Funknavigation!$A$2:$AC$185,N$17,FALSE)","v":"Berlin-Brandenburg "},{"$f":"VLOOKUP($M28,Funknavigation!$A$2:$AC$185,O$17,FALSE)","v":"DVOR/DME "},{"$f":"VLOOKUP($M28,Funknavigation!$A$2:$AC$185,P$17,FALSE)","v":"BBI"},{"$f":"VLOOKUP($M28,Funknavigation!$A$2:$AC$185,Q$17,FALSE)","v":"− · · ·   − · · ·   · ·"},{"$f":"VLOOKUP($M28,Funknavigation!$A$2:$AC$185,R$17,FALSE)","v":11},{"$f":"VLOOKUP($M28,Funknavigation!$A$2:$AC$185,S$17,FALSE)","v":52.341900000000003},{"$f":"VLOOKUP($M28,Funknavigation!$A$2:$AC$185,T$17,FALSE)","v":13.4542},{"$f":"VLOOKUP($M28,Funknavigation!$A$2:$AC$185,U$17,FALSE)","v":"114.10"},{"$f":"VLOOKUP($M28,Funknavigation!$A$2:$AC$185,V$17,FALSE)","v":""},{"$f":"VLOOKUP($M28,Funknavigation!$A$2:$AC$185,W$17,FALSE)","v":"Ch 88x "},{"$f":"VLOOKUP($M28,Funknavigation!$A$2:$AC$185,X$17,FALSE)","v":80},null,null,0.91353849174961999,0.2348200882218211,{"$f":"IF(AG28=1,MAX(MAX(AC$18:$AC27),MAX($AD$18:$AD$193))+1,\"-\")","v":{"$error":"#N/A"}},{"$f":"IF(AH28=1,MAX($AD$18:AD27)+1,\"-\")","v":{"$error":"#N/A"}},{"$error":"#N/A"},{"$error":"#N/A"},{"$error":"#N/A"},{"$error":"#N/A"},{"$error":"#N/A"},{"$error":"#N/A"},{"$error":"#N/A"},{"$f":"IF(AL$3=\"OK\",(21600/(2*PI()))*ACOS(SIN($AA28)*SIN(AL$6)+COS(AL$6)*COS($AA28)*COS($AB28-AL$7)),\"-\")","v":{"$error":"#N/A"}},{"$error":"#N/A"},{"$error":"#N/A"},{"$error":"#N/A"},{"$error":"#N/A"},{"$error":"#N/A"},{"$error":"#N/A"},{"$error":"#N/A"},{"$error":"#N/A"},{"$error":"#N/A"},{"$f":"IF(AV$3=\"OK\",(21600/(2*PI()))*ACOS(SIN($AA28)*SIN(AV$6)+COS(AV$6)*COS($AA28)*COS($AB28-AV$7)),\"-\")","v":{"$error":"#N/A"}},{"$error":"#N/A"},{"$error":"#N/A"},{"$error":"#N/A"},{"$error":"#N/A"},{"$error":"#N/A"},{"$error":"#N/A"},{"$error":"#N/A"},{"$error":"#N/A"},{"$error":"#N/A"},{"$f":"IF(BF$3=\"OK\",(21600/(2*PI()))*ACOS(SIN($AA28)*SIN(BF$6)+COS(BF$6)*COS($AA28)*COS($AB28-BF$7)),\"-\")","v":{"$error":"#N/A"}},{"$error":"#N/A"},{"$error":"#N/A"},{"$error":"#N/A"},{"$error":"#N/A"},{"$error":"#N/A"},{"$error":"#N/A"},{"$error":"#N/A"},{"$error":"#N/A"},{"$error":"#N/A"},{"$f":"IF(BP$3=\"OK\",(21600/(2*PI()))*ACOS(SIN($AA28)*SIN(BP$6)+COS(BP$6)*COS($AA28)*COS($AB28-BP$7)),\"-\")","v":{"$error":"#N/A"}},{"$error":"#N/A"},{"$error":"#N/A"},{"$error":"#N/A"},{"$error":"#N/A"},{"$error":"#N/A"},{"$error":"#N/A"},{"$error":"#N/A"},{"$error":"#N/A"},{"$error":"#N/A"},{"$f":"IF(BZ$3=\"OK\",(21600/(2*PI()))*ACOS(SIN($AA28)*SIN(BZ$6)+COS(BZ$6)*COS($AA28)*COS($AB28-BZ$7)),\"-\")","v":{"$error":"#N/A"}},{"$error":"#N/A"},{"$error":"#N/A"},{"$error":"#N/A"},{"$error":"#N/A"},{"$error":"#N/A"},{"$error":"#N/A"},{"$error":"#N/A"},{"$error":"#N/A"},{"$error":"#N/A"},{"$f":"IF(CJ$3=\"OK\",(21600/(2*PI()))*ACOS(SIN($AA28)*SIN(CJ$6)+COS(CJ$6)*COS($AA28)*COS($AB28-CJ$7)),\"-\")","v":{"$error":"#N/A"}},{"$error":"#N/A"},{"$error":"#N/A"},{"$error":"#N/A"},{"$error":"#N/A"},{"$error":"#N/A"},{"$error":"#N/A"},{"$error":"#N/A"},{"$error":"#N/A"},{"$error":"#N/A"},{"$f":"IF(CT$3=\"OK\",(21600/(2*PI()))*ACOS(SIN($AA28)*SIN(CT$6)+COS(CT$6)*COS($AA28)*COS($AB28-CT$7)),\"-\")","v":{"$error":"#N/A"}},{"$error":"#N/A"},{"$error":"#N/A"},{"$error":"#N/A"},{"$error":"#N/A"},{"$error":"#N/A"},{"$error":"#N/A"},{"$error":"#N/A"},{"$error":"#N/A"},{"$error":"#N/A"},{"$error":"#N/A"},{"$error":"#N/A"},{"$error":"#N/A"},{"$error":"#N/A"},{"$error":"#N/A"},{"$error":"#N/A"},{"$error":"#N/A"},{"$error":"#N/A"},{"$error":"#N/A"},{"$error":"#N/A"},{"$error":"#N/A"},{"$error":"#N/A"},{"$error":"#N/A"},{"$error":"#N/A"},{"$error":"#N/A"},{"$error":"#N/A"},{"$error":"#N/A"},{"$error":"#N/A"},{"$error":"#N/A"},{"$error":"#N/A"},{"$error":"#N/A"},{"$error":"#N/A"},{"$error":"#N/A"},{"$error":"#N/A"},{"$error":"#N/A"},{"$error":"#N/A"},{"$error":"#N/A"},{"$error":"#N/A"},{"$error":"#N/A"}]
[12,{"$error":"#N/A"},{"$error":"#N/A"},{"$error":"#N/A"},{"$error":"#N/A"},{"$error":"#N/A"},{"$error":"#N/A"},{"$error":"#N/A"},{"$error":"#N/A"},{"$error":"#N/A"},null,{"$error":"#N/A"},12,{"$f":"VLOOKUP($M29,Funknavigation!$A$2:$AC$185,N$17,FALSE)","v":"Berlin/Schoenefeld "},{"$f":"VLOOKUP($M29,Funknavigation!$A$2:$AC$185,O$17,FALSE)","v":"DME "},{"$f":"VLOOKUP($M29,Funknavigation!$A$2:$AC$185,P$17,FALSE)","v":"SDD"},{"$f":"VLOOKUP($M29,Funknavigation!$A$2:$AC$185,Q$17,FALSE)","v":"· · ·   − · ·   − · ·"},{"$f":"VLOOKUP($M29,Funknavigation!$A$2:$AC$185,R$17,FALSE)","v":12},{"$f":"VLOOKUP($M29,Funknavigation!$A$2:$AC$185,S$17,FALSE)","v":52.374400000000001},{"$f":"VLOOKUP($M29,Funknavigation!$A$2:$AC$185,T$17,FALSE)","v":13.5036},{"$f":"VLOOKUP($M29,Funknavigation!$A$2:$AC$185,U$17,FALSE)","v":"114.40"},{"$f":"VLOOKUP($M29,Funknavigation!$A$2:$AC$185,V$17,FALSE)","v":""},{"$f":"VLOOKUP($M29,Funknavigation!$A$2:$AC$185,W$17,FALSE)","v":"Ch 91x "},{"$f":"VLOOKUP($M29,Funknavigation!$A$2:$AC$185,X$17,FALSE)","v":25},null,null,0.91410572375651811,0.2356822808723063,{"$f":"IF(AG29=1,MAX(MAX(AC$18:$AC28),MAX($AD$18:$AD$193))+1,\"-\")","v":{"$error":"#N/A"}},{"$f":"IF(AH29=1,MAX($AD$18:AD28)+1,\"-\")","v":{"$error":"#N/A"}},{"$error":"#N/A"},{"$error":"#N/A"},{"$error":"#N/A"},{"$error":"#N/A"},{"$error":"#N/A"},{"$error":"#N/A"},{"$error":"#N/A"},{"$error":"#N/A"},{"$error":"#N/A"},{"$error":"#N/A"},{"$error":"#N/A"},{"$error":"#N/A"},{"$error":"#N/A"},{"$error":"#N/A"},{"$error":"#N/A"},{"$error":"#N/A"},{"$error":"#N/A"},{"$error":"#N/A"},{"$error":"#N/A"},{"$error":"#N/A"},{"$error":"#N/A"},{"$error":"#N/A"},{"$error":"#N/A"},{"$error":"#N/A"},{"$error":"#N/A"},{"$error":"#N/A"},{"$error":"#N/A"},{"$error":"#N/A"},{"$error":"#N/A"},{"$error":"#N/A"},{"$error":"#N/A"},{"$error":"#N/A"},{"$error":"#N/A"},{"$error":"#N/A"},{"$error":"#N/A"},{"$error":"#N/A"},{"$error":"#N/A"},{"$error":"#N/A"},{"$error":"#N/A"},{"$error":"#N/A"},{"$error":"#N/A"},{"$error":"#N/A"},{"$error":"#N/A"},{"$error":"#N/A"},{"$error":"#N/A"},{"$error":"#N/A"},{"$error":"#N/A"},{"$error":"#N/A"},{"$error":"#N/A"},{"$error":"#N/A"},{"$error":"#N/A"},{"$error":"#N/A"},{"$error":"#N/A"},{"$error":"#N/A"},{"$error":"#N/A"},{"$error":"#N/A"},{"$error":"#N/A"},{"$error":"#N/A"},{"$error":"#N/A"},{"$error":"#N/A"},{"$error":"#N/A"},{"$error":"#N/A"},{"$error":"#N/A"},{"$error":"#N/A"},{"$error":"#N/A"},{"$error":"#N/A"},{"$error":"#N/A"},{"$error":"#N/A"},{"$error":"#N/A"},{"$error":"#N/A"},{"$error":"#N/A"},{"$error":"#N/A"},{"$error":"#N/A"},{"$error":"#N/A"},{"$error":"#N/A"},{"$error":"#N/A"},{"$error":"#N/A"},{"$error":"#N/A"},{"$error":"#N/A"},{"$error":"#N/A"},{"$f":"IF(DG$3=\"OK\",(21600/(2*PI()))*ACOS(SIN($AA29)*SIN(DG$6)+COS(DG$6)*COS($AA29)*COS($AB29-DG$7)),\"-\")","v":{"$error":"#N/A"}},{"$error":"#N/A"},{"$error":"#N/A"},{"$error":"#N/A"},{"$error":"#N/A"},{"$error":"#N/A"},{"$error":"#N/A"},{"$error":"#N/A"},{"$error":"#N/A"},{"$error":"#N/A"},{"$f":"IF(DQ$3=\"OK\",(21600/(2*PI()))*ACOS(SIN($AA29)*SIN(DQ$6)+COS(DQ$6)*COS($AA29)*COS($AB29-DQ$7)),\"-\")","v":{"$error":"#N/A"}},{"$error":"#N/A"},{"$error":"#N/A"},{"$error":"#N/A"},{"$error":"#N/A"},{"$error":"#N/A"},{"$error":"#N/A"},{"$error":"#N/A"},{"$error":"#N/A"},{"$error":"#N/A"},{"$f":"IF(EA$3=\"OK\",(21600/(2*PI()))*ACOS(SIN($AA29)*SIN(EA$6)+COS(EA$6)*COS($AA29)*COS($AB29-EA$7)),\"-\")","v":{"$error":"#N/A"}},{"$error":"#N/A"},{"$error":"#N/A"},{"$error":"#N/A"},{"$error":"#N/A"},{"$error":"#N/A"}]
[13,{"$error":"#N/A"},{"$error":"#N/A"},{"$error":"#N/A"},{"$error":"#N/A"},{"$error":"#N/A"},{"$error":"#N/A"},{"$error":"#N/A"},{"$error":"#N/A"},{"$error":"#N/A"},null,{"$error":"#N/A"},13,{"$f":"VLOOKUP($M30,Funknavigation!$A$2:$AC$185,N$17,FALSE)","v":"Berlin/Schoenefeld"},{"$f":"VLOOKUP($M30,Funknavigation!$A$2:$AC$185,O$17,FALSE)","v":"LO "},{"$f":"VLOOKUP($M30,Funknavigation!$A$2:$AC$185,P$17,FALSE)","v":"SL"},{"$f":"VLOOKUP($M30,Funknavigation!$A$2:$AC$185,Q$17,FALSE)","v":"· · ·   · − · ·"},{"$f":"VLOOKUP($M30,Funknavigation!$A$2:$AC$185,R$17,FALSE)","v":13},{"$f":"VLOOKUP($M30,Funknavigation!$A$2:$AC$185,S$17,FALSE)","v":52.400300000000001},{"$f":"VLOOKUP($M30,Funknavigation!$A$2:$AC$185,T$17,FALSE)","v":13.6225},{"$f":"VLOOKUP($M30,Funknavigation!$A$2:$AC$185,U$17,FALSE)","v":""},{"$f":"VLOOKUP($M30,Funknavigation!$A$2:$AC$185,V$17,FALSE)","v":299},{"$f":"VLOOKUP($M30,Funknavigation!$A$2:$AC$185,W$17,FALSE)","v":""},{"$f":"VLOOKUP($M30,Funknavigation!$A$2:$AC$185,X$17,FALSE)","v":15},null,null,0.91455776403278466,0.23775747735292754,{"$f":"IF(AG30=1,MAX(MAX(AC$18:$AC29),MAX($AD$18:$AD$193))+1,\"-\")","v":{"$error":"#N/A"}},{"$f":"IF(AH30=1,MAX($AD$18:AD29)+1,\"-\")","v":{"$error":"#N/A"}},{"$error":"#N/A"},{"$error":"#N/A"},{"$error":"#N/A"},{"$error":"#N/A"},{"$error":"#N/A"},{"$error":"#N/A"},{"$error":"#N/A"},{"$error":"#N/A"},{"$error":"#N/A"},{"$error":"#N/A"},{"$error":"#N/A"},{"$error":"#N/A"},{"$error":"#N/A"},{"$error":"#N/A"},{"$error":"#N/A"},{"$error":"#N/A"},{"$error":"#N/A"},{"$error":"#N/A"},{"$error":"#N/A"},{"$error":"#N/A"},{"$error":"#N/A"},{"$error":"#N/A"},{"$error":"#N/A"},{"$error":"#N/A"},{"$error":"#N/A"},{"$error":"#N/A"},{"$error":"#N/A"},{"$error":"#N/A"},{"$error":"#N/A"},{"$error":"#N/A"},{"$error":"#N/A"},{"$error":"#N/A"},{"$error":"#N/A"},{"$error":"#N/A"},{"$error":"#N/A"},{"$error":"#N/A"},{"$error":"#N/A"},{"$error":"#N/A"},{"$error":"#N/A"},{"$error":"#N/A"},{"$error":"#N/A"},{"$error":"#N/A"},{"$error":"#N/A"},{"$error":"#N/A"},{"$error":"#N/A"},{"$error":"#N/A"},{"$error":"#N/A"},{"$error":"#N/A"},{"$error":"#N/A"},{"$error":"#N/A"},{"$error":"#N/A"},{"$error":"#N/A"},{"$error":"#N/A"},{"$error":"#N/A"},{"$error":"#N/A"},{"$error":"#N/A"},{"$error":"#N/A"},{"$error":"#N/A"},{"$error":"#N/A"},{"$error":"#N/A"},{"$error":"#N/A"},{"$error":"#N/A"},{"$error":"#N/A"},{"$error":"#N/A"},{"$error":"#N/A"},{"$error":"#N/A"},{"$error":"#N/A"},{"$error":"#N/A"},{"$error":"#N/A"},{"$error":"#N/A"},{"$error":"#N/A"},{"$error":"#N/A"},{"$error":"#N/A"},{"$error":"#N/A"},{"$error":"#N/A"},{"$error":"#N/A"},{"$error":"#N/A"},{"$error":"#N/A"},{"$error":"#N/A"},{"$error":"#N/A"},{"$error":"#N/A"},{"$error":"#N/A"},{"$error":"#N/A"},{"$error":"#N/A"},{"$error":"#N/A"},{"$error":"#N/A"},{"$error":"#N/A"},{"$error":"#N/A"},{"$error":"#N/A"},{"$error":"#N/A"},{"$error":"#N/A"},{"$error":"#N/A"},{"$error":"#N/A"},{"$error":"#N/A"},{"$error":"#N/A"},{"$error":"#N/A"},{"$error":"#N/A"},{"$error":"#N/A"},{"$error":"#N/A"},{"$error":"#N/A"},{"$error":"#N/A"},{"$error":"#N/A"},{"$error":"#N/A"},{"$error":"#N/A"},{"$error":"#N/A"},{"$error":"#N/A"}]
[14,{"$error":"#N/A"},{"$error":"#N/A"},{"$error":"#N/A"},{"$error":"#N/A"},{"$error":"#N/A"},{"$error":"#N/A"},{"$error":"#N/A"},{"$error":"#N/A"},{"$error":"#N/A"},null,{"$error":"#N/A"},14,{"$f":"VLOOKUP($M31,Funknavigation!$A$2:$AC$185,N$17,FALSE)","v":"Berlin/Schoenefeld"},{"$f":"VLOOKUP($M31,Funknavigation!$A$2:$AC$185,O$17,FALSE)","v":"LO "},{"$f":"VLOOKUP($M31,Funknavigation!$A$2:$AC$185,P$17,FALSE)","v":"MW"},{"$f":"VLOOKUP($M31,Funknavigation!$A$2:$AC$185,Q$17,FALSE)","v":"− −   · − −"},{"$f":"VLOOKUP($M31,Funknavigation!$A$2:$AC$185,R$17,FALSE)","v":14},{"$f":"VLOOKUP($M31,Funknavigation!$A$2:$AC$185,S$17,FALSE)","v":52.3444},{"$f":"VLOOKUP($M31,Funknavigation!$A$2:$AC$185,T$17,FALSE)","v":13.387499999999999},{"$f":"VLOOKUP($M31,Funknavigation!$A$2:$AC$185,U$17,FALSE)","v":""},{"$f":"VLOOKUP($M31,Funknavigation!$A$2:$AC$185,V$17,FALSE)","v":309},{"$f":"VLOOKUP($M31,Funknavigation!$A$2:$AC$185,W$17,FALSE)","v":""},{"$f":"VLOOKUP($M31,Funknavigation!$A$2:$AC$185,X$17,FALSE)","v":10},null,null,0.91358212498091984,0.23365595361074085,{"$f":"IF(AG31=1,MAX(MAX(AC$18:$AC30),MAX($AD$18:$AD$193))+1,\"-\")","v":{"$error":"#N/A"}},{"$f":"IF(AH31=1,MAX($AD$18:AD30)+1,\"-\")","v":{"$error":"#N/A"}},{"$error":"#N/A"},{"$error":"#N/A"},{"$error":"#N/A"},{"$error":"#N/A"},{"$error":"#N/A"},{"$error":"#N/A"},{"$error":"#N/A"},{"$error":"#N/A"},{"$error":"#N/A"},{"$error":"#N/A"},{"$error":"#N/A"},{"$error":"#N/A"},{"$error":"#N/A"},{"$error":"#N/A"},{"$error":"#N/A"},{"$error":"#N/A"},{"$error":"#N/A"},{"$error":"#N/A"},{"$error":"#N/A"},{"$error":"#N/A"},{"$error":"#N/A"},{"$error":"#N/A"},{"$error":"#N/A"},{"$error":"#N/A"},{"$error":"#N/A"},{"$error":"#N/A"},{"$error":"#N/A"},{"$error":"#N/A"},{"$error":"#N/A"},{"$error":"#N/A"},{"$error":"#N/A"},{"$error":"#N/A"},{"$error":"#N/A"},{"$error":"#N/A"},{"$error":"#N/A"},{"$error":"#N/A"},{"$error":"#N/A"},{"$error":"#N/A"},{"$error":"#N/A"},{"$error":"#N/A"},{"$error":"#N/A"},{"$error":"#N/A"},{"$error":"#N/A"},{"$error":"#N/A"},{"$error":"#N/A"},{"$error":"#N/A"},{"$error":"#N/A"},{"$error":"#N/A"},{"$error":"#N/A"},{"$error":"#N/A"},{"$error":"#N/A"},{"$error":"#N/A"},{"$error":"#N/A"},{"$error":"#N/A"},{"$error":"#N/A"},{"$error":"#N/A"},{"$error":"#N/A"},{"$error":"#N/A"},{"$error":"#N/A"},{"$error":"#N/A"},{"$error":"#N/A"},{"$error":"#N/A"},{"$error":"#N/A"},{"$error":"#N/A"},{"$error":"#N/A"},{"$error":"#N/A"},{"$error":"#N/A"},{"$error":"#N/A"},{"$error":"#N/A"},{"$error":"#N/A"},{"$error":"#N/A"},{"$error":"#N/A"},{"$error":"#N/A"},{"$error":"#N/A"},{"$error":"#N/A"},{"$error":"#N/A"},{"$error":"#N/A"},{"$error":"#N/A"},{"$error":"#N/A"},{"$error":"#N/A"},{"$error":"#N/A"},{"$error":"#N/A"},{"$error":"#N/A"},{"$error":"#N/A"},{"$error":"#N/A"},{"$error":"#N/A"},{"$error":"#N/A"},{"$error":"#N/A"},{"$error":"#N/A"},{"$error":"#N/A"},{"$error":"#N/A"},{"$error":"#N/A"},{"$error":"#N/A"},{"$error":"#N/A"},{"$error":"#N/A"},{"$error":"#N/A"},{"$error":"#N/A"},{"$error":"#N/A"},{"$error":"#N/A"},{"$error":"#N/A"},{"$error":"#N/A"},{"$error":"#N/A"},{"$error":"#N/A"},{"$error":"#N/A"},{"$error":"#N/A"},{"$error":"#N/A"}]
[15,{"$error":"#N/A"},{"$error":"#N/A"},{"$error":"#N/A"},{"$error":"#N/A"},{"$error":"#N/A"},{"$error":"#N/A"},{"$error":"#N/A"},{"$error":"#N/A"},{"$error":"#N/A"},null,{"$error":"#N/A"},15,{"$f":"VLOOKUP($M32,Funknavigation!$A$2:$AC$185,N$17,FALSE)","v":"Berlin-Tegel "},{"$f":"VLOOKUP($M32,Funknavigation!$A$2:$AC$185,O$17,FALSE)","v":"DVOR/DME "},{"$f":"VLOOKUP($M32,Funknavigation!$A$2:$AC$185,P$17,FALSE)","v":"TGL"},{"$f":"VLOOKUP($M32,Funknavigation!$A$2:$AC$185,Q$17,FALSE)","v":"−   − − ·   · − · ·"},{"$f":"VLOOKUP($M32,Funknavigation!$A$2:$AC$185,R$17,FALSE)","v":15},{"$f":"VLOOKUP($M32,Funknavigation!$A$2:$AC$185,S$17,FALSE)","v":52.561399999999999},{"$f":"VLOOKUP($M32,Funknavigation!$A$2:$AC$185,T$17,FALSE)","v":13.2875},{"$f":"VLOOKUP($M32,Funknavigation!$A$2:$AC$185,U$17,FALSE)","v":"112.30"},{"$f":"VLOOKUP($M32,Funknavigation!$A$2:$AC$185,V$17,FALSE)","v":""},{"$f":"VLOOKUP($M32,Funknavigation!$A$2:$AC$185,W$17,FALSE)","v":"Ch 70x "},{"$f":"VLOOKUP($M32,Funknavigation!$A$2:$AC$185,X$17,FALSE)","v":80},null,null,0.91736948945774754,0.23191062435874651,{"$f":"IF(AG32=1,MAX(MAX(AC$18:$AC31),MAX($AD$18:$AD$193))+1,\"-\")","v":{"$error":"#N/A"}},{"$f":"IF(AH32=1,MAX($AD$18:AD31)+1,\"-\")","v":{"$error":"#N/A"}},{"$error":"#N/A"},{"$error":"#N/A"},{"$error":"#N/A"},{"$error":"#N/A"},{"$error":"#N/A"},{"$error":"#N/A"},{"$error":"#N/A"},{"$error":"#N/A"},{"$error":"#N/A"},{"$error":"#N/A"},{"$error":"#N/A"},{"$error":"#N/A"},{"$error":"#N/A"},{"$error":"#N/A"},{"$error":"#N/A"},{"$error":"#N/A"},{"$error":"#N/A"},{"$error":"#N/A"},{"$error":"#N/A"},{"$error":"#N/A"},{"$error":"#N/A"},{"$error":"#N/A"},{"$error":"#N/A"},{"$error":"#N/A"},{"$error":"#N/A"},{"$error":"#N/A"},{"$error":"#N/A"},{"$error":"#N/A"},{"$error":"#N/A"},{"$error":"#N/A"},{"$error":"#N/A"},{"$error":"#N/A"},{"$error":"#N/A"},{"$error":"#N/A"},{"$error":"#N/A"},{"$error":"#N/A"},{"$error":"#N/A"},{"$error":"#N/A"},{"$error":"#N/A"},{"$error":"#N/A"},{"$error":"#N/A"},{"$error":"#N/A"},{"$error":"#N/A"},{"$error":"#N/A"},{"$error":"#N/A"},{"$error":"#N/A"},{"$error":"#N/A"},{"$error":"#N/A"},{"$error":"#N/A"},{"$error":"#N/A"},{"$error":"#N/A"},{"$error":"#N/A"},{"$error":"#N/A"},{"$error":"#N/A"},{"$error":"#N/A"},{"$error":"#N/A"},{"$error":"#N/A"},{"$error":"#N/A"},{"$error":"#N/A"},{"$error":"#N/A"},{"$error":"#N/A"},{"$error":"#N/A"},{"$error":"#N/A"},{"$error":"#N/A"},{"$error":"#N/A"},{"$error":"#N/A"},{"$error":"#N/A"},{"$error":"#N/A"},{"$error":"#N/A"},{"$error":"#N/A"},{"$error":"#N/A"},{"$error":"#N/A"},{"$error":"#N/A"},{"$error":"#N/A"},{"$error":"#N/A"},{"$error":"#N/A"},{"$error":"#N/A"},{"$error":"#N/A"},{"$error":"#N/A"},{"$error":"#N/A"},{"$error":"#N/A"},{"$error":"#N/A"},{"$error":"#N/A"},{"$error":"#N/A"},{"$error":"#N/A"},{"$error":"#N/A"},{"$error":"#N/A"},{"$error":"#N/A"},{"$error":"#N/A"},{"$error":"#N/A"},{"$error":"#N/A"},{"$error":"#N/A"},{"$error":"#N/A"},{"$error":"#N/A"},{"$error":"#N/A"},{"$error":"#N/A"},{"$error":"#N/A"},{"$error":"#N/A"},{"$error":"#N/A"},{"$error":"#N/A"},{"$error":"#N/A"},{"$error":"#N/A"},{"$error":"#N/A"},{"$error":"#N/A"},{"$error":"#N/A"},{"$error":"#N/A"}]
[16,{"$error":"#N/A"},{"$error":"#N/A"},{"$error":"#N/A"},{"$error":"#N/A"},{"$error":"#N/A"},{"$error":"#N/A"},{"$error":"#N/A"},{"$error":"#N/A"},{"$error":"#N/A"},null,{"$error":"#N/A"},16,{"$f":"VLOOKUP($M33,Funknavigation!$A$2:$AC$185,N$17,FALSE)","v":"(Tegel-West) "},{"$f":"VLOOKUP($M33,Funknavigation!$A$2:$AC$185,O$17,FALSE)","v":"NDB "},{"$f":"VLOOKUP($M33,Funknavigation!$A$2:$AC$185,P$17,FALSE)","v":"RW"},{"$f":"VLOOKUP($M33,Funknavigation!$A$2:$AC$185,Q$17,FALSE)","v":"· − ·   · − −"},{"$f":"VLOOKUP($M33,Funknavigation!$A$2:$AC$185,R$17,FALSE)","v":16},{"$f":"VLOOKUP($M33,Funknavigation!$A$2:$AC$185,S$17,FALSE)","v":52.545000000000002},{"$f":"VLOOKUP($M33,Funknavigation!$A$2:$AC$185,T$17,FALSE)","v":13.1511},{"$f":"VLOOKUP($M33,Funknavigation!$A$2:$AC$185,U$17,FALSE)","v":""},{"$f":"VLOOKUP($M33,Funknavigation!$A$2:$AC$185,V$17,FALSE)","v":392},{"$f":"VLOOKUP($M33,Funknavigation!$A$2:$AC$185,W$17,FALSE)","v":""},{"$f":"VLOOKUP($M33,Funknavigation!$A$2:$AC$185,X$17,FALSE)","v":21},null,null,0.91708325546042047,0.22952999525902626,{"$f":"IF(AG33=1,MAX(MAX(AC$18:$AC32),MAX($AD$18:$AD$193))+1,\"-\")","v":{"$error":"#N/A"}},{"$f":"IF(AH33=1,MAX($AD$18:AD32)+1,\"-\")","v":{"$error":"#N/A"}},{"$error":"#N/A"},{"$error":"#N/A"},{"$error":"#N/A"},{"$error":"#N/A"},{"$error":"#N/A"},{"$error":"#N/A"},{"$error":"#N/A"},{"$error":"#N/A"},{"$error":"#N/A"},{"$error":"#N/A"},{"$error":"#N/A"},{"$error":"#N/A"},{"$error":"#N/A"},{"$error":"#N/A"},{"$error":"#N/A"},{"$error":"#N/A"},{"$error":"#N/A"},{"$error":"#N/A"},{"$error":"#N/A"},{"$error":"#N/A"},{"$error":"#N/A"},{"$error":"#N/A"},{"$error":"#N/A"},{"$error":"#N/A"},{"$error":"#N/A"},{"$error":"#N/A"},{"$error":"#N/A"},{"$error":"#N/A"},{"$error":"#N/A"},{"$error":"#N/A"},{"$error":"#N/A"},{"$error":"#N/A"},{"$error":"#N/A"},{"$error":"#N/A"},{"$error":"#N/A"},{"$error":"#N/A"},{"$error":"#N/A"},{"$error":"#N/A"},{"$error":"#N/A"},{"$error":"#N/A"},{"$error":"#N/A"},{"$error":"#N/A"},{"$error":"#N/A"},{"$error":"#N/A"},{"$error":"#N/A"},{"$error":"#N/A"},{"$error":"#N/A"},{"$error":"#N/A"},{"$error":"#N/A"},{"$error":"#N/A"},{"$error":"#N/A"},{"$error":"#N/A"},{"$error":"#N/A"},{"$error":"#N/A"},{"$error":"#N/A"},{"$error":"#N/A"},{"$error":"#N/A"},{"$error":"#N/A"},{"$error":"#N/A"},{"$error":"#N/A"},{"$error":"#N/A"},{"$error":"#N/A"},{"$error":"#N/A"},{"$error":"#N/A"},{"$error":"#N/A"},{"$error":"#N/A"},{"$error":"#N/A"},{"$error":"#N/A"},{"$error":"#N/A"},{"$error":"#N/A"},{"$error":"#N/A"},{"$error":"#N/A"},{"$error":"#N/A"},{"$error":"#N/A"},{"$error":"#N/A"},{"$error":"#N/A"},{"$error":"#N/A"},{"$error":"#N/A"},{"$error":"#N/A"},{"$error":"#N/A"},{"$error":"#N/A"},{"$error":"#N/A"},{"$error":"#N/A"},{"$error":"#N/A"},{"$error":"#N/A"},{"$error":"#N/A"},{"$error":"#N/A"},{"$error":"#N/A"},{"$error":"#N/A"},{"$error":"#N/A"},{"$error":"#N/A"},{"$error":"#N/A"},{"$error":"#N/A"},{"$error":"#N/A"},{"$error":"#N/A"},{"$error":"#N/A"},{"$error":"#N/A"},{"$error":"#N/A"},{"$error":"#N/A"},{"$error":"#N/A"},{"$error":"#N/A"},{"$error":"#N/A"},{"$error":"#N/A"},{"$error":"#N/A"},{"$error":"#N/A"},{"$error":"#N/A"}]
[17,{"$error":"#N/A"},{"$error":"#N/A"},{"$error":"#N/A"},{"$error":"#N/A"},{"$error":"#N/A"},{"$error":"#N/A"},{"$error":"#N/A"},{"$error":"#N/A"},{"$error":"#N/A"},null,{"$error":"#N/A"},17,{"$f":"VLOOKUP($M34,Funknavigation!$A$2:$AC$185,N$17,FALSE)","v":"(Tegel-East) "},{"$f":"VLOOKUP($M34,Funknavigation!$A$2:$AC$185,O$17,FALSE)","v":"NDB "},{"$f":"VLOOKUP($M34,Funknavigation!$A$2:$AC$185,P$17,FALSE)","v":"GL"},{"$f":"VLOOKUP($M34,Funknavigation!$A$2:$AC$185,Q$17,FALSE)","v":"− − ·   · − · ·"},{"$f":"VLOOKUP($M34,Funknavigation!$A$2:$AC$185,R$17,FALSE)","v":17},{"$f":"VLOOKUP($M34,Funknavigation!$A$2:$AC$185,S$17,FALSE)","v":52.572200000000002},{"$f":"VLOOKUP($M34,Funknavigation!$A$2:$AC$185,T$17,FALSE)","v":13.4261},{"$f":"VLOOKUP($M34,Funknavigation!$A$2:$AC$185,U$17,FALSE)","v":""},{"$f":"VLOOKUP($M34,Funknavigation!$A$2:$AC$185,V$17,FALSE)","v":321},{"$f":"VLOOKUP($M34,Funknavigation!$A$2:$AC$185,W$17,FALSE)","v":""},{"$f":"VLOOKUP($M34,Funknavigation!$A$2:$AC$185,X$17,FALSE)","v":24},null,null,0.91755798501696295,0.23432965070201067,{"$f":"IF(AG34=1,MAX(MAX(AC$18:$AC33),MAX($AD$18:$AD$193))+1,\"-\")","v":{"$error":"#N/A"}},{"$f":"IF(AH34=1,MAX($AD$18:AD33)+1,\"-\")","v":{"$error":"#N/A"}},{"$error":"#N/A"},{"$error":"#N/A"},{"$error":"#N/A"},{"$error":"#N/A"},{"$error":"#N/A"},{"$error":"#N/A"},{"$error":"#N/A"},{"$error":"#N/A"},{"$error":"#N/A"},{"$error":"#N/A"},{"$error":"#N/A"},{"$error":"#N/A"},{"$error":"#N/A"},{"$error":"#N/A"},{"$error":"#N/A"},{"$error":"#N/A"},{"$error":"#N/A"},{"$error":"#N/A"},{"$error":"#N/A"},{"$error":"#N/A"},{"$error":"#N/A"},{"$error":"#N/A"},{"$error":"#N/A"},{"$error":"#N/A"},{"$error":"#N/A"},{"$error":"#N/A"},{"$error":"#N/A"},{"$error":"#N/A"},{"$error":"#N/A"},{"$error":"#N/A"},{"$error":"#N/A"},{"$error":"#N/A"},{"$error":"#N/A"},{"$error":"#N/A"},{"$error":"#N/A"},{"$error":"#N/A"},{"$error":"#N/A"},{"$error":"#N/A"},{"$error":"#N/A"},{"$error":"#N/A"},{"$error":"#N/A"},{"$error":"#N/A"},{"$error":"#N/A"},{"$error":"#N/A"},{"$error":"#N/A"},{"$error":"#N/A"},{"$error":"#N/A"},{"$error":"#N/A"},{"$error":"#N/A"},{"$error":"#N/A"},{"$error":"#N/A"},{"$error":"#N/A"},{"$error":"#N/A"},{"$error":"#N/A"},{"$error":"#N/A"},{"$error":"#N/A"},{"$error":"#N/A"},{"$error":"#N/A"},{"$error":"#N/A"},{"$error":"#N/A"},{"$error":"#N/A"},{"$error":"#N/A"},{"$error":"#N/A"},{"$error":"#N/A"},{"$error":"#N/A"},{"$error":"#N/A"},{"$error":"#N/A"},{"$error":"#N/A"},{"$error":"#N/A"},{"$error":"#N/A"},{"$error":"#N/A"},{"$error":"#N/A"},{"$error":"#N/A"},{"$error":"#N/A"},{"$error":"#N/A"},{"$error":"#N/A"},{"$error":"#N/A"},{"$error":"#N/A"},{"$error":"#N/A"},{"$error":"#N/A"},{"$error":"#N/A"},{"$error":"#N/A"},{"$error":"#N/A"},{"$error":"#N/A"},{"$error":"#N/A"},{"$error":"#N/A"},{"$error":"#N/A"},{"$error":"#N/A"},{"$error":"#N/A"},{"$error":"#N/A"},{"$error":"#N/A"},{"$error":"#N/A"},{"$error":"#N/A"},{"$error":"#N/A"},{"$error":"#N/A"},{"$error":"#N/A"},{"$error":"#N/A"},{"$error":"#N/A"},{"$error":"#N/A"},{"$error":"#N/A"},{"$error":"#N/A"},{"$error":"#N/A"},{"$error":"#N/A"},{"$error":"#N/A"},{"$error":"#N/A"},{"$error":"#N/A"}]
[18,{"$error":"#N/A"},{"$error":"#N/A"},{"$error":"#N/A"},{"$error":"#N/A"},{"$error":"#N/A"},{"$error":"#N/A"},{"$error":"#N/A"},{"$error":"#N/A"},{"$error":"#N/A"},null,{"$error":"#N/A"},18,{"$f":"VLOOKUP($M35,Funknavigation!$A$2:$AC$185,N$17,FALSE)","v":"Bottrop "},{"$f":"VLOOKUP($M35,Funknavigation!$A$2:$AC$185,O$17,FALSE)","v":"NDB "},{"$f":"VLOOKUP($M35,Funknavigation!$A$2:$AC$185,P$17,FALSE)","v":"BOT"},{"$f":"VLOOKUP($M35,Funknavigation!$A$2:$AC$185,Q$17,FALSE)","v":"− · · ·   − − −   −"},{"$f":"VLOOKUP($M35,Funknavigation!$A$2:$AC$185,R$17,FALSE)","v":18},{"$f":"VLOOKUP($M35,Funknavigation!$A$2:$AC$185,S$17,FALSE)","v":51.585799999999999},{"$f":"VLOOKUP($M35,Funknavigation!$A$2:$AC$185,T$17,FALSE)","v":7.0231000000000003},{"$f":"VLOOKUP($M35,Funknavigation!$A$2:$AC$185,U$17,FALSE)","v":""},{"$f":"VLOOKUP($M35,Funknavigation!$A$2:$AC$185,V$17,FALSE)","v":406.5},{"$f":"VLOOKUP($M35,Funknavigation!$A$2:$AC$185,W$17,FALSE)","v":""},{"$f":"VLOOKUP($M35,Funknavigation!$A$2:$AC$185,X$17,FALSE)","v":17},null,null,0.90034205727529071,0.12257621869681376,{"$f":"IF(AG35=1,MAX(MAX(AC$18:$AC34),MAX($AD$18:$AD$193))+1,\"-\")","v":{"$error":"#N/A"}},{"$f":"IF(AH35=1,MAX($AD$18:AD34)+1,\"-\")","v":{"$error":"#N/A"}},{"$error":"#N/A"},{"$error":"#N/A"},{"$error":"#N/A"},{"$error":"#N/A"},{"$error":"#N/A"},{"$error":"#N/A"},{"$error":"#N/A"},{"$error":"#N/A"},{"$error":"#N/A"},{"$error":"#N/A"},{"$error":"#N/A"},{"$error":"#N/A"},{"$error":"#N/A"},{"$error":"#N/A"},{"$error":"#N/A"},{"$error":"#N/A"},{"$error":"#N/A"},{"$error":"#N/A"},{"$error":"#N/A"},{"$error":"#N/A"},{"$error":"#N/A"},{"$error":"#N/A"},{"$error":"#N/A"},{"$error":"#N/A"},{"$error":"#N/A"},{"$error":"#N/A"},{"$error":"#N/A"},{"$error":"#N/A"},{"$error":"#N/A"},{"$error":"#N/A"},{"$error":"#N/A"},{"$error":"#N/A"},{"$error":"#N/A"},{"$error":"#N/A"},{"$error":"#N/A"},{"$error":"#N/A"},{"$error":"#N/A"},{"$error":"#N/A"},{"$error":"#N/A"},{"$error":"#N/A"},{"$error":"#N/A"},{"$error":"#N/A"},{"$error":"#N/A"},{"$error":"#N/A"},{"$error":"#N/A"},{"$error":"#N/A"},{"$error":"#N/A"},{"$error":"#N/A"},{"$error":"#N/A"},{"$error":"#N/A"},{"$error":"#N/A"},{"$error":"#N/A"},{"$error":"#N/A"},{"$error":"#N/A"},{"$error":"#N/A"},{"$error":"#N/A"},{"$error":"#N/A"},{"$error":"#N/A"},{"$error":"#N/A"},{"$error":"#N/A"},{"$error":"#N/A"},{"$error":"#N/A"},{"$error":"#N/A"},{"$error":"#N/A"},{"$error":"#N/A"},{"$error":"#N/A"},{"$error":"#N/A"},{"$error":"#N/A"},{"$error":"#N/A"},{"$error":"#N/A"},{"$error":"#N/A"},{"$error":"#N/A"},{"$error":"#N/A"},{"$error":"#N/A"},{"$error":"#N/A"},{"$error":"#N/A"},{"$error":"#N/A"},{"$error":"#N/A"},{"$error":"#N/A"},{"$error":"#N/A"},{"$error":"#N/A"},{"$error":"#N/A"},{"$error":"#N/A"},{"$error":"#N/A"},{"$error":"#N/A"},{"$error":"#N/A"},{"$error":"#N/A"},{"$error":"#N/A"},{"$error":"#N/A"},{"$error":"#N/A"},{"$error":"#N/A"},{"$error":"#N/A"},{"$error":"#N/A"},{"$error":"#N/A"},{"$error":"#N/A"},{"$error":"#N/A"},{"$error":"#N/A"},{"$error":"#N/A"},{"$error":"#N/A"},{"$error":"#N/A"},{"$error":"#N/A"},{"$error":"#N/A"},{"$error":"#N/A"},{"$error":"#N/A"},{"$error":"#N/A"},{"$error":"#N/A"}]
[19,{"$error":"#N/A"},{"$error":"#N/A"},{"$error":"#N/A"},{"$error":"#N/A"},{"$error":"#N/A"},{"$error":"#N/A"},{"$error":"#N/A"},{"$error":"#N/A"},{"$error":"#N/A"},null,{"$error":"#N/A"},19,{"$f":"VLOOKUP($M36,Funknavigation!$A$2:$AC$185,N$17,FALSE)","v":"Braunschweig-Wolfsburg "},{"$f":"VLOOKUP($M36,Funknavigation!$A$2:$AC$185,O$17,FALSE)","v":"NDB "},{"$f":"VLOOKUP($M36,Funknavigation!$A$2:$AC$185,P$17,FALSE)","v":"BRU"},{"$f":"VLOOKUP($M36,Funknavigation!$A$2:$AC$185,Q$17,FALSE)","v":"− · · ·   · − ·   · · −"},{"$f":"VLOOKUP($M36,Funknavigation!$A$2:$AC$185,R$17,FALSE)","v":19},{"$f":"VLOOKUP($M36,Funknavigation!$A$2:$AC$185,S$17,FALSE)","v":52.322200000000002},{"$f":"VLOOKUP($M36,Funknavigation!$A$2:$AC$185,T$17,FALSE)","v":10.6061},{"$f":"VLOOKUP($M36,Funknavigation!$A$2:$AC$185,U$17,FALSE)","v":""},{"$f":"VLOOKUP($M36,Funknavigation!$A$2:$AC$185,V$17,FALSE)","v":427},{"$f":"VLOOKUP($M36,Funknavigation!$A$2:$AC$185,W$17,FALSE)","v":""},{"$f":"VLOOKUP($M36,Funknavigation!$A$2:$AC$185,X$17,FALSE)","v":20},null,null,0.91319466188697718,0.18511136579577056,{"$f":"IF(AG36=1,MAX(MAX(AC$18:$AC35),MAX($AD$18:$AD$193))+1,\"-\")","v":{"$error":"#N/A"}},{"$f":"IF(AH36=1,MAX($AD$18:AD35)+1,\"-\")","v":{"$error":"#N/A"}},{"$error":"#N/A"},{"$error":"#N/A"},{"$error":"#N/A"},{"$error":"#N/A"},{"$error":"#N/A"},{"$error":"#N/A"},{"$error":"#N/A"},{"$error":"#N/A"},{"$error":"#N/A"},{"$error":"#N/A"},{"$error":"#N/A"},{"$error":"#N/A"},{"$error":"#N/A"},{"$error":"#N/A"},{"$error":"#N/A"},{"$error":"#N/A"},{"$error":"#N/A"},{"$error":"#N/A"},{"$error":"#N/A"},{"$error":"#N/A"},{"$error":"#N/A"},{"$error":"#N/A"},{"$error":"#N/A"},{"$error":"#N/A"},{"$error":"#N/A"},{"$error":"#N/A"},{"$error":"#N/A"},{"$error":"#N/A"},{"$error":"#N/A"},{"$error":"#N/A"},{"$error":"#N/A"},{"$error":"#N/A"},{"$error":"#N/A"},{"$error":"#N/A"},{"$error":"#N/A"},{"$error":"#N/A"},{"$error":"#N/A"},{"$error":"#N/A"},{"$error":"#N/A"},{"$error":"#N/A"},{"$error":"#N/A"},{"$error":"#N/A"},{"$error":"#N/A"},{"$error":"#N/A"},{"$error":"#N/A"},{"$error":"#N/A"},{"$error":"#N/A"},{"$error":"#N/A"},{"$error":"#N/A"},{"$error":"#N/A"},{"$error":"#N/A"},{"$error":"#N/A"},{"$error":"#N/A"},{"$error":"#N/A"},{"$error":"#N/A"},{"$error":"#N/A"},{"$error":"#N/A"},{"$error":"#N/A"},{"$error":"#N/A"},{"$error":"#N/A"},{"$error":"#N/A"},{"$error":"#N/A"},{"$error":"#N/A"},{"$error":"#N/A"},{"$error":"#N/A"},{"$error":"#N/A"},{"$error":"#N/A"},{"$error":"#N/A"},{"$error":"#N/A"},{"$error":"#N/A"},{"$error":"#N/A"},{"$error":"#N/A"},{"$error":"#N/A"},{"$error":"#N/A"},{"$error":"#N/A"},{"$error":"#N/A"},{"$error":"#N/A"},{"$error":"#N/A"},{"$error":"#N/A"},{"$error":"#N/A"},{"$error":"#N/A"},{"$error":"#N/A"},{"$error":"#N/A"},{"$error":"#N/A"},{"$error":"#N/A"},{"$error":"#N/A"},{"$error":"#N/A"},{"$error":"#N/A"},{"$error":"#N/A"},{"$error":"#N/A"},{"$error":"#N/A"},{"$error":"#N/A"},{"$error":"#N/A"},{"$error":"#N/A"},{"$error":"#N/A"},{"$error":"#N/A"},{"$error":"#N/A"},{"$error":"#N/A"},{"$error":"#N/A"},{"$error":"#N/A"},{"$error":"#N/A"},{"$error":"#N/A"},{"$error":"#N/A"},{"$error":"#N/A"},{"$error":"#N/A"},{"$error":"#N/A"}]
[20,{"$error":"#N/A"},{"$error":"#N/A"},{"$error":"#N/A"},{"$error":"#N/A"},{"$error":"#N/A"},{"$error":"#N/A"},{"$error":"#N/A"},{"$error":"#N/A"},{"$error":"#N/A"},null,{"$error":"#N/A"},20,{"$f":"VLOOKUP($M37,Funknavigation!$A$2:$AC$185,N$17,FALSE)","v":"Braunschweig "},{"$f":"VLOOKUP($M37,Funknavigation!$A$2:$AC$185,O$17,FALSE)","v":"DME "},{"$f":"VLOOKUP($M37,Funknavigation!$A$2:$AC$185,P$17,FALSE)","v":"BWG"},{"$f":"VLOOKUP($M37,Funknavigation!$A$2:$AC$185,Q$17,FALSE)","v":"− · · ·   · − −   − − ·"},{"$f":"VLOOKUP($M37,Funknavigation!$A$2:$AC$185,R$17,FALSE)","v":20},{"$f":"VLOOKUP($M37,Funknavigation!$A$2:$AC$185,S$17,FALSE)","v":52.321100000000001},{"$f":"VLOOKUP($M37,Funknavigation!$A$2:$AC$185,T$17,FALSE)","v":10.571099999999999},{"$f":"VLOOKUP($M37,Funknavigation!$A$2:$AC$185,U$17,FALSE)","v":"111.10"},{"$f":"VLOOKUP($M37,Funknavigation!$A$2:$AC$185,V$17,FALSE)","v":""},{"$f":"VLOOKUP($M37,Funknavigation!$A$2:$AC$185,W$17,FALSE)","v":"Ch 48x "},{"$f":"VLOOKUP($M37,Funknavigation!$A$2:$AC$185,X$17,FALSE)","v":0},null,null,0.91317546326520516,0.18450050055757256,{"$f":"IF(AG37=1,MAX(MAX(AC$18:$AC36),MAX($AD$18:$AD$193))+1,\"-\")","v":{"$error":"#N/A"}},{"$f":"IF(AH37=1,MAX($AD$18:AD36)+1,\"-\")","v":{"$error":"#N/A"}},{"$error":"#N/A"},{"$error":"#N/A"},{"$error":"#N/A"},{"$error":"#N/A"},{"$error":"#N/A"},{"$error":"#N/A"},{"$error":"#N/A"},{"$error":"#N/A"},{"$error":"#N/A"},{"$error":"#N/A"},{"$error":"#N/A"},{"$error":"#N/A"},{"$error":"#N/A"},{"$error":"#N/A"},{"$error":"#N/A"},{"$error":"#N/A"},{"$error":"#N/A"},{"$error":"#N/A"},{"$error":"#N/A"},{"$error":"#N/A"},{"$error":"#N/A"},{"$error":"#N/A"},{"$error":"#N/A"},{"$error":"#N/A"},{"$error":"#N/A"},{"$error":"#N/A"},{"$error":"#N/A"},{"$error":"#N/A"},{"$error":"#N/A"},{"$error":"#N/A"},{"$error":"#N/A"},{"$error":"#N/A"},{"$error":"#N/A"},{"$error":"#N/A"},{"$error":"#N/A"},{"$error":"#N/A"},{"$error":"#N/A"},{"$error":"#N/A"},{"$error":"#N/A"},{"$error":"#N/A"},{"$error":"#N/A"},{"$error":"#N/A"},{"$error":"#N/A"},{"$error":"#N/A"},{"$error":"#N/A"},{"$error":"#N/A"},{"$error":"#N/A"},{"$error":"#N/A"},{"$error":"#N/A"},{"$error":"#N/A"},{"$error":"#N/A"},{"$error":"#N/A"},{"$error":"#N/A"},{"$error":"#N/A"},{"$error":"#N/A"},{"$error":"#N/A"},{"$error":"#N/A"},{"$error":"#N/A"},{"$error":"#N/A"},{"$error":"#N/A"},{"$error":"#N/A"},{"$error":"#N/A"},{"$error":"#N/A"},{"$error":"#N/A"},{"$error":"#N/A"},{"$error":"#N/A"},{"$error":"#N/A"},{"$error":"#N/A"},{"$error":"#N/A"},{"$error":"#N/A"},{"$error":"#N/A"},{"$error":"#N/A"},{"$error":"#N/A"},{"$error":"#N/A"},{"$error":"#N/A"},{"$error":"#N/A"},{"$error":"#N/A"},{"$error":"#N/A"},{"$error":"#N/A"},{"$error":"#N/A"},{"$error":"#N/A"},{"$error":"#N/A"},{"$error":"#N/A"},{"$error":"#N/A"},{"$error":"#N/A"},{"$error":"#N/A"},{"$error":"#N/A"},{"$error":"#N/A"},{"$error":"#N/A"},{"$error":"#N/A"},{"$error":"#N/A"},{"$error":"#N/A"},{"$error":"#N/A"},{"$error":"#N/A"},{"$error":"#N/A"},{"$error":"#N/A"},{"$error":"#N/A"},{"$error":"#N/A"},{"$error":"#N/A"},{"$error":"#N/A"},{"$error":"#N/A"},{"$error":"#N/A"},{"$error":"#N/A"},{"$error":"#N/A"},{"$error":"#N/A"},{"$error":"#N/A"}]
[21,{"$error":"#N/A"},{"$f":"IF($B38<>\"-\",VLOOKUP($B38,$M$18:$X$193,C$17,FALSE),\"\")","v":{"$error":"#N/A"}},{"$error":"#N/A"},{"$error":"#N/A"},{"$error":"#N/A"},{"$error":"#N/A"},{"$error":"#N/A"},{"$error":"#N/A"},{"$error":"#N/A"},null,{"$error":"#N/A"},21,{"$f":"VLOOKUP($M38,Funknavigation!$A$2:$AC$185,N$17,FALSE)","v":"Bremen "},{"$f":"VLOOKUP($M38,Funknavigation!$A$2:$AC$185,O$17,FALSE)","v":"NDB "},{"$f":"VLOOKUP($M38,Funknavigation!$A$2:$AC$185,P$17,FALSE)","v":"HIG"},{"$f":"VLOOKUP($M38,Funknavigation!$A$2:$AC$185,Q$17,FALSE)","v":"· · · ·   · ·   − − ·"},{"$f":"VLOOKUP($M38,Funknavigation!$A$2:$AC$185,R$17,FALSE)","v":21},{"$f":"VLOOKUP($M38,Funknavigation!$A$2:$AC$185,S$17,FALSE)","v":53.049399999999999},{"$f":"VLOOKUP($M38,Funknavigation!$A$2:$AC$185,T$17,FALSE)","v":8.9088999999999992},{"$f":"VLOOKUP($M38,Funknavigation!$A$2:$AC$185,U$17,FALSE)","v":""},{"$f":"VLOOKUP($M38,Funknavigation!$A$2:$AC$185,V$17,FALSE)","v":318},{"$f":"VLOOKUP($M38,Funknavigation!$A$2:$AC$185,W$17,FALSE)","v":""},{"$f":"VLOOKUP($M38,Funknavigation!$A$2:$AC$185,X$17,FALSE)","v":20},null,null,0.92588669620747988,0.15548963773092281,{"$f":"IF(AG38=1,MAX(MAX(AC$18:$AC37),MAX($AD$18:$AD$193))+1,\"-\")","v":{"$error":"#N/A"}},{"$f":"IF(AH38=1,MAX($AD$18:AD37)+1,\"-\")","v":{"$error":"#N/A"}},{"$error":"#N/A"},{"$error":"#N/A"},{"$error":"#N/A"},{"$error":"#N/A"},{"$error":"#N/A"},{"$error":"#N/A"},{"$error":"#N/A"},{"$f":"IF(AL$3=\"OK\",(21600/(2*PI()))*ACOS(SIN($AA38)*SIN(AL$6)+COS(AL$6)*COS($AA38)*COS($AB38-AL$7)),\"-\")","v":{"$error":"#N/A"}},{"$error":"#N/A"},{"$error":"#N/A"},{"$error":"#N/A"},{"$error":"#N/A"},{"$error":"#N/A"},{"$error":"#N/A"},{"$error":"#N/A"},{"$error":"#N/A"},{"$error":"#N/A"},{"$f":"IF(AV$3=\"OK\",(21600/(2*PI()))*ACOS(SIN($AA38)*SIN(AV$6)+COS(AV$6)*COS($AA38)*COS($AB38-AV$7)),\"-\")","v":{"$error":"#N/A"}},{"$error":"#N/A"},{"$error":"#N/A"},{"$error":"#N/A"},{"$error":"#N/A"},{"$error":"#N/A"},{"$error":"#N/A"},{"$error":"#N/A"},{"$error":"#N/A"},{"$error":"#N/A"},{"$f":"IF(BF$3=\"OK\",(21600/(2*PI()))*ACOS(SIN($AA38)*SIN(BF$6)+COS(BF$6)*COS($AA38)*COS($AB38-BF$7)),\"-\")","v":{"$error":"#N/A"}},{"$error":"#N/A"},{"$error":"#N/A"},{"$error":"#N/A"},{"$error":"#N/A"},{"$error":"#N/A"},{"$error":"#N/A"},{"$error":"#N/A"},{"$error":"#N/A"},{"$error":"#N/A"},{"$f":"IF(BP$3=\"OK\",(21600/(2*PI()))*ACOS(SIN($AA38)*SIN(BP$6)+COS(BP$6)*COS($AA38)*COS($AB38-BP$7)),\"-\")","v":{"$error":"#N/A"}},{"$error":"#N/A"},{"$error":"#N/A"},{"$error":"#N/A"},{"$error":"#N/A"},{"$error":"#N/A"},{"$error":"#N/A"},{"$error":"#N/A"},{"$error":"#N/A"},{"$error":"#N/A"},{"$f":"IF(BZ$3=\"OK\",(21600/(2*PI()))*ACOS(SIN($AA38)*SIN(BZ$6)+COS(BZ$6)*COS($AA38)*COS($AB38-BZ$7)),\"-\")","v":{"$error":"#N/A"}},{"$error":"#N/A"},{"$error":"#N/A"},{"$error":"#N/A"},{"$error":"#N/A"},{"$error":"#N/A"},{"$error":"#N/A"},{"$error":"#N/A"},{"$error":"#N/A"},{"$error":"#N/A"},{"$f":"IF(CJ$3=\"OK\",(21600/(2*PI()))*ACOS(SIN($AA38)*SIN(CJ$6)+COS(CJ$6)*COS($AA38)*COS($AB38-CJ$7)),\"-\")","v":{"$error":"#N/A"}},{"$error":"#N/A"},{"$error":"#N/A"},{"$error":"#N/A"},{"$error":"#N/A"},{"$error":"#N/A"},{"$error":"#N/A"},{"$error":"#N/A"},{"$error":"#N/A"},{"$error":"#N/A"},{"$f":"IF(CT$3=\"OK\",(21600/(2*PI()))*ACOS(SIN($AA38)*SIN(CT$6)+COS(CT$6)*COS($AA38)*COS($AB38-CT$7)),\"-\")","v":{"$error":"#N/A"}},{"$error":"#N/A"},{"$error":"#N/A"},{"$error":"#N/A"},{"$error":"#N/A"},{"$error":"#N/A"},{"$error":"#N/A"},{"$error":"#N/A"},{"$error":"#N/A"},{"$error":"#N/A"},{"$error":"#N/A"},{"$error":"#N/A"},{"$error":"#N/A"},{"$f":"IF(DG$3=\"OK\",(21600/(2*PI()))*ACOS(SIN($AA38)*SIN(DG$6)+COS(DG$6)*COS($AA38)*COS($AB38-DG$7)),\"-\")","v":{"$error":"#N/A"}},{"$error":"#N/A"},{"$error":"#N/A"},{"$error":"#N/A"},{"$error":"#N/A"},{"$error":"#N/A"},{"$error":"#N/A"},{"$error":"#N/A"},{"$error":"#N/A"},{"$error":"#N/A"},{"$error":"#N/A"},{"$error":"#N/A"},{"$f":"IF(DS$3=\"OK\",(21600/(2*PI()))*ACOS(SIN($AA38)*SIN(DS$6)+COS(DS$6)*COS($AA38)*COS($AB38-DS$7)),\"-\")","v":{"$error":"#N/A"}},{"$error":"#N/A"},{"$error":"#N/A"},{"$error":"#N/A"},{"$error":"#N/A"},{"$error":"#N/A"},{"$error":"#N/A"},{"$error":"#N/A"},{"$error":"#N/A"},{"$error":"#N/A"},{"$error":"#N/A"},{"$error":"#N/A"},{"$error":"#N/A"},{"$error":"#N/A"}]
[22,{"$error":"#N/A"},{"$error":"#N/A"},{"$error":"#N/A"},{"$error":"#N/A"},{"$error":"#N/A"},{"$error":"#N/A"},{"$error":"#N/A"},{"$error":"#N/A"},{"$error":"#N/A"},null,{"$error":"#N/A"},22,{"$f":"VLOOKUP($M39,Funknavigation!$A$2:$AC$185,N$17,FALSE)","v":"Bremen"},{"$f":"VLOOKUP($M39,Funknavigation!$A$2:$AC$185,O$17,FALSE)","v":"DVOR/DME "},{"$f":"VLOOKUP($M39,Funknavigation!$A$2:$AC$185,P$17,FALSE)","v":"BMN"},{"$f":"VLOOKUP($M39,Funknavigation!$A$2:$AC$185,Q$17,FALSE)","v":"− · · ·   − −   − ·"},{"$f":"VLOOKUP($M39,Funknavigation!$A$2:$AC$185,R$17,FALSE)","v":22},{"$f":"VLOOKUP($M39,Funknavigation!$A$2:$AC$185,S$17,FALSE)","v":53.046399999999998},{"$f":"VLOOKUP($M39,Funknavigation!$A$2:$AC$185,T$17,FALSE)","v":8.7606000000000002},{"$f":"VLOOKUP($M39,Funknavigation!$A$2:$AC$185,U$17,FALSE)","v":"117.45"},{"$f":"VLOOKUP($M39,Funknavigation!$A$2:$AC$185,V$17,FALSE)","v":""},{"$f":"VLOOKUP($M39,Funknavigation!$A$2:$AC$185,W$17,FALSE)","v":"Ch 121y "},{"$f":"VLOOKUP($M39,Funknavigation!$A$2:$AC$185,X$17,FALSE)","v":50},null,null,0.92583433632991996,0.15290131445021524,{"$f":"IF(AG39=1,MAX(MAX(AC$18:$AC38),MAX($AD$18:$AD$193))+1,\"-\")","v":{"$error":"#N/A"}},{"$f":"IF(AH39=1,MAX($AD$18:AD38)+1,\"-\")","v":{"$error":"#N/A"}},{"$error":"#N/A"},{"$error":"#N/A"},{"$error":"#N/A"},{"$error":"#N/A"},{"$error":"#N/A"},{"$error":"#N/A"},{"$error":"#N/A"},{"$error":"#N/A"},{"$error":"#N/A"},{"$error":"#N/A"},{"$error":"#N/A"},{"$error":"#N/A"},{"$error":"#N/A"},{"$error":"#N/A"},{"$error":"#N/A"},{"$error":"#N/A"},{"$error":"#N/A"},{"$error":"#N/A"},{"$error":"#N/A"},{"$error":"#N/A"},{"$error":"#N/A"},{"$error":"#N/A"},{"$error":"#N/A"},{"$error":"#N/A"},{"$error":"#N/A"},{"$error":"#N/A"},{"$error":"#N/A"},{"$error":"#N/A"},{"$error":"#N/A"},{"$error":"#N/A"},{"$error":"#N/A"},{"$error":"#N/A"},{"$error":"#N/A"},{"$error":"#N/A"},{"$error":"#N/A"},{"$error":"#N/A"},{"$error":"#N/A"},{"$error":"#N/A"},{"$error":"#N/A"},{"$error":"#N/A"},{"$error":"#N/A"},{"$error":"#N/A"},{"$error":"#N/A"},{"$error":"#N/A"},{"$error":"#N/A"},{"$error":"#N/A"},{"$error":"#N/A"},{"$error":"#N/A"},{"$error":"#N/A"},{"$error":"#N/A"},{"$error":"#N/A"},{"$error":"#N/A"},{"$error":"#N/A"},{"$error":"#N/A"},{"$error":"#N/A"},{"$error":"#N/A"},{"$error":"#N/A"},{"$error":"#N/A"},{"$error":"#N/A"},{"$error":"#N/A"},{"$error":"#N/A"},{"$error":"#N/A"},{"$error":"#N/A"},{"$error":"#N/A"},{"$error":"#N/A"},{"$error":"#N/A"},{"$error":"#N/A"},{"$error":"#N/A"},{"$error":"#N/A"},{"$error":"#N/A"},{"$error":"#N/A"},{"$error":"#N/A"},{"$error":"#N/A"},{"$error":"#N/A"},{"$error":"#N/A"},{"$error":"#N/A"},{"$error":"#N/A"},{"$error":"#N/A"},{"$error":"#N/A"},{"$error":"#N/A"},{"$error":"#N/A"},{"$error":"#N/A"},{"$error":"#N/A"},{"$error":"#N/A"},{"$error":"#N/A"},{"$error":"#N/A"},{"$error":"#N/A"},{"$error":"#N/A"},{"$error":"#N/A"},{"$error":"#N/A"},{"$error":"#N/A"},{"$error":"#N/A"},{"$error":"#N/A"},{"$error":"#N/A"},{"$error":"#N/A"},{"$error":"#N/A"},{"$error":"#N/A"},{"$error":"#N/A"},{"$error":"#N/A"},{"$error":"#N/A"},{"$error":"#N/A"},{"$error":"#N/A"},{"$error":"#N/A"},{"$error":"#N/A"},{"$error":"#N/A"},{"$error":"#N/A"}]
[23,{"$error":"#N/A"},{"$error":"#N/A"},{"$error":"#N/A"},{"$error":"#N/A"},{"$error":"#N/A"},{"$error":"#N/A"},{"$error":"#N/A"},{"$error":"#N/A"},{"$error":"#N/A"},null,{"$error":"#N/A"},23,{"$f":"VLOOKUP($M40,Funknavigation!$A$2:$AC$185,N$17,FALSE)","v":"Bremen"},{"$f":"VLOOKUP($M40,Funknavigation!$A$2:$AC$185,O$17,FALSE)","v":"DME "},{"$f":"VLOOKUP($M40,Funknavigation!$A$2:$AC$185,P$17,FALSE)","v":"BND"},{"$f":"VLOOKUP($M40,Funknavigation!$A$2:$AC$185,Q$17,FALSE)","v":"− · · ·   − ·   − · ·"},{"$f":"VLOOKUP($M40,Funknavigation!$A$2:$AC$185,R$17,FALSE)","v":23},{"$f":"VLOOKUP($M40,Funknavigation!$A$2:$AC$185,S$17,FALSE)","v":53.044199999999996},{"$f":"VLOOKUP($M40,Funknavigation!$A$2:$AC$185,T$17,FALSE)","v":8.7821999999999996},{"$f":"VLOOKUP($M40,Funknavigation!$A$2:$AC$185,U$17,FALSE)","v":"113.65"},{"$f":"VLOOKUP($M40,Funknavigation!$A$2:$AC$185,V$17,FALSE)","v":""},{"$f":"VLOOKUP($M40,Funknavigation!$A$2:$AC$185,W$17,FALSE)","v":"Ch 83y "},{"$f":"VLOOKUP($M40,Funknavigation!$A$2:$AC$185,X$17,FALSE)","v":25},null,null,0.92579593908637603,0.15327830556864599,{"$f":"IF(AG40=1,MAX(MAX(AC$18:$AC39),MAX($AD$18:$AD$193))+1,\"-\")","v":{"$error":"#N/A"}},{"$f":"IF(AH40=1,MAX($AD$18:AD39)+1,\"-\")","v":{"$error":"#N/A"}},{"$error":"#N/A"},{"$error":"#N/A"},{"$error":"#N/A"},{"$error":"#N/A"},{"$error":"#N/A"},{"$error":"#N/A"},{"$error":"#N/A"},{"$error":"#N/A"},{"$error":"#N/A"},{"$error":"#N/A"},{"$error":"#N/A"},{"$error":"#N/A"},{"$error":"#N/A"},{"$error":"#N/A"},{"$error":"#N/A"},{"$error":"#N/A"},{"$error":"#N/A"},{"$error":"#N/A"},{"$error":"#N/A"},{"$error":"#N/A"},{"$error":"#N/A"},{"$error":"#N/A"},{"$error":"#N/A"},{"$error":"#N/A"},{"$error":"#N/A"},{"$error":"#N/A"},{"$error":"#N/A"},{"$error":"#N/A"},{"$error":"#N/A"},{"$error":"#N/A"},{"$error":"#N/A"},{"$error":"#N/A"},{"$error":"#N/A"},{"$error":"#N/A"},{"$error":"#N/A"},{"$error":"#N/A"},{"$error":"#N/A"},{"$error":"#N/A"},{"$error":"#N/A"},{"$error":"#N/A"},{"$error":"#N/A"},{"$error":"#N/A"},{"$error":"#N/A"},{"$error":"#N/A"},{"$error":"#N/A"},{"$error":"#N/A"},{"$error":"#N/A"},{"$error":"#N/A"},{"$error":"#N/A"},{"$error":"#N/A"},{"$error":"#N/A"},{"$error":"#N/A"},{"$error":"#N/A"},{"$error":"#N/A"},{"$error":"#N/A"},{"$error":"#N/A"},{"$error":"#N/A"},{"$error":"#N/A"},{"$error":"#N/A"},{"$error":"#N/A"},{"$error":"#N/A"},{"$error":"#N/A"},{"$error":"#N/A"},{"$error":"#N/A"},{"$error":"#N/A"},{"$error":"#N/A"},{"$error":"#N/A"},{"$error":"#N/A"},{"$error":"#N/A"},{"$error":"#N/A"},{"$error":"#N/A"},{"$error":"#N/A"},{"$error":"#N/A"},{"$error":"#N/A"},{"$error":"#N/A"},{"$error":"#N/A"},{"$error":"#N/A"},{"$error":"#N/A"},{"$error":"#N/A"},{"$error":"#N/A"},{"$error":"#N/A"},{"$error":"#N/A"},{"$error":"#N/A"},{"$error":"#N/A"},{"$error":"#N/A"},{"$error":"#N/A"},{"$error":"#N/A"},{"$error":"#N/A"},{"$error":"#N/A"},{"$error":"#N/A"},{"$error":"#N/A"},{"$error":"#N/A"},{"$error":"#N/A"},{"$error":"#N/A"},{"$error":"#N/A"},{"$error":"#N/A"},{"$error":"#N/A"},{"$error":"#N/A"},{"$error":"#N/A"},{"$error":"#N/A"},{"$error":"#N/A"},{"$error":"#N/A"},{"$error":"#N/A"},{"$error":"#N/A"},{"$error":"#N/A"},{"$error":"#N/A"}]
[24,{"$error":"#N/A"},{"$error":"#N/A"},{"$error":"#N/A"},{"$error":"#N/A"},{"$error":"#N/A"},{"$error":"#N/A"},{"$error":"#N/A"},{"$error":"#N/A"},{"$error":"#N/A"},null,{"$error":"#N/A"},24,{"$f":"VLOOKUP($M41,Funknavigation!$A$2:$AC$185,N$17,FALSE)","v":"Bruenkendorf "},{"$f":"VLOOKUP($M41,Funknavigation!$A$2:$AC$185,O$17,FALSE)","v":"DVOR/DME "},{"$f":"VLOOKUP($M41,Funknavigation!$A$2:$AC$185,P$17,FALSE)","v":"BKD"},{"$f":"VLOOKUP($M41,Funknavigation!$A$2:$AC$185,Q$17,FALSE)","v":"− · · ·   − · −   − · ·"},{"$f":"VLOOKUP($M41,Funknavigation!$A$2:$AC$185,R$17,FALSE)","v":24},{"$f":"VLOOKUP($M41,Funknavigation!$A$2:$AC$185,S$17,FALSE)","v":53.034399999999998},{"$f":"VLOOKUP($M41,Funknavigation!$A$2:$AC$185,T$17,FALSE)","v":11.546099999999999},{"$f":"VLOOKUP($M41,Funknavigation!$A$2:$AC$185,U$17,FALSE)","v":"117.70"},{"$f":"VLOOKUP($M41,Funknavigation!$A$2:$AC$185,V$17,FALSE)","v":""},{"$f":"VLOOKUP($M41,Funknavigation!$A$2:$AC$185,W$17,FALSE)","v":"Ch 124x "},{"$f":"VLOOKUP($M41,Funknavigation!$A$2:$AC$185,X$17,FALSE)","v":80},null,null,0.92562489681968063,0.20151746076451726,{"$f":"IF(AG41=1,MAX(MAX(AC$18:$AC40),MAX($AD$18:$AD$193))+1,\"-\")","v":{"$error":"#N/A"}},{"$f":"IF(AH41=1,MAX($AD$18:AD40)+1,\"-\")","v":{"$error":"#N/A"}},{"$error":"#N/A"},{"$error":"#N/A"},{"$error":"#N/A"},{"$error":"#N/A"},{"$error":"#N/A"},{"$error":"#N/A"},{"$error":"#N/A"},{"$error":"#N/A"},{"$error":"#N/A"},{"$error":"#N/A"},{"$error":"#N/A"},{"$error":"#N/A"},{"$error":"#N/A"},{"$error":"#N/A"},{"$error":"#N/A"},{"$error":"#N/A"},{"$error":"#N/A"},{"$error":"#N/A"},{"$error":"#N/A"},{"$error":"#N/A"},{"$error":"#N/A"},{"$error":"#N/A"},{"$error":"#N/A"},{"$error":"#N/A"},{"$error":"#N/A"},{"$error":"#N/A"},{"$error":"#N/A"},{"$error":"#N/A"},{"$error":"#N/A"},{"$error":"#N/A"},{"$error":"#N/A"},{"$error":"#N/A"},{"$error":"#N/A"},{"$error":"#N/A"},{"$error":"#N/A"},{"$error":"#N/A"},{"$error":"#N/A"},{"$error":"#N/A"},{"$error":"#N/A"},{"$error":"#N/A"},{"$error":"#N/A"},{"$error":"#N/A"},{"$error":"#N/A"},{"$error":"#N/A"},{"$error":"#N/A"},{"$error":"#N/A"},{"$error":"#N/A"},{"$error":"#N/A"},{"$error":"#N/A"},{"$error":"#N/A"},{"$error":"#N/A"},{"$error":"#N/A"},{"$error":"#N/A"},{"$error":"#N/A"},{"$error":"#N/A"},{"$error":"#N/A"},{"$error":"#N/A"},{"$error":"#N/A"},{"$error":"#N/A"},{"$error":"#N/A"},{"$error":"#N/A"},{"$error":"#N/A"},{"$error":"#N/A"},{"$error":"#N/A"},{"$error":"#N/A"},{"$error":"#N/A"},{"$error":"#N/A"},{"$error":"#N/A"},{"$error":"#N/A"},{"$error":"#N/A"},{"$error":"#N/A"},{"$error":"#N/A"},{"$error":"#N/A"},{"$error":"#N/A"},{"$error":"#N/A"},{"$error":"#N/A"},{"$error":"#N/A"},{"$error":"#N/A"},{"$error":"#N/A"},{"$error":"#N/A"},{"$f":"IF(DG$3=\"OK\",(21600/(2*PI()))*ACOS(SIN($AA41)*SIN(DG$6)+COS(DG$6)*COS($AA41)*COS($AB41-DG$7)),\"-\")","v":{"$error":"#N/A"}},{"$error":"#N/A"},{"$error":"#N/A"},{"$error":"#N/A"},{"$error":"#N/A"},{"$error":"#N/A"},{"$error":"#N/A"},{"$error":"#N/A"},{"$error":"#N/A"},{"$error":"#N/A"},{"$f":"IF(DQ$3=\"OK\",(21600/(2*PI()))*ACOS(SIN($AA41)*SIN(DQ$6)+COS(DQ$6)*COS($AA41)*COS($AB41-DQ$7)),\"-\")","v":{"$error":"#N/A"}},{"$error":"#N/A"},{"$error":"#N/A"},{"$error":"#N/A"},{"$error":"#N/A"},{"$error":"#N/A"},{"$error":"#N/A"},{"$error":"#N/A"},{"$error":"#N/A"},{"$error":"#N/A"},{"$f":"IF(EA$3=\"OK\",(21600/(2*PI()))*ACOS(SIN($AA41)*SIN(EA$6)+COS(EA$6)*COS($AA41)*COS($AB41-EA$7)),\"-\")","v":{"$error":"#N/A"}},{"$error":"#N/A"},{"$error":"#N/A"},{"$error":"#N/A"},{"$error":"#N/A"},{"$error":"#N/A"}]
[25,{"$error":"#N/A"},{"$error":"#N/A"},{"$error":"#N/A"},{"$error":"#N/A"},{"$error":"#N/A"},{"$error":"#N/A"},{"$error":"#N/A"},{"$error":"#N/A"},{"$error":"#N/A"},null,{"$error":"#N/A"},25,{"$f":"VLOOKUP($M42,Funknavigation!$A$2:$AC$185,N$17,FALSE)","v":"Bueckeburg "},{"$f":"VLOOKUP($M42,Funknavigation!$A$2:$AC$185,O$17,FALSE)","v":"NDB "},{"$f":"VLOOKUP($M42,Funknavigation!$A$2:$AC$185,P$17,FALSE)","v":"BYC"},{"$f":"VLOOKUP($M42,Funknavigation!$A$2:$AC$185,Q$17,FALSE)","v":"− · · ·   − · − −   − · − ·"},{"$f":"VLOOKUP($M42,Funknavigation!$A$2:$AC$185,R$17,FALSE)","v":25},{"$f":"VLOOKUP($M42,Funknavigation!$A$2:$AC$185,S$17,FALSE)","v":52.2911},{"$f":"VLOOKUP($M42,Funknavigation!$A$2:$AC$185,T$17,FALSE)","v":9.0911000000000008},{"$f":"VLOOKUP($M42,Funknavigation!$A$2:$AC$185,U$17,FALSE)","v":""},{"$f":"VLOOKUP($M42,Funknavigation!$A$2:$AC$185,V$17,FALSE)","v":368},{"$f":"VLOOKUP($M42,Funknavigation!$A$2:$AC$185,W$17,FALSE)","v":""},{"$f":"VLOOKUP($M42,Funknavigation!$A$2:$AC$185,X$17,FALSE)","v":25},null,null,0.91265186448960678,0.1586696276280565,{"$f":"IF(AG42=1,MAX(MAX(AC$18:$AC41),MAX($AD$18:$AD$193))+1,\"-\")","v":{"$error":"#N/A"}},{"$f":"IF(AH42=1,MAX($AD$18:AD41)+1,\"-\")","v":{"$error":"#N/A"}},{"$error":"#N/A"},{"$error":"#N/A"},{"$error":"#N/A"},{"$error":"#N/A"},{"$error":"#N/A"},{"$error":"#N/A"},{"$error":"#N/A"},{"$error":"#N/A"},{"$error":"#N/A"},{"$error":"#N/A"},{"$error":"#N/A"},{"$error":"#N/A"},{"$error":"#N/A"},{"$error":"#N/A"},{"$error":"#N/A"},{"$error":"#N/A"},{"$error":"#N/A"},{"$error":"#N/A"},{"$error":"#N/A"},{"$error":"#N/A"},{"$error":"#N/A"},{"$error":"#N/A"},{"$error":"#N/A"},{"$error":"#N/A"},{"$error":"#N/A"},{"$error":"#N/A"},{"$error":"#N/A"},{"$error":"#N/A"},{"$error":"#N/A"},{"$error":"#N/A"},{"$error":"#N/A"},{"$error":"#N/A"},{"$error":"#N/A"},{"$error":"#N/A"},{"$error":"#N/A"},{"$error":"#N/A"},{"$error":"#N/A"},{"$error":"#N/A"},{"$error":"#N/A"},{"$error":"#N/A"},{"$error":"#N/A"},{"$error":"#N/A"},{"$error":"#N/A"},{"$error":"#N/A"},{"$error":"#N/A"},{"$error":"#N/A"},{"$error":"#N/A"},{"$error":"#N/A"},{"$error":"#N/A"},{"$error":"#N/A"},{"$error":"#N/A"},{"$error":"#N/A"},{"$error":"#N/A"},{"$error":"#N/A"},{"$error":"#N/A"},{"$error":"#N/A"},{"$error":"#N/A"},{"$error":"#N/A"},{"$error":"#N/A"},{"$error":"#N/A"},{"$error":"#N/A"},{"$error":"#N/A"},{"$error":"#N/A"},{"$error":"#N/A"},{"$error":"#N/A"},{"$error":"#N/A"},{"$error":"#N/A"},{"$error":"#N/A"},{"$error":"#N/A"},{"$error":"#N/A"},{"$error":"#N/A"},{"$error":"#N/A"},{"$error":"#N/A"},{"$error":"#N/A"},{"$error":"#N/A"},{"$error":"#N/A"},{"$error":"#N/A"},{"$error":"#N/A"},{"$error":"#N/A"},{"$error":"#N/A"},{"$error":"#N/A"},{"$error":"#N/A"},{"$error":"#N/A"},{"$error":"#N/A"},{"$error":"#N/A"},{"$error":"#N/A"},{"$error":"#N/A"},{"$error":"#N/A"},{"$error":"#N/A"},{"$error":"#N/A"},{"$error":"#N/A"},{"$error":"#N/A"},{"$error":"#N/A"},{"$error":"#N/A"},{"$error":"#N/A"},{"$error":"#N/A"},{"$error":"#N/A"},{"$error":"#N/A"},{"$error":"#N/A"},{"$error":"#N/A"},{"$error":"#N/A"},{"$error":"#N/A"},{"$error":"#N/A"},{"$error":"#N/A"},{"$error":"#N/A"},{"$error":"#N/A"}]
[26,{"$error":"#N/A"},{"$error":"#N/A"},{"$error":"#N/A"},{"$error":"#N/A"},{"$error":"#N/A"},{"$error":"#N/A"},{"$error":"#N/A"},{"$error":"#N/A"},{"$error":"#N/A"},null,{"$error":"#N/A"},26,{"$f":"VLOOKUP($M43,Funknavigation!$A$2:$AC$185,N$17,FALSE)","v":"Celle "},{"$f":"VLOOKUP($M43,Funknavigation!$A$2:$AC$185,O$17,FALSE)","v":"NDB "},{"$f":"VLOOKUP($M43,Funknavigation!$A$2:$AC$185,P$17,FALSE)","v":"CEL"},{"$f":"VLOOKUP($M43,Funknavigation!$A$2:$AC$185,Q$17,FALSE)","v":"− · − ·   ·   · − · ·"},{"$f":"VLOOKUP($M43,Funknavigation!$A$2:$AC$185,R$17,FALSE)","v":26},{"$f":"VLOOKUP($M43,Funknavigation!$A$2:$AC$185,S$17,FALSE)","v":52.589700000000001},{"$f":"VLOOKUP($M43,Funknavigation!$A$2:$AC$185,T$17,FALSE)","v":10.029400000000001},{"$f":"VLOOKUP($M43,Funknavigation!$A$2:$AC$185,U$17,FALSE)","v":""},{"$f":"VLOOKUP($M43,Funknavigation!$A$2:$AC$185,V$17,FALSE)","v":311},{"$f":"VLOOKUP($M43,Funknavigation!$A$2:$AC$185,W$17,FALSE)","v":""},{"$f":"VLOOKUP($M43,Funknavigation!$A$2:$AC$185,X$17,FALSE)","v":25},null,null,0.91786341763606194,0.17504605199951928,{"$f":"IF(AG43=1,MAX(MAX(AC$18:$AC42),MAX($AD$18:$AD$193))+1,\"-\")","v":{"$error":"#N/A"}},{"$f":"IF(AH43=1,MAX($AD$18:AD42)+1,\"-\")","v":{"$error":"#N/A"}},{"$error":"#N/A"},{"$error":"#N/A"},{"$error":"#N/A"},{"$error":"#N/A"},{"$error":"#N/A"},{"$error":"#N/A"},{"$error":"#N/A"},{"$error":"#N/A"},{"$error":"#N/A"},{"$error":"#N/A"},{"$error":"#N/A"},{"$error":"#N/A"},{"$error":"#N/A"},{"$error":"#N/A"},{"$error":"#N/A"},{"$error":"#N/A"},{"$error":"#N/A"},{"$error":"#N/A"},{"$error":"#N/A"},{"$error":"#N/A"},{"$error":"#N/A"},{"$error":"#N/A"},{"$error":"#N/A"},{"$error":"#N/A"},{"$error":"#N/A"},{"$error":"#N/A"},{"$error":"#N/A"},{"$error":"#N/A"},{"$error":"#N/A"},{"$error":"#N/A"},{"$error":"#N/A"},{"$error":"#N/A"},{"$error":"#N/A"},{"$error":"#N/A"},{"$error":"#N/A"},{"$error":"#N/A"},{"$error":"#N/A"},{"$error":"#N/A"},{"$error":"#N/A"},{"$error":"#N/A"},{"$error":"#N/A"},{"$error":"#N/A"},{"$error":"#N/A"},{"$error":"#N/A"},{"$error":"#N/A"},{"$error":"#N/A"},{"$error":"#N/A"},{"$error":"#N/A"},{"$error":"#N/A"},{"$error":"#N/A"},{"$error":"#N/A"},{"$error":"#N/A"},{"$error":"#N/A"},{"$error":"#N/A"},{"$error":"#N/A"},{"$error":"#N/A"},{"$error":"#N/A"},{"$error":"#N/A"},{"$error":"#N/A"},{"$error":"#N/A"},{"$error":"#N/A"},{"$error":"#N/A"},{"$error":"#N/A"},{"$error":"#N/A"},{"$error":"#N/A"},{"$error":"#N/A"},{"$error":"#N/A"},{"$error":"#N/A"},{"$error":"#N/A"},{"$error":"#N/A"},{"$error":"#N/A"},{"$error":"#N/A"},{"$error":"#N/A"},{"$error":"#N/A"},{"$error":"#N/A"},{"$error":"#N/A"},{"$error":"#N/A"},{"$error":"#N/A"},{"$error":"#N/A"},{"$error":"#N/A"},{"$error":"#N/A"},{"$error":"#N/A"},{"$error":"#N/A"},{"$error":"#N/A"},{"$error":"#N/A"},{"$error":"#N/A"},{"$error":"#N/A"},{"$error":"#N/A"},{"$error":"#N/A"},{"$error":"#N/A"},{"$error":"#N/A"},{"$error":"#N/A"},{"$error":"#N/A"},{"$error":"#N/A"},{"$error":"#N/A"},{"$error":"#N/A"},{"$error":"#N/A"},{"$error":"#N/A"},{"$error":"#N/A"},{"$error":"#N/A"},{"$error":"#N/A"},{"$error":"#N/A"},{"$error":"#N/A"},{"$error":"#N/A"},{"$error":"#N/A"},{"$error":"#N/A"}]
[27,{"$error":"#N/A"},{"$error":"#N/A"},{"$error":"#N/A"},{"$error":"#N/A"},{"$error":"#N/A"},{"$error":"#N/A"},{"$error":"#N/A"},{"$error":"#N/A"},{"$error":"#N/A"},null,{"$error":"#N/A"},27,{"$f":"VLOOKUP($M44,Funknavigation!$A$2:$AC$185,N$17,FALSE)","v":"Charlie "},{"$f":"VLOOKUP($M44,Funknavigation!$A$2:$AC$185,O$17,FALSE)","v":"VOR "},{"$f":"VLOOKUP($M44,Funknavigation!$A$2:$AC$185,P$17,FALSE)","v":"CHA"},{"$f":"VLOOKUP($M44,Funknavigation!$A$2:$AC$185,Q$17,FALSE)","v":"− · − ·   · · · ·   · −"},{"$f":"VLOOKUP($M44,Funknavigation!$A$2:$AC$185,R$17,FALSE)","v":27},{"$f":"VLOOKUP($M44,Funknavigation!$A$2:$AC$185,S$17,FALSE)","v":49.921100000000003},{"$f":"VLOOKUP($M44,Funknavigation!$A$2:$AC$185,T$17,FALSE)","v":9.0396999999999998},{"$f":"VLOOKUP($M44,Funknavigation!$A$2:$AC$185,U$17,FALSE)","v":"115.50"},{"$f":"VLOOKUP($M44,Funknavigation!$A$2:$AC$185,V$17,FALSE)","v":""},{"$f":"VLOOKUP($M44,Funknavigation!$A$2:$AC$185,W$17,FALSE)","v":""},{"$f":"VLOOKUP($M44,Funknavigation!$A$2:$AC$185,X$17,FALSE)","v":60},null,null,0.87128756121734119,0.15777252839253139,{"$f":"IF(AG44=1,MAX(MAX(AC$18:$AC43),MAX($AD$18:$AD$193))+1,\"-\")","v":{"$error":"#N/A"}},{"$f":"IF(AH44=1,MAX($AD$18:AD43)+1,\"-\")","v":{"$error":"#N/A"}},{"$error":"#N/A"},{"$error":"#N/A"},{"$error":"#N/A"},{"$error":"#N/A"},{"$error":"#N/A"},{"$error":"#N/A"},{"$error":"#N/A"},{"$error":"#N/A"},{"$error":"#N/A"},{"$error":"#N/A"},{"$error":"#N/A"},{"$error":"#N/A"},{"$error":"#N/A"},{"$error":"#N/A"},{"$error":"#N/A"},{"$error":"#N/A"},{"$error":"#N/A"},{"$error":"#N/A"},{"$error":"#N/A"},{"$error":"#N/A"},{"$error":"#N/A"},{"$error":"#N/A"},{"$error":"#N/A"},{"$error":"#N/A"},{"$error":"#N/A"},{"$error":"#N/A"},{"$error":"#N/A"},{"$error":"#N/A"},{"$error":"#N/A"},{"$error":"#N/A"},{"$error":"#N/A"},{"$error":"#N/A"},{"$error":"#N/A"},{"$error":"#N/A"},{"$error":"#N/A"},{"$error":"#N/A"},{"$error":"#N/A"},{"$error":"#N/A"},{"$error":"#N/A"},{"$error":"#N/A"},{"$error":"#N/A"},{"$error":"#N/A"},{"$error":"#N/A"},{"$error":"#N/A"},{"$error":"#N/A"},{"$error":"#N/A"},{"$error":"#N/A"},{"$error":"#N/A"},{"$error":"#N/A"},{"$error":"#N/A"},{"$error":"#N/A"},{"$error":"#N/A"},{"$error":"#N/A"},{"$error":"#N/A"},{"$error":"#N/A"},{"$error":"#N/A"},{"$error":"#N/A"},{"$error":"#N/A"},{"$error":"#N/A"},{"$error":"#N/A"},{"$error":"#N/A"},{"$error":"#N/A"},{"$error":"#N/A"},{"$error":"#N/A"},{"$error":"#N/A"},{"$error":"#N/A"},{"$error":"#N/A"},{"$error":"#N/A"},{"$error":"#N/A"},{"$error":"#N/A"},{"$error":"#N/A"},{"$error":"#N/A"},{"$error":"#N/A"},{"$error":"#N/A"},{"$error":"#N/A"},{"$error":"#N/A"},{"$error":"#N/A"},{"$error":"#N/A"},{"$error":"#N/A"},{"$error":"#N/A"},{"$f":"IF(DG$3=\"OK\",(21600/(2*PI()))*ACOS(SIN($AA44)*SIN(DG$6)+COS(DG$6)*COS($AA44)*COS($AB44-DG$7)),\"-\")","v":{"$error":"#N/A"}},{"$error":"#N/A"},{"$error":"#N/A"},{"$error":"#N/A"},{"$error":"#N/A"},{"$error":"#N/A"},{"$error":"#N/A"},{"$error":"#N/A"},{"$error":"#N/A"},{"$error":"#N/A"},{"$error":"#N/A"},{"$error":"#N/A"},{"$error":"#N/A"},{"$error":"#N/A"},{"$f":"IF(DU$3=\"OK\",(21600/(2*PI()))*ACOS(SIN($AA44)*SIN(DU$6)+COS(DU$6)*COS($AA44)*COS($AB44-DU$7)),\"-\")","v":{"$error":"#N/A"}},{"$error":"#N/A"},{"$error":"#N/A"},{"$error":"#N/A"},{"$error":"#N/A"},{"$error":"#N/A"},{"$error":"#N/A"},{"$error":"#N/A"},{"$error":"#N/A"},{"$error":"#N/A"},{"$error":"#N/A"},{"$error":"#N/A"}]
[28,{"$error":"#N/A"},{"$error":"#N/A"},{"$error":"#N/A"},{"$error":"#N/A"},{"$error":"#N/A"},{"$error":"#N/A"},{"$error":"#N/A"},{"$error":"#N/A"},{"$error":"#N/A"},null,{"$error":"#N/A"},28,{"$f":"VLOOKUP($M45,Funknavigation!$A$2:$AC$185,N$17,FALSE)","v":"Cochstedt "},{"$f":"VLOOKUP($M45,Funknavigation!$A$2:$AC$185,O$17,FALSE)","v":"DME "},{"$f":"VLOOKUP($M45,Funknavigation!$A$2:$AC$185,P$17,FALSE)","v":"COD"},{"$f":"VLOOKUP($M45,Funknavigation!$A$2:$AC$185,Q$17,FALSE)","v":"− · − ·   − − −   − · ·"},{"$f":"VLOOKUP($M45,Funknavigation!$A$2:$AC$185,R$17,FALSE)","v":28},{"$f":"VLOOKUP($M45,Funknavigation!$A$2:$AC$185,S$17,FALSE)","v":51.853900000000003},{"$f":"VLOOKUP($M45,Funknavigation!$A$2:$AC$185,T$17,FALSE)","v":11.423299999999999},{"$f":"VLOOKUP($M45,Funknavigation!$A$2:$AC$185,U$17,FALSE)","v":"113.35"},{"$f":"VLOOKUP($M45,Funknavigation!$A$2:$AC$185,V$17,FALSE)","v":""},{"$f":"VLOOKUP($M45,Funknavigation!$A$2:$AC$185,W$17,FALSE)","v":"Ch 80y "},{"$f":"VLOOKUP($M45,Funknavigation!$A$2:$AC$185,X$17,FALSE)","v":25},null,null,0.90502128499988765,0.19937419644306825,{"$f":"IF(AG45=1,MAX(MAX(AC$18:$AC44),MAX($AD$18:$AD$193))+1,\"-\")","v":{"$error":"#N/A"}},{"$f":"IF(AH45=1,MAX($AD$18:AD44)+1,\"-\")","v":{"$error":"#N/A"}},{"$error":"#N/A"},{"$error":"#N/A"},{"$error":"#N/A"},{"$error":"#N/A"},{"$error":"#N/A"},{"$error":"#N/A"},{"$error":"#N/A"},{"$error":"#N/A"},{"$error":"#N/A"},{"$error":"#N/A"},{"$error":"#N/A"},{"$error":"#N/A"},{"$error":"#N/A"},{"$error":"#N/A"},{"$error":"#N/A"},{"$error":"#N/A"},{"$error":"#N/A"},{"$error":"#N/A"},{"$error":"#N/A"},{"$error":"#N/A"},{"$error":"#N/A"},{"$error":"#N/A"},{"$error":"#N/A"},{"$error":"#N/A"},{"$error":"#N/A"},{"$error":"#N/A"},{"$error":"#N/A"},{"$error":"#N/A"},{"$error":"#N/A"},{"$error":"#N/A"},{"$error":"#N/A"},{"$error":"#N/A"},{"$error":"#N/A"},{"$error":"#N/A"},{"$error":"#N/A"},{"$error":"#N/A"},{"$error":"#N/A"},{"$error":"#N/A"},{"$error":"#N/A"},{"$error":"#N/A"},{"$error":"#N/A"},{"$error":"#N/A"},{"$error":"#N/A"},{"$error":"#N/A"},{"$error":"#N/A"},{"$error":"#N/A"},{"$error":"#N/A"},{"$error":"#N/A"},{"$error":"#N/A"},{"$error":"#N/A"},{"$error":"#N/A"},{"$error":"#N/A"},{"$error":"#N/A"},{"$error":"#N/A"},{"$error":"#N/A"},{"$error":"#N/A"},{"$error":"#N/A"},{"$error":"#N/A"},{"$error":"#N/A"},{"$error":"#N/A"},{"$error":"#N/A"},{"$error":"#N/A"},{"$error":"#N/A"},{"$error":"#N/A"},{"$error":"#N/A"},{"$error":"#N/A"},{"$error":"#N/A"},{"$error":"#N/A"},{"$error":"#N/A"},{"$error":"#N/A"},{"$error":"#N/A"},{"$error":"#N/A"},{"$error":"#N/A"},{"$error":"#N/A"},{"$error":"#N/A"},{"$error":"#N/A"},{"$error":"#N/A"},{"$error":"#N/A"},{"$error":"#N/A"},{"$error":"#N/A"},{"$error":"#N/A"},{"$error":"#N/A"},{"$error":"#N/A"},{"$error":"#N/A"},{"$error":"#N/A"},{"$error":"#N/A"},{"$error":"#N/A"},{"$error":"#N/A"},{"$error":"#N/A"},{"$error":"#N/A"},{"$error":"#N/A"},{"$error":"#N/A"},{"$error":"#N/A"},{"$error":"#N/A"},{"$error":"#N/A"},{"$error":"#N/A"},{"$error":"#N/A"},{"$error":"#N/A"},{"$error":"#N/A"},{"$error":"#N/A"},{"$error":"#N/A"},{"$error":"#N/A"},{"$error":"#N/A"},{"$error":"#N/A"},{"$error":"#N/A"},{"$error":"#N/A"}]
[29,{"$error":"#N/A"},{"$error":"#N/A"},{"$error":"#N/A"},{"$error":"#N/A"},{"$error":"#N/A"},{"$error":"#N/A"},{"$error":"#N/A"},{"$error":"#N/A"},{"$error":"#N/A"},null,{"$error":"#N/A"},29,{"$f":"VLOOKUP($M46,Funknavigation!$A$2:$AC$185,N$17,FALSE)","v":"Cochstedt"},{"$f":"VLOOKUP($M46,Funknavigation!$A$2:$AC$185,O$17,FALSE)","v":"NDB "},{"$f":"VLOOKUP($M46,Funknavigation!$A$2:$AC$185,P$17,FALSE)","v":"CB"},{"$f":"VLOOKUP($M46,Funknavigation!$A$2:$AC$185,Q$17,FALSE)","v":"− · − ·   − · · ·"},{"$f":"VLOOKUP($M46,Funknavigation!$A$2:$AC$185,R$17,FALSE)","v":29},{"$f":"VLOOKUP($M46,Funknavigation!$A$2:$AC$185,S$17,FALSE)","v":51.860300000000002},{"$f":"VLOOKUP($M46,Funknavigation!$A$2:$AC$185,T$17,FALSE)","v":11.4506},{"$f":"VLOOKUP($M46,Funknavigation!$A$2:$AC$185,U$17,FALSE)","v":""},{"$f":"VLOOKUP($M46,Funknavigation!$A$2:$AC$185,V$17,FALSE)","v":344},{"$f":"VLOOKUP($M46,Funknavigation!$A$2:$AC$185,W$17,FALSE)","v":""},{"$f":"VLOOKUP($M46,Funknavigation!$A$2:$AC$185,X$17,FALSE)","v":0},null,null,0.90513298607201531,0.19985067132886267,{"$f":"IF(AG46=1,MAX(MAX(AC$18:$AC45),MAX($AD$18:$AD$193))+1,\"-\")","v":{"$error":"#N/A"}},{"$f":"IF(AH46=1,MAX($AD$18:AD45)+1,\"-\")","v":{"$error":"#N/A"}},{"$error":"#N/A"},{"$error":"#N/A"},{"$error":"#N/A"},{"$error":"#N/A"},{"$error":"#N/A"},{"$error":"#N/A"},{"$error":"#N/A"},{"$error":"#N/A"},{"$error":"#N/A"},{"$error":"#N/A"},{"$error":"#N/A"},{"$error":"#N/A"},{"$error":"#N/A"},{"$error":"#N/A"},{"$error":"#N/A"},{"$error":"#N/A"},{"$error":"#N/A"},{"$error":"#N/A"},{"$error":"#N/A"},{"$error":"#N/A"},{"$error":"#N/A"},{"$error":"#N/A"},{"$error":"#N/A"},{"$error":"#N/A"},{"$error":"#N/A"},{"$error":"#N/A"},{"$error":"#N/A"},{"$error":"#N/A"},{"$error":"#N/A"},{"$error":"#N/A"},{"$error":"#N/A"},{"$error":"#N/A"},{"$error":"#N/A"},{"$error":"#N/A"},{"$error":"#N/A"},{"$error":"#N/A"},{"$error":"#N/A"},{"$error":"#N/A"},{"$error":"#N/A"},{"$error":"#N/A"},{"$error":"#N/A"},{"$error":"#N/A"},{"$error":"#N/A"},{"$error":"#N/A"},{"$error":"#N/A"},{"$error":"#N/A"},{"$error":"#N/A"},{"$error":"#N/A"},{"$error":"#N/A"},{"$error":"#N/A"},{"$error":"#N/A"},{"$error":"#N/A"},{"$error":"#N/A"},{"$error":"#N/A"},{"$error":"#N/A"},{"$error":"#N/A"},{"$error":"#N/A"},{"$error":"#N/A"},{"$error":"#N/A"},{"$error":"#N/A"},{"$error":"#N/A"},{"$error":"#N/A"},{"$error":"#N/A"},{"$error":"#N/A"},{"$error":"#N/A"},{"$error":"#N/A"},{"$error":"#N/A"},{"$error":"#N/A"},{"$error":"#N/A"},{"$error":"#N/A"},{"$error":"#N/A"},{"$error":"#N/A"},{"$error":"#N/A"},{"$error":"#N/A"},{"$error":"#N/A"},{"$error":"#N/A"},{"$error":"#N/A"},{"$error":"#N/A"},{"$error":"#N/A"},{"$error":"#N/A"},{"$error":"#N/A"},{"$error":"#N/A"},{"$error":"#N/A"},{"$error":"#N/A"},{"$error":"#N/A"},{"$error":"#N/A"},{"$error":"#N/A"},{"$error":"#N/A"},{"$error":"#N/A"},{"$error":"#N/A"},{"$error":"#N/A"},{"$error":"#N/A"},{"$error":"#N/A"},{"$error":"#N/A"},{"$error":"#N/A"},{"$error":"#N/A"},{"$error":"#N/A"},{"$error":"#N/A"},{"$error":"#N/A"},{"$error":"#N/A"},{"$error":"#N/A"},{"$error":"#N/A"},{"$error":"#N/A"},{"$error":"#N/A"},{"$error":"#N/A"},{"$error":"#N/A"}]
[30,{"$error":"#N/A"},{"$error":"#N/A"},{"$error":"#N/A"},{"$error":"#N/A"},{"$error":"#N/A"},{"$error":"#N/A"},{"$error":"#N/A"},{"$error":"#N/A"},{"$error":"#N/A"},null,{"$error":"#N/A"},30,{"$f":"VLOOKUP($M47,Funknavigation!$A$2:$AC$185,N$17,FALSE)","v":"Cola "},{"$f":"VLOOKUP($M47,Funknavigation!$A$2:$AC$185,O$17,FALSE)","v":"DVOR/DME "},{"$f":"VLOOKUP($M47,Funknavigation!$A$2:$AC$185,P$17,FALSE)","v":"COL"},{"$f":"VLOOKUP($M47,Funknavigation!$A$2:$AC$185,Q$17,FALSE)","v":"− · − ·   − − −   · − · ·"},{"$f":"VLOOKUP($M47,Funknavigation!$A$2:$AC$185,R$17,FALSE)","v":30},{"$f":"VLOOKUP($M47,Funknavigation!$A$2:$AC$185,S$17,FALSE)","v":50.7836},{"$f":"VLOOKUP($M47,Funknavigation!$A$2:$AC$185,T$17,FALSE)","v":7.5941999999999998},{"$f":"VLOOKUP($M47,Funknavigation!$A$2:$AC$185,U$17,FALSE)","v":"108.80"},{"$f":"VLOOKUP($M47,Funknavigation!$A$2:$AC$185,V$17,FALSE)","v":""},{"$f":"VLOOKUP($M47,Funknavigation!$A$2:$AC$185,W$17,FALSE)","v":"Ch 25x "},{"$f":"VLOOKUP($M47,Funknavigation!$A$2:$AC$185,X$17,FALSE)","v":40},null,null,0.88634102601579234,0.13254379405495337,{"$f":"IF(AG47=1,MAX(MAX(AC$18:$AC46),MAX($AD$18:$AD$193))+1,\"-\")","v":{"$error":"#N/A"}},{"$f":"IF(AH47=1,MAX($AD$18:AD46)+1,\"-\")","v":{"$error":"#N/A"}},{"$error":"#N/A"},{"$error":"#N/A"},{"$error":"#N/A"},{"$error":"#N/A"},{"$error":"#N/A"},{"$error":"#N/A"},{"$error":"#N/A"},{"$error":"#N/A"},{"$error":"#N/A"},{"$error":"#N/A"},{"$error":"#N/A"},{"$error":"#N/A"},{"$error":"#N/A"},{"$error":"#N/A"},{"$error":"#N/A"},{"$error":"#N/A"},{"$error":"#N/A"},{"$error":"#N/A"},{"$error":"#N/A"},{"$error":"#N/A"},{"$error":"#N/A"},{"$error":"#N/A"},{"$error":"#N/A"},{"$error":"#N/A"},{"$error":"#N/A"},{"$error":"#N/A"},{"$error":"#N/A"},{"$error":"#N/A"},{"$error":"#N/A"},{"$error":"#N/A"},{"$error":"#N/A"},{"$error":"#N/A"},{"$error":"#N/A"},{"$error":"#N/A"},{"$error":"#N/A"},{"$error":"#N/A"},{"$error":"#N/A"},{"$error":"#N/A"},{"$error":"#N/A"},{"$error":"#N/A"},{"$error":"#N/A"},{"$error":"#N/A"},{"$error":"#N/A"},{"$error":"#N/A"},{"$error":"#N/A"},{"$error":"#N/A"},{"$error":"#N/A"},{"$error":"#N/A"},{"$error":"#N/A"},{"$error":"#N/A"},{"$error":"#N/A"},{"$error":"#N/A"},{"$error":"#N/A"},{"$error":"#N/A"},{"$error":"#N/A"},{"$error":"#N/A"},{"$error":"#N/A"},{"$error":"#N/A"},{"$error":"#N/A"},{"$error":"#N/A"},{"$error":"#N/A"},{"$error":"#N/A"},{"$error":"#N/A"},{"$error":"#N/A"},{"$error":"#N/A"},{"$error":"#N/A"},{"$error":"#N/A"},{"$error":"#N/A"},{"$error":"#N/A"},{"$error":"#N/A"},{"$error":"#N/A"},{"$error":"#N/A"},{"$error":"#N/A"},{"$error":"#N/A"},{"$error":"#N/A"},{"$error":"#N/A"},{"$error":"#N/A"},{"$error":"#N/A"},{"$error":"#N/A"},{"$error":"#N/A"},{"$error":"#N/A"},{"$error":"#N/A"},{"$error":"#N/A"},{"$error":"#N/A"},{"$error":"#N/A"},{"$error":"#N/A"},{"$error":"#N/A"},{"$error":"#N/A"},{"$error":"#N/A"},{"$error":"#N/A"},{"$error":"#N/A"},{"$error":"#N/A"},{"$error":"#N/A"},{"$error":"#N/A"},{"$error":"#N/A"},{"$error":"#N/A"},{"$error":"#N/A"},{"$error":"#N/A"},{"$error":"#N/A"},{"$error":"#N/A"},{"$error":"#N/A"},{"$error":"#N/A"},{"$error":"#N/A"},{"$error":"#N/A"},{"$error":"#N/A"},{"$error":"#N/A"}]
[31,{"$error":"#N/A"},{"$error":"#N/A"},{"$error":"#N/A"},{"$error":"#N/A"},{"$error":"#N/A"},{"$error":"#N/A"},{"$error":"#N/A"},{"$error":"#N/A"},{"$error":"#N/A"},null,{"$error":"#N/A"},31,{"$f":"VLOOKUP($M48,Funknavigation!$A$2:$AC$185,N$17,FALSE)","v":"Cottbus-Drewitz "},{"$f":"VLOOKUP($M48,Funknavigation!$A$2:$AC$185,O$17,FALSE)","v":"NDB "},{"$f":"VLOOKUP($M48,Funknavigation!$A$2:$AC$185,P$17,FALSE)","v":"DRW"},{"$f":"VLOOKUP($M48,Funknavigation!$A$2:$AC$185,Q$17,FALSE)","v":"− · ·   · − ·   · − −"},{"$f":"VLOOKUP($M48,Funknavigation!$A$2:$AC$185,R$17,FALSE)","v":31},{"$f":"VLOOKUP($M48,Funknavigation!$A$2:$AC$185,S$17,FALSE)","v":51.896700000000003},{"$f":"VLOOKUP($M48,Funknavigation!$A$2:$AC$185,T$17,FALSE)","v":14.5625},{"$f":"VLOOKUP($M48,Funknavigation!$A$2:$AC$185,U$17,FALSE)","v":""},{"$f":"VLOOKUP($M48,Funknavigation!$A$2:$AC$185,V$17,FALSE)","v":355},{"$f":"VLOOKUP($M48,Funknavigation!$A$2:$AC$185,W$17,FALSE)","v":""},{"$f":"VLOOKUP($M48,Funknavigation!$A$2:$AC$185,X$17,FALSE)","v":12},null,null,0.90576828591974123,0.25416357232167425,{"$f":"IF(AG48=1,MAX(MAX(AC$18:$AC47),MAX($AD$18:$AD$193))+1,\"-\")","v":{"$error":"#N/A"}},{"$f":"IF(AH48=1,MAX($AD$18:AD47)+1,\"-\")","v":{"$error":"#N/A"}},{"$error":"#N/A"},{"$error":"#N/A"},{"$error":"#N/A"},{"$error":"#N/A"},{"$error":"#N/A"},{"$error":"#N/A"},{"$error":"#N/A"},{"$f":"IF(AL$3=\"OK\",(21600/(2*PI()))*ACOS(SIN($AA48)*SIN(AL$6)+COS(AL$6)*COS($AA48)*COS($AB48-AL$7)),\"-\")","v":{"$error":"#N/A"}},{"$error":"#N/A"},{"$error":"#N/A"},{"$error":"#N/A"},{"$error":"#N/A"},{"$error":"#N/A"},{"$error":"#N/A"},{"$error":"#N/A"},{"$error":"#N/A"},{"$error":"#N/A"},{"$f":"IF(AV$3=\"OK\",(21600/(2*PI()))*ACOS(SIN($AA48)*SIN(AV$6)+COS(AV$6)*COS($AA48)*COS($AB48-AV$7)),\"-\")","v":{"$error":"#N/A"}},{"$error":"#N/A"},{"$error":"#N/A"},{"$error":"#N/A"},{"$error":"#N/A"},{"$error":"#N/A"},{"$error":"#N/A"},{"$error":"#N/A"},{"$error":"#N/A"},{"$error":"#N/A"},{"$f":"IF(BF$3=\"OK\",(21600/(2*PI()))*ACOS(SIN($AA48)*SIN(BF$6)+COS(BF$6)*COS($AA48)*COS($AB48-BF$7)),\"-\")","v":{"$error":"#N/A"}},{"$error":"#N/A"},{"$error":"#N/A"},{"$error":"#N/A"},{"$error":"#N/A"},{"$error":"#N/A"},{"$error":"#N/A"},{"$error":"#N/A"},{"$error":"#N/A"},{"$error":"#N/A"},{"$f":"IF(BP$3=\"OK\",(21600/(2*PI()))*ACOS(SIN($AA48)*SIN(BP$6)+COS(BP$6)*COS($AA48)*COS($AB48-BP$7)),\"-\")","v":{"$error":"#N/A"}},{"$error":"#N/A"},{"$error":"#N/A"},{"$error":"#N/A"},{"$error":"#N/A"},{"$error":"#N/A"},{"$error":"#N/A"},{"$error":"#N/A"},{"$error":"#N/A"},{"$error":"#N/A"},{"$f":"IF(BZ$3=\"OK\",(21600/(2*PI()))*ACOS(SIN($AA48)*SIN(BZ$6)+COS(BZ$6)*COS($AA48)*COS($AB48-BZ$7)),\"-\")","v":{"$error":"#N/A"}},{"$error":"#N/A"},{"$error":"#N/A"},{"$error":"#N/A"},{"$error":"#N/A"},{"$error":"#N/A"},{"$error":"#N/A"},{"$error":"#N/A"},{"$error":"#N/A"},{"$error":"#N/A"},{"$f":"IF(CJ$3=\"OK\",(21600/(2*PI()))*ACOS(SIN($AA48)*SIN(CJ$6)+COS(CJ$6)*COS($AA48)*COS($AB48-CJ$7)),\"-\")","v":{"$error":"#N/A"}},{"$error":"#N/A"},{"$error":"#N/A"},{"$error":"#N/A"},{"$error":"#N/A"},{"$error":"#N/A"},{"$error":"#N/A"},{"$error":"#N/A"},{"$error":"#N/A"},{"$error":"#N/A"},{"$f":"IF(CT$3=\"OK\",(21600/(2*PI()))*ACOS(SIN($AA48)*SIN(CT$6)+COS(CT$6)*COS($AA48)*COS($AB48-CT$7)),\"-\")","v":{"$error":"#N/A"}},{"$error":"#N/A"},{"$error":"#N/A"},{"$error":"#N/A"},{"$error":"#N/A"},{"$error":"#N/A"},{"$error":"#N/A"},{"$error":"#N/A"},{"$error":"#N/A"},{"$error":"#N/A"},{"$error":"#N/A"},{"$error":"#N/A"},{"$error":"#N/A"},{"$error":"#N/A"},{"$error":"#N/A"},{"$error":"#N/A"},{"$error":"#N/A"},{"$error":"#N/A"},{"$error":"#N/A"},{"$error":"#N/A"},{"$error":"#N/A"},{"$error":"#N/A"},{"$error":"#N/A"},{"$error":"#N/A"},{"$error":"#N/A"},{"$error":"#N/A"},{"$error":"#N/A"},{"$error":"#N/A"},{"$error":"#N/A"},{"$error":"#N/A"},{"$error":"#N/A"},{"$error":"#N/A"},{"$error":"#N/A"},{"$error":"#N/A"},{"$error":"#N/A"},{"$error":"#N/A"},{"$error":"#N/A"},{"$error":"#N/A"},{"$error":"#N/A"}]
[32,{"$error":"#N/A"},{"$error":"#N/A"},{"$error":"#N/A"},{"$error":"#N/A"},{"$error":"#N/A"},{"$error":"#N/A"},{"$error":"#N/A"},{"$error":"#N/A"},{"$error":"#N/A"},null,{"$error":"#N/A"},32,{"$f":"VLOOKUP($M49,Funknavigation!$A$2:$AC$185,N$17,FALSE)","v":"Cottbus-Drewitz"},{"$f":"VLOOKUP($M49,Funknavigation!$A$2:$AC$185,O$17,FALSE)","v":"DME "},{"$f":"VLOOKUP($M49,Funknavigation!$A$2:$AC$185,P$17,FALSE)","v":"CDD"},{"$f":"VLOOKUP($M49,Funknavigation!$A$2:$AC$185,Q$17,FALSE)","v":"− · − ·   − · ·   − · ·"},{"$f":"VLOOKUP($M49,Funknavigation!$A$2:$AC$185,R$17,FALSE)","v":32},{"$f":"VLOOKUP($M49,Funknavigation!$A$2:$AC$185,S$17,FALSE)","v":51.887799999999999},{"$f":"VLOOKUP($M49,Funknavigation!$A$2:$AC$185,T$17,FALSE)","v":14.533099999999999},{"$f":"VLOOKUP($M49,Funknavigation!$A$2:$AC$185,U$17,FALSE)","v":"113.70"},{"$f":"VLOOKUP($M49,Funknavigation!$A$2:$AC$185,V$17,FALSE)","v":""},{"$f":"VLOOKUP($M49,Funknavigation!$A$2:$AC$185,W$17,FALSE)","v":"Ch CH84x (*) "},{"$f":"VLOOKUP($M49,Funknavigation!$A$2:$AC$185,X$17,FALSE)","v":25},null,null,0.90561295161631361,0.25365044552158789,{"$f":"IF(AG49=1,MAX(MAX(AC$18:$AC48),MAX($AD$18:$AD$193))+1,\"-\")","v":{"$error":"#N/A"}},{"$f":"IF(AH49=1,MAX($AD$18:AD48)+1,\"-\")","v":{"$error":"#N/A"}},{"$error":"#N/A"},{"$error":"#N/A"},{"$error":"#N/A"},{"$error":"#N/A"},{"$error":"#N/A"},{"$error":"#N/A"},{"$error":"#N/A"},{"$error":"#N/A"},{"$error":"#N/A"},{"$error":"#N/A"},{"$error":"#N/A"},{"$error":"#N/A"},{"$error":"#N/A"},{"$error":"#N/A"},{"$error":"#N/A"},{"$error":"#N/A"},{"$error":"#N/A"},{"$error":"#N/A"},{"$error":"#N/A"},{"$error":"#N/A"},{"$error":"#N/A"},{"$error":"#N/A"},{"$error":"#N/A"},{"$error":"#N/A"},{"$error":"#N/A"},{"$error":"#N/A"},{"$error":"#N/A"},{"$error":"#N/A"},{"$error":"#N/A"},{"$error":"#N/A"},{"$error":"#N/A"},{"$error":"#N/A"},{"$error":"#N/A"},{"$error":"#N/A"},{"$error":"#N/A"},{"$error":"#N/A"},{"$error":"#N/A"},{"$error":"#N/A"},{"$error":"#N/A"},{"$error":"#N/A"},{"$error":"#N/A"},{"$error":"#N/A"},{"$error":"#N/A"},{"$error":"#N/A"},{"$error":"#N/A"},{"$error":"#N/A"},{"$error":"#N/A"},{"$error":"#N/A"},{"$error":"#N/A"},{"$error":"#N/A"},{"$error":"#N/A"},{"$error":"#N/A"},{"$error":"#N/A"},{"$error":"#N/A"},{"$error":"#N/A"},{"$error":"#N/A"},{"$error":"#N/A"},{"$error":"#N/A"},{"$error":"#N/A"},{"$error":"#N/A"},{"$error":"#N/A"},{"$error":"#N/A"},{"$error":"#N/A"},{"$error":"#N/A"},{"$error":"#N/A"},{"$error":"#N/A"},{"$error":"#N/A"},{"$error":"#N/A"},{"$error":"#N/A"},{"$error":"#N/A"},{"$error":"#N/A"},{"$error":"#N/A"},{"$error":"#N/A"},{"$error":"#N/A"},{"$error":"#N/A"},{"$error":"#N/A"},{"$error":"#N/A"},{"$error":"#N/A"},{"$error":"#N/A"},{"$error":"#N/A"},{"$error":"#N/A"},{"$error":"#N/A"},{"$error":"#N/A"},{"$error":"#N/A"},{"$error":"#N/A"},{"$error":"#N/A"},{"$error":"#N/A"},{"$error":"#N/A"},{"$error":"#N/A"},{"$error":"#N/A"},{"$error":"#N/A"},{"$error":"#N/A"},{"$error":"#N/A"},{"$error":"#N/A"},{"$error":"#N/A"},{"$error":"#N/A"},{"$error":"#N/A"},{"$error":"#N/A"},{"$error":"#N/A"},{"$error":"#N/A"},{"$error":"#N/A"},{"$error":"#N/A"},{"$error":"#N/A"},{"$error":"#N/A"},{"$error":"#N/A"},{"$error":"#N/A"}]
[33,{"$error":"#N/A"},{"$error":"#N/A"},{"$error":"#N/A"},{"$error":"#N/A"},{"$error":"#N/A"},{"$error":"#N/A"},{"$error":"#N/A"},{"$error":"#N/A"},{"$error":"#N/A"},null,{"$error":"#N/A"},33,{"$f":"VLOOKUP($M50,Funknavigation!$A$2:$AC$185,N$17,FALSE)","v":"Diepholz "},{"$f":"VLOOKUP($M50,Funknavigation!$A$2:$AC$185,O$17,FALSE)","v":"NDB "},{"$f":"VLOOKUP($M50,Funknavigation!$A$2:$AC$185,P$17,FALSE)","v":"DP"},{"$f":"VLOOKUP($M50,Funknavigation!$A$2:$AC$185,Q$17,FALSE)","v":"− · ·   · − − ·"},{"$f":"VLOOKUP($M50,Funknavigation!$A$2:$AC$185,R$17,FALSE)","v":33},{"$f":"VLOOKUP($M50,Funknavigation!$A$2:$AC$185,S$17,FALSE)","v":52.591700000000003},{"$f":"VLOOKUP($M50,Funknavigation!$A$2:$AC$185,T$17,FALSE)","v":8.4533000000000005},{"$f":"VLOOKUP($M50,Funknavigation!$A$2:$AC$185,U$17,FALSE)","v":""},{"$f":"VLOOKUP($M50,Funknavigation!$A$2:$AC$185,V$17,FALSE)","v":325},{"$f":"VLOOKUP($M50,Funknavigation!$A$2:$AC$185,W$17,FALSE)","v":""},{"$f":"VLOOKUP($M50,Funknavigation!$A$2:$AC$185,X$17,FALSE)","v":35},null,null,0.91789832422110185,0.14753791765883667,{"$f":"IF(AG50=1,MAX(MAX(AC$18:$AC49),MAX($AD$18:$AD$193))+1,\"-\")","v":{"$error":"#N/A"}},{"$f":"IF(AH50=1,MAX($AD$18:AD49)+1,\"-\")","v":{"$error":"#N/A"}},{"$error":"#N/A"},{"$error":"#N/A"},{"$error":"#N/A"},{"$f":"IF(MIN(AJ50:EF50)<(X50/$AH$16),1,0)","v":{"$error":"#N/A"}},{"$f":"IF(MIN(AJ50:EF50)<X50,1,0)","v":{"$error":"#N/A"}},{"$error":"#N/A"},{"$error":"#N/A"},{"$error":"#N/A"},{"$error":"#N/A"},{"$error":"#N/A"},{"$error":"#N/A"},{"$error":"#N/A"},{"$error":"#N/A"},{"$error":"#N/A"},{"$error":"#N/A"},{"$error":"#N/A"},{"$error":"#N/A"},{"$error":"#N/A"},{"$error":"#N/A"},{"$error":"#N/A"},{"$error":"#N/A"},{"$error":"#N/A"},{"$error":"#N/A"},{"$error":"#N/A"},{"$error":"#N/A"},{"$error":"#N/A"},{"$error":"#N/A"},{"$error":"#N/A"},{"$error":"#N/A"},{"$error":"#N/A"},{"$error":"#N/A"},{"$error":"#N/A"},{"$error":"#N/A"},{"$error":"#N/A"},{"$error":"#N/A"},{"$error":"#N/A"},{"$error":"#N/A"},{"$error":"#N/A"},{"$error":"#N/A"},{"$error":"#N/A"},{"$error":"#N/A"},{"$error":"#N/A"},{"$error":"#N/A"},{"$error":"#N/A"},{"$error":"#N/A"},{"$error":"#N/A"},{"$error":"#N/A"},{"$error":"#N/A"},{"$error":"#N/A"},{"$error":"#N/A"},{"$error":"#N/A"},{"$error":"#N/A"},{"$error":"#N/A"},{"$error":"#N/A"},{"$error":"#N/A"},{"$error":"#N/A"},{"$error":"#N/A"},{"$error":"#N/A"},{"$error":"#N/A"},{"$error":"#N/A"},{"$error":"#N/A"},{"$error":"#N/A"},{"$error":"#N/A"},{"$error":"#N/A"},{"$error":"#N/A"},{"$error":"#N/A"},{"$error":"#N/A"},{"$error":"#N/A"},{"$error":"#N/A"},{"$error":"#N/A"},{"$error":"#N/A"},{"$error":"#N/A"},{"$error":"#N/A"},{"$error":"#N/A"},{"$error":"#N/A"},{"$error":"#N/A"},{"$error":"#N/A"},{"$error":"#N/A"},{"$error":"#N/A"},{"$error":"#N/A"},{"$error":"#N/A"},{"$error":"#N/A"},{"$error":"#N/A"},{"$error":"#N/A"},{"$error":"#N/A"},{"$error":"#N/A"},{"$error":"#N/A"},{"$error":"#N/A"},{"$error":"#N/A"},{"$error":"#N/A"},{"$error":"#N/A"},{"$error":"#N/A"},{"$error":"#N/A"},{"$error":"#N/A"},{"$error":"#N/A"},{"$error":"#N/A"},{"$error":"#N/A"},{"$error":"#N/A"},{"$error":"#N/A"},{"$error":"#N/A"},{"$error":"#N/A"},{"$error":"#N/A"},{"$error":"#N/A"},{"$error":"#N/A"},{"$error":"#N/A"},{"$error":"#N/A"}]
[34,{"$error":"#N/A"},{"$error":"#N/A"},{"$error":"#N/A"},{"$error":"#N/A"},{"$error":"#N/A"},{"$error":"#N/A"},{"$error":"#N/A"},{"$error":"#N/A"},{"$error":"#N/A"},null,{"$error":"#N/A"},34,{"$f":"VLOOKUP($M51,Funknavigation!$A$2:$AC$185,N$17,FALSE)","v":"Dinkelsbuehl "},{"$f":"VLOOKUP($M51,Funknavigation!$A$2:$AC$185,O$17,FALSE)","v":"DVORTAC "},{"$f":"VLOOKUP($M51,Funknavigation!$A$2:$AC$185,P$17,FALSE)","v":"DKB"},{"$f":"VLOOKUP($M51,Funknavigation!$A$2:$AC$185,Q$17,FALSE)","v":"− · ·   − · −   − · · ·"},{"$f":"VLOOKUP($M51,Funknavigation!$A$2:$AC$185,R$17,FALSE)","v":34},{"$f":"VLOOKUP($M51,Funknavigation!$A$2:$AC$185,S$17,FALSE)","v":49.142800000000001},{"$f":"VLOOKUP($M51,Funknavigation!$A$2:$AC$185,T$17,FALSE)","v":10.238300000000001},{"$f":"VLOOKUP($M51,Funknavigation!$A$2:$AC$185,U$17,FALSE)","v":"117.80"},{"$f":"VLOOKUP($M51,Funknavigation!$A$2:$AC$185,V$17,FALSE)","v":""},{"$f":"VLOOKUP($M51,Funknavigation!$A$2:$AC$185,W$17,FALSE)","v":"Ch 125x "},{"$f":"VLOOKUP($M51,Funknavigation!$A$2:$AC$185,X$17,FALSE)","v":60},null,null,0.85770366364906936,0.17869204480693546,{"$f":"IF(AG51=1,MAX(MAX(AC$18:$AC50),MAX($AD$18:$AD$193))+1,\"-\")","v":{"$error":"#N/A"}},{"$f":"IF(AH51=1,MAX($AD$18:AD50)+1,\"-\")","v":{"$error":"#N/A"}},{"$error":"#N/A"},{"$error":"#N/A"},{"$error":"#N/A"},{"$error":"#N/A"},{"$error":"#N/A"},{"$error":"#N/A"},{"$error":"#N/A"},{"$error":"#N/A"},{"$error":"#N/A"},{"$error":"#N/A"},{"$error":"#N/A"},{"$error":"#N/A"},{"$error":"#N/A"},{"$error":"#N/A"},{"$error":"#N/A"},{"$error":"#N/A"},{"$error":"#N/A"},{"$error":"#N/A"},{"$error":"#N/A"},{"$error":"#N/A"},{"$error":"#N/A"},{"$error":"#N/A"},{"$error":"#N/A"},{"$error":"#N/A"},{"$error":"#N/A"},{"$error":"#N/A"},{"$error":"#N/A"},{"$error":"#N/A"},{"$error":"#N/A"},{"$error":"#N/A"},{"$error":"#N/A"},{"$error":"#N/A"},{"$error":"#N/A"},{"$error":"#N/A"},{"$error":"#N/A"},{"$error":"#N/A"},{"$error":"#N/A"},{"$error":"#N/A"},{"$error":"#N/A"},{"$error":"#N/A"},{"$error":"#N/A"},{"$error":"#N/A"},{"$error":"#N/A"},{"$error":"#N/A"},{"$error":"#N/A"},{"$error":"#N/A"},{"$error":"#N/A"},{"$error":"#N/A"},{"$error":"#N/A"},{"$error":"#N/A"},{"$error":"#N/A"},{"$error":"#N/A"},{"$error":"#N/A"},{"$error":"#N/A"},{"$error":"#N/A"},{"$error":"#N/A"},{"$error":"#N/A"},{"$error":"#N/A"},{"$error":"#N/A"},{"$error":"#N/A"},{"$error":"#N/A"},{"$error":"#N/A"},{"$error":"#N/A"},{"$error":"#N/A"},{"$error":"#N/A"},{"$error":"#N/A"},{"$error":"#N/A"},{"$error":"#N/A"},{"$error":"#N/A"},{"$error":"#N/A"},{"$error":"#N/A"},{"$error":"#N/A"},{"$error":"#N/A"},{"$error":"#N/A"},{"$error":"#N/A"},{"$error":"#N/A"},{"$error":"#N/A"},{"$error":"#N/A"},{"$error":"#N/A"},{"$error":"#N/A"},{"$error":"#N/A"},{"$error":"#N/A"},{"$error":"#N/A"},{"$error":"#N/A"},{"$error":"#N/A"},{"$error":"#N/A"},{"$error":"#N/A"},{"$error":"#N/A"},{"$error":"#N/A"},{"$error":"#N/A"},{"$error":"#N/A"},{"$error":"#N/A"},{"$error":"#N/A"},{"$error":"#N/A"},{"$error":"#N/A"},{"$error":"#N/A"},{"$error":"#N/A"},{"$error":"#N/A"},{"$error":"#N/A"},{"$error":"#N/A"},{"$error":"#N/A"},{"$error":"#N/A"},{"$error":"#N/A"},{"$error":"#N/A"},{"$error":"#N/A"},{"$error":"#N/A"}]
[35,{"$error":"#N/A"},{"$error":"#N/A"},{"$error":"#N/A"},{"$error":"#N/A"},{"$error":"#N/A"},{"$error":"#N/A"},{"$error":"#N/A"},{"$error":"#N/A"},{"$error":"#N/A"},null,{"$error":"#N/A"},35,{"$f":"VLOOKUP($M52,Funknavigation!$A$2:$AC$185,N$17,FALSE)","v":"Dortmund-Wickede "},{"$f":"VLOOKUP($M52,Funknavigation!$A$2:$AC$185,O$17,FALSE)","v":"NDB "},{"$f":"VLOOKUP($M52,Funknavigation!$A$2:$AC$185,P$17,FALSE)","v":"DWI"},{"$f":"VLOOKUP($M52,Funknavigation!$A$2:$AC$185,Q$17,FALSE)","v":"− · ·   · − −   · ·"},{"$f":"VLOOKUP($M52,Funknavigation!$A$2:$AC$185,R$17,FALSE)","v":35},{"$f":"VLOOKUP($M52,Funknavigation!$A$2:$AC$185,S$17,FALSE)","v":51.5261},{"$f":"VLOOKUP($M52,Funknavigation!$A$2:$AC$185,T$17,FALSE)","v":7.6344000000000003},{"$f":"VLOOKUP($M52,Funknavigation!$A$2:$AC$185,U$17,FALSE)","v":""},{"$f":"VLOOKUP($M52,Funknavigation!$A$2:$AC$185,V$17,FALSE)","v":357},{"$f":"VLOOKUP($M52,Funknavigation!$A$2:$AC$185,W$17,FALSE)","v":""},{"$f":"VLOOKUP($M52,Funknavigation!$A$2:$AC$185,X$17,FALSE)","v":25},null,null,0.8993000957118501,0.13324541641425511,{"$f":"IF(AG52=1,MAX(MAX(AC$18:$AC51),MAX($AD$18:$AD$193))+1,\"-\")","v":{"$error":"#N/A"}},{"$f":"IF(AH52=1,MAX($AD$18:AD51)+1,\"-\")","v":{"$error":"#N/A"}},{"$error":"#N/A"},{"$error":"#N/A"},{"$error":"#N/A"},{"$error":"#N/A"},{"$error":"#N/A"},{"$error":"#N/A"},{"$error":"#N/A"},{"$error":"#N/A"},{"$error":"#N/A"},{"$error":"#N/A"},{"$error":"#N/A"},{"$error":"#N/A"},{"$error":"#N/A"},{"$error":"#N/A"},{"$error":"#N/A"},{"$error":"#N/A"},{"$error":"#N/A"},{"$error":"#N/A"},{"$error":"#N/A"},{"$error":"#N/A"},{"$error":"#N/A"},{"$error":"#N/A"},{"$error":"#N/A"},{"$error":"#N/A"},{"$error":"#N/A"},{"$error":"#N/A"},{"$error":"#N/A"},{"$error":"#N/A"},{"$error":"#N/A"},{"$error":"#N/A"},{"$error":"#N/A"},{"$error":"#N/A"},{"$error":"#N/A"},{"$error":"#N/A"},{"$error":"#N/A"},{"$error":"#N/A"},{"$error":"#N/A"},{"$error":"#N/A"},{"$error":"#N/A"},{"$error":"#N/A"},{"$error":"#N/A"},{"$error":"#N/A"},{"$error":"#N/A"},{"$error":"#N/A"},{"$error":"#N/A"},{"$error":"#N/A"},{"$error":"#N/A"},{"$error":"#N/A"},{"$error":"#N/A"},{"$error":"#N/A"},{"$error":"#N/A"},{"$error":"#N/A"},{"$error":"#N/A"},{"$error":"#N/A"},{"$error":"#N/A"},{"$error":"#N/A"},{"$error":"#N/A"},{"$error":"#N/A"},{"$error":"#N/A"},{"$error":"#N/A"},{"$error":"#N/A"},{"$error":"#N/A"},{"$error":"#N/A"},{"$error":"#N/A"},{"$error":"#N/A"},{"$error":"#N/A"},{"$error":"#N/A"},{"$error":"#N/A"},{"$error":"#N/A"},{"$error":"#N/A"},{"$error":"#N/A"},{"$error":"#N/A"},{"$error":"#N/A"},{"$error":"#N/A"},{"$error":"#N/A"},{"$error":"#N/A"},{"$error":"#N/A"},{"$error":"#N/A"},{"$error":"#N/A"},{"$error":"#N/A"},{"$error":"#N/A"},{"$error":"#N/A"},{"$error":"#N/A"},{"$error":"#N/A"},{"$error":"#N/A"},{"$error":"#N/A"},{"$error":"#N/A"},{"$error":"#N/A"},{"$error":"#N/A"},{"$error":"#N/A"},{"$error":"#N/A"},{"$error":"#N/A"},{"$error":"#N/A"},{"$error":"#N/A"},{"$error":"#N/A"},{"$error":"#N/A"},{"$error":"#N/A"},{"$error":"#N/A"},{"$error":"#N/A"},{"$error":"#N/A"},{"$error":"#N/A"},{"$error":"#N/A"},{"$error":"#N/A"},{"$error":"#N/A"},{"$error":"#N/A"},{"$error":"#N/A"}]
[null,null,null,null,null,null,null,null,null,null,null,{"$error":"#N/A"},36,{"$f":"VLOOKUP($M53,Funknavigation!$A$2:$AC$185,N$17,FALSE)","v":"Dresden "},{"$f":"VLOOKUP($M53,Funknavigation!$A$2:$AC$185,O$17,FALSE)","v":"DVOR/DME "},{"$f":"VLOOKUP($M53,Funknavigation!$A$2:$AC$185,P$17,FALSE)","v":"DRN"},{"$f":"VLOOKUP($M53,Funknavigation!$A$2:$AC$185,Q$17,FALSE)","v":"− · ·   · − ·   − ·"},{"$f":"VLOOKUP($M53,Funknavigation!$A$2:$AC$185,R$17,FALSE)","v":36},{"$f":"VLOOKUP($M53,Funknavigation!$A$2:$AC$185,S$17,FALSE)","v":51.015599999999999},{"$f":"VLOOKUP($M53,Funknavigation!$A$2:$AC$185,T$17,FALSE)","v":13.5989},{"$f":"VLOOKUP($M53,Funknavigation!$A$2:$AC$185,U$17,FALSE)","v":"114.35"},{"$f":"VLOOKUP($M53,Funknavigation!$A$2:$AC$185,V$17,FALSE)","v":""},{"$f":"VLOOKUP($M53,Funknavigation!$A$2:$AC$185,W$17,FALSE)","v":"Ch 90y "},{"$f":"VLOOKUP($M53,Funknavigation!$A$2:$AC$185,X$17,FALSE)","v":60},null,null,0.89039018988041918,0.23734557964945688,{"$f":"IF(AG53=1,MAX(MAX(AC$18:$AC52),MAX($AD$18:$AD$193))+1,\"-\")","v":{"$error":"#N/A"}},{"$f":"IF(AH53=1,MAX($AD$18:AD52)+1,\"-\")","v":{"$error":"#N/A"}},{"$error":"#N/A"},{"$error":"#N/A"},{"$error":"#N/A"},{"$error":"#N/A"},{"$error":"#N/A"},{"$error":"#N/A"},{"$error":"#N/A"},{"$error":"#N/A"},{"$error":"#N/A"},{"$error":"#N/A"},{"$error":"#N/A"},{"$error":"#N/A"},{"$error":"#N/A"},{"$error":"#N/A"},{"$error":"#N/A"},{"$error":"#N/A"},{"$error":"#N/A"},{"$error":"#N/A"},{"$error":"#N/A"},{"$error":"#N/A"},{"$error":"#N/A"},{"$error":"#N/A"},{"$error":"#N/A"},{"$error":"#N/A"},{"$error":"#N/A"},{"$error":"#N/A"},{"$error":"#N/A"},{"$error":"#N/A"},{"$error":"#N/A"},{"$error":"#N/A"},{"$error":"#N/A"},{"$error":"#N/A"},{"$error":"#N/A"},{"$error":"#N/A"},{"$error":"#N/A"},{"$error":"#N/A"},{"$error":"#N/A"},{"$error":"#N/A"},{"$error":"#N/A"},{"$error":"#N/A"},{"$error":"#N/A"},{"$error":"#N/A"},{"$error":"#N/A"},{"$error":"#N/A"},{"$error":"#N/A"},{"$error":"#N/A"},{"$error":"#N/A"},{"$error":"#N/A"},{"$error":"#N/A"},{"$error":"#N/A"},{"$error":"#N/A"},{"$error":"#N/A"},{"$error":"#N/A"},{"$error":"#N/A"},{"$error":"#N/A"},{"$error":"#N/A"},{"$error":"#N/A"},{"$error":"#N/A"},{"$error":"#N/A"},{"$error":"#N/A"},{"$error":"#N/A"},{"$error":"#N/A"},{"$error":"#N/A"},{"$error":"#N/A"},{"$error":"#N/A"},{"$error":"#N/A"},{"$error":"#N/A"},{"$error":"#N/A"},{"$error":"#N/A"},{"$error":"#N/A"},{"$error":"#N/A"},{"$error":"#N/A"},{"$error":"#N/A"},{"$error":"#N/A"},{"$error":"#N/A"},{"$error":"#N/A"},{"$error":"#N/A"},{"$error":"#N/A"},{"$error":"#N/A"},{"$error":"#N/A"},{"$error":"#N/A"},{"$error":"#N/A"},{"$error":"#N/A"},{"$error":"#N/A"},{"$error":"#N/A"},{"$error":"#N/A"},{"$error":"#N/A"},{"$error":"#N/A"},{"$error":"#N/A"},{"$error":"#N/A"},{"$error":"#N/A"},{"$error":"#N/A"},{"$error":"#N/A"},{"$error":"#N/A"},{"$error":"#N/A"},{"$error":"#N/A"},{"$error":"#N/A"},{"$error":"#N/A"},{"$error":"#N/A"},{"$error":"#N/A"},{"$error":"#N/A"},{"$error":"#N/A"},{"$error":"#N/A"},{"$error":"#N/A"},{"$error":"#N/A"},{"$error":"#N/A"}]
[null,null,null,null,null,null,null,null,null,null,null,{"$error":"#N/A"},37,{"$f":"VLOOKUP($M54,Funknavigation!$A$2:$AC$185,N$17,FALSE)","v":"Dresden"},{"$f":"VLOOKUP($M54,Funknavigation!$A$2:$AC$185,O$17,FALSE)","v":"LO "},{"$f":"VLOOKUP($M54,Funknavigation!$A$2:$AC$185,P$17,FALSE)","v":"FS"},{"$f":"VLOOKUP($M54,Funknavigation!$A$2:$AC$185,Q$17,FALSE)","v":"· · − ·   · · ·"},{"$f":"VLOOKUP($M54,Funknavigation!$A$2:$AC$185,R$17,FALSE)","v":37},{"$f":"VLOOKUP($M54,Funknavigation!$A$2:$AC$185,S$17,FALSE)","v":51.193100000000001},{"$f":"VLOOKUP($M54,Funknavigation!$A$2:$AC$185,T$17,FALSE)","v":13.0167},{"$f":"VLOOKUP($M54,Funknavigation!$A$2:$AC$185,U$17,FALSE)","v":""},{"$f":"VLOOKUP($M54,Funknavigation!$A$2:$AC$185,V$17,FALSE)","v":374},{"$f":"VLOOKUP($M54,Funknavigation!$A$2:$AC$185,W$17,FALSE)","v":""},{"$f":"VLOOKUP($M54,Funknavigation!$A$2:$AC$185,X$17,FALSE)","v":15},null,null,0.89348814930270914,0.22718427274434588,{"$f":"IF(AG54=1,MAX(MAX(AC$18:$AC53),MAX($AD$18:$AD$193))+1,\"-\")","v":{"$error":"#N/A"}},{"$f":"IF(AH54=1,MAX($AD$18:AD53)+1,\"-\")","v":{"$error":"#N/A"}},{"$error":"#N/A"},{"$error":"#N/A"},{"$error":"#N/A"},{"$error":"#N/A"},{"$error":"#N/A"},{"$error":"#N/A"},{"$error":"#N/A"},{"$error":"#N/A"},{"$error":"#N/A"},{"$error":"#N/A"},{"$error":"#N/A"},{"$error":"#N/A"},{"$error":"#N/A"},{"$error":"#N/A"},{"$error":"#N/A"},{"$error":"#N/A"},{"$error":"#N/A"},{"$error":"#N/A"},{"$error":"#N/A"},{"$error":"#N/A"},{"$error":"#N/A"},{"$error":"#N/A"},{"$error":"#N/A"},{"$error":"#N/A"},{"$error":"#N/A"},{"$error":"#N/A"},{"$error":"#N/A"},{"$error":"#N/A"},{"$error":"#N/A"},{"$error":"#N/A"},{"$error":"#N/A"},{"$error":"#N/A"},{"$error":"#N/A"},{"$error":"#N/A"},{"$error":"#N/A"},{"$error":"#N/A"},{"$error":"#N/A"},{"$error":"#N/A"},{"$error":"#N/A"},{"$error":"#N/A"},{"$error":"#N/A"},{"$error":"#N/A"},{"$error":"#N/A"},{"$error":"#N/A"},{"$error":"#N/A"},{"$error":"#N/A"},{"$error":"#N/A"},{"$error":"#N/A"},{"$error":"#N/A"},{"$error":"#N/A"},{"$error":"#N/A"},{"$error":"#N/A"},{"$error":"#N/A"},{"$error":"#N/A"},{"$error":"#N/A"},{"$error":"#N/A"},{"$error":"#N/A"},{"$error":"#N/A"},{"$error":"#N/A"},{"$error":"#N/A"},{"$error":"#N/A"},{"$error":"#N/A"},{"$error":"#N/A"},{"$error":"#N/A"},{"$error":"#N/A"},{"$error":"#N/A"},{"$error":"#N/A"},{"$error":"#N/A"},{"$error":"#N/A"},{"$error":"#N/A"},{"$error":"#N/A"},{"$error":"#N/A"},{"$error":"#N/A"},{"$error":"#N/A"},{"$error":"#N/A"},{"$error":"#N/A"},{"$error":"#N/A"},{"$error":"#N/A"},{"$error":"#N/A"},{"$error":"#N/A"},{"$error":"#N/A"},{"$error":"#N/A"},{"$error":"#N/A"},{"$error":"#N/A"},{"$error":"#N/A"},{"$error":"#N/A"},{"$error":"#N/A"},{"$error":"#N/A"},{"$error":"#N/A"},{"$f":"IF(DP$3=\"OK\",(21600/(2*PI()))*ACOS(SIN($AA54)*SIN(DP$6)+COS(DP$6)*COS($AA54)*COS($AB54-DP$7)),\"-\")","v":{"$error":"#N/A"}},{"$error":"#N/A"},{"$error":"#N/A"},{"$error":"#N/A"},{"$error":"#N/A"},{"$error":"#N/A"},{"$error":"#N/A"},{"$error":"#N/A"},{"$error":"#N/A"},{"$error":"#N/A"},{"$error":"#N/A"},{"$error":"#N/A"},{"$error":"#N/A"},{"$error":"#N/A"},{"$error":"#N/A"},{"$error":"#N/A"},{"$error":"#N/A"}]
[null,null,null,null,null,null,null,null,null,null,null,{"$error":"#N/A"},38,{"$f":"VLOOKUP($M55,Funknavigation!$A$2:$AC$185,N$17,FALSE)","v":"Duesseldorf "},{"$f":"VLOOKUP($M55,Funknavigation!$A$2:$AC$185,O$17,FALSE)","v":"VOR/DME "},{"$f":"VLOOKUP($M55,Funknavigation!$A$2:$AC$185,P$17,FALSE)","v":"DUS"},{"$f":"VLOOKUP($M55,Funknavigation!$A$2:$AC$185,Q$17,FALSE)","v":"− · ·   · · −   · · ·"},{"$f":"VLOOKUP($M55,Funknavigation!$A$2:$AC$185,R$17,FALSE)","v":38},{"$f":"VLOOKUP($M55,Funknavigation!$A$2:$AC$185,S$17,FALSE)","v":51.283099999999997},{"$f":"VLOOKUP($M55,Funknavigation!$A$2:$AC$185,T$17,FALSE)","v":6.7535999999999996},{"$f":"VLOOKUP($M55,Funknavigation!$A$2:$AC$185,U$17,FALSE)","v":"115.15"},{"$f":"VLOOKUP($M55,Funknavigation!$A$2:$AC$185,V$17,FALSE)","v":""},{"$f":"VLOOKUP($M55,Funknavigation!$A$2:$AC$185,W$17,FALSE)","v":"Ch 98y "},{"$f":"VLOOKUP($M55,Funknavigation!$A$2:$AC$185,X$17,FALSE)","v":40},null,null,0.89505894562950394,0.11787255636268903,{"$f":"IF(AG55=1,MAX(MAX(AC$18:$AC54),MAX($AD$18:$AD$193))+1,\"-\")","v":{"$error":"#N/A"}},{"$f":"IF(AH55=1,MAX($AD$18:AD54)+1,\"-\")","v":{"$error":"#N/A"}},{"$error":"#N/A"},{"$error":"#N/A"},{"$error":"#N/A"},{"$error":"#N/A"},{"$error":"#N/A"},{"$error":"#N/A"},{"$error":"#N/A"},{"$error":"#N/A"},{"$error":"#N/A"},{"$error":"#N/A"},{"$error":"#N/A"},{"$error":"#N/A"},{"$error":"#N/A"},{"$error":"#N/A"},{"$error":"#N/A"},{"$error":"#N/A"},{"$error":"#N/A"},{"$error":"#N/A"},{"$error":"#N/A"},{"$error":"#N/A"},{"$error":"#N/A"},{"$error":"#N/A"},{"$error":"#N/A"},{"$error":"#N/A"},{"$error":"#N/A"},{"$error":"#N/A"},{"$error":"#N/A"},{"$error":"#N/A"},{"$error":"#N/A"},{"$error":"#N/A"},{"$error":"#N/A"},{"$error":"#N/A"},{"$error":"#N/A"},{"$error":"#N/A"},{"$error":"#N/A"},{"$error":"#N/A"},{"$error":"#N/A"},{"$error":"#N/A"},{"$error":"#N/A"},{"$error":"#N/A"},{"$error":"#N/A"},{"$error":"#N/A"},{"$error":"#N/A"},{"$error":"#N/A"},{"$error":"#N/A"},{"$error":"#N/A"},{"$error":"#N/A"},{"$error":"#N/A"},{"$error":"#N/A"},{"$error":"#N/A"},{"$error":"#N/A"},{"$error":"#N/A"},{"$error":"#N/A"},{"$error":"#N/A"},{"$error":"#N/A"},{"$error":"#N/A"},{"$error":"#N/A"},{"$error":"#N/A"},{"$error":"#N/A"},{"$error":"#N/A"},{"$error":"#N/A"},{"$error":"#N/A"},{"$error":"#N/A"},{"$error":"#N/A"},{"$error":"#N/A"},{"$error":"#N/A"},{"$error":"#N/A"},{"$error":"#N/A"},{"$error":"#N/A"},{"$error":"#N/A"},{"$error":"#N/A"},{"$error":"#N/A"},{"$error":"#N/A"},{"$error":"#N/A"},{"$error":"#N/A"},{"$error":"#N/A"},{"$error":"#N/A"},{"$error":"#N/A"},{"$error":"#N/A"},{"$error":"#N/A"},{"$error":"#N/A"},{"$error":"#N/A"},{"$error":"#N/A"},{"$error":"#N/A"},{"$error":"#N/A"},{"$error":"#N/A"},{"$error":"#N/A"},{"$error":"#N/A"},{"$error":"#N/A"},{"$error":"#N/A"},{"$error":"#N/A"},{"$error":"#N/A"},{"$error":"#N/A"},{"$error":"#N/A"},{"$error":"#N/A"},{"$error":"#N/A"},{"$error":"#N/A"},{"$error":"#N/A"},{"$error":"#N/A"},{"$error":"#N/A"},{"$error":"#N/A"},{"$error":"#N/A"},{"$error":"#N/A"},{"$error":"#N/A"},{"$error":"#N/A"},{"$error":"#N/A"}]
[null,null,null,null,null,null,null,null,null,null,null,{"$error":"#N/A"},39,{"$f":"VLOOKUP($M56,Funknavigation!$A$2:$AC$185,N$17,FALSE)","v":"Duesseldorf"},{"$f":"VLOOKUP($M56,Funknavigation!$A$2:$AC$185,O$17,FALSE)","v":"LO "},{"$f":"VLOOKUP($M56,Funknavigation!$A$2:$AC$185,P$17,FALSE)","v":"LI"},{"$f":"VLOOKUP($M56,Funknavigation!$A$2:$AC$185,Q$17,FALSE)","v":"· − · ·   · ·"},{"$f":"VLOOKUP($M56,Funknavigation!$A$2:$AC$185,R$17,FALSE)","v":39},{"$f":"VLOOKUP($M56,Funknavigation!$A$2:$AC$185,S$17,FALSE)","v":51.346899999999998},{"$f":"VLOOKUP($M56,Funknavigation!$A$2:$AC$185,T$17,FALSE)","v":6.8914},{"$f":"VLOOKUP($M56,Funknavigation!$A$2:$AC$185,U$17,FALSE)","v":""},{"$f":"VLOOKUP($M56,Funknavigation!$A$2:$AC$185,V$17,FALSE)","v":417},{"$f":"VLOOKUP($M56,Funknavigation!$A$2:$AC$185,W$17,FALSE)","v":""},{"$f":"VLOOKUP($M56,Funknavigation!$A$2:$AC$185,X$17,FALSE)","v":25},null,null,0.89617246569227638,0.12027762007193722,{"$f":"IF(AG56=1,MAX(MAX(AC$18:$AC55),MAX($AD$18:$AD$193))+1,\"-\")","v":{"$error":"#N/A"}},{"$f":"IF(AH56=1,MAX($AD$18:AD55)+1,\"-\")","v":{"$error":"#N/A"}},{"$error":"#N/A"},{"$error":"#N/A"},{"$error":"#N/A"},{"$error":"#N/A"},{"$error":"#N/A"},{"$error":"#N/A"},{"$error":"#N/A"},{"$error":"#N/A"},{"$error":"#N/A"},{"$error":"#N/A"},{"$error":"#N/A"},{"$error":"#N/A"},{"$error":"#N/A"},{"$error":"#N/A"},{"$error":"#N/A"},{"$error":"#N/A"},{"$error":"#N/A"},{"$error":"#N/A"},{"$error":"#N/A"},{"$error":"#N/A"},{"$error":"#N/A"},{"$error":"#N/A"},{"$error":"#N/A"},{"$error":"#N/A"},{"$error":"#N/A"},{"$error":"#N/A"},{"$error":"#N/A"},{"$error":"#N/A"},{"$error":"#N/A"},{"$error":"#N/A"},{"$error":"#N/A"},{"$error":"#N/A"},{"$error":"#N/A"},{"$error":"#N/A"},{"$error":"#N/A"},{"$error":"#N/A"},{"$error":"#N/A"},{"$error":"#N/A"},{"$error":"#N/A"},{"$error":"#N/A"},{"$error":"#N/A"},{"$error":"#N/A"},{"$error":"#N/A"},{"$error":"#N/A"},{"$error":"#N/A"},{"$error":"#N/A"},{"$error":"#N/A"},{"$error":"#N/A"},{"$error":"#N/A"},{"$error":"#N/A"},{"$error":"#N/A"},{"$error":"#N/A"},{"$error":"#N/A"},{"$error":"#N/A"},{"$error":"#N/A"},{"$error":"#N/A"},{"$error":"#N/A"},{"$error":"#N/A"},{"$error":"#N/A"},{"$error":"#N/A"},{"$error":"#N/A"},{"$error":"#N/A"},{"$error":"#N/A"},{"$error":"#N/A"},{"$error":"#N/A"},{"$error":"#N/A"},{"$error":"#N/A"},{"$error":"#N/A"},{"$error":"#N/A"},{"$error":"#N/A"},{"$error":"#N/A"},{"$error":"#N/A"},{"$error":"#N/A"},{"$error":"#N/A"},{"$error":"#N/A"},{"$error":"#N/A"},{"$error":"#N/A"},{"$error":"#N/A"},{"$error":"#N/A"},{"$error":"#N/A"},{"$error":"#N/A"},{"$error":"#N/A"},{"$error":"#N/A"},{"$error":"#N/A"},{"$error":"#N/A"},{"$error":"#N/A"},{"$error":"#N/A"},{"$error":"#N/A"},{"$error":"#N/A"},{"$error":"#N/A"},{"$error":"#N/A"},{"$error":"#N/A"},{"$error":"#N/A"},{"$error":"#N/A"},{"$error":"#N/A"},{"$error":"#N/A"},{"$error":"#N/A"},{"$error":"#N/A"},{"$error":"#N/A"},{"$error":"#N/A"},{"$error":"#N/A"},{"$error":"#N/A"},{"$error":"#N/A"},{"$error":"#N/A"},{"$error":"#N/A"},{"$error":"#N/A"}]
[null,null,null,null,null,null,null,null,null,null,null,{"$error":"#N/A"},40,{"$f":"VLOOKUP($M57,Funknavigation!$A$2:$AC$185,N$17,FALSE)","v":"Duesseldorf"},{"$f":"VLOOKUP($M57,Funknavigation!$A$2:$AC$185,O$17,FALSE)","v":"LO "},{"$f":"VLOOKUP($M57,Funknavigation!$A$2:$AC$185,P$17,FALSE)","v":"DY"},{"$f":"VLOOKUP($M57,Funknavigation!$A$2:$AC$185,Q$17,FALSE)","v":"− · ·   − · − −"},{"$f":"VLOOKUP($M57,Funknavigation!$A$2:$AC$185,R$17,FALSE)","v":40},{"$f":"VLOOKUP($M57,Funknavigation!$A$2:$AC$185,S$17,FALSE)","v":51.234400000000001},{"$f":"VLOOKUP($M57,Funknavigation!$A$2:$AC$185,T$17,FALSE)","v":6.6543999999999999},{"$f":"VLOOKUP($M57,Funknavigation!$A$2:$AC$185,U$17,FALSE)","v":""},{"$f":"VLOOKUP($M57,Funknavigation!$A$2:$AC$185,V$17,FALSE)","v":284.5},{"$f":"VLOOKUP($M57,Funknavigation!$A$2:$AC$185,W$17,FALSE)","v":""},{"$f":"VLOOKUP($M57,Funknavigation!$A$2:$AC$185,X$17,FALSE)","v":13},null,null,0.89420897028378277,0.11614118974471066,{"$f":"IF(AG57=1,MAX(MAX(AC$18:$AC56),MAX($AD$18:$AD$193))+1,\"-\")","v":{"$error":"#N/A"}},{"$f":"IF(AH57=1,MAX($AD$18:AD56)+1,\"-\")","v":{"$error":"#N/A"}},{"$error":"#N/A"},{"$error":"#N/A"},{"$error":"#N/A"},{"$error":"#N/A"},{"$error":"#N/A"},{"$error":"#N/A"},{"$error":"#N/A"},{"$error":"#N/A"},{"$error":"#N/A"},{"$error":"#N/A"},{"$error":"#N/A"},{"$error":"#N/A"},{"$error":"#N/A"},{"$error":"#N/A"},{"$error":"#N/A"},{"$error":"#N/A"},{"$error":"#N/A"},{"$error":"#N/A"},{"$error":"#N/A"},{"$error":"#N/A"},{"$error":"#N/A"},{"$error":"#N/A"},{"$error":"#N/A"},{"$error":"#N/A"},{"$error":"#N/A"},{"$error":"#N/A"},{"$error":"#N/A"},{"$error":"#N/A"},{"$error":"#N/A"},{"$error":"#N/A"},{"$error":"#N/A"},{"$error":"#N/A"},{"$error":"#N/A"},{"$error":"#N/A"},{"$error":"#N/A"},{"$error":"#N/A"},{"$error":"#N/A"},{"$error":"#N/A"},{"$error":"#N/A"},{"$error":"#N/A"},{"$error":"#N/A"},{"$error":"#N/A"},{"$error":"#N/A"},{"$error":"#N/A"},{"$error":"#N/A"},{"$error":"#N/A"},{"$error":"#N/A"},{"$error":"#N/A"},{"$error":"#N/A"},{"$error":"#N/A"},{"$error":"#N/A"},{"$error":"#N/A"},{"$error":"#N/A"},{"$error":"#N/A"},{"$error":"#N/A"},{"$error":"#N/A"},{"$error":"#N/A"},{"$error":"#N/A"},{"$error":"#N/A"},{"$error":"#N/A"},{"$error":"#N/A"},{"$error":"#N/A"},{"$error":"#N/A"},{"$error":"#N/A"},{"$error":"#N/A"},{"$error":"#N/A"},{"$error":"#N/A"},{"$error":"#N/A"},{"$error":"#N/A"},{"$error":"#N/A"},{"$error":"#N/A"},{"$error":"#N/A"},{"$error":"#N/A"},{"$error":"#N/A"},{"$error":"#N/A"},{"$error":"#N/A"},{"$error":"#N/A"},{"$error":"#N/A"},{"$error":"#N/A"},{"$error":"#N/A"},{"$error":"#N/A"},{"$error":"#N/A"},{"$error":"#N/A"},{"$error":"#N/A"},{"$error":"#N/A"},{"$error":"#N/A"},{"$error":"#N/A"},{"$error":"#N/A"},{"$error":"#N/A"},{"$error":"#N/A"},{"$error":"#N/A"},{"$error":"#N/A"},{"$error":"#N/A"},{"$error":"#N/A"},{"$error":"#N/A"},{"$error":"#N/A"},{"$error":"#N/A"},{"$error":"#N/A"},{"$error":"#N/A"},{"$error":"#N/A"},{"$error":"#N/A"},{"$error":"#N/A"},{"$error":"#N/A"},{"$error":"#N/A"},{"$error":"#N/A"},{"$error":"#N/A"}]
[null,null,null,null,null,null,null,null,null,null,null,{"$error":"#N/A"},41,{"$f":"VLOOKUP($M58,Funknavigation!$A$2:$AC$185,N$17,FALSE)","v":"Elbe "},{"$f":"VLOOKUP($M58,Funknavigation!$A$2:$AC$185,O$17,FALSE)","v":"VOR/DME "},{"$f":"VLOOKUP($M58,Funknavigation!$A$2:$AC$185,P$17,FALSE)","v":"LBV"},{"$f":"VLOOKUP($M58,Funknavigation!$A$2:$AC$185,Q$17,FALSE)","v":"· − · ·   − · · ·   · · · −"},{"$f":"VLOOKUP($M58,Funknavigation!$A$2:$AC$185,R$17,FALSE)","v":41},{"$f":"VLOOKUP($M58,Funknavigation!$A$2:$AC$185,S$17,FALSE)","v":53.652500000000003},{"$f":"VLOOKUP($M58,Funknavigation!$A$2:$AC$185,T$17,FALSE)","v":9.5793999999999997},{"$f":"VLOOKUP($M58,Funknavigation!$A$2:$AC$185,U$17,FALSE)","v":"115.10"},{"$f":"VLOOKUP($M58,Funknavigation!$A$2:$AC$185,V$17,FALSE)","v":""},{"$f":"VLOOKUP($M58,Funknavigation!$A$2:$AC$185,W$17,FALSE)","v":"Ch 98x "},{"$f":"VLOOKUP($M58,Funknavigation!$A$2:$AC$185,X$17,FALSE)","v":60},null,null,0.93641277692625779,0.16719207036554479,{"$f":"IF(AG58=1,MAX(MAX(AC$18:$AC57),MAX($AD$18:$AD$193))+1,\"-\")","v":{"$error":"#N/A"}},{"$f":"IF(AH58=1,MAX($AD$18:AD57)+1,\"-\")","v":{"$error":"#N/A"}},{"$error":"#N/A"},{"$error":"#N/A"},{"$error":"#N/A"},{"$error":"#N/A"},{"$error":"#N/A"},{"$error":"#N/A"},{"$error":"#N/A"},{"$f":"IF(AL$3=\"OK\",(21600/(2*PI()))*ACOS(SIN($AA58)*SIN(AL$6)+COS(AL$6)*COS($AA58)*COS($AB58-AL$7)),\"-\")","v":{"$error":"#N/A"}},{"$error":"#N/A"},{"$error":"#N/A"},{"$error":"#N/A"},{"$error":"#N/A"},{"$error":"#N/A"},{"$error":"#N/A"},{"$error":"#N/A"},{"$error":"#N/A"},{"$error":"#N/A"},{"$f":"IF(AV$3=\"OK\",(21600/(2*PI()))*ACOS(SIN($AA58)*SIN(AV$6)+COS(AV$6)*COS($AA58)*COS($AB58-AV$7)),\"-\")","v":{"$error":"#N/A"}},{"$error":"#N/A"},{"$error":"#N/A"},{"$error":"#N/A"},{"$error":"#N/A"},{"$error":"#N/A"},{"$error":"#N/A"},{"$error":"#N/A"},{"$error":"#N/A"},{"$error":"#N/A"},{"$f":"IF(BF$3=\"OK\",(21600/(2*PI()))*ACOS(SIN($AA58)*SIN(BF$6)+COS(BF$6)*COS($AA58)*COS($AB58-BF$7)),\"-\")","v":{"$error":"#N/A"}},{"$error":"#N/A"},{"$error":"#N/A"},{"$error":"#N/A"},{"$error":"#N/A"},{"$error":"#N/A"},{"$error":"#N/A"},{"$error":"#N/A"},{"$error":"#N/A"},{"$error":"#N/A"},{"$f":"IF(BP$3=\"OK\",(21600/(2*PI()))*ACOS(SIN($AA58)*SIN(BP$6)+COS(BP$6)*COS($AA58)*COS($AB58-BP$7)),\"-\")","v":{"$error":"#N/A"}},{"$error":"#N/A"},{"$error":"#N/A"},{"$error":"#N/A"},{"$error":"#N/A"},{"$error":"#N/A"},{"$error":"#N/A"},{"$error":"#N/A"},{"$error":"#N/A"},{"$error":"#N/A"},{"$f":"IF(BZ$3=\"OK\",(21600/(2*PI()))*ACOS(SIN($AA58)*SIN(BZ$6)+COS(BZ$6)*COS($AA58)*COS($AB58-BZ$7)),\"-\")","v":{"$error":"#N/A"}},{"$error":"#N/A"},{"$error":"#N/A"},{"$error":"#N/A"},{"$error":"#N/A"},{"$error":"#N/A"},{"$error":"#N/A"},{"$error":"#N/A"},{"$error":"#N/A"},{"$error":"#N/A"},{"$f":"IF(CJ$3=\"OK\",(21600/(2*PI()))*ACOS(SIN($AA58)*SIN(CJ$6)+COS(CJ$6)*COS($AA58)*COS($AB58-CJ$7)),\"-\")","v":{"$error":"#N/A"}},{"$error":"#N/A"},{"$error":"#N/A"},{"$error":"#N/A"},{"$error":"#N/A"},{"$error":"#N/A"},{"$error":"#N/A"},{"$error":"#N/A"},{"$error":"#N/A"},{"$error":"#N/A"},{"$f":"IF(CT$3=\"OK\",(21600/(2*PI()))*ACOS(SIN($AA58)*SIN(CT$6)+COS(CT$6)*COS($AA58)*COS($AB58-CT$7)),\"-\")","v":{"$error":"#N/A"}},{"$error":"#N/A"},{"$error":"#N/A"},{"$error":"#N/A"},{"$error":"#N/A"},{"$error":"#N/A"},{"$error":"#N/A"},{"$error":"#N/A"},{"$error":"#N/A"},{"$error":"#N/A"},{"$error":"#N/A"},{"$error":"#N/A"},{"$error":"#N/A"},{"$error":"#N/A"},{"$error":"#N/A"},{"$error":"#N/A"},{"$error":"#N/A"},{"$error":"#N/A"},{"$error":"#N/A"},{"$error":"#N/A"},{"$error":"#N/A"},{"$error":"#N/A"},{"$error":"#N/A"},{"$error":"#N/A"},{"$error":"#N/A"},{"$error":"#N/A"},{"$error":"#N/A"},{"$error":"#N/A"},{"$error":"#N/A"},{"$error":"#N/A"},{"$error":"#N/A"},{"$error":"#N/A"},{"$error":"#N/A"},{"$error":"#N/A"},{"$error":"#N/A"},{"$error":"#N/A"},{"$error":"#N/A"},{"$error":"#N/A"},{"$error":"#N/A"}]
[null,null,null,null,null,null,null,null,null,null,null,{"$error":"#N/A"},42,{"$f":"VLOOKUP($M59,Funknavigation!$A$2:$AC$185,N$17,FALSE)","v":"Erfurt "},{"$f":"VLOOKUP($M59,Funknavigation!$A$2:$AC$185,O$17,FALSE)","v":"DME "},{"$f":"VLOOKUP($M59,Funknavigation!$A$2:$AC$185,P$17,FALSE)","v":"EFD"},{"$f":"VLOOKUP($M59,Funknavigation!$A$2:$AC$185,Q$17,FALSE)","v":"·   · · − ·   − · ·"},{"$f":"VLOOKUP($M59,Funknavigation!$A$2:$AC$185,R$17,FALSE)","v":42},{"$f":"VLOOKUP($M59,Funknavigation!$A$2:$AC$185,S$17,FALSE)","v":50.982500000000002},{"$f":"VLOOKUP($M59,Funknavigation!$A$2:$AC$185,T$17,FALSE)","v":10.957800000000001},{"$f":"VLOOKUP($M59,Funknavigation!$A$2:$AC$185,U$17,FALSE)","v":"112.05"},{"$f":"VLOOKUP($M59,Funknavigation!$A$2:$AC$185,V$17,FALSE)","v":""},{"$f":"VLOOKUP($M59,Funknavigation!$A$2:$AC$185,W$17,FALSE)","v":"Ch 57y (*) "},{"$f":"VLOOKUP($M59,Funknavigation!$A$2:$AC$185,X$17,FALSE)","v":25},null,null,0.8898124858980091,0.19124968877503465,{"$f":"IF(AG59=1,MAX(MAX(AC$18:$AC58),MAX($AD$18:$AD$193))+1,\"-\")","v":{"$error":"#N/A"}},{"$f":"IF(AH59=1,MAX($AD$18:AD58)+1,\"-\")","v":{"$error":"#N/A"}},{"$error":"#N/A"},{"$error":"#N/A"},{"$error":"#N/A"},{"$error":"#N/A"},{"$error":"#N/A"},{"$error":"#N/A"},{"$error":"#N/A"},{"$error":"#N/A"},{"$error":"#N/A"},{"$error":"#N/A"},{"$error":"#N/A"},{"$error":"#N/A"},{"$error":"#N/A"},{"$error":"#N/A"},{"$error":"#N/A"},{"$error":"#N/A"},{"$error":"#N/A"},{"$error":"#N/A"},{"$error":"#N/A"},{"$error":"#N/A"},{"$error":"#N/A"},{"$error":"#N/A"},{"$error":"#N/A"},{"$error":"#N/A"},{"$error":"#N/A"},{"$error":"#N/A"},{"$error":"#N/A"},{"$error":"#N/A"},{"$error":"#N/A"},{"$error":"#N/A"},{"$error":"#N/A"},{"$error":"#N/A"},{"$error":"#N/A"},{"$error":"#N/A"},{"$error":"#N/A"},{"$error":"#N/A"},{"$error":"#N/A"},{"$error":"#N/A"},{"$error":"#N/A"},{"$error":"#N/A"},{"$error":"#N/A"},{"$error":"#N/A"},{"$error":"#N/A"},{"$error":"#N/A"},{"$error":"#N/A"},{"$error":"#N/A"},{"$error":"#N/A"},{"$error":"#N/A"},{"$error":"#N/A"},{"$error":"#N/A"},{"$error":"#N/A"},{"$error":"#N/A"},{"$error":"#N/A"},{"$error":"#N/A"},{"$error":"#N/A"},{"$error":"#N/A"},{"$error":"#N/A"},{"$error":"#N/A"},{"$error":"#N/A"},{"$error":"#N/A"},{"$error":"#N/A"},{"$error":"#N/A"},{"$error":"#N/A"},{"$error":"#N/A"},{"$error":"#N/A"},{"$error":"#N/A"},{"$error":"#N/A"},{"$error":"#N/A"},{"$error":"#N/A"},{"$error":"#N/A"},{"$error":"#N/A"},{"$error":"#N/A"},{"$error":"#N/A"},{"$error":"#N/A"},{"$error":"#N/A"},{"$error":"#N/A"},{"$error":"#N/A"},{"$error":"#N/A"},{"$error":"#N/A"},{"$error":"#N/A"},{"$error":"#N/A"},{"$error":"#N/A"},{"$error":"#N/A"},{"$error":"#N/A"},{"$error":"#N/A"},{"$error":"#N/A"},{"$error":"#N/A"},{"$error":"#N/A"},{"$error":"#N/A"},{"$error":"#N/A"},{"$error":"#N/A"},{"$error":"#N/A"},{"$error":"#N/A"},{"$error":"#N/A"},{"$error":"#N/A"},{"$error":"#N/A"},{"$error":"#N/A"},{"$error":"#N/A"},{"$error":"#N/A"},{"$error":"#N/A"},{"$error":"#N/A"},{"$error":"#N/A"},{"$error":"#N/A"},{"$error":"#N/A"},{"$error":"#N/A"},{"$error":"#N/A"}]
[null,null,null,null,null,null,null,null,null,null,null,{"$error":"#N/A"},43,{"$f":"VLOOKUP($M60,Funknavigation!$A$2:$AC$185,N$17,FALSE)","v":"Erfurt"},{"$f":"VLOOKUP($M60,Funknavigation!$A$2:$AC$185,O$17,FALSE)","v":"DVOR/DME "},{"$f":"VLOOKUP($M60,Funknavigation!$A$2:$AC$185,P$17,FALSE)","v":"ERF"},{"$f":"VLOOKUP($M60,Funknavigation!$A$2:$AC$185,Q$17,FALSE)","v":"·   · − ·   · · − ·"},{"$f":"VLOOKUP($M60,Funknavigation!$A$2:$AC$185,R$17,FALSE)","v":43},{"$f":"VLOOKUP($M60,Funknavigation!$A$2:$AC$185,S$17,FALSE)","v":50.950800000000001},{"$f":"VLOOKUP($M60,Funknavigation!$A$2:$AC$185,T$17,FALSE)","v":11.236700000000001},{"$f":"VLOOKUP($M60,Funknavigation!$A$2:$AC$185,U$17,FALSE)","v":"113.85"},{"$f":"VLOOKUP($M60,Funknavigation!$A$2:$AC$185,V$17,FALSE)","v":""},{"$f":"VLOOKUP($M60,Funknavigation!$A$2:$AC$185,W$17,FALSE)","v":"Ch 85y "},{"$f":"VLOOKUP($M60,Funknavigation!$A$2:$AC$185,X$17,FALSE)","v":40},null,null,0.88925921652512685,0.19611741205884686,{"$f":"IF(AG60=1,MAX(MAX(AC$18:$AC59),MAX($AD$18:$AD$193))+1,\"-\")","v":{"$error":"#N/A"}},{"$f":"IF(AH60=1,MAX($AD$18:AD59)+1,\"-\")","v":{"$error":"#N/A"}},{"$error":"#N/A"},{"$error":"#N/A"},{"$error":"#N/A"},{"$error":"#N/A"},{"$error":"#N/A"},{"$error":"#N/A"},{"$error":"#N/A"},{"$error":"#N/A"},{"$error":"#N/A"},{"$error":"#N/A"},{"$error":"#N/A"},{"$error":"#N/A"},{"$error":"#N/A"},{"$error":"#N/A"},{"$error":"#N/A"},{"$error":"#N/A"},{"$error":"#N/A"},{"$error":"#N/A"},{"$error":"#N/A"},{"$error":"#N/A"},{"$error":"#N/A"},{"$error":"#N/A"},{"$error":"#N/A"},{"$error":"#N/A"},{"$error":"#N/A"},{"$error":"#N/A"},{"$error":"#N/A"},{"$error":"#N/A"},{"$error":"#N/A"},{"$error":"#N/A"},{"$error":"#N/A"},{"$error":"#N/A"},{"$error":"#N/A"},{"$error":"#N/A"},{"$error":"#N/A"},{"$error":"#N/A"},{"$error":"#N/A"},{"$error":"#N/A"},{"$error":"#N/A"},{"$error":"#N/A"},{"$error":"#N/A"},{"$error":"#N/A"},{"$error":"#N/A"},{"$error":"#N/A"},{"$error":"#N/A"},{"$error":"#N/A"},{"$error":"#N/A"},{"$error":"#N/A"},{"$error":"#N/A"},{"$error":"#N/A"},{"$error":"#N/A"},{"$error":"#N/A"},{"$error":"#N/A"},{"$error":"#N/A"},{"$error":"#N/A"},{"$error":"#N/A"},{"$error":"#N/A"},{"$error":"#N/A"},{"$error":"#N/A"},{"$error":"#N/A"},{"$error":"#N/A"},{"$error":"#N/A"},{"$error":"#N/A"},{"$error":"#N/A"},{"$error":"#N/A"},{"$error":"#N/A"},{"$error":"#N/A"},{"$error":"#N/A"},{"$error":"#N/A"},{"$error":"#N/A"},{"$error":"#N/A"},{"$error":"#N/A"},{"$error":"#N/A"},{"$error":"#N/A"},{"$error":"#N/A"},{"$error":"#N/A"},{"$error":"#N/A"},{"$error":"#N/A"},{"$error":"#N/A"},{"$error":"#N/A"},{"$error":"#N/A"},{"$error":"#N/A"},{"$error":"#N/A"},{"$error":"#N/A"},{"$error":"#N/A"},{"$error":"#N/A"},{"$error":"#N/A"},{"$error":"#N/A"},{"$error":"#N/A"},{"$error":"#N/A"},{"$error":"#N/A"},{"$error":"#N/A"},{"$error":"#N/A"},{"$error":"#N/A"},{"$error":"#N/A"},{"$error":"#N/A"},{"$error":"#N/A"},{"$error":"#N/A"},{"$error":"#N/A"},{"$error":"#N/A"},{"$error":"#N/A"},{"$error":"#N/A"},{"$error":"#N/A"},{"$error":"#N/A"},{"$error":"#N/A"},{"$error":"#N/A"}]
[null,null,null,null,null,null,null,null,null,null,null,{"$error":"#N/A"},44,{"$f":"VLOOKUP($M61,Funknavigation!$A$2:$AC$185,N$17,FALSE)","v":"Erfurt"},{"$f":"VLOOKUP($M61,Funknavigation!$A$2:$AC$185,O$17,FALSE)","v":"NDB (LO) "},{"$f":"VLOOKUP($M61,Funknavigation!$A$2:$AC$185,P$17,FALSE)","v":"ERT"},{"$f":"VLOOKUP($M61,Funknavigation!$A$2:$AC$185,Q$17,FALSE)","v":"·   · − ·   −"},{"$f":"VLOOKUP($M61,Funknavigation!$A$2:$AC$185,R$17,FALSE)","v":44},{"$f":"VLOOKUP($M61,Funknavigation!$A$2:$AC$185,S$17,FALSE)","v":50.982500000000002},{"$f":"VLOOKUP($M61,Funknavigation!$A$2:$AC$185,T$17,FALSE)","v":10.9231},{"$f":"VLOOKUP($M61,Funknavigation!$A$2:$AC$185,U$17,FALSE)","v":""},{"$f":"VLOOKUP($M61,Funknavigation!$A$2:$AC$185,V$17,FALSE)","v":425},{"$f":"VLOOKUP($M61,Funknavigation!$A$2:$AC$185,W$17,FALSE)","v":""},{"$f":"VLOOKUP($M61,Funknavigation!$A$2:$AC$185,X$17,FALSE)","v":35},null,null,0.8898124858980091,0.19064405952459262,{"$f":"IF(AG61=1,MAX(MAX(AC$18:$AC60),MAX($AD$18:$AD$193))+1,\"-\")","v":{"$error":"#N/A"}},{"$f":"IF(AH61=1,MAX($AD$18:AD60)+1,\"-\")","v":{"$error":"#N/A"}},{"$error":"#N/A"},{"$error":"#N/A"},{"$error":"#N/A"},{"$error":"#N/A"},{"$error":"#N/A"},{"$error":"#N/A"},{"$error":"#N/A"},{"$error":"#N/A"},{"$error":"#N/A"},{"$error":"#N/A"},{"$error":"#N/A"},{"$error":"#N/A"},{"$error":"#N/A"},{"$error":"#N/A"},{"$error":"#N/A"},{"$error":"#N/A"},{"$error":"#N/A"},{"$error":"#N/A"},{"$error":"#N/A"},{"$error":"#N/A"},{"$error":"#N/A"},{"$error":"#N/A"},{"$error":"#N/A"},{"$error":"#N/A"},{"$error":"#N/A"},{"$error":"#N/A"},{"$error":"#N/A"},{"$error":"#N/A"},{"$error":"#N/A"},{"$error":"#N/A"},{"$error":"#N/A"},{"$error":"#N/A"},{"$error":"#N/A"},{"$error":"#N/A"},{"$error":"#N/A"},{"$error":"#N/A"},{"$error":"#N/A"},{"$error":"#N/A"},{"$error":"#N/A"},{"$error":"#N/A"},{"$error":"#N/A"},{"$error":"#N/A"},{"$error":"#N/A"},{"$error":"#N/A"},{"$error":"#N/A"},{"$error":"#N/A"},{"$error":"#N/A"},{"$error":"#N/A"},{"$error":"#N/A"},{"$error":"#N/A"},{"$error":"#N/A"},{"$error":"#N/A"},{"$error":"#N/A"},{"$error":"#N/A"},{"$error":"#N/A"},{"$error":"#N/A"},{"$error":"#N/A"},{"$error":"#N/A"},{"$error":"#N/A"},{"$error":"#N/A"},{"$error":"#N/A"},{"$error":"#N/A"},{"$error":"#N/A"},{"$error":"#N/A"},{"$error":"#N/A"},{"$error":"#N/A"},{"$error":"#N/A"},{"$error":"#N/A"},{"$error":"#N/A"},{"$error":"#N/A"},{"$error":"#N/A"},{"$error":"#N/A"},{"$error":"#N/A"},{"$error":"#N/A"},{"$error":"#N/A"},{"$error":"#N/A"},{"$error":"#N/A"},{"$error":"#N/A"},{"$error":"#N/A"},{"$error":"#N/A"},{"$error":"#N/A"},{"$error":"#N/A"},{"$error":"#N/A"},{"$error":"#N/A"},{"$error":"#N/A"},{"$error":"#N/A"},{"$error":"#N/A"},{"$error":"#N/A"},{"$error":"#N/A"},{"$error":"#N/A"},{"$error":"#N/A"},{"$error":"#N/A"},{"$error":"#N/A"},{"$error":"#N/A"},{"$error":"#N/A"},{"$error":"#N/A"},{"$error":"#N/A"},{"$error":"#N/A"},{"$error":"#N/A"},{"$error":"#N/A"},{"$error":"#N/A"},{"$error":"#N/A"},{"$error":"#N/A"},{"$error":"#N/A"},{"$error":"#N/A"},{"$error":"#N/A"}]
[null,null,null,null,null,null,null,null,null,null,null,{"$error":"#N/A"},45,{"$f":"VLOOKUP($M62,Funknavigation!$A$2:$AC$185,N$17,FALSE)","v":"Erlangen "},{"$f":"VLOOKUP($M62,Funknavigation!$A$2:$AC$185,O$17,FALSE)","v":"VOR/DME "},{"$f":"VLOOKUP($M62,Funknavigation!$A$2:$AC$185,P$17,FALSE)","v":"ERL"},{"$f":"VLOOKUP($M62,Funknavigation!$A$2:$AC$185,Q$17,FALSE)","v":"·   · − ·   · − · ·"},{"$f":"VLOOKUP($M62,Funknavigation!$A$2:$AC$185,R$17,FALSE)","v":45},{"$f":"VLOOKUP($M62,Funknavigation!$A$2:$AC$185,S$17,FALSE)","v":49.655299999999997},{"$f":"VLOOKUP($M62,Funknavigation!$A$2:$AC$185,T$17,FALSE)","v":11.1508},{"$f":"VLOOKUP($M62,Funknavigation!$A$2:$AC$185,U$17,FALSE)","v":"114.90"},{"$f":"VLOOKUP($M62,Funknavigation!$A$2:$AC$185,V$17,FALSE)","v":""},{"$f":"VLOOKUP($M62,Funknavigation!$A$2:$AC$185,W$17,FALSE)","v":"Ch 96x "},{"$f":"VLOOKUP($M62,Funknavigation!$A$2:$AC$185,X$17,FALSE)","v":60},null,null,0.8666484760655403,0.19461817423138372,{"$f":"IF(AG62=1,MAX(MAX(AC$18:$AC61),MAX($AD$18:$AD$193))+1,\"-\")","v":{"$error":"#N/A"}},{"$f":"IF(AH62=1,MAX($AD$18:AD61)+1,\"-\")","v":{"$error":"#N/A"}},{"$error":"#N/A"},{"$error":"#N/A"},{"$error":"#N/A"},{"$error":"#N/A"},{"$error":"#N/A"},{"$error":"#N/A"},{"$error":"#N/A"},{"$error":"#N/A"},{"$error":"#N/A"},{"$error":"#N/A"},{"$error":"#N/A"},{"$error":"#N/A"},{"$error":"#N/A"},{"$error":"#N/A"},{"$error":"#N/A"},{"$error":"#N/A"},{"$error":"#N/A"},{"$error":"#N/A"},{"$error":"#N/A"},{"$error":"#N/A"},{"$error":"#N/A"},{"$error":"#N/A"},{"$error":"#N/A"},{"$error":"#N/A"},{"$error":"#N/A"},{"$error":"#N/A"},{"$error":"#N/A"},{"$error":"#N/A"},{"$error":"#N/A"},{"$error":"#N/A"},{"$error":"#N/A"},{"$error":"#N/A"},{"$error":"#N/A"},{"$error":"#N/A"},{"$error":"#N/A"},{"$error":"#N/A"},{"$error":"#N/A"},{"$error":"#N/A"},{"$error":"#N/A"},{"$error":"#N/A"},{"$error":"#N/A"},{"$error":"#N/A"},{"$error":"#N/A"},{"$error":"#N/A"},{"$error":"#N/A"},{"$error":"#N/A"},{"$error":"#N/A"},{"$error":"#N/A"},{"$error":"#N/A"},{"$error":"#N/A"},{"$error":"#N/A"},{"$error":"#N/A"},{"$error":"#N/A"},{"$error":"#N/A"},{"$error":"#N/A"},{"$error":"#N/A"},{"$error":"#N/A"},{"$error":"#N/A"},{"$error":"#N/A"},{"$error":"#N/A"},{"$error":"#N/A"},{"$error":"#N/A"},{"$error":"#N/A"},{"$error":"#N/A"},{"$error":"#N/A"},{"$error":"#N/A"},{"$error":"#N/A"},{"$error":"#N/A"},{"$error":"#N/A"},{"$error":"#N/A"},{"$error":"#N/A"},{"$error":"#N/A"},{"$error":"#N/A"},{"$error":"#N/A"},{"$error":"#N/A"},{"$error":"#N/A"},{"$error":"#N/A"},{"$error":"#N/A"},{"$error":"#N/A"},{"$error":"#N/A"},{"$error":"#N/A"},{"$error":"#N/A"},{"$error":"#N/A"},{"$error":"#N/A"},{"$error":"#N/A"},{"$error":"#N/A"},{"$error":"#N/A"},{"$error":"#N/A"},{"$error":"#N/A"},{"$error":"#N/A"},{"$error":"#N/A"},{"$error":"#N/A"},{"$error":"#N/A"},{"$error":"#N/A"},{"$error":"#N/A"},{"$error":"#N/A"},{"$error":"#N/A"},{"$error":"#N/A"},{"$error":"#N/A"},{"$error":"#N/A"},{"$error":"#N/A"},{"$error":"#N/A"},{"$error":"#N/A"},{"$error":"#N/A"},{"$error":"#N/A"},{"$error":"#N/A"}]
[null,null,null,null,null,null,null,null,null,null,null,{"$error":"#N/A"},46,{"$f":"VLOOKUP($M63,Funknavigation!$A$2:$AC$185,N$17,FALSE)","v":"Faßberg "},{"$f":"VLOOKUP($M63,Funknavigation!$A$2:$AC$185,O$17,FALSE)","v":"NDB "},{"$f":"VLOOKUP($M63,Funknavigation!$A$2:$AC$185,P$17,FALSE)","v":"FSB"},{"$f":"VLOOKUP($M63,Funknavigation!$A$2:$AC$185,Q$17,FALSE)","v":"· · − ·   · · ·   − · · ·"},{"$f":"VLOOKUP($M63,Funknavigation!$A$2:$AC$185,R$17,FALSE)","v":46},{"$f":"VLOOKUP($M63,Funknavigation!$A$2:$AC$185,S$17,FALSE)","v":52.915599999999998},{"$f":"VLOOKUP($M63,Funknavigation!$A$2:$AC$185,T$17,FALSE)","v":10.1881},{"$f":"VLOOKUP($M63,Funknavigation!$A$2:$AC$185,U$17,FALSE)","v":""},{"$f":"VLOOKUP($M63,Funknavigation!$A$2:$AC$185,V$17,FALSE)","v":284},{"$f":"VLOOKUP($M63,Funknavigation!$A$2:$AC$185,W$17,FALSE)","v":""},{"$f":"VLOOKUP($M63,Funknavigation!$A$2:$AC$185,X$17,FALSE)","v":30},null,null,0.92355144566831138,0.17781588952243432,{"$f":"IF(AG63=1,MAX(MAX(AC$18:$AC62),MAX($AD$18:$AD$193))+1,\"-\")","v":{"$error":"#N/A"}},{"$f":"IF(AH63=1,MAX($AD$18:AD62)+1,\"-\")","v":{"$error":"#N/A"}},{"$error":"#N/A"},{"$error":"#N/A"},{"$error":"#N/A"},{"$error":"#N/A"},{"$error":"#N/A"},{"$error":"#N/A"},{"$error":"#N/A"},{"$error":"#N/A"},{"$error":"#N/A"},{"$error":"#N/A"},{"$error":"#N/A"},{"$error":"#N/A"},{"$error":"#N/A"},{"$error":"#N/A"},{"$error":"#N/A"},{"$error":"#N/A"},{"$error":"#N/A"},{"$error":"#N/A"},{"$error":"#N/A"},{"$error":"#N/A"},{"$error":"#N/A"},{"$error":"#N/A"},{"$error":"#N/A"},{"$error":"#N/A"},{"$error":"#N/A"},{"$error":"#N/A"},{"$error":"#N/A"},{"$error":"#N/A"},{"$error":"#N/A"},{"$error":"#N/A"},{"$error":"#N/A"},{"$error":"#N/A"},{"$error":"#N/A"},{"$error":"#N/A"},{"$error":"#N/A"},{"$error":"#N/A"},{"$error":"#N/A"},{"$error":"#N/A"},{"$error":"#N/A"},{"$error":"#N/A"},{"$error":"#N/A"},{"$error":"#N/A"},{"$error":"#N/A"},{"$error":"#N/A"},{"$error":"#N/A"},{"$error":"#N/A"},{"$error":"#N/A"},{"$error":"#N/A"},{"$error":"#N/A"},{"$error":"#N/A"},{"$error":"#N/A"},{"$error":"#N/A"},{"$error":"#N/A"},{"$error":"#N/A"},{"$error":"#N/A"},{"$error":"#N/A"},{"$error":"#N/A"},{"$error":"#N/A"},{"$error":"#N/A"},{"$error":"#N/A"},{"$error":"#N/A"},{"$error":"#N/A"},{"$error":"#N/A"},{"$error":"#N/A"},{"$error":"#N/A"},{"$error":"#N/A"},{"$error":"#N/A"},{"$error":"#N/A"},{"$error":"#N/A"},{"$error":"#N/A"},{"$error":"#N/A"},{"$error":"#N/A"},{"$error":"#N/A"},{"$error":"#N/A"},{"$error":"#N/A"},{"$error":"#N/A"},{"$error":"#N/A"},{"$error":"#N/A"},{"$error":"#N/A"},{"$error":"#N/A"},{"$error":"#N/A"},{"$error":"#N/A"},{"$error":"#N/A"},{"$error":"#N/A"},{"$error":"#N/A"},{"$error":"#N/A"},{"$error":"#N/A"},{"$error":"#N/A"},{"$error":"#N/A"},{"$error":"#N/A"},{"$error":"#N/A"},{"$error":"#N/A"},{"$error":"#N/A"},{"$error":"#N/A"},{"$error":"#N/A"},{"$error":"#N/A"},{"$error":"#N/A"},{"$error":"#N/A"},{"$error":"#N/A"},{"$error":"#N/A"},{"$error":"#N/A"},{"$error":"#N/A"},{"$error":"#N/A"},{"$error":"#N/A"},{"$error":"#N/A"},{"$error":"#N/A"}]
[null,null,null,null,null,null,null,null,null,null,null,{"$error":"#N/A"},47,{"$f":"VLOOKUP($M64,Funknavigation!$A$2:$AC$185,N$17,FALSE)","v":"Frankfurt (Main) "},{"$f":"VLOOKUP($M64,Funknavigation!$A$2:$AC$185,O$17,FALSE)","v":"DVORTAC "},{"$f":"VLOOKUP($M64,Funknavigation!$A$2:$AC$185,P$17,FALSE)","v":"FFM"},{"$f":"VLOOKUP($M64,Funknavigation!$A$2:$AC$185,Q$17,FALSE)","v":"· · − ·   · · − ·   − −"},{"$f":"VLOOKUP($M64,Funknavigation!$A$2:$AC$185,R$17,FALSE)","v":47},{"$f":"VLOOKUP($M64,Funknavigation!$A$2:$AC$185,S$17,FALSE)","v":50.053600000000003},{"$f":"VLOOKUP($M64,Funknavigation!$A$2:$AC$185,T$17,FALSE)","v":8.6372},{"$f":"VLOOKUP($M64,Funknavigation!$A$2:$AC$185,U$17,FALSE)","v":"114.20"},{"$f":"VLOOKUP($M64,Funknavigation!$A$2:$AC$185,V$17,FALSE)","v":""},{"$f":"VLOOKUP($M64,Funknavigation!$A$2:$AC$185,W$17,FALSE)","v":"Ch 89x "},{"$f":"VLOOKUP($M64,Funknavigation!$A$2:$AC$185,X$17,FALSE)","v":50},null,null,0.87360012247623375,0.15074757815325424,{"$f":"IF(AG64=1,MAX(MAX(AC$18:$AC63),MAX($AD$18:$AD$193))+1,\"-\")","v":{"$error":"#N/A"}},{"$f":"IF(AH64=1,MAX($AD$18:AD63)+1,\"-\")","v":{"$error":"#N/A"}},{"$error":"#N/A"},{"$error":"#N/A"},{"$error":"#N/A"},{"$error":"#N/A"},{"$error":"#N/A"},{"$error":"#N/A"},{"$error":"#N/A"},{"$error":"#N/A"},{"$error":"#N/A"},{"$error":"#N/A"},{"$error":"#N/A"},{"$error":"#N/A"},{"$error":"#N/A"},{"$error":"#N/A"},{"$error":"#N/A"},{"$error":"#N/A"},{"$error":"#N/A"},{"$error":"#N/A"},{"$error":"#N/A"},{"$error":"#N/A"},{"$error":"#N/A"},{"$error":"#N/A"},{"$error":"#N/A"},{"$error":"#N/A"},{"$error":"#N/A"},{"$error":"#N/A"},{"$error":"#N/A"},{"$error":"#N/A"},{"$error":"#N/A"},{"$error":"#N/A"},{"$error":"#N/A"},{"$error":"#N/A"},{"$error":"#N/A"},{"$error":"#N/A"},{"$error":"#N/A"},{"$error":"#N/A"},{"$error":"#N/A"},{"$error":"#N/A"},{"$error":"#N/A"},{"$error":"#N/A"},{"$error":"#N/A"},{"$error":"#N/A"},{"$error":"#N/A"},{"$error":"#N/A"},{"$error":"#N/A"},{"$error":"#N/A"},{"$error":"#N/A"},{"$error":"#N/A"},{"$error":"#N/A"},{"$error":"#N/A"},{"$error":"#N/A"},{"$error":"#N/A"},{"$error":"#N/A"},{"$error":"#N/A"},{"$error":"#N/A"},{"$error":"#N/A"},{"$error":"#N/A"},{"$error":"#N/A"},{"$error":"#N/A"},{"$error":"#N/A"},{"$error":"#N/A"},{"$error":"#N/A"},{"$error":"#N/A"},{"$error":"#N/A"},{"$error":"#N/A"},{"$error":"#N/A"},{"$error":"#N/A"},{"$error":"#N/A"},{"$error":"#N/A"},{"$error":"#N/A"},{"$error":"#N/A"},{"$error":"#N/A"},{"$error":"#N/A"},{"$error":"#N/A"},{"$error":"#N/A"},{"$error":"#N/A"},{"$error":"#N/A"},{"$error":"#N/A"},{"$error":"#N/A"},{"$error":"#N/A"},{"$error":"#N/A"},{"$error":"#N/A"},{"$error":"#N/A"},{"$error":"#N/A"},{"$f":"IF(DK$3=\"OK\",(21600/(2*PI()))*ACOS(SIN($AA64)*SIN(DK$6)+COS(DK$6)*COS($AA64)*COS($AB64-DK$7)),\"-\")","v":{"$error":"#N/A"}},{"$error":"#N/A"},{"$error":"#N/A"},{"$error":"#N/A"},{"$error":"#N/A"},{"$error":"#N/A"},{"$error":"#N/A"},{"$error":"#N/A"},{"$error":"#N/A"},{"$error":"#N/A"},{"$error":"#N/A"},{"$error":"#N/A"},{"$error":"#N/A"},{"$error":"#N/A"},{"$error":"#N/A"},{"$error":"#N/A"},{"$error":"#N/A"},{"$error":"#N/A"},{"$error":"#N/A"},{"$error":"#N/A"},{"$error":"#N/A"},{"$error":"#N/A"}]
[null,null,null,null,null,null,null,null,null,null,null,{"$error":"#N/A"},48,{"$f":"VLOOKUP($M65,Funknavigation!$A$2:$AC$185,N$17,FALSE)","v":"Frankfurt (Main)"},{"$f":"VLOOKUP($M65,Funknavigation!$A$2:$AC$185,O$17,FALSE)","v":"LO "},{"$f":"VLOOKUP($M65,Funknavigation!$A$2:$AC$185,P$17,FALSE)","v":"FR"},{"$f":"VLOOKUP($M65,Funknavigation!$A$2:$AC$185,Q$17,FALSE)","v":"· · − ·   · − ·"},{"$f":"VLOOKUP($M65,Funknavigation!$A$2:$AC$185,R$17,FALSE)","v":48},{"$f":"VLOOKUP($M65,Funknavigation!$A$2:$AC$185,S$17,FALSE)","v":50.065800000000003},{"$f":"VLOOKUP($M65,Funknavigation!$A$2:$AC$185,T$17,FALSE)","v":8.6836000000000002},{"$f":"VLOOKUP($M65,Funknavigation!$A$2:$AC$185,U$17,FALSE)","v":""},{"$f":"VLOOKUP($M65,Funknavigation!$A$2:$AC$185,V$17,FALSE)","v":297},{"$f":"VLOOKUP($M65,Funknavigation!$A$2:$AC$185,W$17,FALSE)","v":""},{"$f":"VLOOKUP($M65,Funknavigation!$A$2:$AC$185,X$17,FALSE)","v":10},null,null,0.873813052644977,0.15155741092617958,{"$f":"IF(AG65=1,MAX(MAX(AC$18:$AC64),MAX($AD$18:$AD$193))+1,\"-\")","v":{"$error":"#N/A"}},{"$f":"IF(AH65=1,MAX($AD$18:AD64)+1,\"-\")","v":{"$error":"#N/A"}},{"$error":"#N/A"},{"$error":"#N/A"},{"$error":"#N/A"},{"$error":"#N/A"},{"$error":"#N/A"},{"$error":"#N/A"},{"$error":"#N/A"},{"$error":"#N/A"},{"$error":"#N/A"},{"$error":"#N/A"},{"$error":"#N/A"},{"$error":"#N/A"},{"$error":"#N/A"},{"$error":"#N/A"},{"$error":"#N/A"},{"$error":"#N/A"},{"$error":"#N/A"},{"$error":"#N/A"},{"$error":"#N/A"},{"$error":"#N/A"},{"$error":"#N/A"},{"$error":"#N/A"},{"$error":"#N/A"},{"$error":"#N/A"},{"$error":"#N/A"},{"$error":"#N/A"},{"$error":"#N/A"},{"$error":"#N/A"},{"$error":"#N/A"},{"$error":"#N/A"},{"$error":"#N/A"},{"$error":"#N/A"},{"$error":"#N/A"},{"$error":"#N/A"},{"$error":"#N/A"},{"$error":"#N/A"},{"$error":"#N/A"},{"$error":"#N/A"},{"$error":"#N/A"},{"$error":"#N/A"},{"$error":"#N/A"},{"$error":"#N/A"},{"$error":"#N/A"},{"$error":"#N/A"},{"$error":"#N/A"},{"$error":"#N/A"},{"$error":"#N/A"},{"$error":"#N/A"},{"$error":"#N/A"},{"$error":"#N/A"},{"$error":"#N/A"},{"$error":"#N/A"},{"$error":"#N/A"},{"$error":"#N/A"},{"$error":"#N/A"},{"$error":"#N/A"},{"$error":"#N/A"},{"$error":"#N/A"},{"$error":"#N/A"},{"$error":"#N/A"},{"$error":"#N/A"},{"$error":"#N/A"},{"$error":"#N/A"},{"$error":"#N/A"},{"$error":"#N/A"},{"$error":"#N/A"},{"$error":"#N/A"},{"$error":"#N/A"},{"$error":"#N/A"},{"$error":"#N/A"},{"$error":"#N/A"},{"$error":"#N/A"},{"$error":"#N/A"},{"$error":"#N/A"},{"$error":"#N/A"},{"$error":"#N/A"},{"$error":"#N/A"},{"$error":"#N/A"},{"$error":"#N/A"},{"$error":"#N/A"},{"$error":"#N/A"},{"$error":"#N/A"},{"$error":"#N/A"},{"$error":"#N/A"},{"$error":"#N/A"},{"$error":"#N/A"},{"$error":"#N/A"},{"$error":"#N/A"},{"$error":"#N/A"},{"$error":"#N/A"},{"$error":"#N/A"},{"$error":"#N/A"},{"$error":"#N/A"},{"$error":"#N/A"},{"$error":"#N/A"},{"$error":"#N/A"},{"$error":"#N/A"},{"$error":"#N/A"},{"$error":"#N/A"},{"$error":"#N/A"},{"$error":"#N/A"},{"$error":"#N/A"},{"$error":"#N/A"},{"$error":"#N/A"},{"$error":"#N/A"},{"$error":"#N/A"}]
[null,null,null,null,null,null,null,null,null,null,null,{"$error":"#N/A"},49,{"$f":"VLOOKUP($M66,Funknavigation!$A$2:$AC$185,N$17,FALSE)","v":"Frankfurt (Main)"},{"$f":"VLOOKUP($M66,Funknavigation!$A$2:$AC$185,O$17,FALSE)","v":"LO "},{"$f":"VLOOKUP($M66,Funknavigation!$A$2:$AC$185,P$17,FALSE)","v":"FW"},{"$f":"VLOOKUP($M66,Funknavigation!$A$2:$AC$185,Q$17,FALSE)","v":"· · − ·   · − −"},{"$f":"VLOOKUP($M66,Funknavigation!$A$2:$AC$185,R$17,FALSE)","v":49},{"$f":"VLOOKUP($M66,Funknavigation!$A$2:$AC$185,S$17,FALSE)","v":50.005000000000003},{"$f":"VLOOKUP($M66,Funknavigation!$A$2:$AC$185,T$17,FALSE)","v":8.4293999999999993},{"$f":"VLOOKUP($M66,Funknavigation!$A$2:$AC$185,U$17,FALSE)","v":""},{"$f":"VLOOKUP($M66,Funknavigation!$A$2:$AC$185,V$17,FALSE)","v":382},{"$f":"VLOOKUP($M66,Funknavigation!$A$2:$AC$185,W$17,FALSE)","v":""},{"$f":"VLOOKUP($M66,Funknavigation!$A$2:$AC$185,X$17,FALSE)","v":15},null,null,0.87275189245976448,0.14712078396761,{"$f":"IF(AG66=1,MAX(MAX(AC$18:$AC65),MAX($AD$18:$AD$193))+1,\"-\")","v":{"$error":"#N/A"}},{"$f":"IF(AH66=1,MAX($AD$18:AD65)+1,\"-\")","v":{"$error":"#N/A"}},{"$error":"#N/A"},{"$error":"#N/A"},{"$error":"#N/A"},{"$error":"#N/A"},{"$error":"#N/A"},{"$error":"#N/A"},{"$error":"#N/A"},{"$error":"#N/A"},{"$error":"#N/A"},{"$error":"#N/A"},{"$error":"#N/A"},{"$error":"#N/A"},{"$error":"#N/A"},{"$error":"#N/A"},{"$error":"#N/A"},{"$error":"#N/A"},{"$error":"#N/A"},{"$error":"#N/A"},{"$error":"#N/A"},{"$error":"#N/A"},{"$error":"#N/A"},{"$error":"#N/A"},{"$error":"#N/A"},{"$error":"#N/A"},{"$error":"#N/A"},{"$error":"#N/A"},{"$error":"#N/A"},{"$error":"#N/A"},{"$error":"#N/A"},{"$error":"#N/A"},{"$error":"#N/A"},{"$error":"#N/A"},{"$error":"#N/A"},{"$error":"#N/A"},{"$error":"#N/A"},{"$error":"#N/A"},{"$error":"#N/A"},{"$error":"#N/A"},{"$error":"#N/A"},{"$error":"#N/A"},{"$error":"#N/A"},{"$error":"#N/A"},{"$error":"#N/A"},{"$error":"#N/A"},{"$error":"#N/A"},{"$error":"#N/A"},{"$error":"#N/A"},{"$error":"#N/A"},{"$error":"#N/A"},{"$error":"#N/A"},{"$error":"#N/A"},{"$error":"#N/A"},{"$error":"#N/A"},{"$error":"#N/A"},{"$error":"#N/A"},{"$error":"#N/A"},{"$error":"#N/A"},{"$error":"#N/A"},{"$error":"#N/A"},{"$error":"#N/A"},{"$error":"#N/A"},{"$error":"#N/A"},{"$error":"#N/A"},{"$error":"#N/A"},{"$error":"#N/A"},{"$error":"#N/A"},{"$error":"#N/A"},{"$error":"#N/A"},{"$error":"#N/A"},{"$error":"#N/A"},{"$error":"#N/A"},{"$error":"#N/A"},{"$error":"#N/A"},{"$error":"#N/A"},{"$error":"#N/A"},{"$error":"#N/A"},{"$error":"#N/A"},{"$error":"#N/A"},{"$error":"#N/A"},{"$error":"#N/A"},{"$error":"#N/A"},{"$error":"#N/A"},{"$error":"#N/A"},{"$error":"#N/A"},{"$error":"#N/A"},{"$error":"#N/A"},{"$error":"#N/A"},{"$error":"#N/A"},{"$error":"#N/A"},{"$error":"#N/A"},{"$error":"#N/A"},{"$error":"#N/A"},{"$error":"#N/A"},{"$error":"#N/A"},{"$error":"#N/A"},{"$error":"#N/A"},{"$error":"#N/A"},{"$error":"#N/A"},{"$error":"#N/A"},{"$error":"#N/A"},{"$error":"#N/A"},{"$error":"#N/A"},{"$error":"#N/A"},{"$error":"#N/A"},{"$error":"#N/A"},{"$error":"#N/A"}]
[null,null,null,null,null,null,null,null,null,null,null,{"$error":"#N/A"},50,{"$f":"VLOOKUP($M67,Funknavigation!$A$2:$AC$185,N$17,FALSE)","v":"Fred "},{"$f":"VLOOKUP($M67,Funknavigation!$A$2:$AC$185,O$17,FALSE)","v":"DME "},{"$f":"VLOOKUP($M67,Funknavigation!$A$2:$AC$185,P$17,FALSE)","v":"FRD"},{"$f":"VLOOKUP($M67,Funknavigation!$A$2:$AC$185,Q$17,FALSE)","v":"· · − ·   · − ·   − · ·"},{"$f":"VLOOKUP($M67,Funknavigation!$A$2:$AC$185,R$17,FALSE)","v":50},{"$f":"VLOOKUP($M67,Funknavigation!$A$2:$AC$185,S$17,FALSE)","v":50.0306},{"$f":"VLOOKUP($M67,Funknavigation!$A$2:$AC$185,T$17,FALSE)","v":8.5669000000000004},{"$f":"VLOOKUP($M67,Funknavigation!$A$2:$AC$185,U$17,FALSE)","v":"115.90"},{"$f":"VLOOKUP($M67,Funknavigation!$A$2:$AC$185,V$17,FALSE)","v":""},{"$f":"VLOOKUP($M67,Funknavigation!$A$2:$AC$185,W$17,FALSE)","v":"Ch 106x (*) "},{"$f":"VLOOKUP($M67,Funknavigation!$A$2:$AC$185,X$17,FALSE)","v":25},null,null,0.87319869674827499,0.14952061168910222,{"$f":"IF(AG67=1,MAX(MAX(AC$18:$AC66),MAX($AD$18:$AD$193))+1,\"-\")","v":{"$error":"#N/A"}},{"$f":"IF(AH67=1,MAX($AD$18:AD66)+1,\"-\")","v":{"$error":"#N/A"}},{"$error":"#N/A"},{"$error":"#N/A"},{"$error":"#N/A"},{"$error":"#N/A"},{"$error":"#N/A"},{"$error":"#N/A"},{"$error":"#N/A"},{"$error":"#N/A"},{"$error":"#N/A"},{"$error":"#N/A"},{"$error":"#N/A"},{"$error":"#N/A"},{"$error":"#N/A"},{"$error":"#N/A"},{"$error":"#N/A"},{"$error":"#N/A"},{"$error":"#N/A"},{"$error":"#N/A"},{"$error":"#N/A"},{"$error":"#N/A"},{"$error":"#N/A"},{"$error":"#N/A"},{"$error":"#N/A"},{"$error":"#N/A"},{"$error":"#N/A"},{"$error":"#N/A"},{"$error":"#N/A"},{"$error":"#N/A"},{"$error":"#N/A"},{"$error":"#N/A"},{"$error":"#N/A"},{"$error":"#N/A"},{"$error":"#N/A"},{"$error":"#N/A"},{"$error":"#N/A"},{"$error":"#N/A"},{"$error":"#N/A"},{"$error":"#N/A"},{"$error":"#N/A"},{"$error":"#N/A"},{"$error":"#N/A"},{"$error":"#N/A"},{"$error":"#N/A"},{"$error":"#N/A"},{"$error":"#N/A"},{"$error":"#N/A"},{"$error":"#N/A"},{"$error":"#N/A"},{"$error":"#N/A"},{"$error":"#N/A"},{"$error":"#N/A"},{"$error":"#N/A"},{"$error":"#N/A"},{"$error":"#N/A"},{"$error":"#N/A"},{"$error":"#N/A"},{"$error":"#N/A"},{"$error":"#N/A"},{"$error":"#N/A"},{"$error":"#N/A"},{"$error":"#N/A"},{"$error":"#N/A"},{"$error":"#N/A"},{"$error":"#N/A"},{"$error":"#N/A"},{"$error":"#N/A"},{"$error":"#N/A"},{"$error":"#N/A"},{"$error":"#N/A"},{"$error":"#N/A"},{"$error":"#N/A"},{"$error":"#N/A"},{"$error":"#N/A"},{"$error":"#N/A"},{"$error":"#N/A"},{"$error":"#N/A"},{"$error":"#N/A"},{"$error":"#N/A"},{"$error":"#N/A"},{"$error":"#N/A"},{"$error":"#N/A"},{"$error":"#N/A"},{"$error":"#N/A"},{"$error":"#N/A"},{"$error":"#N/A"},{"$error":"#N/A"},{"$error":"#N/A"},{"$error":"#N/A"},{"$error":"#N/A"},{"$error":"#N/A"},{"$error":"#N/A"},{"$error":"#N/A"},{"$error":"#N/A"},{"$error":"#N/A"},{"$error":"#N/A"},{"$error":"#N/A"},{"$error":"#N/A"},{"$error":"#N/A"},{"$error":"#N/A"},{"$error":"#N/A"},{"$error":"#N/A"},{"$error":"#N/A"},{"$error":"#N/A"},{"$error":"#N/A"},{"$error":"#N/A"},{"$error":"#N/A"}]
[null,null,null,null,null,null,null,null,null,null,null,{"$error":"#N/A"},51,{"$f":"VLOOKUP($M68,Funknavigation!$A$2:$AC$185,N$17,FALSE)","v":"Friedland "},{"$f":"VLOOKUP($M68,Funknavigation!$A$2:$AC$185,O$17,FALSE)","v":"DVOR/DME "},{"$f":"VLOOKUP($M68,Funknavigation!$A$2:$AC$185,P$17,FALSE)","v":"FLD"},{"$f":"VLOOKUP($M68,Funknavigation!$A$2:$AC$185,Q$17,FALSE)","v":"· · − ·   · − · ·   − · ·"},{"$f":"VLOOKUP($M68,Funknavigation!$A$2:$AC$185,R$17,FALSE)","v":51},{"$f":"VLOOKUP($M68,Funknavigation!$A$2:$AC$185,S$17,FALSE)","v":53.762799999999999},{"$f":"VLOOKUP($M68,Funknavigation!$A$2:$AC$185,T$17,FALSE)","v":13.5631},{"$f":"VLOOKUP($M68,Funknavigation!$A$2:$AC$185,U$17,FALSE)","v":"117.15"},{"$f":"VLOOKUP($M68,Funknavigation!$A$2:$AC$185,V$17,FALSE)","v":""},{"$f":"VLOOKUP($M68,Funknavigation!$A$2:$AC$185,W$17,FALSE)","v":"Ch 118y "},{"$f":"VLOOKUP($M68,Funknavigation!$A$2:$AC$185,X$17,FALSE)","v":60},null,null,0.93833787509120736,0.23672075177724292,{"$f":"IF(AG68=1,MAX(MAX(AC$18:$AC67),MAX($AD$18:$AD$193))+1,\"-\")","v":{"$error":"#N/A"}},{"$f":"IF(AH68=1,MAX($AD$18:AD67)+1,\"-\")","v":{"$error":"#N/A"}},{"$error":"#N/A"},{"$error":"#N/A"},{"$error":"#N/A"},{"$error":"#N/A"},{"$error":"#N/A"},{"$error":"#N/A"},{"$error":"#N/A"},{"$f":"IF(AL$3=\"OK\",(21600/(2*PI()))*ACOS(SIN($AA68)*SIN(AL$6)+COS(AL$6)*COS($AA68)*COS($AB68-AL$7)),\"-\")","v":{"$error":"#N/A"}},{"$error":"#N/A"},{"$error":"#N/A"},{"$error":"#N/A"},{"$error":"#N/A"},{"$error":"#N/A"},{"$error":"#N/A"},{"$error":"#N/A"},{"$error":"#N/A"},{"$error":"#N/A"},{"$f":"IF(AV$3=\"OK\",(21600/(2*PI()))*ACOS(SIN($AA68)*SIN(AV$6)+COS(AV$6)*COS($AA68)*COS($AB68-AV$7)),\"-\")","v":{"$error":"#N/A"}},{"$error":"#N/A"},{"$error":"#N/A"},{"$error":"#N/A"},{"$error":"#N/A"},{"$error":"#N/A"},{"$error":"#N/A"},{"$error":"#N/A"},{"$error":"#N/A"},{"$error":"#N/A"},{"$f":"IF(BF$3=\"OK\",(21600/(2*PI()))*ACOS(SIN($AA68)*SIN(BF$6)+COS(BF$6)*COS($AA68)*COS($AB68-BF$7)),\"-\")","v":{"$error":"#N/A"}},{"$error":"#N/A"},{"$error":"#N/A"},{"$error":"#N/A"},{"$error":"#N/A"},{"$error":"#N/A"},{"$error":"#N/A"},{"$error":"#N/A"},{"$error":"#N/A"},{"$error":"#N/A"},{"$f":"IF(BP$3=\"OK\",(21600/(2*PI()))*ACOS(SIN($AA68)*SIN(BP$6)+COS(BP$6)*COS($AA68)*COS($AB68-BP$7)),\"-\")","v":{"$error":"#N/A"}},{"$error":"#N/A"},{"$error":"#N/A"},{"$error":"#N/A"},{"$error":"#N/A"},{"$error":"#N/A"},{"$error":"#N/A"},{"$error":"#N/A"},{"$error":"#N/A"},{"$error":"#N/A"},{"$f":"IF(BZ$3=\"OK\",(21600/(2*PI()))*ACOS(SIN($AA68)*SIN(BZ$6)+COS(BZ$6)*COS($AA68)*COS($AB68-BZ$7)),\"-\")","v":{"$error":"#N/A"}},{"$error":"#N/A"},{"$error":"#N/A"},{"$error":"#N/A"},{"$error":"#N/A"},{"$error":"#N/A"},{"$error":"#N/A"},{"$error":"#N/A"},{"$error":"#N/A"},{"$error":"#N/A"},{"$f":"IF(CJ$3=\"OK\",(21600/(2*PI()))*ACOS(SIN($AA68)*SIN(CJ$6)+COS(CJ$6)*COS($AA68)*COS($AB68-CJ$7)),\"-\")","v":{"$error":"#N/A"}},{"$error":"#N/A"},{"$error":"#N/A"},{"$error":"#N/A"},{"$error":"#N/A"},{"$error":"#N/A"},{"$error":"#N/A"},{"$error":"#N/A"},{"$error":"#N/A"},{"$error":"#N/A"},{"$f":"IF(CT$3=\"OK\",(21600/(2*PI()))*ACOS(SIN($AA68)*SIN(CT$6)+COS(CT$6)*COS($AA68)*COS($AB68-CT$7)),\"-\")","v":{"$error":"#N/A"}},{"$error":"#N/A"},{"$error":"#N/A"},{"$error":"#N/A"},{"$error":"#N/A"},{"$error":"#N/A"},{"$error":"#N/A"},{"$error":"#N/A"},{"$error":"#N/A"},{"$error":"#N/A"},{"$error":"#N/A"},{"$error":"#N/A"},{"$error":"#N/A"},{"$error":"#N/A"},{"$error":"#N/A"},{"$error":"#N/A"},{"$error":"#N/A"},{"$error":"#N/A"},{"$error":"#N/A"},{"$error":"#N/A"},{"$error":"#N/A"},{"$error":"#N/A"},{"$error":"#N/A"},{"$error":"#N/A"},{"$error":"#N/A"},{"$error":"#N/A"},{"$error":"#N/A"},{"$error":"#N/A"},{"$error":"#N/A"},{"$error":"#N/A"},{"$error":"#N/A"},{"$error":"#N/A"},{"$error":"#N/A"},{"$error":"#N/A"},{"$error":"#N/A"},{"$error":"#N/A"},{"$error":"#N/A"},{"$error":"#N/A"},{"$error":"#N/A"}]
[null,null,null,null,null,null,null,null,null,null,null,{"$error":"#N/A"},52,{"$f":"VLOOKUP($M69,Funknavigation!$A$2:$AC$185,N$17,FALSE)","v":"Friedrichshafen "},{"$f":"VLOOKUP($M69,Funknavigation!$A$2:$AC$185,O$17,FALSE)","v":"DME/ILS "},{"$f":"VLOOKUP($M69,Funknavigation!$A$2:$AC$185,P$17,FALSE)","v":"FHD"},{"$f":"VLOOKUP($M69,Funknavigation!$A$2:$AC$185,Q$17,FALSE)","v":"· · − ·   · · · ·   − · ·"},{"$f":"VLOOKUP($M69,Funknavigation!$A$2:$AC$185,R$17,FALSE)","v":52},{"$f":"VLOOKUP($M69,Funknavigation!$A$2:$AC$185,S$17,FALSE)","v":47.666400000000003},{"$f":"VLOOKUP($M69,Funknavigation!$A$2:$AC$185,T$17,FALSE)","v":9.5089000000000006},{"$f":"VLOOKUP($M69,Funknavigation!$A$2:$AC$185,U$17,FALSE)","v":"112.60"},{"$f":"VLOOKUP($M69,Funknavigation!$A$2:$AC$185,V$17,FALSE)","v":""},{"$f":"VLOOKUP($M69,Funknavigation!$A$2:$AC$185,W$17,FALSE)","v":"Ch 73x (*) "},{"$f":"VLOOKUP($M69,Funknavigation!$A$2:$AC$185,X$17,FALSE)","v":25},null,null,0.8319356225726251,0.16596161324288883,{"$f":"IF(AG69=1,MAX(MAX(AC$18:$AC68),MAX($AD$18:$AD$193))+1,\"-\")","v":{"$error":"#N/A"}},{"$f":"IF(AH69=1,MAX($AD$18:AD68)+1,\"-\")","v":{"$error":"#N/A"}},{"$error":"#N/A"},{"$error":"#N/A"},{"$error":"#N/A"},{"$error":"#N/A"},{"$error":"#N/A"},{"$error":"#N/A"},{"$error":"#N/A"},{"$error":"#N/A"},{"$error":"#N/A"},{"$error":"#N/A"},{"$error":"#N/A"},{"$error":"#N/A"},{"$error":"#N/A"},{"$error":"#N/A"},{"$error":"#N/A"},{"$error":"#N/A"},{"$error":"#N/A"},{"$error":"#N/A"},{"$error":"#N/A"},{"$error":"#N/A"},{"$error":"#N/A"},{"$error":"#N/A"},{"$error":"#N/A"},{"$error":"#N/A"},{"$error":"#N/A"},{"$error":"#N/A"},{"$error":"#N/A"},{"$error":"#N/A"},{"$error":"#N/A"},{"$error":"#N/A"},{"$error":"#N/A"},{"$error":"#N/A"},{"$error":"#N/A"},{"$error":"#N/A"},{"$error":"#N/A"},{"$error":"#N/A"},{"$error":"#N/A"},{"$error":"#N/A"},{"$error":"#N/A"},{"$error":"#N/A"},{"$error":"#N/A"},{"$error":"#N/A"},{"$error":"#N/A"},{"$error":"#N/A"},{"$error":"#N/A"},{"$error":"#N/A"},{"$error":"#N/A"},{"$error":"#N/A"},{"$error":"#N/A"},{"$error":"#N/A"},{"$error":"#N/A"},{"$error":"#N/A"},{"$error":"#N/A"},{"$error":"#N/A"},{"$error":"#N/A"},{"$error":"#N/A"},{"$error":"#N/A"},{"$error":"#N/A"},{"$error":"#N/A"},{"$error":"#N/A"},{"$error":"#N/A"},{"$error":"#N/A"},{"$error":"#N/A"},{"$error":"#N/A"},{"$error":"#N/A"},{"$error":"#N/A"},{"$error":"#N/A"},{"$error":"#N/A"},{"$error":"#N/A"},{"$error":"#N/A"},{"$error":"#N/A"},{"$error":"#N/A"},{"$error":"#N/A"},{"$error":"#N/A"},{"$error":"#N/A"},{"$error":"#N/A"},{"$error":"#N/A"},{"$error":"#N/A"},{"$error":"#N/A"},{"$error":"#N/A"},{"$error":"#N/A"},{"$error":"#N/A"},{"$error":"#N/A"},{"$error":"#N/A"},{"$error":"#N/A"},{"$error":"#N/A"},{"$error":"#N/A"},{"$error":"#N/A"},{"$error":"#N/A"},{"$error":"#N/A"},{"$error":"#N/A"},{"$error":"#N/A"},{"$error":"#N/A"},{"$error":"#N/A"},{"$error":"#N/A"},{"$error":"#N/A"},{"$error":"#N/A"},{"$error":"#N/A"},{"$error":"#N/A"},{"$error":"#N/A"},{"$error":"#N/A"},{"$error":"#N/A"},{"$error":"#N/A"},{"$error":"#N/A"},{"$error":"#N/A"},{"$error":"#N/A"}]
[null,null,null,null,null,null,null,null,null,null,null,{"$error":"#N/A"},53,{"$f":"VLOOKUP($M70,Funknavigation!$A$2:$AC$185,N$17,FALSE)","v":"Fritzlar "},{"$f":"VLOOKUP($M70,Funknavigation!$A$2:$AC$185,O$17,FALSE)","v":"NDB "},{"$f":"VLOOKUP($M70,Funknavigation!$A$2:$AC$185,P$17,FALSE)","v":"FTZ"},{"$f":"VLOOKUP($M70,Funknavigation!$A$2:$AC$185,Q$17,FALSE)","v":"· · − ·   −   − − · ·"},{"$f":"VLOOKUP($M70,Funknavigation!$A$2:$AC$185,R$17,FALSE)","v":53},{"$f":"VLOOKUP($M70,Funknavigation!$A$2:$AC$185,S$17,FALSE)","v":51.084200000000003},{"$f":"VLOOKUP($M70,Funknavigation!$A$2:$AC$185,T$17,FALSE)","v":9.4153000000000002},{"$f":"VLOOKUP($M70,Funknavigation!$A$2:$AC$185,U$17,FALSE)","v":""},{"$f":"VLOOKUP($M70,Funknavigation!$A$2:$AC$185,V$17,FALSE)","v":468},{"$f":"VLOOKUP($M70,Funknavigation!$A$2:$AC$185,W$17,FALSE)","v":""},{"$f":"VLOOKUP($M70,Funknavigation!$A$2:$AC$185,X$17,FALSE)","v":35},null,null,0.8915874857472873,0.16432798506302213,{"$f":"IF(AG70=1,MAX(MAX(AC$18:$AC69),MAX($AD$18:$AD$193))+1,\"-\")","v":{"$error":"#N/A"}},{"$f":"IF(AH70=1,MAX($AD$18:AD69)+1,\"-\")","v":{"$error":"#N/A"}},{"$error":"#N/A"},{"$error":"#N/A"},{"$error":"#N/A"},{"$error":"#N/A"},{"$error":"#N/A"},{"$error":"#N/A"},{"$error":"#N/A"},{"$error":"#N/A"},{"$error":"#N/A"},{"$error":"#N/A"},{"$error":"#N/A"},{"$error":"#N/A"},{"$error":"#N/A"},{"$error":"#N/A"},{"$error":"#N/A"},{"$error":"#N/A"},{"$error":"#N/A"},{"$error":"#N/A"},{"$error":"#N/A"},{"$error":"#N/A"},{"$error":"#N/A"},{"$error":"#N/A"},{"$error":"#N/A"},{"$error":"#N/A"},{"$error":"#N/A"},{"$error":"#N/A"},{"$error":"#N/A"},{"$error":"#N/A"},{"$error":"#N/A"},{"$error":"#N/A"},{"$error":"#N/A"},{"$error":"#N/A"},{"$error":"#N/A"},{"$error":"#N/A"},{"$error":"#N/A"},{"$error":"#N/A"},{"$error":"#N/A"},{"$error":"#N/A"},{"$error":"#N/A"},{"$error":"#N/A"},{"$error":"#N/A"},{"$error":"#N/A"},{"$error":"#N/A"},{"$error":"#N/A"},{"$error":"#N/A"},{"$error":"#N/A"},{"$error":"#N/A"},{"$error":"#N/A"},{"$error":"#N/A"},{"$error":"#N/A"},{"$error":"#N/A"},{"$error":"#N/A"},{"$error":"#N/A"},{"$error":"#N/A"},{"$error":"#N/A"},{"$error":"#N/A"},{"$error":"#N/A"},{"$error":"#N/A"},{"$error":"#N/A"},{"$error":"#N/A"},{"$error":"#N/A"},{"$error":"#N/A"},{"$error":"#N/A"},{"$error":"#N/A"},{"$error":"#N/A"},{"$error":"#N/A"},{"$error":"#N/A"},{"$error":"#N/A"},{"$error":"#N/A"},{"$error":"#N/A"},{"$error":"#N/A"},{"$error":"#N/A"},{"$error":"#N/A"},{"$error":"#N/A"},{"$error":"#N/A"},{"$error":"#N/A"},{"$error":"#N/A"},{"$error":"#N/A"},{"$error":"#N/A"},{"$error":"#N/A"},{"$error":"#N/A"},{"$error":"#N/A"},{"$error":"#N/A"},{"$error":"#N/A"},{"$error":"#N/A"},{"$error":"#N/A"},{"$error":"#N/A"},{"$error":"#N/A"},{"$error":"#N/A"},{"$error":"#N/A"},{"$error":"#N/A"},{"$error":"#N/A"},{"$error":"#N/A"},{"$error":"#N/A"},{"$error":"#N/A"},{"$error":"#N/A"},{"$error":"#N/A"},{"$error":"#N/A"},{"$error":"#N/A"},{"$error":"#N/A"},{"$error":"#N/A"},{"$error":"#N/A"},{"$error":"#N/A"},{"$error":"#N/A"},{"$error":"#N/A"},{"$error":"#N/A"}]
[null,null,null,null,null,null,null,null,null,null,null,{"$error":"#N/A"},54,{"$f":"VLOOKUP($M71,Funknavigation!$A$2:$AC$185,N$17,FALSE)","v":"Fuerstenwalde "},{"$f":"VLOOKUP($M71,Funknavigation!$A$2:$AC$185,O$17,FALSE)","v":"VOR/DME "},{"$f":"VLOOKUP($M71,Funknavigation!$A$2:$AC$185,P$17,FALSE)","v":"FWE"},{"$f":"VLOOKUP($M71,Funknavigation!$A$2:$AC$185,Q$17,FALSE)","v":"· · − ·   · − −   ·"},{"$f":"VLOOKUP($M71,Funknavigation!$A$2:$AC$185,R$17,FALSE)","v":54},{"$f":"VLOOKUP($M71,Funknavigation!$A$2:$AC$185,S$17,FALSE)","v":52.4114},{"$f":"VLOOKUP($M71,Funknavigation!$A$2:$AC$185,T$17,FALSE)","v":14.130599999999999},{"$f":"VLOOKUP($M71,Funknavigation!$A$2:$AC$185,U$17,FALSE)","v":"113.30"},{"$f":"VLOOKUP($M71,Funknavigation!$A$2:$AC$185,V$17,FALSE)","v":""},{"$f":"VLOOKUP($M71,Funknavigation!$A$2:$AC$185,W$17,FALSE)","v":"Ch 80x "},{"$f":"VLOOKUP($M71,Funknavigation!$A$2:$AC$185,X$17,FALSE)","v":50},null,null,0.91475149557975599,0.24662549528231073,{"$f":"IF(AG71=1,MAX(MAX(AC$18:$AC70),MAX($AD$18:$AD$193))+1,\"-\")","v":{"$error":"#N/A"}},{"$f":"IF(AH71=1,MAX($AD$18:AD70)+1,\"-\")","v":{"$error":"#N/A"}},{"$error":"#N/A"},{"$error":"#N/A"},{"$error":"#N/A"},{"$error":"#N/A"},{"$error":"#N/A"},{"$error":"#N/A"},{"$error":"#N/A"},{"$error":"#N/A"},{"$error":"#N/A"},{"$error":"#N/A"},{"$error":"#N/A"},{"$error":"#N/A"},{"$error":"#N/A"},{"$error":"#N/A"},{"$error":"#N/A"},{"$error":"#N/A"},{"$error":"#N/A"},{"$error":"#N/A"},{"$error":"#N/A"},{"$error":"#N/A"},{"$error":"#N/A"},{"$error":"#N/A"},{"$error":"#N/A"},{"$error":"#N/A"},{"$error":"#N/A"},{"$error":"#N/A"},{"$error":"#N/A"},{"$error":"#N/A"},{"$error":"#N/A"},{"$error":"#N/A"},{"$error":"#N/A"},{"$error":"#N/A"},{"$error":"#N/A"},{"$error":"#N/A"},{"$error":"#N/A"},{"$error":"#N/A"},{"$error":"#N/A"},{"$error":"#N/A"},{"$error":"#N/A"},{"$error":"#N/A"},{"$error":"#N/A"},{"$error":"#N/A"},{"$error":"#N/A"},{"$error":"#N/A"},{"$error":"#N/A"},{"$error":"#N/A"},{"$error":"#N/A"},{"$error":"#N/A"},{"$error":"#N/A"},{"$error":"#N/A"},{"$error":"#N/A"},{"$error":"#N/A"},{"$error":"#N/A"},{"$error":"#N/A"},{"$error":"#N/A"},{"$error":"#N/A"},{"$error":"#N/A"},{"$error":"#N/A"},{"$error":"#N/A"},{"$error":"#N/A"},{"$error":"#N/A"},{"$error":"#N/A"},{"$error":"#N/A"},{"$error":"#N/A"},{"$error":"#N/A"},{"$error":"#N/A"},{"$error":"#N/A"},{"$error":"#N/A"},{"$error":"#N/A"},{"$error":"#N/A"},{"$error":"#N/A"},{"$error":"#N/A"},{"$error":"#N/A"},{"$error":"#N/A"},{"$error":"#N/A"},{"$error":"#N/A"},{"$error":"#N/A"},{"$error":"#N/A"},{"$error":"#N/A"},{"$error":"#N/A"},{"$error":"#N/A"},{"$error":"#N/A"},{"$error":"#N/A"},{"$error":"#N/A"},{"$error":"#N/A"},{"$error":"#N/A"},{"$error":"#N/A"},{"$error":"#N/A"},{"$error":"#N/A"},{"$error":"#N/A"},{"$error":"#N/A"},{"$error":"#N/A"},{"$error":"#N/A"},{"$error":"#N/A"},{"$error":"#N/A"},{"$error":"#N/A"},{"$error":"#N/A"},{"$error":"#N/A"},{"$error":"#N/A"},{"$error":"#N/A"},{"$error":"#N/A"},{"$error":"#N/A"},{"$error":"#N/A"},{"$error":"#N/A"},{"$error":"#N/A"},{"$error":"#N/A"}]
[null,null,null,null,null,null,null,null,null,null,null,{"$error":"#N/A"},55,{"$f":"VLOOKUP($M72,Funknavigation!$A$2:$AC$185,N$17,FALSE)","v":"Fulda "},{"$f":"VLOOKUP($M72,Funknavigation!$A$2:$AC$185,O$17,FALSE)","v":"DVOR/DME "},{"$f":"VLOOKUP($M72,Funknavigation!$A$2:$AC$185,P$17,FALSE)","v":"FUL"},{"$f":"VLOOKUP($M72,Funknavigation!$A$2:$AC$185,Q$17,FALSE)","v":"· · − ·   · · −   · − · ·"},{"$f":"VLOOKUP($M72,Funknavigation!$A$2:$AC$185,R$17,FALSE)","v":55},{"$f":"VLOOKUP($M72,Funknavigation!$A$2:$AC$185,S$17,FALSE)","v":50.592500000000001},{"$f":"VLOOKUP($M72,Funknavigation!$A$2:$AC$185,T$17,FALSE)","v":9.5722000000000005},{"$f":"VLOOKUP($M72,Funknavigation!$A$2:$AC$185,U$17,FALSE)","v":"112.10"},{"$f":"VLOOKUP($M72,Funknavigation!$A$2:$AC$185,V$17,FALSE)","v":""},{"$f":"VLOOKUP($M72,Funknavigation!$A$2:$AC$185,W$17,FALSE)","v":"Ch 58x "},{"$f":"VLOOKUP($M72,Funknavigation!$A$2:$AC$185,X$17,FALSE)","v":100},null,null,0.88300570181523119,0.16706640665940123,{"$f":"IF(AG72=1,MAX(MAX(AC$18:$AC71),MAX($AD$18:$AD$193))+1,\"-\")","v":{"$error":"#N/A"}},{"$f":"IF(AH72=1,MAX($AD$18:AD71)+1,\"-\")","v":{"$error":"#N/A"}},{"$error":"#N/A"},{"$error":"#N/A"},{"$error":"#N/A"},{"$error":"#N/A"},{"$error":"#N/A"},{"$error":"#N/A"},{"$error":"#N/A"},{"$error":"#N/A"},{"$error":"#N/A"},{"$error":"#N/A"},{"$error":"#N/A"},{"$error":"#N/A"},{"$error":"#N/A"},{"$error":"#N/A"},{"$error":"#N/A"},{"$error":"#N/A"},{"$error":"#N/A"},{"$error":"#N/A"},{"$error":"#N/A"},{"$error":"#N/A"},{"$error":"#N/A"},{"$error":"#N/A"},{"$error":"#N/A"},{"$error":"#N/A"},{"$error":"#N/A"},{"$error":"#N/A"},{"$error":"#N/A"},{"$error":"#N/A"},{"$error":"#N/A"},{"$error":"#N/A"},{"$error":"#N/A"},{"$error":"#N/A"},{"$error":"#N/A"},{"$error":"#N/A"},{"$error":"#N/A"},{"$error":"#N/A"},{"$error":"#N/A"},{"$error":"#N/A"},{"$error":"#N/A"},{"$error":"#N/A"},{"$error":"#N/A"},{"$error":"#N/A"},{"$error":"#N/A"},{"$error":"#N/A"},{"$error":"#N/A"},{"$error":"#N/A"},{"$error":"#N/A"},{"$error":"#N/A"},{"$error":"#N/A"},{"$error":"#N/A"},{"$error":"#N/A"},{"$error":"#N/A"},{"$error":"#N/A"},{"$error":"#N/A"},{"$error":"#N/A"},{"$error":"#N/A"},{"$error":"#N/A"},{"$error":"#N/A"},{"$error":"#N/A"},{"$error":"#N/A"},{"$error":"#N/A"},{"$error":"#N/A"},{"$error":"#N/A"},{"$error":"#N/A"},{"$error":"#N/A"},{"$error":"#N/A"},{"$error":"#N/A"},{"$error":"#N/A"},{"$error":"#N/A"},{"$error":"#N/A"},{"$error":"#N/A"},{"$error":"#N/A"},{"$error":"#N/A"},{"$error":"#N/A"},{"$error":"#N/A"},{"$error":"#N/A"},{"$error":"#N/A"},{"$error":"#N/A"},{"$error":"#N/A"},{"$error":"#N/A"},{"$error":"#N/A"},{"$error":"#N/A"},{"$error":"#N/A"},{"$error":"#N/A"},{"$error":"#N/A"},{"$error":"#N/A"},{"$error":"#N/A"},{"$error":"#N/A"},{"$error":"#N/A"},{"$error":"#N/A"},{"$error":"#N/A"},{"$error":"#N/A"},{"$error":"#N/A"},{"$error":"#N/A"},{"$error":"#N/A"},{"$error":"#N/A"},{"$error":"#N/A"},{"$error":"#N/A"},{"$error":"#N/A"},{"$error":"#N/A"},{"$error":"#N/A"},{"$error":"#N/A"},{"$error":"#N/A"},{"$error":"#N/A"},{"$error":"#N/A"},{"$error":"#N/A"}]
[null,null,null,null,null,null,null,null,null,null,null,{"$error":"#N/A"},56,{"$f":"VLOOKUP($M73,Funknavigation!$A$2:$AC$185,N$17,FALSE)","v":"Gedern "},{"$f":"VLOOKUP($M73,Funknavigation!$A$2:$AC$185,O$17,FALSE)","v":"DVORTAC "},{"$f":"VLOOKUP($M73,Funknavigation!$A$2:$AC$185,P$17,FALSE)","v":"GED"},{"$f":"VLOOKUP($M73,Funknavigation!$A$2:$AC$185,Q$17,FALSE)","v":"− − ·   ·   − · ·"},{"$f":"VLOOKUP($M73,Funknavigation!$A$2:$AC$185,R$17,FALSE)","v":56},{"$f":"VLOOKUP($M73,Funknavigation!$A$2:$AC$185,S$17,FALSE)","v":50.411900000000003},{"$f":"VLOOKUP($M73,Funknavigation!$A$2:$AC$185,T$17,FALSE)","v":9.2492000000000001},{"$f":"VLOOKUP($M73,Funknavigation!$A$2:$AC$185,U$17,FALSE)","v":"110.80"},{"$f":"VLOOKUP($M73,Funknavigation!$A$2:$AC$185,V$17,FALSE)","v":""},{"$f":"VLOOKUP($M73,Funknavigation!$A$2:$AC$185,W$17,FALSE)","v":"Ch 45x "},{"$f":"VLOOKUP($M73,Funknavigation!$A$2:$AC$185,X$17,FALSE)","v":70},null,null,0.87985363718612952,0.16142899317545953,{"$f":"IF(AG73=1,MAX(MAX(AC$18:$AC72),MAX($AD$18:$AD$193))+1,\"-\")","v":{"$error":"#N/A"}},{"$f":"IF(AH73=1,MAX($AD$18:AD72)+1,\"-\")","v":{"$error":"#N/A"}},{"$error":"#N/A"},{"$error":"#N/A"},{"$error":"#N/A"},{"$error":"#N/A"},{"$error":"#N/A"},{"$error":"#N/A"},{"$error":"#N/A"},{"$error":"#N/A"},{"$error":"#N/A"},{"$error":"#N/A"},{"$error":"#N/A"},{"$error":"#N/A"},{"$error":"#N/A"},{"$error":"#N/A"},{"$error":"#N/A"},{"$error":"#N/A"},{"$error":"#N/A"},{"$error":"#N/A"},{"$error":"#N/A"},{"$error":"#N/A"},{"$error":"#N/A"},{"$error":"#N/A"},{"$error":"#N/A"},{"$error":"#N/A"},{"$error":"#N/A"},{"$error":"#N/A"},{"$error":"#N/A"},{"$error":"#N/A"},{"$error":"#N/A"},{"$error":"#N/A"},{"$error":"#N/A"},{"$error":"#N/A"},{"$error":"#N/A"},{"$error":"#N/A"},{"$error":"#N/A"},{"$error":"#N/A"},{"$error":"#N/A"},{"$error":"#N/A"},{"$error":"#N/A"},{"$error":"#N/A"},{"$error":"#N/A"},{"$error":"#N/A"},{"$error":"#N/A"},{"$error":"#N/A"},{"$error":"#N/A"},{"$error":"#N/A"},{"$error":"#N/A"},{"$error":"#N/A"},{"$error":"#N/A"},{"$error":"#N/A"},{"$error":"#N/A"},{"$error":"#N/A"},{"$error":"#N/A"},{"$error":"#N/A"},{"$error":"#N/A"},{"$error":"#N/A"},{"$error":"#N/A"},{"$error":"#N/A"},{"$error":"#N/A"},{"$error":"#N/A"},{"$error":"#N/A"},{"$error":"#N/A"},{"$error":"#N/A"},{"$error":"#N/A"},{"$error":"#N/A"},{"$error":"#N/A"},{"$error":"#N/A"},{"$error":"#N/A"},{"$error":"#N/A"},{"$error":"#N/A"},{"$error":"#N/A"},{"$error":"#N/A"},{"$error":"#N/A"},{"$error":"#N/A"},{"$error":"#N/A"},{"$error":"#N/A"},{"$error":"#N/A"},{"$error":"#N/A"},{"$error":"#N/A"},{"$error":"#N/A"},{"$error":"#N/A"},{"$error":"#N/A"},{"$error":"#N/A"},{"$error":"#N/A"},{"$error":"#N/A"},{"$error":"#N/A"},{"$error":"#N/A"},{"$error":"#N/A"},{"$error":"#N/A"},{"$error":"#N/A"},{"$error":"#N/A"},{"$error":"#N/A"},{"$error":"#N/A"},{"$error":"#N/A"},{"$error":"#N/A"},{"$error":"#N/A"},{"$error":"#N/A"},{"$error":"#N/A"},{"$error":"#N/A"},{"$error":"#N/A"},{"$error":"#N/A"},{"$error":"#N/A"},{"$error":"#N/A"},{"$error":"#N/A"},{"$error":"#N/A"},{"$f":"IF(EF$3=\"OK\",(21600/(2*PI()))*ACOS(SIN($AA73)*SIN(EF$6)+COS(EF$6)*COS($AA73)*COS($AB73-EF$7)),\"-\")","v":{"$error":"#N/A"}}]
[null,null,null,null,null,null,null,null,null,null,null,{"$error":"#N/A"},57,{"$f":"VLOOKUP($M74,Funknavigation!$A$2:$AC$185,N$17,FALSE)","v":"Germinghausen "},{"$f":"VLOOKUP($M74,Funknavigation!$A$2:$AC$185,O$17,FALSE)","v":"DVOR/DME "},{"$f":"VLOOKUP($M74,Funknavigation!$A$2:$AC$185,P$17,FALSE)","v":"GMH"},{"$f":"VLOOKUP($M74,Funknavigation!$A$2:$AC$185,Q$17,FALSE)","v":"− − ·   − −   · · · ·"},{"$f":"VLOOKUP($M74,Funknavigation!$A$2:$AC$185,R$17,FALSE)","v":57},{"$f":"VLOOKUP($M74,Funknavigation!$A$2:$AC$185,S$17,FALSE)","v":51.1706},{"$f":"VLOOKUP($M74,Funknavigation!$A$2:$AC$185,T$17,FALSE)","v":7.8918999999999997},{"$f":"VLOOKUP($M74,Funknavigation!$A$2:$AC$185,U$17,FALSE)","v":"115.40"},{"$f":"VLOOKUP($M74,Funknavigation!$A$2:$AC$185,V$17,FALSE)","v":""},{"$f":"VLOOKUP($M74,Funknavigation!$A$2:$AC$185,W$17,FALSE)","v":"Ch 101x "},{"$f":"VLOOKUP($M74,Funknavigation!$A$2:$AC$185,X$17,FALSE)","v":60},null,null,0.89309545022101033,0.13773963923814048,{"$f":"IF(AG74=1,MAX(MAX(AC$18:$AC73),MAX($AD$18:$AD$193))+1,\"-\")","v":{"$error":"#N/A"}},{"$f":"IF(AH74=1,MAX($AD$18:AD73)+1,\"-\")","v":{"$error":"#N/A"}},{"$error":"#N/A"},{"$error":"#N/A"},{"$error":"#N/A"},{"$error":"#N/A"},{"$error":"#N/A"},{"$error":"#N/A"},{"$error":"#N/A"},{"$error":"#N/A"},{"$error":"#N/A"},{"$error":"#N/A"},{"$error":"#N/A"},{"$error":"#N/A"},{"$error":"#N/A"},{"$error":"#N/A"},{"$error":"#N/A"},{"$error":"#N/A"},{"$error":"#N/A"},{"$error":"#N/A"},{"$error":"#N/A"},{"$error":"#N/A"},{"$error":"#N/A"},{"$error":"#N/A"},{"$error":"#N/A"},{"$error":"#N/A"},{"$error":"#N/A"},{"$error":"#N/A"},{"$error":"#N/A"},{"$error":"#N/A"},{"$error":"#N/A"},{"$error":"#N/A"},{"$error":"#N/A"},{"$error":"#N/A"},{"$error":"#N/A"},{"$error":"#N/A"},{"$error":"#N/A"},{"$error":"#N/A"},{"$error":"#N/A"},{"$error":"#N/A"},{"$error":"#N/A"},{"$error":"#N/A"},{"$error":"#N/A"},{"$error":"#N/A"},{"$error":"#N/A"},{"$error":"#N/A"},{"$error":"#N/A"},{"$error":"#N/A"},{"$error":"#N/A"},{"$error":"#N/A"},{"$error":"#N/A"},{"$error":"#N/A"},{"$error":"#N/A"},{"$error":"#N/A"},{"$error":"#N/A"},{"$error":"#N/A"},{"$error":"#N/A"},{"$error":"#N/A"},{"$error":"#N/A"},{"$error":"#N/A"},{"$error":"#N/A"},{"$error":"#N/A"},{"$error":"#N/A"},{"$error":"#N/A"},{"$error":"#N/A"},{"$error":"#N/A"},{"$error":"#N/A"},{"$error":"#N/A"},{"$error":"#N/A"},{"$error":"#N/A"},{"$error":"#N/A"},{"$error":"#N/A"},{"$error":"#N/A"},{"$error":"#N/A"},{"$error":"#N/A"},{"$error":"#N/A"},{"$error":"#N/A"},{"$error":"#N/A"},{"$error":"#N/A"},{"$error":"#N/A"},{"$error":"#N/A"},{"$error":"#N/A"},{"$error":"#N/A"},{"$error":"#N/A"},{"$error":"#N/A"},{"$error":"#N/A"},{"$error":"#N/A"},{"$error":"#N/A"},{"$error":"#N/A"},{"$error":"#N/A"},{"$error":"#N/A"},{"$error":"#N/A"},{"$error":"#N/A"},{"$error":"#N/A"},{"$error":"#N/A"},{"$error":"#N/A"},{"$error":"#N/A"},{"$error":"#N/A"},{"$error":"#N/A"},{"$error":"#N/A"},{"$error":"#N/A"},{"$error":"#N/A"},{"$error":"#N/A"},{"$error":"#N/A"},{"$error":"#N/A"},{"$error":"#N/A"},{"$error":"#N/A"},{"$error":"#N/A"}]
[null,null,null,null,null,null,null,null,null,null,null,{"$error":"#N/A"},58,{"$f":"VLOOKUP($M75,Funknavigation!$A$2:$AC$185,N$17,FALSE)","v":"Gotem "},{"$f":"VLOOKUP($M75,Funknavigation!$A$2:$AC$185,O$17,FALSE)","v":"DVOR/DME "},{"$f":"VLOOKUP($M75,Funknavigation!$A$2:$AC$185,P$17,FALSE)","v":"GOT"},{"$f":"VLOOKUP($M75,Funknavigation!$A$2:$AC$185,Q$17,FALSE)","v":"− − ·   − − −   −"},{"$f":"VLOOKUP($M75,Funknavigation!$A$2:$AC$185,R$17,FALSE)","v":58},{"$f":"VLOOKUP($M75,Funknavigation!$A$2:$AC$185,S$17,FALSE)","v":51.3431},{"$f":"VLOOKUP($M75,Funknavigation!$A$2:$AC$185,T$17,FALSE)","v":11.5975},{"$f":"VLOOKUP($M75,Funknavigation!$A$2:$AC$185,U$17,FALSE)","v":"115.25"},{"$f":"VLOOKUP($M75,Funknavigation!$A$2:$AC$185,V$17,FALSE)","v":""},{"$f":"VLOOKUP($M75,Funknavigation!$A$2:$AC$185,W$17,FALSE)","v":"Ch 99y "},{"$f":"VLOOKUP($M75,Funknavigation!$A$2:$AC$185,X$17,FALSE)","v":60},null,null,0.89610614318070059,0.20241456000004238,{"$f":"IF(AG75=1,MAX(MAX(AC$18:$AC74),MAX($AD$18:$AD$193))+1,\"-\")","v":{"$error":"#N/A"}},{"$f":"IF(AH75=1,MAX($AD$18:AD74)+1,\"-\")","v":{"$error":"#N/A"}},{"$error":"#N/A"},{"$error":"#N/A"},{"$error":"#N/A"},{"$error":"#N/A"},{"$error":"#N/A"},{"$error":"#N/A"},{"$error":"#N/A"},{"$error":"#N/A"},{"$error":"#N/A"},{"$error":"#N/A"},{"$error":"#N/A"},{"$error":"#N/A"},{"$error":"#N/A"},{"$error":"#N/A"},{"$error":"#N/A"},{"$error":"#N/A"},{"$error":"#N/A"},{"$error":"#N/A"},{"$error":"#N/A"},{"$error":"#N/A"},{"$error":"#N/A"},{"$error":"#N/A"},{"$error":"#N/A"},{"$error":"#N/A"},{"$error":"#N/A"},{"$error":"#N/A"},{"$error":"#N/A"},{"$error":"#N/A"},{"$error":"#N/A"},{"$error":"#N/A"},{"$error":"#N/A"},{"$error":"#N/A"},{"$error":"#N/A"},{"$error":"#N/A"},{"$error":"#N/A"},{"$error":"#N/A"},{"$error":"#N/A"},{"$error":"#N/A"},{"$error":"#N/A"},{"$error":"#N/A"},{"$error":"#N/A"},{"$error":"#N/A"},{"$error":"#N/A"},{"$error":"#N/A"},{"$error":"#N/A"},{"$error":"#N/A"},{"$error":"#N/A"},{"$error":"#N/A"},{"$error":"#N/A"},{"$error":"#N/A"},{"$error":"#N/A"},{"$error":"#N/A"},{"$error":"#N/A"},{"$error":"#N/A"},{"$error":"#N/A"},{"$error":"#N/A"},{"$error":"#N/A"},{"$error":"#N/A"},{"$error":"#N/A"},{"$error":"#N/A"},{"$error":"#N/A"},{"$error":"#N/A"},{"$error":"#N/A"},{"$error":"#N/A"},{"$error":"#N/A"},{"$error":"#N/A"},{"$error":"#N/A"},{"$error":"#N/A"},{"$error":"#N/A"},{"$error":"#N/A"},{"$error":"#N/A"},{"$error":"#N/A"},{"$error":"#N/A"},{"$error":"#N/A"},{"$error":"#N/A"},{"$error":"#N/A"},{"$error":"#N/A"},{"$error":"#N/A"},{"$error":"#N/A"},{"$error":"#N/A"},{"$error":"#N/A"},{"$error":"#N/A"},{"$error":"#N/A"},{"$error":"#N/A"},{"$error":"#N/A"},{"$error":"#N/A"},{"$error":"#N/A"},{"$error":"#N/A"},{"$error":"#N/A"},{"$error":"#N/A"},{"$error":"#N/A"},{"$error":"#N/A"},{"$error":"#N/A"},{"$error":"#N/A"},{"$error":"#N/A"},{"$error":"#N/A"},{"$error":"#N/A"},{"$error":"#N/A"},{"$error":"#N/A"},{"$error":"#N/A"},{"$error":"#N/A"},{"$error":"#N/A"},{"$error":"#N/A"},{"$error":"#N/A"},{"$error":"#N/A"},{"$error":"#N/A"}]
[null,null,null,null,null,null,null,null,null,null,null,{"$error":"#N/A"},59,{"$f":"VLOOKUP($M76,Funknavigation!$A$2:$AC$185,N$17,FALSE)","v":"Grafenwoehr "},{"$f":"VLOOKUP($M76,Funknavigation!$A$2:$AC$185,O$17,FALSE)","v":"NDB "},{"$f":"VLOOKUP($M76,Funknavigation!$A$2:$AC$185,P$17,FALSE)","v":"GRW"},{"$f":"VLOOKUP($M76,Funknavigation!$A$2:$AC$185,Q$17,FALSE)","v":"− − ·   · − ·   · − −"},{"$f":"VLOOKUP($M76,Funknavigation!$A$2:$AC$185,R$17,FALSE)","v":59},{"$f":"VLOOKUP($M76,Funknavigation!$A$2:$AC$185,S$17,FALSE)","v":49.694400000000002},{"$f":"VLOOKUP($M76,Funknavigation!$A$2:$AC$185,T$17,FALSE)","v":11.941700000000001},{"$f":"VLOOKUP($M76,Funknavigation!$A$2:$AC$185,U$17,FALSE)","v":""},{"$f":"VLOOKUP($M76,Funknavigation!$A$2:$AC$185,V$17,FALSE)","v":405},{"$f":"VLOOKUP($M76,Funknavigation!$A$2:$AC$185,W$17,FALSE)","v":""},{"$f":"VLOOKUP($M76,Funknavigation!$A$2:$AC$185,X$17,FALSE)","v":25},null,null,0.8673308998030701,0.20842198328540687,{"$f":"IF(AG76=1,MAX(MAX(AC$18:$AC75),MAX($AD$18:$AD$193))+1,\"-\")","v":{"$error":"#N/A"}},{"$f":"IF(AH76=1,MAX($AD$18:AD75)+1,\"-\")","v":{"$error":"#N/A"}},{"$error":"#N/A"},{"$error":"#N/A"},{"$error":"#N/A"},{"$error":"#N/A"},{"$error":"#N/A"},{"$error":"#N/A"},{"$error":"#N/A"},{"$error":"#N/A"},{"$error":"#N/A"},{"$error":"#N/A"},{"$error":"#N/A"},{"$error":"#N/A"},{"$error":"#N/A"},{"$error":"#N/A"},{"$error":"#N/A"},{"$error":"#N/A"},{"$error":"#N/A"},{"$error":"#N/A"},{"$error":"#N/A"},{"$error":"#N/A"},{"$error":"#N/A"},{"$error":"#N/A"},{"$error":"#N/A"},{"$error":"#N/A"},{"$error":"#N/A"},{"$error":"#N/A"},{"$error":"#N/A"},{"$error":"#N/A"},{"$error":"#N/A"},{"$error":"#N/A"},{"$error":"#N/A"},{"$error":"#N/A"},{"$error":"#N/A"},{"$error":"#N/A"},{"$error":"#N/A"},{"$error":"#N/A"},{"$error":"#N/A"},{"$error":"#N/A"},{"$error":"#N/A"},{"$error":"#N/A"},{"$error":"#N/A"},{"$error":"#N/A"},{"$error":"#N/A"},{"$error":"#N/A"},{"$error":"#N/A"},{"$error":"#N/A"},{"$error":"#N/A"},{"$error":"#N/A"},{"$error":"#N/A"},{"$error":"#N/A"},{"$error":"#N/A"},{"$error":"#N/A"},{"$error":"#N/A"},{"$error":"#N/A"},{"$error":"#N/A"},{"$error":"#N/A"},{"$error":"#N/A"},{"$error":"#N/A"},{"$error":"#N/A"},{"$error":"#N/A"},{"$error":"#N/A"},{"$error":"#N/A"},{"$error":"#N/A"},{"$error":"#N/A"},{"$error":"#N/A"},{"$error":"#N/A"},{"$error":"#N/A"},{"$error":"#N/A"},{"$error":"#N/A"},{"$error":"#N/A"},{"$error":"#N/A"},{"$error":"#N/A"},{"$error":"#N/A"},{"$error":"#N/A"},{"$error":"#N/A"},{"$error":"#N/A"},{"$error":"#N/A"},{"$error":"#N/A"},{"$error":"#N/A"},{"$error":"#N/A"},{"$error":"#N/A"},{"$error":"#N/A"},{"$error":"#N/A"},{"$error":"#N/A"},{"$error":"#N/A"},{"$error":"#N/A"},{"$error":"#N/A"},{"$error":"#N/A"},{"$error":"#N/A"},{"$error":"#N/A"},{"$error":"#N/A"},{"$error":"#N/A"},{"$error":"#N/A"},{"$error":"#N/A"},{"$error":"#N/A"},{"$error":"#N/A"},{"$error":"#N/A"},{"$error":"#N/A"},{"$error":"#N/A"},{"$error":"#N/A"},{"$error":"#N/A"},{"$error":"#N/A"},{"$error":"#N/A"},{"$error":"#N/A"},{"$error":"#N/A"},{"$error":"#N/A"}]
[null,null,null,null,null,null,null,null,null,null,null,{"$error":"#N/A"},60,{"$f":"VLOOKUP($M77,Funknavigation!$A$2:$AC$185,N$17,FALSE)","v":"Hahn "},{"$f":"VLOOKUP($M77,Funknavigation!$A$2:$AC$185,O$17,FALSE)","v":"NDB "},{"$f":"VLOOKUP($M77,Funknavigation!$A$2:$AC$185,P$17,FALSE)","v":"HAN"},{"$f":"VLOOKUP($M77,Funknavigation!$A$2:$AC$185,Q$17,FALSE)","v":"· · · ·   · −   − ·"},{"$f":"VLOOKUP($M77,Funknavigation!$A$2:$AC$185,R$17,FALSE)","v":60},{"$f":"VLOOKUP($M77,Funknavigation!$A$2:$AC$185,S$17,FALSE)","v":49.965000000000003},{"$f":"VLOOKUP($M77,Funknavigation!$A$2:$AC$185,T$17,FALSE)","v":7.2808000000000002},{"$f":"VLOOKUP($M77,Funknavigation!$A$2:$AC$185,U$17,FALSE)","v":""},{"$f":"VLOOKUP($M77,Funknavigation!$A$2:$AC$185,V$17,FALSE)","v":376},{"$f":"VLOOKUP($M77,Funknavigation!$A$2:$AC$185,W$17,FALSE)","v":""},{"$f":"VLOOKUP($M77,Funknavigation!$A$2:$AC$185,X$17,FALSE)","v":15},null,null,0.8720537607589669,0.12707393217920313,{"$f":"IF(AG77=1,MAX(MAX(AC$18:$AC76),MAX($AD$18:$AD$193))+1,\"-\")","v":{"$error":"#N/A"}},{"$f":"IF(AH77=1,MAX($AD$18:AD76)+1,\"-\")","v":{"$error":"#N/A"}},{"$error":"#N/A"},{"$error":"#N/A"},{"$error":"#N/A"},{"$error":"#N/A"},{"$error":"#N/A"},{"$error":"#N/A"},{"$error":"#N/A"},{"$error":"#N/A"},{"$error":"#N/A"},{"$error":"#N/A"},{"$error":"#N/A"},{"$error":"#N/A"},{"$error":"#N/A"},{"$error":"#N/A"},{"$error":"#N/A"},{"$error":"#N/A"},{"$error":"#N/A"},{"$error":"#N/A"},{"$error":"#N/A"},{"$error":"#N/A"},{"$error":"#N/A"},{"$error":"#N/A"},{"$error":"#N/A"},{"$error":"#N/A"},{"$error":"#N/A"},{"$error":"#N/A"},{"$error":"#N/A"},{"$error":"#N/A"},{"$error":"#N/A"},{"$error":"#N/A"},{"$error":"#N/A"},{"$error":"#N/A"},{"$error":"#N/A"},{"$error":"#N/A"},{"$error":"#N/A"},{"$error":"#N/A"},{"$error":"#N/A"},{"$error":"#N/A"},{"$error":"#N/A"},{"$error":"#N/A"},{"$error":"#N/A"},{"$error":"#N/A"},{"$error":"#N/A"},{"$error":"#N/A"},{"$error":"#N/A"},{"$error":"#N/A"},{"$error":"#N/A"},{"$error":"#N/A"},{"$error":"#N/A"},{"$error":"#N/A"},{"$error":"#N/A"},{"$error":"#N/A"},{"$error":"#N/A"},{"$error":"#N/A"},{"$error":"#N/A"},{"$error":"#N/A"},{"$error":"#N/A"},{"$error":"#N/A"},{"$error":"#N/A"},{"$error":"#N/A"},{"$error":"#N/A"},{"$error":"#N/A"},{"$error":"#N/A"},{"$error":"#N/A"},{"$error":"#N/A"},{"$error":"#N/A"},{"$error":"#N/A"},{"$error":"#N/A"},{"$error":"#N/A"},{"$error":"#N/A"},{"$error":"#N/A"},{"$error":"#N/A"},{"$error":"#N/A"},{"$error":"#N/A"},{"$error":"#N/A"},{"$error":"#N/A"},{"$error":"#N/A"},{"$error":"#N/A"},{"$error":"#N/A"},{"$error":"#N/A"},{"$error":"#N/A"},{"$error":"#N/A"},{"$error":"#N/A"},{"$error":"#N/A"},{"$error":"#N/A"},{"$error":"#N/A"},{"$error":"#N/A"},{"$error":"#N/A"},{"$error":"#N/A"},{"$error":"#N/A"},{"$error":"#N/A"},{"$error":"#N/A"},{"$error":"#N/A"},{"$error":"#N/A"},{"$error":"#N/A"},{"$error":"#N/A"},{"$error":"#N/A"},{"$error":"#N/A"},{"$error":"#N/A"},{"$error":"#N/A"},{"$error":"#N/A"},{"$error":"#N/A"},{"$error":"#N/A"},{"$error":"#N/A"},{"$error":"#N/A"},{"$error":"#N/A"}]
[null,null,null,null,null,null,null,null,null,null,null,{"$error":"#N/A"},61,{"$f":"VLOOKUP($M78,Funknavigation!$A$2:$AC$185,N$17,FALSE)","v":"Hahn"},{"$f":"VLOOKUP($M78,Funknavigation!$A$2:$AC$185,O$17,FALSE)","v":"DME "},{"$f":"VLOOKUP($M78,Funknavigation!$A$2:$AC$185,P$17,FALSE)","v":"FHH"},{"$f":"VLOOKUP($M78,Funknavigation!$A$2:$AC$185,Q$17,FALSE)","v":"· · − ·   · · · ·   · · · ·"},{"$f":"VLOOKUP($M78,Funknavigation!$A$2:$AC$185,R$17,FALSE)","v":61},{"$f":"VLOOKUP($M78,Funknavigation!$A$2:$AC$185,S$17,FALSE)","v":49.941699999999997},{"$f":"VLOOKUP($M78,Funknavigation!$A$2:$AC$185,T$17,FALSE)","v":7.2606000000000002},{"$f":"VLOOKUP($M78,Funknavigation!$A$2:$AC$185,U$17,FALSE)","v":"117.35"},{"$f":"VLOOKUP($M78,Funknavigation!$A$2:$AC$185,V$17,FALSE)","v":""},{"$f":"VLOOKUP($M78,Funknavigation!$A$2:$AC$185,W$17,FALSE)","v":"Ch 120y (*) "},{"$f":"VLOOKUP($M78,Funknavigation!$A$2:$AC$185,X$17,FALSE)","v":25},null,null,0.87164709904325199,0.12672137567030031,{"$f":"IF(AG78=1,MAX(MAX(AC$18:$AC77),MAX($AD$18:$AD$193))+1,\"-\")","v":{"$error":"#N/A"}},{"$f":"IF(AH78=1,MAX($AD$18:AD77)+1,\"-\")","v":{"$error":"#N/A"}},{"$error":"#N/A"},{"$error":"#N/A"},{"$error":"#N/A"},{"$error":"#N/A"},{"$error":"#N/A"},{"$error":"#N/A"},{"$error":"#N/A"},{"$f":"IF(AL$3=\"OK\",(21600/(2*PI()))*ACOS(SIN($AA78)*SIN(AL$6)+COS(AL$6)*COS($AA78)*COS($AB78-AL$7)),\"-\")","v":{"$error":"#N/A"}},{"$error":"#N/A"},{"$error":"#N/A"},{"$error":"#N/A"},{"$error":"#N/A"},{"$error":"#N/A"},{"$error":"#N/A"},{"$error":"#N/A"},{"$error":"#N/A"},{"$error":"#N/A"},{"$f":"IF(AV$3=\"OK\",(21600/(2*PI()))*ACOS(SIN($AA78)*SIN(AV$6)+COS(AV$6)*COS($AA78)*COS($AB78-AV$7)),\"-\")","v":{"$error":"#N/A"}},{"$error":"#N/A"},{"$error":"#N/A"},{"$error":"#N/A"},{"$error":"#N/A"},{"$error":"#N/A"},{"$error":"#N/A"},{"$error":"#N/A"},{"$error":"#N/A"},{"$error":"#N/A"},{"$f":"IF(BF$3=\"OK\",(21600/(2*PI()))*ACOS(SIN($AA78)*SIN(BF$6)+COS(BF$6)*COS($AA78)*COS($AB78-BF$7)),\"-\")","v":{"$error":"#N/A"}},{"$error":"#N/A"},{"$error":"#N/A"},{"$error":"#N/A"},{"$error":"#N/A"},{"$error":"#N/A"},{"$error":"#N/A"},{"$error":"#N/A"},{"$error":"#N/A"},{"$error":"#N/A"},{"$f":"IF(BP$3=\"OK\",(21600/(2*PI()))*ACOS(SIN($AA78)*SIN(BP$6)+COS(BP$6)*COS($AA78)*COS($AB78-BP$7)),\"-\")","v":{"$error":"#N/A"}},{"$error":"#N/A"},{"$error":"#N/A"},{"$error":"#N/A"},{"$error":"#N/A"},{"$error":"#N/A"},{"$error":"#N/A"},{"$error":"#N/A"},{"$error":"#N/A"},{"$error":"#N/A"},{"$f":"IF(BZ$3=\"OK\",(21600/(2*PI()))*ACOS(SIN($AA78)*SIN(BZ$6)+COS(BZ$6)*COS($AA78)*COS($AB78-BZ$7)),\"-\")","v":{"$error":"#N/A"}},{"$error":"#N/A"},{"$error":"#N/A"},{"$error":"#N/A"},{"$error":"#N/A"},{"$error":"#N/A"},{"$error":"#N/A"},{"$error":"#N/A"},{"$error":"#N/A"},{"$error":"#N/A"},{"$f":"IF(CJ$3=\"OK\",(21600/(2*PI()))*ACOS(SIN($AA78)*SIN(CJ$6)+COS(CJ$6)*COS($AA78)*COS($AB78-CJ$7)),\"-\")","v":{"$error":"#N/A"}},{"$error":"#N/A"},{"$error":"#N/A"},{"$error":"#N/A"},{"$error":"#N/A"},{"$error":"#N/A"},{"$error":"#N/A"},{"$error":"#N/A"},{"$error":"#N/A"},{"$error":"#N/A"},{"$f":"IF(CT$3=\"OK\",(21600/(2*PI()))*ACOS(SIN($AA78)*SIN(CT$6)+COS(CT$6)*COS($AA78)*COS($AB78-CT$7)),\"-\")","v":{"$error":"#N/A"}},{"$error":"#N/A"},{"$error":"#N/A"},{"$error":"#N/A"},{"$error":"#N/A"},{"$error":"#N/A"},{"$error":"#N/A"},{"$error":"#N/A"},{"$error":"#N/A"},{"$error":"#N/A"},{"$error":"#N/A"},{"$error":"#N/A"},{"$error":"#N/A"},{"$error":"#N/A"},{"$error":"#N/A"},{"$error":"#N/A"},{"$error":"#N/A"},{"$error":"#N/A"},{"$error":"#N/A"},{"$error":"#N/A"},{"$error":"#N/A"},{"$error":"#N/A"},{"$error":"#N/A"},{"$error":"#N/A"},{"$error":"#N/A"},{"$error":"#N/A"},{"$error":"#N/A"},{"$error":"#N/A"},{"$error":"#N/A"},{"$error":"#N/A"},{"$error":"#N/A"},{"$error":"#N/A"},{"$error":"#N/A"},{"$error":"#N/A"},{"$error":"#N/A"},{"$error":"#N/A"},{"$error":"#N/A"},{"$error":"#N/A"},{"$error":"#N/A"}]
[null,null,null,null,null,null,null,null,null,null,null,{"$error":"#N/A"},62,{"$f":"VLOOKUP($M79,Funknavigation!$A$2:$AC$185,N$17,FALSE)","v":"Hamburg "},{"$f":"VLOOKUP($M79,Funknavigation!$A$2:$AC$185,O$17,FALSE)","v":"NDB "},{"$f":"VLOOKUP($M79,Funknavigation!$A$2:$AC$185,P$17,FALSE)","v":"HOS"},{"$f":"VLOOKUP($M79,Funknavigation!$A$2:$AC$185,Q$17,FALSE)","v":"· · · ·   − − −   · · ·"},{"$f":"VLOOKUP($M79,Funknavigation!$A$2:$AC$185,R$17,FALSE)","v":62},{"$f":"VLOOKUP($M79,Funknavigation!$A$2:$AC$185,S$17,FALSE)","v":53.676900000000003},{"$f":"VLOOKUP($M79,Funknavigation!$A$2:$AC$185,T$17,FALSE)","v":10.083299999999999},{"$f":"VLOOKUP($M79,Funknavigation!$A$2:$AC$185,U$17,FALSE)","v":""},{"$f":"VLOOKUP($M79,Funknavigation!$A$2:$AC$185,V$17,FALSE)","v":339},{"$f":"VLOOKUP($M79,Funknavigation!$A$2:$AC$185,W$17,FALSE)","v":""},{"$f":"VLOOKUP($M79,Funknavigation!$A$2:$AC$185,X$17,FALSE)","v":25},null,null,0.93683863726374439,0.17598678446634422,{"$f":"IF(AG79=1,MAX(MAX(AC$18:$AC78),MAX($AD$18:$AD$193))+1,\"-\")","v":{"$error":"#N/A"}},{"$f":"IF(AH79=1,MAX($AD$18:AD78)+1,\"-\")","v":{"$error":"#N/A"}},{"$error":"#N/A"},{"$error":"#N/A"},{"$error":"#N/A"},{"$error":"#N/A"},{"$error":"#N/A"},{"$error":"#N/A"},{"$error":"#N/A"},{"$error":"#N/A"},{"$error":"#N/A"},{"$error":"#N/A"},{"$error":"#N/A"},{"$error":"#N/A"},{"$error":"#N/A"},{"$error":"#N/A"},{"$error":"#N/A"},{"$error":"#N/A"},{"$error":"#N/A"},{"$error":"#N/A"},{"$error":"#N/A"},{"$error":"#N/A"},{"$error":"#N/A"},{"$error":"#N/A"},{"$error":"#N/A"},{"$error":"#N/A"},{"$error":"#N/A"},{"$error":"#N/A"},{"$error":"#N/A"},{"$error":"#N/A"},{"$error":"#N/A"},{"$error":"#N/A"},{"$error":"#N/A"},{"$error":"#N/A"},{"$error":"#N/A"},{"$error":"#N/A"},{"$error":"#N/A"},{"$error":"#N/A"},{"$error":"#N/A"},{"$error":"#N/A"},{"$error":"#N/A"},{"$error":"#N/A"},{"$error":"#N/A"},{"$error":"#N/A"},{"$error":"#N/A"},{"$error":"#N/A"},{"$error":"#N/A"},{"$error":"#N/A"},{"$error":"#N/A"},{"$error":"#N/A"},{"$error":"#N/A"},{"$error":"#N/A"},{"$error":"#N/A"},{"$error":"#N/A"},{"$error":"#N/A"},{"$error":"#N/A"},{"$error":"#N/A"},{"$error":"#N/A"},{"$error":"#N/A"},{"$error":"#N/A"},{"$error":"#N/A"},{"$error":"#N/A"},{"$error":"#N/A"},{"$error":"#N/A"},{"$error":"#N/A"},{"$error":"#N/A"},{"$error":"#N/A"},{"$error":"#N/A"},{"$error":"#N/A"},{"$error":"#N/A"},{"$error":"#N/A"},{"$error":"#N/A"},{"$error":"#N/A"},{"$error":"#N/A"},{"$error":"#N/A"},{"$error":"#N/A"},{"$error":"#N/A"},{"$error":"#N/A"},{"$error":"#N/A"},{"$error":"#N/A"},{"$error":"#N/A"},{"$error":"#N/A"},{"$error":"#N/A"},{"$error":"#N/A"},{"$error":"#N/A"},{"$error":"#N/A"},{"$error":"#N/A"},{"$error":"#N/A"},{"$error":"#N/A"},{"$error":"#N/A"},{"$error":"#N/A"},{"$error":"#N/A"},{"$error":"#N/A"},{"$error":"#N/A"},{"$error":"#N/A"},{"$error":"#N/A"},{"$error":"#N/A"},{"$error":"#N/A"},{"$error":"#N/A"},{"$error":"#N/A"},{"$error":"#N/A"},{"$error":"#N/A"},{"$error":"#N/A"},{"$error":"#N/A"},{"$error":"#N/A"},{"$error":"#N/A"},{"$error":"#N/A"},{"$error":"#N/A"}]
[null,null,null,null,null,null,null,null,null,null,null,{"$error":"#N/A"},63,{"$f":"VLOOKUP($M80,Funknavigation!$A$2:$AC$185,N$17,FALSE)","v":"Hamburg"},{"$f":"VLOOKUP($M80,Funknavigation!$A$2:$AC$185,O$17,FALSE)","v":"DVORTAC "},{"$f":"VLOOKUP($M80,Funknavigation!$A$2:$AC$185,P$17,FALSE)","v":"HAM"},{"$f":"VLOOKUP($M80,Funknavigation!$A$2:$AC$185,Q$17,FALSE)","v":"· · · ·   · −   − −"},{"$f":"VLOOKUP($M80,Funknavigation!$A$2:$AC$185,R$17,FALSE)","v":63},{"$f":"VLOOKUP($M80,Funknavigation!$A$2:$AC$185,S$17,FALSE)","v":53.685600000000001},{"$f":"VLOOKUP($M80,Funknavigation!$A$2:$AC$185,T$17,FALSE)","v":10.205},{"$f":"VLOOKUP($M80,Funknavigation!$A$2:$AC$185,U$17,FALSE)","v":"113.10"},{"$f":"VLOOKUP($M80,Funknavigation!$A$2:$AC$185,V$17,FALSE)","v":""},{"$f":"VLOOKUP($M80,Funknavigation!$A$2:$AC$185,W$17,FALSE)","v":"Ch 78x "},{"$f":"VLOOKUP($M80,Funknavigation!$A$2:$AC$185,X$17,FALSE)","v":60},null,null,0.93699048090866788,0.17811085016602132,{"$f":"IF(AG80=1,MAX(MAX(AC$18:$AC79),MAX($AD$18:$AD$193))+1,\"-\")","v":{"$error":"#N/A"}},{"$f":"IF(AH80=1,MAX($AD$18:AD79)+1,\"-\")","v":{"$error":"#N/A"}},{"$error":"#N/A"},{"$error":"#N/A"},{"$error":"#N/A"},{"$error":"#N/A"},{"$error":"#N/A"},{"$error":"#N/A"},{"$error":"#N/A"},{"$error":"#N/A"},{"$error":"#N/A"},{"$error":"#N/A"},{"$error":"#N/A"},{"$error":"#N/A"},{"$error":"#N/A"},{"$error":"#N/A"},{"$error":"#N/A"},{"$error":"#N/A"},{"$error":"#N/A"},{"$error":"#N/A"},{"$error":"#N/A"},{"$error":"#N/A"},{"$error":"#N/A"},{"$error":"#N/A"},{"$error":"#N/A"},{"$error":"#N/A"},{"$error":"#N/A"},{"$error":"#N/A"},{"$error":"#N/A"},{"$error":"#N/A"},{"$error":"#N/A"},{"$error":"#N/A"},{"$error":"#N/A"},{"$error":"#N/A"},{"$error":"#N/A"},{"$error":"#N/A"},{"$error":"#N/A"},{"$error":"#N/A"},{"$error":"#N/A"},{"$error":"#N/A"},{"$error":"#N/A"},{"$error":"#N/A"},{"$error":"#N/A"},{"$error":"#N/A"},{"$error":"#N/A"},{"$error":"#N/A"},{"$error":"#N/A"},{"$error":"#N/A"},{"$error":"#N/A"},{"$error":"#N/A"},{"$error":"#N/A"},{"$error":"#N/A"},{"$error":"#N/A"},{"$error":"#N/A"},{"$error":"#N/A"},{"$error":"#N/A"},{"$error":"#N/A"},{"$error":"#N/A"},{"$error":"#N/A"},{"$error":"#N/A"},{"$error":"#N/A"},{"$error":"#N/A"},{"$error":"#N/A"},{"$error":"#N/A"},{"$error":"#N/A"},{"$error":"#N/A"},{"$error":"#N/A"},{"$error":"#N/A"},{"$error":"#N/A"},{"$error":"#N/A"},{"$error":"#N/A"},{"$error":"#N/A"},{"$error":"#N/A"},{"$error":"#N/A"},{"$error":"#N/A"},{"$error":"#N/A"},{"$error":"#N/A"},{"$error":"#N/A"},{"$error":"#N/A"},{"$error":"#N/A"},{"$error":"#N/A"},{"$error":"#N/A"},{"$error":"#N/A"},{"$error":"#N/A"},{"$error":"#N/A"},{"$error":"#N/A"},{"$error":"#N/A"},{"$error":"#N/A"},{"$error":"#N/A"},{"$error":"#N/A"},{"$error":"#N/A"},{"$error":"#N/A"},{"$error":"#N/A"},{"$error":"#N/A"},{"$error":"#N/A"},{"$error":"#N/A"},{"$error":"#N/A"},{"$error":"#N/A"},{"$error":"#N/A"},{"$error":"#N/A"},{"$error":"#N/A"},{"$error":"#N/A"},{"$error":"#N/A"},{"$error":"#N/A"},{"$error":"#N/A"},{"$error":"#N/A"},{"$error":"#N/A"},{"$error":"#N/A"}]
[null,null,null,null,null,null,null,null,null,null,null,{"$error":"#N/A"},64,{"$f":"VLOOKUP($M81,Funknavigation!$A$2:$AC$185,N$17,FALSE)","v":"Hamburg"},{"$f":"VLOOKUP($M81,Funknavigation!$A$2:$AC$185,O$17,FALSE)","v":"LM "},{"$f":"VLOOKUP($M81,Funknavigation!$A$2:$AC$185,P$17,FALSE)","v":"FU"},{"$f":"VLOOKUP($M81,Funknavigation!$A$2:$AC$185,Q$17,FALSE)","v":"· · − ·   · · −"},{"$f":"VLOOKUP($M81,Funknavigation!$A$2:$AC$185,R$17,FALSE)","v":64},{"$f":"VLOOKUP($M81,Funknavigation!$A$2:$AC$185,S$17,FALSE)","v":53.614699999999999},{"$f":"VLOOKUP($M81,Funknavigation!$A$2:$AC$185,T$17,FALSE)","v":9.9568999999999992},{"$f":"VLOOKUP($M81,Funknavigation!$A$2:$AC$185,U$17,FALSE)","v":""},{"$f":"VLOOKUP($M81,Funknavigation!$A$2:$AC$185,V$17,FALSE)","v":350},{"$f":"VLOOKUP($M81,Funknavigation!$A$2:$AC$185,W$17,FALSE)","v":""},{"$f":"VLOOKUP($M81,Funknavigation!$A$2:$AC$185,X$17,FALSE)","v":15},null,null,0.9357530424690037,0.17378068829182339,{"$f":"IF(AG81=1,MAX(MAX(AC$18:$AC80),MAX($AD$18:$AD$193))+1,\"-\")","v":{"$error":"#N/A"}},{"$f":"IF(AH81=1,MAX($AD$18:AD80)+1,\"-\")","v":{"$error":"#N/A"}},{"$error":"#N/A"},{"$error":"#N/A"},{"$error":"#N/A"},{"$error":"#N/A"},{"$error":"#N/A"},{"$error":"#N/A"},{"$error":"#N/A"},{"$error":"#N/A"},{"$error":"#N/A"},{"$error":"#N/A"},{"$error":"#N/A"},{"$error":"#N/A"},{"$error":"#N/A"},{"$error":"#N/A"},{"$error":"#N/A"},{"$error":"#N/A"},{"$error":"#N/A"},{"$error":"#N/A"},{"$error":"#N/A"},{"$error":"#N/A"},{"$error":"#N/A"},{"$error":"#N/A"},{"$error":"#N/A"},{"$error":"#N/A"},{"$error":"#N/A"},{"$error":"#N/A"},{"$error":"#N/A"},{"$error":"#N/A"},{"$error":"#N/A"},{"$error":"#N/A"},{"$error":"#N/A"},{"$error":"#N/A"},{"$error":"#N/A"},{"$error":"#N/A"},{"$error":"#N/A"},{"$error":"#N/A"},{"$error":"#N/A"},{"$error":"#N/A"},{"$error":"#N/A"},{"$error":"#N/A"},{"$error":"#N/A"},{"$error":"#N/A"},{"$error":"#N/A"},{"$error":"#N/A"},{"$error":"#N/A"},{"$error":"#N/A"},{"$error":"#N/A"},{"$error":"#N/A"},{"$error":"#N/A"},{"$error":"#N/A"},{"$error":"#N/A"},{"$error":"#N/A"},{"$error":"#N/A"},{"$error":"#N/A"},{"$error":"#N/A"},{"$error":"#N/A"},{"$error":"#N/A"},{"$error":"#N/A"},{"$error":"#N/A"},{"$error":"#N/A"},{"$error":"#N/A"},{"$error":"#N/A"},{"$error":"#N/A"},{"$error":"#N/A"},{"$error":"#N/A"},{"$error":"#N/A"},{"$error":"#N/A"},{"$error":"#N/A"},{"$error":"#N/A"},{"$error":"#N/A"},{"$error":"#N/A"},{"$error":"#N/A"},{"$error":"#N/A"},{"$error":"#N/A"},{"$error":"#N/A"},{"$error":"#N/A"},{"$error":"#N/A"},{"$error":"#N/A"},{"$error":"#N/A"},{"$error":"#N/A"},{"$error":"#N/A"},{"$error":"#N/A"},{"$error":"#N/A"},{"$error":"#N/A"},{"$error":"#N/A"},{"$error":"#N/A"},{"$error":"#N/A"},{"$error":"#N/A"},{"$error":"#N/A"},{"$error":"#N/A"},{"$error":"#N/A"},{"$error":"#N/A"},{"$error":"#N/A"},{"$error":"#N/A"},{"$error":"#N/A"},{"$error":"#N/A"},{"$error":"#N/A"},{"$error":"#N/A"},{"$error":"#N/A"},{"$error":"#N/A"},{"$error":"#N/A"},{"$error":"#N/A"},{"$error":"#N/A"},{"$error":"#N/A"},{"$error":"#N/A"},{"$error":"#N/A"}]
[null,null,null,null,null,null,null,null,null,null,null,{"$error":"#N/A"},65,{"$f":"VLOOKUP($M82,Funknavigation!$A$2:$AC$185,N$17,FALSE)","v":"Hamburg"},{"$f":"VLOOKUP($M82,Funknavigation!$A$2:$AC$185,O$17,FALSE)","v":"LO "},{"$f":"VLOOKUP($M82,Funknavigation!$A$2:$AC$185,P$17,FALSE)","v":"GT"},{"$f":"VLOOKUP($M82,Funknavigation!$A$2:$AC$185,Q$17,FALSE)","v":"− − ·   −"},{"$f":"VLOOKUP($M82,Funknavigation!$A$2:$AC$185,R$17,FALSE)","v":65},{"$f":"VLOOKUP($M82,Funknavigation!$A$2:$AC$185,S$17,FALSE)","v":53.714199999999998},{"$f":"VLOOKUP($M82,Funknavigation!$A$2:$AC$185,T$17,FALSE)","v":9.9242000000000008},{"$f":"VLOOKUP($M82,Funknavigation!$A$2:$AC$185,U$17,FALSE)","v":""},{"$f":"VLOOKUP($M82,Funknavigation!$A$2:$AC$185,V$17,FALSE)","v":323},{"$f":"VLOOKUP($M82,Funknavigation!$A$2:$AC$185,W$17,FALSE)","v":""},{"$f":"VLOOKUP($M82,Funknavigation!$A$2:$AC$185,X$17,FALSE)","v":15},null,null,0.93748964507473809,0.17320996562642127,{"$f":"IF(AG82=1,MAX(MAX(AC$18:$AC81),MAX($AD$18:$AD$193))+1,\"-\")","v":{"$error":"#N/A"}},{"$f":"IF(AH82=1,MAX($AD$18:AD81)+1,\"-\")","v":{"$error":"#N/A"}},{"$error":"#N/A"},{"$error":"#N/A"},{"$error":"#N/A"},{"$f":"IF(MIN(AJ82:EF82)<(X82/$AH$16),1,0)","v":{"$error":"#N/A"}},{"$f":"IF(MIN(AJ82:EF82)<X82,1,0)","v":{"$error":"#N/A"}},{"$error":"#N/A"},{"$error":"#N/A"},{"$error":"#N/A"},{"$error":"#N/A"},{"$error":"#N/A"},{"$error":"#N/A"},{"$error":"#N/A"},{"$error":"#N/A"},{"$error":"#N/A"},{"$error":"#N/A"},{"$error":"#N/A"},{"$error":"#N/A"},{"$error":"#N/A"},{"$error":"#N/A"},{"$error":"#N/A"},{"$error":"#N/A"},{"$error":"#N/A"},{"$error":"#N/A"},{"$error":"#N/A"},{"$error":"#N/A"},{"$error":"#N/A"},{"$error":"#N/A"},{"$error":"#N/A"},{"$error":"#N/A"},{"$error":"#N/A"},{"$error":"#N/A"},{"$error":"#N/A"},{"$error":"#N/A"},{"$error":"#N/A"},{"$error":"#N/A"},{"$error":"#N/A"},{"$error":"#N/A"},{"$error":"#N/A"},{"$error":"#N/A"},{"$error":"#N/A"},{"$error":"#N/A"},{"$error":"#N/A"},{"$error":"#N/A"},{"$error":"#N/A"},{"$error":"#N/A"},{"$error":"#N/A"},{"$error":"#N/A"},{"$error":"#N/A"},{"$error":"#N/A"},{"$error":"#N/A"},{"$error":"#N/A"},{"$error":"#N/A"},{"$error":"#N/A"},{"$error":"#N/A"},{"$error":"#N/A"},{"$error":"#N/A"},{"$error":"#N/A"},{"$error":"#N/A"},{"$error":"#N/A"},{"$error":"#N/A"},{"$error":"#N/A"},{"$error":"#N/A"},{"$error":"#N/A"},{"$error":"#N/A"},{"$error":"#N/A"},{"$error":"#N/A"},{"$error":"#N/A"},{"$error":"#N/A"},{"$error":"#N/A"},{"$error":"#N/A"},{"$error":"#N/A"},{"$error":"#N/A"},{"$error":"#N/A"},{"$error":"#N/A"},{"$error":"#N/A"},{"$error":"#N/A"},{"$error":"#N/A"},{"$error":"#N/A"},{"$error":"#N/A"},{"$error":"#N/A"},{"$error":"#N/A"},{"$error":"#N/A"},{"$error":"#N/A"},{"$error":"#N/A"},{"$error":"#N/A"},{"$error":"#N/A"},{"$error":"#N/A"},{"$error":"#N/A"},{"$error":"#N/A"},{"$error":"#N/A"},{"$error":"#N/A"},{"$error":"#N/A"},{"$error":"#N/A"},{"$error":"#N/A"},{"$error":"#N/A"},{"$error":"#N/A"},{"$error":"#N/A"},{"$error":"#N/A"},{"$error":"#N/A"},{"$error":"#N/A"},{"$error":"#N/A"},{"$error":"#N/A"},{"$error":"#N/A"},{"$error":"#N/A"},{"$error":"#N/A"},{"$error":"#N/A"}]
[null,null,null,null,null,null,null,null,null,null,null,{"$f":"MAX(AC83:AD83)","v":{"$error":"#N/A"}},66,{"$f":"VLOOKUP($M83,Funknavigation!$A$2:$AC$185,N$17,FALSE)","v":"Hamburg-Finkenwerder "},{"$f":"VLOOKUP($M83,Funknavigation!$A$2:$AC$185,O$17,FALSE)","v":"DME "},{"$f":"VLOOKUP($M83,Funknavigation!$A$2:$AC$185,P$17,FALSE)","v":"IHFW"},{"$f":"VLOOKUP($M83,Funknavigation!$A$2:$AC$185,Q$17,FALSE)","v":"· ·   · · · ·   · · − ·   · − −"},{"$f":"VLOOKUP($M83,Funknavigation!$A$2:$AC$185,R$17,FALSE)","v":66},{"$f":"VLOOKUP($M83,Funknavigation!$A$2:$AC$185,S$17,FALSE)","v":53.5364},{"$f":"VLOOKUP($M83,Funknavigation!$A$2:$AC$185,T$17,FALSE)","v":9.8407999999999998},{"$f":"VLOOKUP($M83,Funknavigation!$A$2:$AC$185,U$17,FALSE)","v":"108.50"},{"$f":"VLOOKUP($M83,Funknavigation!$A$2:$AC$185,V$17,FALSE)","v":""},{"$f":"VLOOKUP($M83,Funknavigation!$A$2:$AC$185,W$17,FALSE)","v":"Ch 22x (*) "},{"$f":"VLOOKUP($M83,Funknavigation!$A$2:$AC$185,X$17,FALSE)","v":10},null,null,{"$f":"S83*PI()/180","v":0.9343864496646922},{"$f":"T83*PI()/180","v":0.17175436103025798},{"$f":"IF(AG83=1,MAX(MAX(AC$18:$AC82),MAX($AD$18:$AD$193))+1,\"-\")","v":{"$error":"#N/A"}},{"$f":"IF(AH83=1,MAX($AD$18:AD82)+1,\"-\")","v":{"$error":"#N/A"}},{"$f":"IF(AH83=1,AF83,\"-\")","v":{"$error":"#N/A"}},{"$f":"MIN(AJ83:EF83)","v":{"$error":"#N/A"}},{"$f":"IF(AND(AI83=1,AH83<>1),1,0)","v":{"$error":"#N/A"}},{"$error":"#N/A"},{"$error":"#N/A"},{"$f":"(21600/(2*PI()))*ACOS(SIN($AA83)*SIN(AJ$6)+COS(AJ$6)*COS($AA83)*COS($AB83-AJ$7))","v":{"$error":"#N/A"}},{"$f":"(21600/(2*PI()))*ACOS(SIN($AA83)*SIN(AK$6)+COS(AK$6)*COS($AA83)*COS($AB83-AK$7))","v":{"$error":"#N/A"}},{"$error":"#N/A"},{"$error":"#N/A"},{"$error":"#N/A"},{"$error":"#N/A"},{"$error":"#N/A"},{"$error":"#N/A"},{"$error":"#N/A"},{"$error":"#N/A"},{"$error":"#N/A"},{"$error":"#N/A"},{"$error":"#N/A"},{"$error":"#N/A"},{"$error":"#N/A"},{"$error":"#N/A"},{"$error":"#N/A"},{"$error":"#N/A"},{"$error":"#N/A"},{"$error":"#N/A"},{"$error":"#N/A"},{"$error":"#N/A"},{"$error":"#N/A"},{"$error":"#N/A"},{"$error":"#N/A"},{"$error":"#N/A"},{"$error":"#N/A"},{"$error":"#N/A"},{"$error":"#N/A"},{"$error":"#N/A"},{"$error":"#N/A"},{"$error":"#N/A"},{"$error":"#N/A"},{"$error":"#N/A"},{"$error":"#N/A"},{"$error":"#N/A"},{"$error":"#N/A"},{"$error":"#N/A"},{"$error":"#N/A"},{"$error":"#N/A"},{"$error":"#N/A"},{"$error":"#N/A"},{"$error":"#N/A"},{"$error":"#N/A"},{"$error":"#N/A"},{"$error":"#N/A"},{"$error":"#N/A"},{"$error":"#N/A"},{"$error":"#N/A"},{"$error":"#N/A"},{"$error":"#N/A"},{"$error":"#N/A"},{"$error":"#N/A"},{"$error":"#N/A"},{"$error":"#N/A"},{"$error":"#N/A"},{"$error":"#N/A"},{"$error":"#N/A"},{"$error":"#N/A"},{"$error":"#N/A"},{"$error":"#N/A"},{"$error":"#N/A"},{"$error":"#N/A"},{"$error":"#N/A"},{"$error":"#N/A"},{"$error":"#N/A"},{"$error":"#N/A"},{"$error":"#N/A"},{"$error":"#N/A"},{"$error":"#N/A"},{"$error":"#N/A"},{"$error":"#N/A"},{"$error":"#N/A"},{"$error":"#N/A"},{"$error":"#N/A"},{"$error":"#N/A"},{"$error":"#N/A"},{"$error":"#N/A"},{"$error":"#N/A"},{"$error":"#N/A"},{"$error":"#N/A"},{"$error":"#N/A"},{"$error":"#N/A"},{"$error":"#N/A"},{"$error":"#N/A"},{"$error":"#N/A"},{"$error":"#N/A"},{"$error":"#N/A"},{"$error":"#N/A"},{"$error":"#N/A"},{"$error":"#N/A"},{"$error":"#N/A"},{"$error":"#N/A"},{"$error":"#N/A"},{"$error":"#N/A"},{"$f":"IF(EA$3=\"OK\",(21600/(2*PI()))*ACOS(SIN($AA83)*SIN(EA$6)+COS(EA$6)*COS($AA83)*COS($AB83-EA$7)),\"-\")","v":{"$error":"#N/A"}},{"$error":"#N/A"},{"$error":"#N/A"},{"$error":"#N/A"},{"$error":"#N/A"},{"$error":"#N/A"}]
[null,null,null,null,null,null,null,null,null,null,null,{"$error":"#N/A"},67,{"$f":"VLOOKUP($M84,Funknavigation!$A$2:$AC$185,N$17,FALSE)","v":"Hamm "},{"$f":"VLOOKUP($M84,Funknavigation!$A$2:$AC$185,O$17,FALSE)","v":"DVOR/DME "},{"$f":"VLOOKUP($M84,Funknavigation!$A$2:$AC$185,P$17,FALSE)","v":"HMM"},{"$f":"VLOOKUP($M84,Funknavigation!$A$2:$AC$185,Q$17,FALSE)","v":"· · · ·   − −   − −"},{"$f":"VLOOKUP($M84,Funknavigation!$A$2:$AC$185,R$17,FALSE)","v":67},{"$f":"VLOOKUP($M84,Funknavigation!$A$2:$AC$185,S$17,FALSE)","v":51.856900000000003},{"$f":"VLOOKUP($M84,Funknavigation!$A$2:$AC$185,T$17,FALSE)","v":7.7083000000000004},{"$f":"VLOOKUP($M84,Funknavigation!$A$2:$AC$185,U$17,FALSE)","v":"115.65"},{"$f":"VLOOKUP($M84,Funknavigation!$A$2:$AC$185,V$17,FALSE)","v":""},{"$f":"VLOOKUP($M84,Funknavigation!$A$2:$AC$185,W$17,FALSE)","v":"Ch 103y "},{"$f":"VLOOKUP($M84,Funknavigation!$A$2:$AC$185,X$17,FALSE)","v":40},null,null,0.90507364487744757,0.13453521473147889,{"$f":"IF(AG84=1,MAX(MAX(AC$18:$AC83),MAX($AD$18:$AD$193))+1,\"-\")","v":{"$error":"#N/A"}},{"$f":"IF(AH84=1,MAX($AD$18:AD83)+1,\"-\")","v":{"$error":"#N/A"}},{"$error":"#N/A"},{"$error":"#N/A"},{"$error":"#N/A"},{"$error":"#N/A"},{"$error":"#N/A"},{"$error":"#N/A"},{"$error":"#N/A"},{"$error":"#N/A"},{"$error":"#N/A"},{"$error":"#N/A"},{"$error":"#N/A"},{"$error":"#N/A"},{"$error":"#N/A"},{"$error":"#N/A"},{"$error":"#N/A"},{"$error":"#N/A"},{"$error":"#N/A"},{"$error":"#N/A"},{"$error":"#N/A"},{"$error":"#N/A"},{"$error":"#N/A"},{"$error":"#N/A"},{"$error":"#N/A"},{"$error":"#N/A"},{"$error":"#N/A"},{"$error":"#N/A"},{"$error":"#N/A"},{"$error":"#N/A"},{"$error":"#N/A"},{"$error":"#N/A"},{"$error":"#N/A"},{"$error":"#N/A"},{"$error":"#N/A"},{"$error":"#N/A"},{"$error":"#N/A"},{"$error":"#N/A"},{"$error":"#N/A"},{"$error":"#N/A"},{"$error":"#N/A"},{"$error":"#N/A"},{"$error":"#N/A"},{"$error":"#N/A"},{"$error":"#N/A"},{"$error":"#N/A"},{"$error":"#N/A"},{"$error":"#N/A"},{"$error":"#N/A"},{"$error":"#N/A"},{"$error":"#N/A"},{"$error":"#N/A"},{"$error":"#N/A"},{"$error":"#N/A"},{"$error":"#N/A"},{"$error":"#N/A"},{"$error":"#N/A"},{"$error":"#N/A"},{"$error":"#N/A"},{"$error":"#N/A"},{"$error":"#N/A"},{"$error":"#N/A"},{"$error":"#N/A"},{"$error":"#N/A"},{"$error":"#N/A"},{"$error":"#N/A"},{"$error":"#N/A"},{"$error":"#N/A"},{"$error":"#N/A"},{"$error":"#N/A"},{"$error":"#N/A"},{"$error":"#N/A"},{"$error":"#N/A"},{"$error":"#N/A"},{"$error":"#N/A"},{"$error":"#N/A"},{"$error":"#N/A"},{"$error":"#N/A"},{"$error":"#N/A"},{"$error":"#N/A"},{"$error":"#N/A"},{"$error":"#N/A"},{"$error":"#N/A"},{"$error":"#N/A"},{"$error":"#N/A"},{"$error":"#N/A"},{"$error":"#N/A"},{"$error":"#N/A"},{"$error":"#N/A"},{"$error":"#N/A"},{"$error":"#N/A"},{"$error":"#N/A"},{"$error":"#N/A"},{"$error":"#N/A"},{"$error":"#N/A"},{"$error":"#N/A"},{"$error":"#N/A"},{"$error":"#N/A"},{"$error":"#N/A"},{"$error":"#N/A"},{"$error":"#N/A"},{"$error":"#N/A"},{"$error":"#N/A"},{"$error":"#N/A"},{"$error":"#N/A"},{"$error":"#N/A"},{"$error":"#N/A"},{"$error":"#N/A"}]
[null,null,null,null,null,null,null,null,null,null,null,{"$error":"#N/A"},68,{"$f":"VLOOKUP($M85,Funknavigation!$A$2:$AC$185,N$17,FALSE)","v":"Hannover "},{"$f":"VLOOKUP($M85,Funknavigation!$A$2:$AC$185,O$17,FALSE)","v":"DME "},{"$f":"VLOOKUP($M85,Funknavigation!$A$2:$AC$185,P$17,FALSE)","v":"HAD"},{"$f":"VLOOKUP($M85,Funknavigation!$A$2:$AC$185,Q$17,FALSE)","v":"· · · ·   · −   − · ·"},{"$f":"VLOOKUP($M85,Funknavigation!$A$2:$AC$185,R$17,FALSE)","v":68},{"$f":"VLOOKUP($M85,Funknavigation!$A$2:$AC$185,S$17,FALSE)","v":52.468899999999998},{"$f":"VLOOKUP($M85,Funknavigation!$A$2:$AC$185,T$17,FALSE)","v":9.6956000000000007},{"$f":"VLOOKUP($M85,Funknavigation!$A$2:$AC$185,U$17,FALSE)","v":"113.95"},{"$f":"VLOOKUP($M85,Funknavigation!$A$2:$AC$185,V$17,FALSE)","v":""},{"$f":"VLOOKUP($M85,Funknavigation!$A$2:$AC$185,W$17,FALSE)","v":"Ch 86y (*) "},{"$f":"VLOOKUP($M85,Funknavigation!$A$2:$AC$185,X$17,FALSE)","v":25},null,null,0.91575505989965267,0.1692201429563622,{"$f":"IF(AG85=1,MAX(MAX(AC$18:$AC84),MAX($AD$18:$AD$193))+1,\"-\")","v":{"$error":"#N/A"}},{"$f":"IF(AH85=1,MAX($AD$18:AD84)+1,\"-\")","v":{"$error":"#N/A"}},{"$error":"#N/A"},{"$error":"#N/A"},{"$error":"#N/A"},{"$error":"#N/A"},{"$error":"#N/A"},{"$error":"#N/A"},{"$error":"#N/A"},{"$error":"#N/A"},{"$error":"#N/A"},{"$error":"#N/A"},{"$error":"#N/A"},{"$error":"#N/A"},{"$error":"#N/A"},{"$error":"#N/A"},{"$error":"#N/A"},{"$error":"#N/A"},{"$error":"#N/A"},{"$error":"#N/A"},{"$error":"#N/A"},{"$error":"#N/A"},{"$error":"#N/A"},{"$error":"#N/A"},{"$error":"#N/A"},{"$error":"#N/A"},{"$error":"#N/A"},{"$error":"#N/A"},{"$error":"#N/A"},{"$error":"#N/A"},{"$error":"#N/A"},{"$error":"#N/A"},{"$error":"#N/A"},{"$error":"#N/A"},{"$error":"#N/A"},{"$error":"#N/A"},{"$error":"#N/A"},{"$error":"#N/A"},{"$error":"#N/A"},{"$error":"#N/A"},{"$error":"#N/A"},{"$error":"#N/A"},{"$error":"#N/A"},{"$error":"#N/A"},{"$error":"#N/A"},{"$error":"#N/A"},{"$error":"#N/A"},{"$error":"#N/A"},{"$error":"#N/A"},{"$error":"#N/A"},{"$error":"#N/A"},{"$error":"#N/A"},{"$error":"#N/A"},{"$error":"#N/A"},{"$error":"#N/A"},{"$error":"#N/A"},{"$error":"#N/A"},{"$error":"#N/A"},{"$error":"#N/A"},{"$error":"#N/A"},{"$error":"#N/A"},{"$error":"#N/A"},{"$error":"#N/A"},{"$error":"#N/A"},{"$error":"#N/A"},{"$error":"#N/A"},{"$error":"#N/A"},{"$error":"#N/A"},{"$error":"#N/A"},{"$error":"#N/A"},{"$error":"#N/A"},{"$error":"#N/A"},{"$error":"#N/A"},{"$error":"#N/A"},{"$error":"#N/A"},{"$error":"#N/A"},{"$error":"#N/A"},{"$error":"#N/A"},{"$error":"#N/A"},{"$error":"#N/A"},{"$error":"#N/A"},{"$error":"#N/A"},{"$error":"#N/A"},{"$error":"#N/A"},{"$error":"#N/A"},{"$error":"#N/A"},{"$error":"#N/A"},{"$error":"#N/A"},{"$error":"#N/A"},{"$error":"#N/A"},{"$error":"#N/A"},{"$error":"#N/A"},{"$error":"#N/A"},{"$error":"#N/A"},{"$error":"#N/A"},{"$error":"#N/A"},{"$error":"#N/A"},{"$error":"#N/A"},{"$error":"#N/A"},{"$error":"#N/A"},{"$error":"#N/A"},{"$error":"#N/A"},{"$error":"#N/A"},{"$error":"#N/A"},{"$error":"#N/A"},{"$error":"#N/A"},{"$error":"#N/A"},{"$error":"#N/A"}]
[null,null,null,null,null,null,null,null,null,null,null,{"$error":"#N/A"},69,{"$f":"VLOOKUP($M86,Funknavigation!$A$2:$AC$185,N$17,FALSE)","v":"Hannover"},{"$f":"VLOOKUP($M86,Funknavigation!$A$2:$AC$185,O$17,FALSE)","v":"DME "},{"$f":"VLOOKUP($M86,Funknavigation!$A$2:$AC$185,P$17,FALSE)","v":"HBD"},{"$f":"VLOOKUP($M86,Funknavigation!$A$2:$AC$185,Q$17,FALSE)","v":"· · · ·   − · · ·   − · ·"},{"$f":"VLOOKUP($M86,Funknavigation!$A$2:$AC$185,R$17,FALSE)","v":69},{"$f":"VLOOKUP($M86,Funknavigation!$A$2:$AC$185,S$17,FALSE)","v":52.455300000000001},{"$f":"VLOOKUP($M86,Funknavigation!$A$2:$AC$185,T$17,FALSE)","v":9.6592000000000002},{"$f":"VLOOKUP($M86,Funknavigation!$A$2:$AC$185,U$17,FALSE)","v":"116.90"},{"$f":"VLOOKUP($M86,Funknavigation!$A$2:$AC$185,V$17,FALSE)","v":""},{"$f":"VLOOKUP($M86,Funknavigation!$A$2:$AC$185,W$17,FALSE)","v":"Ch 116x (*) "},{"$f":"VLOOKUP($M86,Funknavigation!$A$2:$AC$185,X$17,FALSE)","v":25},null,null,0.91551769512138148,0.16858484310863628,{"$f":"IF(AG86=1,MAX(MAX(AC$18:$AC85),MAX($AD$18:$AD$193))+1,\"-\")","v":{"$error":"#N/A"}},{"$f":"IF(AH86=1,MAX($AD$18:AD85)+1,\"-\")","v":{"$error":"#N/A"}},{"$error":"#N/A"},{"$error":"#N/A"},{"$error":"#N/A"},{"$error":"#N/A"},{"$error":"#N/A"},{"$error":"#N/A"},{"$error":"#N/A"},{"$error":"#N/A"},{"$error":"#N/A"},{"$error":"#N/A"},{"$error":"#N/A"},{"$error":"#N/A"},{"$error":"#N/A"},{"$error":"#N/A"},{"$error":"#N/A"},{"$error":"#N/A"},{"$error":"#N/A"},{"$error":"#N/A"},{"$error":"#N/A"},{"$error":"#N/A"},{"$error":"#N/A"},{"$error":"#N/A"},{"$error":"#N/A"},{"$error":"#N/A"},{"$error":"#N/A"},{"$error":"#N/A"},{"$error":"#N/A"},{"$error":"#N/A"},{"$error":"#N/A"},{"$error":"#N/A"},{"$error":"#N/A"},{"$error":"#N/A"},{"$error":"#N/A"},{"$error":"#N/A"},{"$error":"#N/A"},{"$error":"#N/A"},{"$error":"#N/A"},{"$error":"#N/A"},{"$error":"#N/A"},{"$error":"#N/A"},{"$error":"#N/A"},{"$error":"#N/A"},{"$error":"#N/A"},{"$error":"#N/A"},{"$error":"#N/A"},{"$error":"#N/A"},{"$error":"#N/A"},{"$error":"#N/A"},{"$error":"#N/A"},{"$error":"#N/A"},{"$error":"#N/A"},{"$error":"#N/A"},{"$error":"#N/A"},{"$error":"#N/A"},{"$error":"#N/A"},{"$error":"#N/A"},{"$error":"#N/A"},{"$error":"#N/A"},{"$error":"#N/A"},{"$error":"#N/A"},{"$error":"#N/A"},{"$error":"#N/A"},{"$error":"#N/A"},{"$error":"#N/A"},{"$error":"#N/A"},{"$error":"#N/A"},{"$error":"#N/A"},{"$error":"#N/A"},{"$error":"#N/A"},{"$error":"#N/A"},{"$error":"#N/A"},{"$error":"#N/A"},{"$error":"#N/A"},{"$error":"#N/A"},{"$error":"#N/A"},{"$error":"#N/A"},{"$error":"#N/A"},{"$error":"#N/A"},{"$error":"#N/A"},{"$error":"#N/A"},{"$error":"#N/A"},{"$error":"#N/A"},{"$error":"#N/A"},{"$error":"#N/A"},{"$error":"#N/A"},{"$error":"#N/A"},{"$error":"#N/A"},{"$error":"#N/A"},{"$error":"#N/A"},{"$error":"#N/A"},{"$error":"#N/A"},{"$error":"#N/A"},{"$error":"#N/A"},{"$error":"#N/A"},{"$error":"#N/A"},{"$error":"#N/A"},{"$error":"#N/A"},{"$error":"#N/A"},{"$error":"#N/A"},{"$error":"#N/A"},{"$error":"#N/A"},{"$error":"#N/A"},{"$error":"#N/A"},{"$error":"#N/A"},{"$error":"#N/A"},{"$error":"#N/A"}]
[null,null,null,null,null,null,null,null,null,null,null,{"$error":"#N/A"},70,{"$f":"VLOOKUP($M87,Funknavigation!$A$2:$AC$185,N$17,FALSE)","v":"Hannover"},{"$f":"VLOOKUP($M87,Funknavigation!$A$2:$AC$185,O$17,FALSE)","v":"LO"},{"$f":"VLOOKUP($M87,Funknavigation!$A$2:$AC$185,P$17,FALSE)","v":"HA"},{"$f":"VLOOKUP($M87,Funknavigation!$A$2:$AC$185,Q$17,FALSE)","v":"· · · ·   · −"},{"$f":"VLOOKUP($M87,Funknavigation!$A$2:$AC$185,R$17,FALSE)","v":70},{"$f":"VLOOKUP($M87,Funknavigation!$A$2:$AC$185,S$17,FALSE)","v":52.464199999999998},{"$f":"VLOOKUP($M87,Funknavigation!$A$2:$AC$185,T$17,FALSE)","v":9.8049999999999997},{"$f":"VLOOKUP($M87,Funknavigation!$A$2:$AC$185,U$17,FALSE)","v":""},{"$f":"VLOOKUP($M87,Funknavigation!$A$2:$AC$185,V$17,FALSE)","v":320},{"$f":"VLOOKUP($M87,Funknavigation!$A$2:$AC$185,W$17,FALSE)","v":""},{"$f":"VLOOKUP($M87,Funknavigation!$A$2:$AC$185,X$17,FALSE)","v":15},null,null,0.9156730294248091,0.17112953315804402,{"$f":"IF(AG87=1,MAX(MAX(AC$18:$AC86),MAX($AD$18:$AD$193))+1,\"-\")","v":{"$error":"#N/A"}},{"$f":"IF(AH87=1,MAX($AD$18:AD86)+1,\"-\")","v":{"$error":"#N/A"}},{"$error":"#N/A"},{"$error":"#N/A"},{"$error":"#N/A"},{"$error":"#N/A"},{"$error":"#N/A"},{"$error":"#N/A"},{"$error":"#N/A"},{"$error":"#N/A"},{"$error":"#N/A"},{"$error":"#N/A"},{"$error":"#N/A"},{"$error":"#N/A"},{"$error":"#N/A"},{"$error":"#N/A"},{"$error":"#N/A"},{"$error":"#N/A"},{"$error":"#N/A"},{"$error":"#N/A"},{"$error":"#N/A"},{"$error":"#N/A"},{"$error":"#N/A"},{"$error":"#N/A"},{"$error":"#N/A"},{"$error":"#N/A"},{"$error":"#N/A"},{"$error":"#N/A"},{"$error":"#N/A"},{"$error":"#N/A"},{"$error":"#N/A"},{"$error":"#N/A"},{"$error":"#N/A"},{"$error":"#N/A"},{"$error":"#N/A"},{"$error":"#N/A"},{"$error":"#N/A"},{"$error":"#N/A"},{"$error":"#N/A"},{"$error":"#N/A"},{"$error":"#N/A"},{"$error":"#N/A"},{"$error":"#N/A"},{"$error":"#N/A"},{"$error":"#N/A"},{"$error":"#N/A"},{"$error":"#N/A"},{"$error":"#N/A"},{"$error":"#N/A"},{"$error":"#N/A"},{"$error":"#N/A"},{"$error":"#N/A"},{"$error":"#N/A"},{"$error":"#N/A"},{"$error":"#N/A"},{"$error":"#N/A"},{"$error":"#N/A"},{"$error":"#N/A"},{"$error":"#N/A"},{"$error":"#N/A"},{"$error":"#N/A"},{"$error":"#N/A"},{"$error":"#N/A"},{"$error":"#N/A"},{"$error":"#N/A"},{"$error":"#N/A"},{"$error":"#N/A"},{"$error":"#N/A"},{"$error":"#N/A"},{"$error":"#N/A"},{"$error":"#N/A"},{"$error":"#N/A"},{"$error":"#N/A"},{"$error":"#N/A"},{"$error":"#N/A"},{"$error":"#N/A"},{"$error":"#N/A"},{"$error":"#N/A"},{"$error":"#N/A"},{"$error":"#N/A"},{"$error":"#N/A"},{"$error":"#N/A"},{"$error":"#N/A"},{"$error":"#N/A"},{"$error":"#N/A"},{"$error":"#N/A"},{"$error":"#N/A"},{"$error":"#N/A"},{"$error":"#N/A"},{"$error":"#N/A"},{"$error":"#N/A"},{"$error":"#N/A"},{"$error":"#N/A"},{"$error":"#N/A"},{"$error":"#N/A"},{"$error":"#N/A"},{"$error":"#N/A"},{"$error":"#N/A"},{"$error":"#N/A"},{"$error":"#N/A"},{"$error":"#N/A"},{"$error":"#N/A"},{"$error":"#N/A"},{"$error":"#N/A"},{"$error":"#N/A"},{"$error":"#N/A"},{"$error":"#N/A"},{"$error":"#N/A"}]
[null,null,null,null,null,null,null,null,null,null,null,{"$error":"#N/A"},71,{"$f":"VLOOKUP($M88,Funknavigation!$A$2:$AC$185,N$17,FALSE)","v":"Hannover"},{"$f":"VLOOKUP($M88,Funknavigation!$A$2:$AC$185,O$17,FALSE)","v":"LO "},{"$f":"VLOOKUP($M88,Funknavigation!$A$2:$AC$185,P$17,FALSE)","v":"HW"},{"$f":"VLOOKUP($M88,Funknavigation!$A$2:$AC$185,Q$17,FALSE)","v":"· · · ·   · − −"},{"$f":"VLOOKUP($M88,Funknavigation!$A$2:$AC$185,R$17,FALSE)","v":71},{"$f":"VLOOKUP($M88,Funknavigation!$A$2:$AC$185,S$17,FALSE)","v":52.468600000000002},{"$f":"VLOOKUP($M88,Funknavigation!$A$2:$AC$185,T$17,FALSE)","v":9.5464000000000002},{"$f":"VLOOKUP($M88,Funknavigation!$A$2:$AC$185,U$17,FALSE)","v":""},{"$f":"VLOOKUP($M88,Funknavigation!$A$2:$AC$185,V$17,FALSE)","v":358},{"$f":"VLOOKUP($M88,Funknavigation!$A$2:$AC$185,W$17,FALSE)","v":""},{"$f":"VLOOKUP($M88,Funknavigation!$A$2:$AC$185,X$17,FALSE)","v":15},null,null,0.91574982391189685,0.16661611171238669,{"$f":"IF(AG88=1,MAX(MAX(AC$18:$AC87),MAX($AD$18:$AD$193))+1,\"-\")","v":{"$error":"#N/A"}},{"$f":"IF(AH88=1,MAX($AD$18:AD87)+1,\"-\")","v":{"$error":"#N/A"}},{"$error":"#N/A"},{"$error":"#N/A"},{"$error":"#N/A"},{"$error":"#N/A"},{"$error":"#N/A"},{"$error":"#N/A"},{"$error":"#N/A"},{"$f":"IF(AL$3=\"OK\",(21600/(2*PI()))*ACOS(SIN($AA88)*SIN(AL$6)+COS(AL$6)*COS($AA88)*COS($AB88-AL$7)),\"-\")","v":{"$error":"#N/A"}},{"$error":"#N/A"},{"$error":"#N/A"},{"$error":"#N/A"},{"$error":"#N/A"},{"$error":"#N/A"},{"$error":"#N/A"},{"$error":"#N/A"},{"$error":"#N/A"},{"$error":"#N/A"},{"$f":"IF(AV$3=\"OK\",(21600/(2*PI()))*ACOS(SIN($AA88)*SIN(AV$6)+COS(AV$6)*COS($AA88)*COS($AB88-AV$7)),\"-\")","v":{"$error":"#N/A"}},{"$error":"#N/A"},{"$error":"#N/A"},{"$error":"#N/A"},{"$error":"#N/A"},{"$error":"#N/A"},{"$error":"#N/A"},{"$error":"#N/A"},{"$error":"#N/A"},{"$error":"#N/A"},{"$f":"IF(BF$3=\"OK\",(21600/(2*PI()))*ACOS(SIN($AA88)*SIN(BF$6)+COS(BF$6)*COS($AA88)*COS($AB88-BF$7)),\"-\")","v":{"$error":"#N/A"}},{"$error":"#N/A"},{"$error":"#N/A"},{"$error":"#N/A"},{"$error":"#N/A"},{"$error":"#N/A"},{"$error":"#N/A"},{"$error":"#N/A"},{"$error":"#N/A"},{"$error":"#N/A"},{"$f":"IF(BP$3=\"OK\",(21600/(2*PI()))*ACOS(SIN($AA88)*SIN(BP$6)+COS(BP$6)*COS($AA88)*COS($AB88-BP$7)),\"-\")","v":{"$error":"#N/A"}},{"$error":"#N/A"},{"$error":"#N/A"},{"$error":"#N/A"},{"$error":"#N/A"},{"$error":"#N/A"},{"$error":"#N/A"},{"$error":"#N/A"},{"$error":"#N/A"},{"$error":"#N/A"},{"$f":"IF(BZ$3=\"OK\",(21600/(2*PI()))*ACOS(SIN($AA88)*SIN(BZ$6)+COS(BZ$6)*COS($AA88)*COS($AB88-BZ$7)),\"-\")","v":{"$error":"#N/A"}},{"$error":"#N/A"},{"$error":"#N/A"},{"$error":"#N/A"},{"$error":"#N/A"},{"$error":"#N/A"},{"$error":"#N/A"},{"$error":"#N/A"},{"$error":"#N/A"},{"$error":"#N/A"},{"$f":"IF(CJ$3=\"OK\",(21600/(2*PI()))*ACOS(SIN($AA88)*SIN(CJ$6)+COS(CJ$6)*COS($AA88)*COS($AB88-CJ$7)),\"-\")","v":{"$error":"#N/A"}},{"$error":"#N/A"},{"$error":"#N/A"},{"$error":"#N/A"},{"$error":"#N/A"},{"$error":"#N/A"},{"$error":"#N/A"},{"$error":"#N/A"},{"$error":"#N/A"},{"$error":"#N/A"},{"$f":"IF(CT$3=\"OK\",(21600/(2*PI()))*ACOS(SIN($AA88)*SIN(CT$6)+COS(CT$6)*COS($AA88)*COS($AB88-CT$7)),\"-\")","v":{"$error":"#N/A"}},{"$error":"#N/A"},{"$error":"#N/A"},{"$error":"#N/A"},{"$error":"#N/A"},{"$error":"#N/A"},{"$error":"#N/A"},{"$error":"#N/A"},{"$error":"#N/A"},{"$error":"#N/A"},{"$error":"#N/A"},{"$error":"#N/A"},{"$error":"#N/A"},{"$error":"#N/A"},{"$error":"#N/A"},{"$error":"#N/A"},{"$error":"#N/A"},{"$error":"#N/A"},{"$error":"#N/A"},{"$error":"#N/A"},{"$error":"#N/A"},{"$error":"#N/A"},{"$error":"#N/A"},{"$error":"#N/A"},{"$error":"#N/A"},{"$error":"#N/A"},{"$error":"#N/A"},{"$error":"#N/A"},{"$error":"#N/A"},{"$error":"#N/A"},{"$error":"#N/A"},{"$error":"#N/A"},{"$error":"#N/A"},{"$error":"#N/A"},{"$error":"#N/A"},{"$error":"#N/A"},{"$error":"#N/A"},{"$error":"#N/A"},{"$error":"#N/A"}]
[null,null,null,null,null,null,null,null,null,null,null,{"$error":"#N/A"},72,{"$f":"VLOOKUP($M89,Funknavigation!$A$2:$AC$185,N$17,FALSE)","v":"Hehlingen "},{"$f":"VLOOKUP($M89,Funknavigation!$A$2:$AC$185,O$17,FALSE)","v":"DVOR/DME "},{"$f":"VLOOKUP($M89,Funknavigation!$A$2:$AC$185,P$17,FALSE)","v":"HLZ"},{"$f":"VLOOKUP($M89,Funknavigation!$A$2:$AC$185,Q$17,FALSE)","v":"· · · ·   · − · ·   − − · ·"},{"$f":"VLOOKUP($M89,Funknavigation!$A$2:$AC$185,R$17,FALSE)","v":72},{"$f":"VLOOKUP($M89,Funknavigation!$A$2:$AC$185,S$17,FALSE)","v":52.363300000000002},{"$f":"VLOOKUP($M89,Funknavigation!$A$2:$AC$185,T$17,FALSE)","v":10.795299999999999},{"$f":"VLOOKUP($M89,Funknavigation!$A$2:$AC$185,U$17,FALSE)","v":"117.30"},{"$f":"VLOOKUP($M89,Funknavigation!$A$2:$AC$185,V$17,FALSE)","v":""},{"$f":"VLOOKUP($M89,Funknavigation!$A$2:$AC$185,W$17,FALSE)","v":"Ch 120x "},{"$f":"VLOOKUP($M89,Funknavigation!$A$2:$AC$185,X$17,FALSE)","v":80},null,null,0.91391199220954689,0.18841352874054382,{"$f":"IF(AG89=1,MAX(MAX(AC$18:$AC88),MAX($AD$18:$AD$193))+1,\"-\")","v":{"$error":"#N/A"}},{"$f":"IF(AH89=1,MAX($AD$18:AD88)+1,\"-\")","v":{"$error":"#N/A"}},{"$error":"#N/A"},{"$error":"#N/A"},{"$error":"#N/A"},{"$error":"#N/A"},{"$error":"#N/A"},{"$error":"#N/A"},{"$error":"#N/A"},{"$error":"#N/A"},{"$error":"#N/A"},{"$error":"#N/A"},{"$error":"#N/A"},{"$error":"#N/A"},{"$error":"#N/A"},{"$error":"#N/A"},{"$error":"#N/A"},{"$error":"#N/A"},{"$error":"#N/A"},{"$error":"#N/A"},{"$error":"#N/A"},{"$error":"#N/A"},{"$error":"#N/A"},{"$error":"#N/A"},{"$error":"#N/A"},{"$error":"#N/A"},{"$error":"#N/A"},{"$error":"#N/A"},{"$error":"#N/A"},{"$error":"#N/A"},{"$error":"#N/A"},{"$error":"#N/A"},{"$error":"#N/A"},{"$error":"#N/A"},{"$error":"#N/A"},{"$error":"#N/A"},{"$error":"#N/A"},{"$error":"#N/A"},{"$error":"#N/A"},{"$error":"#N/A"},{"$error":"#N/A"},{"$error":"#N/A"},{"$error":"#N/A"},{"$error":"#N/A"},{"$error":"#N/A"},{"$error":"#N/A"},{"$error":"#N/A"},{"$error":"#N/A"},{"$error":"#N/A"},{"$error":"#N/A"},{"$error":"#N/A"},{"$error":"#N/A"},{"$error":"#N/A"},{"$error":"#N/A"},{"$error":"#N/A"},{"$error":"#N/A"},{"$error":"#N/A"},{"$error":"#N/A"},{"$error":"#N/A"},{"$error":"#N/A"},{"$error":"#N/A"},{"$error":"#N/A"},{"$error":"#N/A"},{"$error":"#N/A"},{"$error":"#N/A"},{"$error":"#N/A"},{"$error":"#N/A"},{"$error":"#N/A"},{"$error":"#N/A"},{"$error":"#N/A"},{"$error":"#N/A"},{"$error":"#N/A"},{"$error":"#N/A"},{"$error":"#N/A"},{"$error":"#N/A"},{"$error":"#N/A"},{"$error":"#N/A"},{"$error":"#N/A"},{"$error":"#N/A"},{"$error":"#N/A"},{"$error":"#N/A"},{"$error":"#N/A"},{"$error":"#N/A"},{"$error":"#N/A"},{"$error":"#N/A"},{"$error":"#N/A"},{"$error":"#N/A"},{"$error":"#N/A"},{"$error":"#N/A"},{"$error":"#N/A"},{"$error":"#N/A"},{"$error":"#N/A"},{"$error":"#N/A"},{"$error":"#N/A"},{"$error":"#N/A"},{"$error":"#N/A"},{"$error":"#N/A"},{"$error":"#N/A"},{"$error":"#N/A"},{"$error":"#N/A"},{"$error":"#N/A"},{"$error":"#N/A"},{"$error":"#N/A"},{"$error":"#N/A"},{"$error":"#N/A"},{"$error":"#N/A"},{"$error":"#N/A"},{"$error":"#N/A"}]
[null,null,null,null,null,null,null,null,null,null,null,{"$error":"#N/A"},73,{"$f":"VLOOKUP($M90,Funknavigation!$A$2:$AC$185,N$17,FALSE)","v":"Helgoland "},{"$f":"VLOOKUP($M90,Funknavigation!$A$2:$AC$185,O$17,FALSE)","v":"VOR/DME "},{"$f":"VLOOKUP($M90,Funknavigation!$A$2:$AC$185,P$17,FALSE)","v":"DHE"},{"$f":"VLOOKUP($M90,Funknavigation!$A$2:$AC$185,Q$17,FALSE)","v":"− · ·   · · · ·   ·"},{"$f":"VLOOKUP($M90,Funknavigation!$A$2:$AC$185,R$17,FALSE)","v":73},{"$f":"VLOOKUP($M90,Funknavigation!$A$2:$AC$185,S$17,FALSE)","v":54.185600000000001},{"$f":"VLOOKUP($M90,Funknavigation!$A$2:$AC$185,T$17,FALSE)","v":7.9108000000000001},{"$f":"VLOOKUP($M90,Funknavigation!$A$2:$AC$185,U$17,FALSE)","v":"116.30"},{"$f":"VLOOKUP($M90,Funknavigation!$A$2:$AC$185,V$17,FALSE)","v":""},{"$f":"VLOOKUP($M90,Funknavigation!$A$2:$AC$185,W$17,FALSE)","v":"Ch 110x "},{"$f":"VLOOKUP($M90,Funknavigation!$A$2:$AC$185,X$17,FALSE)","v":60},null,null,0.94571712716863943,0.13806950646676741,{"$f":"IF(AG90=1,MAX(MAX(AC$18:$AC89),MAX($AD$18:$AD$193))+1,\"-\")","v":{"$error":"#N/A"}},{"$f":"IF(AH90=1,MAX($AD$18:AD89)+1,\"-\")","v":{"$error":"#N/A"}},{"$error":"#N/A"},{"$error":"#N/A"},{"$error":"#N/A"},{"$error":"#N/A"},{"$error":"#N/A"},{"$error":"#N/A"},{"$error":"#N/A"},{"$error":"#N/A"},{"$error":"#N/A"},{"$error":"#N/A"},{"$error":"#N/A"},{"$error":"#N/A"},{"$error":"#N/A"},{"$error":"#N/A"},{"$error":"#N/A"},{"$error":"#N/A"},{"$error":"#N/A"},{"$error":"#N/A"},{"$error":"#N/A"},{"$error":"#N/A"},{"$error":"#N/A"},{"$error":"#N/A"},{"$error":"#N/A"},{"$error":"#N/A"},{"$error":"#N/A"},{"$error":"#N/A"},{"$error":"#N/A"},{"$error":"#N/A"},{"$error":"#N/A"},{"$error":"#N/A"},{"$error":"#N/A"},{"$error":"#N/A"},{"$error":"#N/A"},{"$error":"#N/A"},{"$error":"#N/A"},{"$error":"#N/A"},{"$error":"#N/A"},{"$error":"#N/A"},{"$error":"#N/A"},{"$error":"#N/A"},{"$error":"#N/A"},{"$error":"#N/A"},{"$error":"#N/A"},{"$error":"#N/A"},{"$error":"#N/A"},{"$error":"#N/A"},{"$error":"#N/A"},{"$error":"#N/A"},{"$error":"#N/A"},{"$error":"#N/A"},{"$error":"#N/A"},{"$error":"#N/A"},{"$error":"#N/A"},{"$error":"#N/A"},{"$error":"#N/A"},{"$error":"#N/A"},{"$error":"#N/A"},{"$error":"#N/A"},{"$error":"#N/A"},{"$error":"#N/A"},{"$error":"#N/A"},{"$error":"#N/A"},{"$error":"#N/A"},{"$error":"#N/A"},{"$error":"#N/A"},{"$error":"#N/A"},{"$error":"#N/A"},{"$error":"#N/A"},{"$error":"#N/A"},{"$error":"#N/A"},{"$error":"#N/A"},{"$error":"#N/A"},{"$error":"#N/A"},{"$error":"#N/A"},{"$error":"#N/A"},{"$error":"#N/A"},{"$error":"#N/A"},{"$error":"#N/A"},{"$error":"#N/A"},{"$error":"#N/A"},{"$error":"#N/A"},{"$error":"#N/A"},{"$error":"#N/A"},{"$error":"#N/A"},{"$error":"#N/A"},{"$error":"#N/A"},{"$error":"#N/A"},{"$error":"#N/A"},{"$error":"#N/A"},{"$error":"#N/A"},{"$error":"#N/A"},{"$error":"#N/A"},{"$error":"#N/A"},{"$error":"#N/A"},{"$error":"#N/A"},{"$error":"#N/A"},{"$error":"#N/A"},{"$error":"#N/A"},{"$error":"#N/A"},{"$error":"#N/A"},{"$error":"#N/A"},{"$error":"#N/A"},{"$error":"#N/A"},{"$error":"#N/A"},{"$error":"#N/A"},{"$error":"#N/A"}]
[null,null,null,null,null,null,null,null,null,null,null,{"$error":"#N/A"},74,{"$f":"VLOOKUP($M91,Funknavigation!$A$2:$AC$185,N$17,FALSE)","v":"Heringsdorf "},{"$f":"VLOOKUP($M91,Funknavigation!$A$2:$AC$185,O$17,FALSE)","v":"DME "},{"$f":"VLOOKUP($M91,Funknavigation!$A$2:$AC$185,P$17,FALSE)","v":"IHEW"},{"$f":"VLOOKUP($M91,Funknavigation!$A$2:$AC$185,Q$17,FALSE)","v":"· ·   · · · ·   ·   · − −"},{"$f":"VLOOKUP($M91,Funknavigation!$A$2:$AC$185,R$17,FALSE)","v":74},{"$f":"VLOOKUP($M91,Funknavigation!$A$2:$AC$185,S$17,FALSE)","v":53.878100000000003},{"$f":"VLOOKUP($M91,Funknavigation!$A$2:$AC$185,T$17,FALSE)","v":14.1511},{"$f":"VLOOKUP($M91,Funknavigation!$A$2:$AC$185,U$17,FALSE)","v":"111.30"},{"$f":"VLOOKUP($M91,Funknavigation!$A$2:$AC$185,V$17,FALSE)","v":""},{"$f":"VLOOKUP($M91,Funknavigation!$A$2:$AC$185,W$17,FALSE)","v":"Ch 50x (*) "},{"$f":"VLOOKUP($M91,Funknavigation!$A$2:$AC$185,X$17,FALSE)","v":25},null,null,0.94035023971875686,0.24698328777896955,{"$f":"IF(AG91=1,MAX(MAX(AC$18:$AC90),MAX($AD$18:$AD$193))+1,\"-\")","v":{"$error":"#N/A"}},{"$f":"IF(AH91=1,MAX($AD$18:AD90)+1,\"-\")","v":{"$error":"#N/A"}},{"$error":"#N/A"},{"$error":"#N/A"},{"$error":"#N/A"},{"$error":"#N/A"},{"$error":"#N/A"},{"$error":"#N/A"},{"$error":"#N/A"},{"$error":"#N/A"},{"$error":"#N/A"},{"$error":"#N/A"},{"$error":"#N/A"},{"$error":"#N/A"},{"$error":"#N/A"},{"$error":"#N/A"},{"$error":"#N/A"},{"$error":"#N/A"},{"$error":"#N/A"},{"$error":"#N/A"},{"$error":"#N/A"},{"$error":"#N/A"},{"$error":"#N/A"},{"$error":"#N/A"},{"$error":"#N/A"},{"$error":"#N/A"},{"$error":"#N/A"},{"$error":"#N/A"},{"$error":"#N/A"},{"$error":"#N/A"},{"$error":"#N/A"},{"$error":"#N/A"},{"$error":"#N/A"},{"$error":"#N/A"},{"$error":"#N/A"},{"$error":"#N/A"},{"$error":"#N/A"},{"$error":"#N/A"},{"$error":"#N/A"},{"$error":"#N/A"},{"$error":"#N/A"},{"$error":"#N/A"},{"$error":"#N/A"},{"$error":"#N/A"},{"$error":"#N/A"},{"$error":"#N/A"},{"$error":"#N/A"},{"$error":"#N/A"},{"$error":"#N/A"},{"$error":"#N/A"},{"$error":"#N/A"},{"$error":"#N/A"},{"$error":"#N/A"},{"$error":"#N/A"},{"$error":"#N/A"},{"$error":"#N/A"},{"$error":"#N/A"},{"$error":"#N/A"},{"$error":"#N/A"},{"$error":"#N/A"},{"$error":"#N/A"},{"$error":"#N/A"},{"$error":"#N/A"},{"$error":"#N/A"},{"$error":"#N/A"},{"$error":"#N/A"},{"$error":"#N/A"},{"$error":"#N/A"},{"$error":"#N/A"},{"$error":"#N/A"},{"$error":"#N/A"},{"$error":"#N/A"},{"$error":"#N/A"},{"$error":"#N/A"},{"$error":"#N/A"},{"$error":"#N/A"},{"$error":"#N/A"},{"$error":"#N/A"},{"$error":"#N/A"},{"$error":"#N/A"},{"$error":"#N/A"},{"$error":"#N/A"},{"$error":"#N/A"},{"$error":"#N/A"},{"$error":"#N/A"},{"$error":"#N/A"},{"$error":"#N/A"},{"$error":"#N/A"},{"$error":"#N/A"},{"$error":"#N/A"},{"$error":"#N/A"},{"$error":"#N/A"},{"$error":"#N/A"},{"$error":"#N/A"},{"$error":"#N/A"},{"$error":"#N/A"},{"$error":"#N/A"},{"$error":"#N/A"},{"$error":"#N/A"},{"$error":"#N/A"},{"$error":"#N/A"},{"$error":"#N/A"},{"$error":"#N/A"},{"$error":"#N/A"},{"$error":"#N/A"},{"$error":"#N/A"},{"$error":"#N/A"},{"$error":"#N/A"}]
[null,null,null,null,null,null,null,null,null,null,null,{"$error":"#N/A"},75,{"$f":"VLOOKUP($M92,Funknavigation!$A$2:$AC$185,N$17,FALSE)","v":"Heringsdorf"},{"$f":"VLOOKUP($M92,Funknavigation!$A$2:$AC$185,O$17,FALSE)","v":"NDB "},{"$f":"VLOOKUP($M92,Funknavigation!$A$2:$AC$185,P$17,FALSE)","v":"HC"},{"$f":"VLOOKUP($M92,Funknavigation!$A$2:$AC$185,Q$17,FALSE)","v":"· · · ·   − · − ·"},{"$f":"VLOOKUP($M92,Funknavigation!$A$2:$AC$185,R$17,FALSE)","v":75},{"$f":"VLOOKUP($M92,Funknavigation!$A$2:$AC$185,S$17,FALSE)","v":53.874200000000002},{"$f":"VLOOKUP($M92,Funknavigation!$A$2:$AC$185,T$17,FALSE)","v":14.181900000000001},{"$f":"VLOOKUP($M92,Funknavigation!$A$2:$AC$185,U$17,FALSE)","v":""},{"$f":"VLOOKUP($M92,Funknavigation!$A$2:$AC$185,V$17,FALSE)","v":330},{"$f":"VLOOKUP($M92,Funknavigation!$A$2:$AC$185,W$17,FALSE)","v":""},{"$f":"VLOOKUP($M92,Funknavigation!$A$2:$AC$185,X$17,FALSE)","v":25},null,null,0.94028217187792917,0.24752084918858383,{"$f":"IF(AG92=1,MAX(MAX(AC$18:$AC91),MAX($AD$18:$AD$193))+1,\"-\")","v":{"$error":"#N/A"}},{"$f":"IF(AH92=1,MAX($AD$18:AD91)+1,\"-\")","v":{"$error":"#N/A"}},{"$error":"#N/A"},{"$error":"#N/A"},{"$error":"#N/A"},{"$error":"#N/A"},{"$error":"#N/A"},{"$error":"#N/A"},{"$error":"#N/A"},{"$error":"#N/A"},{"$error":"#N/A"},{"$error":"#N/A"},{"$error":"#N/A"},{"$error":"#N/A"},{"$error":"#N/A"},{"$error":"#N/A"},{"$error":"#N/A"},{"$error":"#N/A"},{"$error":"#N/A"},{"$error":"#N/A"},{"$error":"#N/A"},{"$error":"#N/A"},{"$error":"#N/A"},{"$error":"#N/A"},{"$error":"#N/A"},{"$error":"#N/A"},{"$error":"#N/A"},{"$error":"#N/A"},{"$error":"#N/A"},{"$error":"#N/A"},{"$error":"#N/A"},{"$error":"#N/A"},{"$error":"#N/A"},{"$error":"#N/A"},{"$error":"#N/A"},{"$error":"#N/A"},{"$error":"#N/A"},{"$error":"#N/A"},{"$error":"#N/A"},{"$error":"#N/A"},{"$error":"#N/A"},{"$error":"#N/A"},{"$error":"#N/A"},{"$error":"#N/A"},{"$error":"#N/A"},{"$error":"#N/A"},{"$error":"#N/A"},{"$error":"#N/A"},{"$error":"#N/A"},{"$error":"#N/A"},{"$error":"#N/A"},{"$error":"#N/A"},{"$error":"#N/A"},{"$error":"#N/A"},{"$error":"#N/A"},{"$error":"#N/A"},{"$error":"#N/A"},{"$error":"#N/A"},{"$error":"#N/A"},{"$error":"#N/A"},{"$error":"#N/A"},{"$error":"#N/A"},{"$error":"#N/A"},{"$error":"#N/A"},{"$error":"#N/A"},{"$error":"#N/A"},{"$error":"#N/A"},{"$error":"#N/A"},{"$error":"#N/A"},{"$error":"#N/A"},{"$error":"#N/A"},{"$error":"#N/A"},{"$error":"#N/A"},{"$error":"#N/A"},{"$error":"#N/A"},{"$error":"#N/A"},{"$error":"#N/A"},{"$error":"#N/A"},{"$error":"#N/A"},{"$error":"#N/A"},{"$error":"#N/A"},{"$error":"#N/A"},{"$error":"#N/A"},{"$error":"#N/A"},{"$error":"#N/A"},{"$error":"#N/A"},{"$error":"#N/A"},{"$error":"#N/A"},{"$error":"#N/A"},{"$error":"#N/A"},{"$error":"#N/A"},{"$error":"#N/A"},{"$error":"#N/A"},{"$error":"#N/A"},{"$error":"#N/A"},{"$error":"#N/A"},{"$error":"#N/A"},{"$error":"#N/A"},{"$error":"#N/A"},{"$error":"#N/A"},{"$error":"#N/A"},{"$error":"#N/A"},{"$error":"#N/A"},{"$error":"#N/A"},{"$error":"#N/A"},{"$error":"#N/A"},{"$error":"#N/A"},{"$error":"#N/A"}]
[null,null,null,null,null,null,null,null,null,null,null,{"$error":"#N/A"},76,{"$f":"VLOOKUP($M93,Funknavigation!$A$2:$AC$185,N$17,FALSE)","v":"Hermsdorf "},{"$f":"VLOOKUP($M93,Funknavigation!$A$2:$AC$185,O$17,FALSE)","v":"DVOR/DME "},{"$f":"VLOOKUP($M93,Funknavigation!$A$2:$AC$185,P$17,FALSE)","v":"HDO"},{"$f":"VLOOKUP($M93,Funknavigation!$A$2:$AC$185,Q$17,FALSE)","v":"· · · ·   − · ·   − − −"},{"$f":"VLOOKUP($M93,Funknavigation!$A$2:$AC$185,R$17,FALSE)","v":76},{"$f":"VLOOKUP($M93,Funknavigation!$A$2:$AC$185,S$17,FALSE)","v":50.928100000000001},{"$f":"VLOOKUP($M93,Funknavigation!$A$2:$AC$185,T$17,FALSE)","v":14.3689},{"$f":"VLOOKUP($M93,Funknavigation!$A$2:$AC$185,U$17,FALSE)","v":"108.65"},{"$f":"VLOOKUP($M93,Funknavigation!$A$2:$AC$185,V$17,FALSE)","v":""},{"$f":"VLOOKUP($M93,Funknavigation!$A$2:$AC$185,W$17,FALSE)","v":"Ch 23y "},{"$f":"VLOOKUP($M93,Funknavigation!$A$2:$AC$185,X$17,FALSE)","v":60},null,null,0.88886302678492413,0.25078461488981324,{"$f":"IF(AG93=1,MAX(MAX(AC$18:$AC92),MAX($AD$18:$AD$193))+1,\"-\")","v":{"$error":"#N/A"}},{"$f":"IF(AH93=1,MAX($AD$18:AD92)+1,\"-\")","v":{"$error":"#N/A"}},{"$error":"#N/A"},{"$error":"#N/A"},{"$error":"#N/A"},{"$error":"#N/A"},{"$error":"#N/A"},{"$error":"#N/A"},{"$error":"#N/A"},{"$error":"#N/A"},{"$error":"#N/A"},{"$error":"#N/A"},{"$error":"#N/A"},{"$error":"#N/A"},{"$error":"#N/A"},{"$error":"#N/A"},{"$error":"#N/A"},{"$error":"#N/A"},{"$error":"#N/A"},{"$error":"#N/A"},{"$error":"#N/A"},{"$error":"#N/A"},{"$error":"#N/A"},{"$error":"#N/A"},{"$error":"#N/A"},{"$error":"#N/A"},{"$error":"#N/A"},{"$error":"#N/A"},{"$error":"#N/A"},{"$error":"#N/A"},{"$error":"#N/A"},{"$error":"#N/A"},{"$error":"#N/A"},{"$error":"#N/A"},{"$error":"#N/A"},{"$error":"#N/A"},{"$error":"#N/A"},{"$error":"#N/A"},{"$error":"#N/A"},{"$error":"#N/A"},{"$error":"#N/A"},{"$error":"#N/A"},{"$error":"#N/A"},{"$error":"#N/A"},{"$error":"#N/A"},{"$error":"#N/A"},{"$error":"#N/A"},{"$error":"#N/A"},{"$error":"#N/A"},{"$error":"#N/A"},{"$error":"#N/A"},{"$error":"#N/A"},{"$error":"#N/A"},{"$error":"#N/A"},{"$error":"#N/A"},{"$error":"#N/A"},{"$error":"#N/A"},{"$error":"#N/A"},{"$error":"#N/A"},{"$error":"#N/A"},{"$error":"#N/A"},{"$error":"#N/A"},{"$error":"#N/A"},{"$error":"#N/A"},{"$error":"#N/A"},{"$error":"#N/A"},{"$error":"#N/A"},{"$error":"#N/A"},{"$error":"#N/A"},{"$error":"#N/A"},{"$error":"#N/A"},{"$error":"#N/A"},{"$error":"#N/A"},{"$error":"#N/A"},{"$error":"#N/A"},{"$error":"#N/A"},{"$error":"#N/A"},{"$error":"#N/A"},{"$error":"#N/A"},{"$error":"#N/A"},{"$error":"#N/A"},{"$error":"#N/A"},{"$error":"#N/A"},{"$error":"#N/A"},{"$error":"#N/A"},{"$error":"#N/A"},{"$error":"#N/A"},{"$error":"#N/A"},{"$error":"#N/A"},{"$error":"#N/A"},{"$error":"#N/A"},{"$error":"#N/A"},{"$error":"#N/A"},{"$error":"#N/A"},{"$error":"#N/A"},{"$error":"#N/A"},{"$error":"#N/A"},{"$f":"IF(DV$3=\"OK\",(21600/(2*PI()))*ACOS(SIN($AA93)*SIN(DV$6)+COS(DV$6)*COS($AA93)*COS($AB93-DV$7)),\"-\")","v":{"$error":"#N/A"}},{"$error":"#N/A"},{"$error":"#N/A"},{"$error":"#N/A"},{"$error":"#N/A"},{"$error":"#N/A"},{"$error":"#N/A"},{"$error":"#N/A"},{"$error":"#N/A"},{"$error":"#N/A"},{"$error":"#N/A"}]
[null,null,null,null,null,null,null,null,null,null,null,{"$error":"#N/A"},77,{"$f":"VLOOKUP($M94,Funknavigation!$A$2:$AC$185,N$17,FALSE)","v":"Hof "},{"$f":"VLOOKUP($M94,Funknavigation!$A$2:$AC$185,O$17,FALSE)","v":"DME "},{"$f":"VLOOKUP($M94,Funknavigation!$A$2:$AC$185,P$17,FALSE)","v":"HOD"},{"$f":"VLOOKUP($M94,Funknavigation!$A$2:$AC$185,Q$17,FALSE)","v":"· · · ·   − − −   − · ·"},{"$f":"VLOOKUP($M94,Funknavigation!$A$2:$AC$185,R$17,FALSE)","v":77},{"$f":"VLOOKUP($M94,Funknavigation!$A$2:$AC$185,S$17,FALSE)","v":50.289700000000003},{"$f":"VLOOKUP($M94,Funknavigation!$A$2:$AC$185,T$17,FALSE)","v":11.8553},{"$f":"VLOOKUP($M94,Funknavigation!$A$2:$AC$185,U$17,FALSE)","v":"110.70"},{"$f":"VLOOKUP($M94,Funknavigation!$A$2:$AC$185,V$17,FALSE)","v":""},{"$f":"VLOOKUP($M94,Funknavigation!$A$2:$AC$185,W$17,FALSE)","v":"Ch 44x (*) "},{"$f":"VLOOKUP($M94,Funknavigation!$A$2:$AC$185,X$17,FALSE)","v":10},null,null,0.8777208448401923,0.20691401881168375,{"$f":"IF(AG94=1,MAX(MAX(AC$18:$AC93),MAX($AD$18:$AD$193))+1,\"-\")","v":{"$error":"#N/A"}},{"$f":"IF(AH94=1,MAX($AD$18:AD93)+1,\"-\")","v":{"$error":"#N/A"}},{"$error":"#N/A"},{"$error":"#N/A"},{"$error":"#N/A"},{"$error":"#N/A"},{"$error":"#N/A"},{"$error":"#N/A"},{"$error":"#N/A"},{"$error":"#N/A"},{"$error":"#N/A"},{"$error":"#N/A"},{"$error":"#N/A"},{"$error":"#N/A"},{"$error":"#N/A"},{"$error":"#N/A"},{"$error":"#N/A"},{"$error":"#N/A"},{"$error":"#N/A"},{"$error":"#N/A"},{"$error":"#N/A"},{"$error":"#N/A"},{"$error":"#N/A"},{"$error":"#N/A"},{"$error":"#N/A"},{"$error":"#N/A"},{"$error":"#N/A"},{"$error":"#N/A"},{"$error":"#N/A"},{"$error":"#N/A"},{"$error":"#N/A"},{"$error":"#N/A"},{"$error":"#N/A"},{"$error":"#N/A"},{"$error":"#N/A"},{"$error":"#N/A"},{"$error":"#N/A"},{"$error":"#N/A"},{"$error":"#N/A"},{"$error":"#N/A"},{"$error":"#N/A"},{"$error":"#N/A"},{"$error":"#N/A"},{"$error":"#N/A"},{"$error":"#N/A"},{"$error":"#N/A"},{"$error":"#N/A"},{"$error":"#N/A"},{"$error":"#N/A"},{"$error":"#N/A"},{"$error":"#N/A"},{"$error":"#N/A"},{"$error":"#N/A"},{"$error":"#N/A"},{"$error":"#N/A"},{"$error":"#N/A"},{"$error":"#N/A"},{"$error":"#N/A"},{"$error":"#N/A"},{"$error":"#N/A"},{"$error":"#N/A"},{"$error":"#N/A"},{"$error":"#N/A"},{"$error":"#N/A"},{"$error":"#N/A"},{"$error":"#N/A"},{"$error":"#N/A"},{"$error":"#N/A"},{"$error":"#N/A"},{"$error":"#N/A"},{"$error":"#N/A"},{"$error":"#N/A"},{"$error":"#N/A"},{"$error":"#N/A"},{"$error":"#N/A"},{"$error":"#N/A"},{"$error":"#N/A"},{"$error":"#N/A"},{"$error":"#N/A"},{"$error":"#N/A"},{"$error":"#N/A"},{"$error":"#N/A"},{"$error":"#N/A"},{"$error":"#N/A"},{"$error":"#N/A"},{"$error":"#N/A"},{"$error":"#N/A"},{"$error":"#N/A"},{"$error":"#N/A"},{"$error":"#N/A"},{"$error":"#N/A"},{"$error":"#N/A"},{"$error":"#N/A"},{"$error":"#N/A"},{"$error":"#N/A"},{"$error":"#N/A"},{"$error":"#N/A"},{"$error":"#N/A"},{"$error":"#N/A"},{"$error":"#N/A"},{"$error":"#N/A"},{"$error":"#N/A"},{"$error":"#N/A"},{"$error":"#N/A"},{"$error":"#N/A"},{"$error":"#N/A"},{"$error":"#N/A"},{"$error":"#N/A"}]
[null,null,null,null,null,null,null,null,null,null,null,{"$error":"#N/A"},78,{"$f":"VLOOKUP($M95,Funknavigation!$A$2:$AC$185,N$17,FALSE)","v":"Hof"},{"$f":"VLOOKUP($M95,Funknavigation!$A$2:$AC$185,O$17,FALSE)","v":"NDB "},{"$f":"VLOOKUP($M95,Funknavigation!$A$2:$AC$185,P$17,FALSE)","v":"HOF"},{"$f":"VLOOKUP($M95,Funknavigation!$A$2:$AC$185,Q$17,FALSE)","v":"· · · ·   − − −   · · − ·"},{"$f":"VLOOKUP($M95,Funknavigation!$A$2:$AC$185,R$17,FALSE)","v":78},{"$f":"VLOOKUP($M95,Funknavigation!$A$2:$AC$185,S$17,FALSE)","v":50.284700000000001},{"$f":"VLOOKUP($M95,Funknavigation!$A$2:$AC$185,T$17,FALSE)","v":11.7614},{"$f":"VLOOKUP($M95,Funknavigation!$A$2:$AC$185,U$17,FALSE)","v":""},{"$f":"VLOOKUP($M95,Funknavigation!$A$2:$AC$185,V$17,FALSE)","v":484},{"$f":"VLOOKUP($M95,Funknavigation!$A$2:$AC$185,W$17,FALSE)","v":""},{"$f":"VLOOKUP($M95,Funknavigation!$A$2:$AC$185,X$17,FALSE)","v":15},null,null,0.87763357837759259,0.20527515464406107,{"$f":"IF(AG95=1,MAX(MAX(AC$18:$AC94),MAX($AD$18:$AD$193))+1,\"-\")","v":{"$error":"#N/A"}},{"$f":"IF(AH95=1,MAX($AD$18:AD94)+1,\"-\")","v":{"$error":"#N/A"}},{"$error":"#N/A"},{"$error":"#N/A"},{"$error":"#N/A"},{"$error":"#N/A"},{"$error":"#N/A"},{"$error":"#N/A"},{"$error":"#N/A"},{"$error":"#N/A"},{"$error":"#N/A"},{"$error":"#N/A"},{"$error":"#N/A"},{"$error":"#N/A"},{"$error":"#N/A"},{"$error":"#N/A"},{"$error":"#N/A"},{"$error":"#N/A"},{"$error":"#N/A"},{"$error":"#N/A"},{"$error":"#N/A"},{"$error":"#N/A"},{"$error":"#N/A"},{"$error":"#N/A"},{"$error":"#N/A"},{"$error":"#N/A"},{"$error":"#N/A"},{"$error":"#N/A"},{"$error":"#N/A"},{"$error":"#N/A"},{"$error":"#N/A"},{"$error":"#N/A"},{"$error":"#N/A"},{"$error":"#N/A"},{"$error":"#N/A"},{"$error":"#N/A"},{"$error":"#N/A"},{"$error":"#N/A"},{"$error":"#N/A"},{"$error":"#N/A"},{"$error":"#N/A"},{"$error":"#N/A"},{"$error":"#N/A"},{"$error":"#N/A"},{"$error":"#N/A"},{"$error":"#N/A"},{"$error":"#N/A"},{"$error":"#N/A"},{"$error":"#N/A"},{"$error":"#N/A"},{"$error":"#N/A"},{"$error":"#N/A"},{"$error":"#N/A"},{"$error":"#N/A"},{"$error":"#N/A"},{"$error":"#N/A"},{"$error":"#N/A"},{"$error":"#N/A"},{"$error":"#N/A"},{"$error":"#N/A"},{"$error":"#N/A"},{"$error":"#N/A"},{"$error":"#N/A"},{"$error":"#N/A"},{"$error":"#N/A"},{"$error":"#N/A"},{"$error":"#N/A"},{"$error":"#N/A"},{"$error":"#N/A"},{"$error":"#N/A"},{"$error":"#N/A"},{"$error":"#N/A"},{"$error":"#N/A"},{"$error":"#N/A"},{"$error":"#N/A"},{"$error":"#N/A"},{"$error":"#N/A"},{"$error":"#N/A"},{"$error":"#N/A"},{"$error":"#N/A"},{"$error":"#N/A"},{"$error":"#N/A"},{"$error":"#N/A"},{"$error":"#N/A"},{"$error":"#N/A"},{"$error":"#N/A"},{"$error":"#N/A"},{"$error":"#N/A"},{"$error":"#N/A"},{"$error":"#N/A"},{"$error":"#N/A"},{"$error":"#N/A"},{"$error":"#N/A"},{"$error":"#N/A"},{"$error":"#N/A"},{"$error":"#N/A"},{"$error":"#N/A"},{"$error":"#N/A"},{"$error":"#N/A"},{"$error":"#N/A"},{"$error":"#N/A"},{"$error":"#N/A"},{"$error":"#N/A"},{"$error":"#N/A"},{"$error":"#N/A"},{"$error":"#N/A"},{"$error":"#N/A"},{"$error":"#N/A"}]
[null,null,null,null,null,null,null,null,null,null,null,{"$error":"#N/A"},79,{"$f":"VLOOKUP($M96,Funknavigation!$A$2:$AC$185,N$17,FALSE)","v":"Hohenfels "},{"$f":"VLOOKUP($M96,Funknavigation!$A$2:$AC$185,O$17,FALSE)","v":"NDB "},{"$f":"VLOOKUP($M96,Funknavigation!$A$2:$AC$185,P$17,FALSE)","v":"HFX"},{"$f":"VLOOKUP($M96,Funknavigation!$A$2:$AC$185,Q$17,FALSE)","v":"· · · ·   · · − ·   − · · −"},{"$f":"VLOOKUP($M96,Funknavigation!$A$2:$AC$185,R$17,FALSE)","v":79},{"$f":"VLOOKUP($M96,Funknavigation!$A$2:$AC$185,S$17,FALSE)","v":49.218299999999999},{"$f":"VLOOKUP($M96,Funknavigation!$A$2:$AC$185,T$17,FALSE)","v":11.859400000000001},{"$f":"VLOOKUP($M96,Funknavigation!$A$2:$AC$185,U$17,FALSE)","v":""},{"$f":"VLOOKUP($M96,Funknavigation!$A$2:$AC$185,V$17,FALSE)","v":286},{"$f":"VLOOKUP($M96,Funknavigation!$A$2:$AC$185,W$17,FALSE)","v":""},{"$f":"VLOOKUP($M96,Funknavigation!$A$2:$AC$185,X$17,FALSE)","v":25},null,null,0.85902138723432508,0.20698557731101552,{"$f":"IF(AG96=1,MAX(MAX(AC$18:$AC95),MAX($AD$18:$AD$193))+1,\"-\")","v":{"$error":"#N/A"}},{"$f":"IF(AH96=1,MAX($AD$18:AD95)+1,\"-\")","v":{"$error":"#N/A"}},{"$error":"#N/A"},{"$error":"#N/A"},{"$error":"#N/A"},{"$error":"#N/A"},{"$error":"#N/A"},{"$error":"#N/A"},{"$error":"#N/A"},{"$error":"#N/A"},{"$error":"#N/A"},{"$error":"#N/A"},{"$error":"#N/A"},{"$error":"#N/A"},{"$error":"#N/A"},{"$error":"#N/A"},{"$error":"#N/A"},{"$error":"#N/A"},{"$error":"#N/A"},{"$error":"#N/A"},{"$error":"#N/A"},{"$error":"#N/A"},{"$error":"#N/A"},{"$error":"#N/A"},{"$error":"#N/A"},{"$error":"#N/A"},{"$error":"#N/A"},{"$error":"#N/A"},{"$error":"#N/A"},{"$error":"#N/A"},{"$error":"#N/A"},{"$error":"#N/A"},{"$error":"#N/A"},{"$error":"#N/A"},{"$error":"#N/A"},{"$error":"#N/A"},{"$error":"#N/A"},{"$error":"#N/A"},{"$error":"#N/A"},{"$error":"#N/A"},{"$error":"#N/A"},{"$error":"#N/A"},{"$error":"#N/A"},{"$error":"#N/A"},{"$error":"#N/A"},{"$error":"#N/A"},{"$error":"#N/A"},{"$error":"#N/A"},{"$error":"#N/A"},{"$error":"#N/A"},{"$error":"#N/A"},{"$error":"#N/A"},{"$error":"#N/A"},{"$error":"#N/A"},{"$error":"#N/A"},{"$error":"#N/A"},{"$error":"#N/A"},{"$error":"#N/A"},{"$error":"#N/A"},{"$error":"#N/A"},{"$error":"#N/A"},{"$error":"#N/A"},{"$error":"#N/A"},{"$error":"#N/A"},{"$error":"#N/A"},{"$error":"#N/A"},{"$error":"#N/A"},{"$error":"#N/A"},{"$error":"#N/A"},{"$error":"#N/A"},{"$error":"#N/A"},{"$error":"#N/A"},{"$error":"#N/A"},{"$error":"#N/A"},{"$error":"#N/A"},{"$error":"#N/A"},{"$error":"#N/A"},{"$error":"#N/A"},{"$error":"#N/A"},{"$error":"#N/A"},{"$error":"#N/A"},{"$error":"#N/A"},{"$error":"#N/A"},{"$error":"#N/A"},{"$error":"#N/A"},{"$error":"#N/A"},{"$error":"#N/A"},{"$error":"#N/A"},{"$error":"#N/A"},{"$error":"#N/A"},{"$error":"#N/A"},{"$error":"#N/A"},{"$error":"#N/A"},{"$error":"#N/A"},{"$error":"#N/A"},{"$error":"#N/A"},{"$error":"#N/A"},{"$error":"#N/A"},{"$error":"#N/A"},{"$error":"#N/A"},{"$error":"#N/A"},{"$error":"#N/A"},{"$error":"#N/A"},{"$error":"#N/A"},{"$error":"#N/A"},{"$error":"#N/A"},{"$error":"#N/A"},{"$error":"#N/A"}]
[null,null,null,null,null,null,null,null,null,null,null,{"$error":"#N/A"},80,{"$f":"VLOOKUP($M97,Funknavigation!$A$2:$AC$185,N$17,FALSE)","v":"Hohn "},{"$f":"VLOOKUP($M97,Funknavigation!$A$2:$AC$185,O$17,FALSE)","v":"NDB "},{"$f":"VLOOKUP($M97,Funknavigation!$A$2:$AC$185,P$17,FALSE)","v":"HN"},{"$f":"VLOOKUP($M97,Funknavigation!$A$2:$AC$185,Q$17,FALSE)","v":"· · · ·   − ·"},{"$f":"VLOOKUP($M97,Funknavigation!$A$2:$AC$185,R$17,FALSE)","v":80},{"$f":"VLOOKUP($M97,Funknavigation!$A$2:$AC$185,S$17,FALSE)","v":54.3264},{"$f":"VLOOKUP($M97,Funknavigation!$A$2:$AC$185,T$17,FALSE)","v":9.6702999999999992},{"$f":"VLOOKUP($M97,Funknavigation!$A$2:$AC$185,U$17,FALSE)","v":""},{"$f":"VLOOKUP($M97,Funknavigation!$A$2:$AC$185,V$17,FALSE)","v":344},{"$f":"VLOOKUP($M97,Funknavigation!$A$2:$AC$185,W$17,FALSE)","v":""},{"$f":"VLOOKUP($M97,Funknavigation!$A$2:$AC$185,X$17,FALSE)","v":25},null,null,0.94817455075544743,0.16877857465560764,{"$f":"IF(AG97=1,MAX(MAX(AC$18:$AC96),MAX($AD$18:$AD$193))+1,\"-\")","v":{"$error":"#N/A"}},{"$f":"IF(AH97=1,MAX($AD$18:AD96)+1,\"-\")","v":{"$error":"#N/A"}},{"$error":"#N/A"},{"$error":"#N/A"},{"$error":"#N/A"},{"$error":"#N/A"},{"$error":"#N/A"},{"$error":"#N/A"},{"$error":"#N/A"},{"$error":"#N/A"},{"$error":"#N/A"},{"$error":"#N/A"},{"$error":"#N/A"},{"$error":"#N/A"},{"$error":"#N/A"},{"$error":"#N/A"},{"$error":"#N/A"},{"$error":"#N/A"},{"$error":"#N/A"},{"$error":"#N/A"},{"$error":"#N/A"},{"$error":"#N/A"},{"$error":"#N/A"},{"$error":"#N/A"},{"$error":"#N/A"},{"$error":"#N/A"},{"$error":"#N/A"},{"$error":"#N/A"},{"$error":"#N/A"},{"$error":"#N/A"},{"$error":"#N/A"},{"$error":"#N/A"},{"$error":"#N/A"},{"$error":"#N/A"},{"$error":"#N/A"},{"$error":"#N/A"},{"$error":"#N/A"},{"$error":"#N/A"},{"$error":"#N/A"},{"$error":"#N/A"},{"$error":"#N/A"},{"$error":"#N/A"},{"$error":"#N/A"},{"$error":"#N/A"},{"$error":"#N/A"},{"$error":"#N/A"},{"$error":"#N/A"},{"$error":"#N/A"},{"$error":"#N/A"},{"$error":"#N/A"},{"$error":"#N/A"},{"$error":"#N/A"},{"$error":"#N/A"},{"$error":"#N/A"},{"$error":"#N/A"},{"$error":"#N/A"},{"$error":"#N/A"},{"$error":"#N/A"},{"$error":"#N/A"},{"$error":"#N/A"},{"$error":"#N/A"},{"$error":"#N/A"},{"$error":"#N/A"},{"$error":"#N/A"},{"$error":"#N/A"},{"$error":"#N/A"},{"$error":"#N/A"},{"$error":"#N/A"},{"$error":"#N/A"},{"$error":"#N/A"},{"$error":"#N/A"},{"$error":"#N/A"},{"$error":"#N/A"},{"$error":"#N/A"},{"$error":"#N/A"},{"$error":"#N/A"},{"$error":"#N/A"},{"$error":"#N/A"},{"$error":"#N/A"},{"$error":"#N/A"},{"$error":"#N/A"},{"$error":"#N/A"},{"$error":"#N/A"},{"$error":"#N/A"},{"$error":"#N/A"},{"$error":"#N/A"},{"$error":"#N/A"},{"$error":"#N/A"},{"$error":"#N/A"},{"$error":"#N/A"},{"$error":"#N/A"},{"$error":"#N/A"},{"$error":"#N/A"},{"$error":"#N/A"},{"$error":"#N/A"},{"$error":"#N/A"},{"$error":"#N/A"},{"$error":"#N/A"},{"$error":"#N/A"},{"$error":"#N/A"},{"$error":"#N/A"},{"$error":"#N/A"},{"$error":"#N/A"},{"$error":"#N/A"},{"$error":"#N/A"},{"$error":"#N/A"},{"$error":"#N/A"},{"$error":"#N/A"}]
[null,null,null,null,null,null,null,null,null,null,null,{"$error":"#N/A"},81,{"$f":"VLOOKUP($M98,Funknavigation!$A$2:$AC$185,N$17,FALSE)","v":"Holzdorf "},{"$f":"VLOOKUP($M98,Funknavigation!$A$2:$AC$185,O$17,FALSE)","v":"NDB "},{"$f":"VLOOKUP($M98,Funknavigation!$A$2:$AC$185,P$17,FALSE)","v":"HOZ"},{"$f":"VLOOKUP($M98,Funknavigation!$A$2:$AC$185,Q$17,FALSE)","v":"· · · ·   − − −   − − · ·"},{"$f":"VLOOKUP($M98,Funknavigation!$A$2:$AC$185,R$17,FALSE)","v":81},{"$f":"VLOOKUP($M98,Funknavigation!$A$2:$AC$185,S$17,FALSE)","v":51.770299999999999},{"$f":"VLOOKUP($M98,Funknavigation!$A$2:$AC$185,T$17,FALSE)","v":13.097799999999999},{"$f":"VLOOKUP($M98,Funknavigation!$A$2:$AC$185,U$17,FALSE)","v":""},{"$f":"VLOOKUP($M98,Funknavigation!$A$2:$AC$185,V$17,FALSE)","v":406},{"$f":"VLOOKUP($M98,Funknavigation!$A$2:$AC$185,W$17,FALSE)","v":""},{"$f":"VLOOKUP($M98,Funknavigation!$A$2:$AC$185,X$17,FALSE)","v":25},null,null,0.9035621897452204,0.22859973476771328,{"$f":"IF(AG98=1,MAX(MAX(AC$18:$AC97),MAX($AD$18:$AD$193))+1,\"-\")","v":{"$error":"#N/A"}},{"$f":"IF(AH98=1,MAX($AD$18:AD97)+1,\"-\")","v":{"$error":"#N/A"}},{"$error":"#N/A"},{"$error":"#N/A"},{"$error":"#N/A"},{"$error":"#N/A"},{"$error":"#N/A"},{"$error":"#N/A"},{"$error":"#N/A"},{"$f":"IF(AL$3=\"OK\",(21600/(2*PI()))*ACOS(SIN($AA98)*SIN(AL$6)+COS(AL$6)*COS($AA98)*COS($AB98-AL$7)),\"-\")","v":{"$error":"#N/A"}},{"$error":"#N/A"},{"$error":"#N/A"},{"$error":"#N/A"},{"$error":"#N/A"},{"$error":"#N/A"},{"$error":"#N/A"},{"$error":"#N/A"},{"$error":"#N/A"},{"$error":"#N/A"},{"$f":"IF(AV$3=\"OK\",(21600/(2*PI()))*ACOS(SIN($AA98)*SIN(AV$6)+COS(AV$6)*COS($AA98)*COS($AB98-AV$7)),\"-\")","v":{"$error":"#N/A"}},{"$error":"#N/A"},{"$error":"#N/A"},{"$error":"#N/A"},{"$error":"#N/A"},{"$error":"#N/A"},{"$error":"#N/A"},{"$error":"#N/A"},{"$error":"#N/A"},{"$error":"#N/A"},{"$f":"IF(BF$3=\"OK\",(21600/(2*PI()))*ACOS(SIN($AA98)*SIN(BF$6)+COS(BF$6)*COS($AA98)*COS($AB98-BF$7)),\"-\")","v":{"$error":"#N/A"}},{"$error":"#N/A"},{"$error":"#N/A"},{"$error":"#N/A"},{"$error":"#N/A"},{"$error":"#N/A"},{"$error":"#N/A"},{"$error":"#N/A"},{"$error":"#N/A"},{"$error":"#N/A"},{"$f":"IF(BP$3=\"OK\",(21600/(2*PI()))*ACOS(SIN($AA98)*SIN(BP$6)+COS(BP$6)*COS($AA98)*COS($AB98-BP$7)),\"-\")","v":{"$error":"#N/A"}},{"$error":"#N/A"},{"$error":"#N/A"},{"$error":"#N/A"},{"$error":"#N/A"},{"$error":"#N/A"},{"$error":"#N/A"},{"$error":"#N/A"},{"$error":"#N/A"},{"$error":"#N/A"},{"$f":"IF(BZ$3=\"OK\",(21600/(2*PI()))*ACOS(SIN($AA98)*SIN(BZ$6)+COS(BZ$6)*COS($AA98)*COS($AB98-BZ$7)),\"-\")","v":{"$error":"#N/A"}},{"$error":"#N/A"},{"$error":"#N/A"},{"$error":"#N/A"},{"$error":"#N/A"},{"$error":"#N/A"},{"$error":"#N/A"},{"$error":"#N/A"},{"$error":"#N/A"},{"$error":"#N/A"},{"$f":"IF(CJ$3=\"OK\",(21600/(2*PI()))*ACOS(SIN($AA98)*SIN(CJ$6)+COS(CJ$6)*COS($AA98)*COS($AB98-CJ$7)),\"-\")","v":{"$error":"#N/A"}},{"$error":"#N/A"},{"$error":"#N/A"},{"$error":"#N/A"},{"$error":"#N/A"},{"$error":"#N/A"},{"$error":"#N/A"},{"$error":"#N/A"},{"$error":"#N/A"},{"$error":"#N/A"},{"$f":"IF(CT$3=\"OK\",(21600/(2*PI()))*ACOS(SIN($AA98)*SIN(CT$6)+COS(CT$6)*COS($AA98)*COS($AB98-CT$7)),\"-\")","v":{"$error":"#N/A"}},{"$error":"#N/A"},{"$error":"#N/A"},{"$error":"#N/A"},{"$error":"#N/A"},{"$error":"#N/A"},{"$error":"#N/A"},{"$error":"#N/A"},{"$error":"#N/A"},{"$error":"#N/A"},{"$error":"#N/A"},{"$error":"#N/A"},{"$error":"#N/A"},{"$error":"#N/A"},{"$error":"#N/A"},{"$error":"#N/A"},{"$error":"#N/A"},{"$error":"#N/A"},{"$error":"#N/A"},{"$error":"#N/A"},{"$error":"#N/A"},{"$error":"#N/A"},{"$error":"#N/A"},{"$error":"#N/A"},{"$error":"#N/A"},{"$error":"#N/A"},{"$error":"#N/A"},{"$error":"#N/A"},{"$error":"#N/A"},{"$error":"#N/A"},{"$error":"#N/A"},{"$error":"#N/A"},{"$error":"#N/A"},{"$error":"#N/A"},{"$error":"#N/A"},{"$error":"#N/A"},{"$error":"#N/A"},{"$error":"#N/A"},{"$error":"#N/A"}]
[null,null,null,null,null,null,null,null,null,null,null,{"$error":"#N/A"},82,{"$f":"VLOOKUP($M99,Funknavigation!$A$2:$AC$185,N$17,FALSE)","v":"Illesheim "},{"$f":"VLOOKUP($M99,Funknavigation!$A$2:$AC$185,O$17,FALSE)","v":"NDB "},{"$f":"VLOOKUP($M99,Funknavigation!$A$2:$AC$185,P$17,FALSE)","v":"ILM"},{"$f":"VLOOKUP($M99,Funknavigation!$A$2:$AC$185,Q$17,FALSE)","v":"· ·   · − · ·   − −"},{"$f":"VLOOKUP($M99,Funknavigation!$A$2:$AC$185,R$17,FALSE)","v":82},{"$f":"VLOOKUP($M99,Funknavigation!$A$2:$AC$185,S$17,FALSE)","v":49.471899999999998},{"$f":"VLOOKUP($M99,Funknavigation!$A$2:$AC$185,T$17,FALSE)","v":10.388299999999999},{"$f":"VLOOKUP($M99,Funknavigation!$A$2:$AC$185,U$17,FALSE)","v":""},{"$f":"VLOOKUP($M99,Funknavigation!$A$2:$AC$185,V$17,FALSE)","v":488},{"$f":"VLOOKUP($M99,Funknavigation!$A$2:$AC$185,W$17,FALSE)","v":""},{"$f":"VLOOKUP($M99,Funknavigation!$A$2:$AC$185,X$17,FALSE)","v":25},null,null,0.86344754221738262,0.18131003868492693,{"$f":"IF(AG99=1,MAX(MAX(AC$18:$AC98),MAX($AD$18:$AD$193))+1,\"-\")","v":{"$error":"#N/A"}},{"$f":"IF(AH99=1,MAX($AD$18:AD98)+1,\"-\")","v":{"$error":"#N/A"}},{"$error":"#N/A"},{"$error":"#N/A"},{"$error":"#N/A"},{"$error":"#N/A"},{"$error":"#N/A"},{"$error":"#N/A"},{"$error":"#N/A"},{"$error":"#N/A"},{"$error":"#N/A"},{"$error":"#N/A"},{"$error":"#N/A"},{"$error":"#N/A"},{"$error":"#N/A"},{"$error":"#N/A"},{"$error":"#N/A"},{"$error":"#N/A"},{"$error":"#N/A"},{"$error":"#N/A"},{"$error":"#N/A"},{"$error":"#N/A"},{"$error":"#N/A"},{"$error":"#N/A"},{"$error":"#N/A"},{"$error":"#N/A"},{"$error":"#N/A"},{"$error":"#N/A"},{"$error":"#N/A"},{"$error":"#N/A"},{"$error":"#N/A"},{"$error":"#N/A"},{"$error":"#N/A"},{"$error":"#N/A"},{"$error":"#N/A"},{"$error":"#N/A"},{"$error":"#N/A"},{"$error":"#N/A"},{"$error":"#N/A"},{"$error":"#N/A"},{"$error":"#N/A"},{"$error":"#N/A"},{"$error":"#N/A"},{"$error":"#N/A"},{"$error":"#N/A"},{"$error":"#N/A"},{"$error":"#N/A"},{"$error":"#N/A"},{"$error":"#N/A"},{"$error":"#N/A"},{"$error":"#N/A"},{"$error":"#N/A"},{"$error":"#N/A"},{"$error":"#N/A"},{"$error":"#N/A"},{"$error":"#N/A"},{"$error":"#N/A"},{"$error":"#N/A"},{"$error":"#N/A"},{"$error":"#N/A"},{"$error":"#N/A"},{"$error":"#N/A"},{"$error":"#N/A"},{"$error":"#N/A"},{"$error":"#N/A"},{"$error":"#N/A"},{"$error":"#N/A"},{"$error":"#N/A"},{"$error":"#N/A"},{"$error":"#N/A"},{"$error":"#N/A"},{"$error":"#N/A"},{"$error":"#N/A"},{"$error":"#N/A"},{"$error":"#N/A"},{"$error":"#N/A"},{"$error":"#N/A"},{"$error":"#N/A"},{"$error":"#N/A"},{"$error":"#N/A"},{"$error":"#N/A"},{"$error":"#N/A"},{"$error":"#N/A"},{"$error":"#N/A"},{"$error":"#N/A"},{"$error":"#N/A"},{"$error":"#N/A"},{"$error":"#N/A"},{"$error":"#N/A"},{"$error":"#N/A"},{"$error":"#N/A"},{"$error":"#N/A"},{"$error":"#N/A"},{"$error":"#N/A"},{"$error":"#N/A"},{"$error":"#N/A"},{"$error":"#N/A"},{"$error":"#N/A"},{"$error":"#N/A"},{"$error":"#N/A"},{"$error":"#N/A"},{"$error":"#N/A"},{"$error":"#N/A"},{"$error":"#N/A"},{"$error":"#N/A"},{"$error":"#N/A"},{"$error":"#N/A"},{"$error":"#N/A"}]
[null,null,null,null,null,null,null,null,null,null,null,{"$error":"#N/A"},83,{"$f":"VLOOKUP($M100,Funknavigation!$A$2:$AC$185,N$17,FALSE)","v":"Ingolstadt (Manching)"},{"$f":"VLOOKUP($M100,Funknavigation!$A$2:$AC$185,O$17,FALSE)","v":"NDB "},{"$f":"VLOOKUP($M100,Funknavigation!$A$2:$AC$185,P$17,FALSE)","v":"IGL"},{"$f":"VLOOKUP($M100,Funknavigation!$A$2:$AC$185,Q$17,FALSE)","v":"· ·   − − ·   · − · ·"},{"$f":"VLOOKUP($M100,Funknavigation!$A$2:$AC$185,R$17,FALSE)","v":83},{"$f":"VLOOKUP($M100,Funknavigation!$A$2:$AC$185,S$17,FALSE)","v":48.7378},{"$f":"VLOOKUP($M100,Funknavigation!$A$2:$AC$185,T$17,FALSE)","v":11.644399999999999},{"$f":"VLOOKUP($M100,Funknavigation!$A$2:$AC$185,U$17,FALSE)","v":""},{"$f":"VLOOKUP($M100,Funknavigation!$A$2:$AC$185,V$17,FALSE)","v":345},{"$f":"VLOOKUP($M100,Funknavigation!$A$2:$AC$185,W$17,FALSE)","v":""},{"$f":"VLOOKUP($M100,Funknavigation!$A$2:$AC$185,X$17,FALSE)","v":22},null,null,0.85063508017849232,0.2032331194192277,{"$f":"IF(AG100=1,MAX(MAX(AC$18:$AC99),MAX($AD$18:$AD$193))+1,\"-\")","v":{"$error":"#N/A"}},{"$f":"IF(AH100=1,MAX($AD$18:AD99)+1,\"-\")","v":{"$error":"#N/A"}},{"$error":"#N/A"},{"$error":"#N/A"},{"$error":"#N/A"},{"$error":"#N/A"},{"$error":"#N/A"},{"$error":"#N/A"},{"$error":"#N/A"},{"$error":"#N/A"},{"$error":"#N/A"},{"$error":"#N/A"},{"$error":"#N/A"},{"$error":"#N/A"},{"$error":"#N/A"},{"$error":"#N/A"},{"$error":"#N/A"},{"$error":"#N/A"},{"$error":"#N/A"},{"$error":"#N/A"},{"$error":"#N/A"},{"$error":"#N/A"},{"$error":"#N/A"},{"$error":"#N/A"},{"$error":"#N/A"},{"$error":"#N/A"},{"$error":"#N/A"},{"$error":"#N/A"},{"$error":"#N/A"},{"$error":"#N/A"},{"$error":"#N/A"},{"$error":"#N/A"},{"$error":"#N/A"},{"$error":"#N/A"},{"$error":"#N/A"},{"$error":"#N/A"},{"$error":"#N/A"},{"$error":"#N/A"},{"$error":"#N/A"},{"$error":"#N/A"},{"$error":"#N/A"},{"$error":"#N/A"},{"$error":"#N/A"},{"$error":"#N/A"},{"$error":"#N/A"},{"$error":"#N/A"},{"$error":"#N/A"},{"$error":"#N/A"},{"$error":"#N/A"},{"$error":"#N/A"},{"$error":"#N/A"},{"$error":"#N/A"},{"$error":"#N/A"},{"$error":"#N/A"},{"$error":"#N/A"},{"$error":"#N/A"},{"$error":"#N/A"},{"$error":"#N/A"},{"$error":"#N/A"},{"$error":"#N/A"},{"$error":"#N/A"},{"$error":"#N/A"},{"$error":"#N/A"},{"$error":"#N/A"},{"$error":"#N/A"},{"$error":"#N/A"},{"$error":"#N/A"},{"$error":"#N/A"},{"$error":"#N/A"},{"$error":"#N/A"},{"$error":"#N/A"},{"$error":"#N/A"},{"$error":"#N/A"},{"$error":"#N/A"},{"$error":"#N/A"},{"$error":"#N/A"},{"$error":"#N/A"},{"$error":"#N/A"},{"$error":"#N/A"},{"$error":"#N/A"},{"$error":"#N/A"},{"$error":"#N/A"},{"$error":"#N/A"},{"$error":"#N/A"},{"$error":"#N/A"},{"$error":"#N/A"},{"$error":"#N/A"},{"$error":"#N/A"},{"$error":"#N/A"},{"$error":"#N/A"},{"$error":"#N/A"},{"$error":"#N/A"},{"$error":"#N/A"},{"$error":"#N/A"},{"$error":"#N/A"},{"$error":"#N/A"},{"$error":"#N/A"},{"$error":"#N/A"},{"$error":"#N/A"},{"$error":"#N/A"},{"$error":"#N/A"},{"$error":"#N/A"},{"$error":"#N/A"},{"$error":"#N/A"},{"$error":"#N/A"},{"$error":"#N/A"},{"$error":"#N/A"},{"$error":"#N/A"}]
[null,null,null,null,null,null,null,null,null,null,null,{"$error":"#N/A"},84,{"$f":"VLOOKUP($M101,Funknavigation!$A$2:$AC$185,N$17,FALSE)","v":"Karlsruhe "},{"$f":"VLOOKUP($M101,Funknavigation!$A$2:$AC$185,O$17,FALSE)","v":"DVOR/DME "},{"$f":"VLOOKUP($M101,Funknavigation!$A$2:$AC$185,P$17,FALSE)","v":"KRH"},{"$f":"VLOOKUP($M101,Funknavigation!$A$2:$AC$185,Q$17,FALSE)","v":"− · −   · − ·   · · · ·"},{"$f":"VLOOKUP($M101,Funknavigation!$A$2:$AC$185,R$17,FALSE)","v":84},{"$f":"VLOOKUP($M101,Funknavigation!$A$2:$AC$185,S$17,FALSE)","v":48.993099999999998},{"$f":"VLOOKUP($M101,Funknavigation!$A$2:$AC$185,T$17,FALSE)","v":8.5841999999999992},{"$f":"VLOOKUP($M101,Funknavigation!$A$2:$AC$185,U$17,FALSE)","v":"115.95"},{"$f":"VLOOKUP($M101,Funknavigation!$A$2:$AC$185,V$17,FALSE)","v":""},{"$f":"VLOOKUP($M101,Funknavigation!$A$2:$AC$185,W$17,FALSE)","v":"Ch 106y "},{"$f":"VLOOKUP($M101,Funknavigation!$A$2:$AC$185,X$17,FALSE)","v":40},null,null,0.85509090575883384,0.14982255364969721,{"$f":"IF(AG101=1,MAX(MAX(AC$18:$AC100),MAX($AD$18:$AD$193))+1,\"-\")","v":{"$error":"#N/A"}},{"$f":"IF(AH101=1,MAX($AD$18:AD100)+1,\"-\")","v":{"$error":"#N/A"}},{"$error":"#N/A"},{"$error":"#N/A"},{"$error":"#N/A"},{"$error":"#N/A"},{"$error":"#N/A"},{"$error":"#N/A"},{"$error":"#N/A"},{"$error":"#N/A"},{"$error":"#N/A"},{"$error":"#N/A"},{"$error":"#N/A"},{"$error":"#N/A"},{"$error":"#N/A"},{"$error":"#N/A"},{"$error":"#N/A"},{"$error":"#N/A"},{"$error":"#N/A"},{"$error":"#N/A"},{"$error":"#N/A"},{"$error":"#N/A"},{"$error":"#N/A"},{"$error":"#N/A"},{"$error":"#N/A"},{"$error":"#N/A"},{"$error":"#N/A"},{"$error":"#N/A"},{"$error":"#N/A"},{"$error":"#N/A"},{"$error":"#N/A"},{"$error":"#N/A"},{"$error":"#N/A"},{"$error":"#N/A"},{"$error":"#N/A"},{"$error":"#N/A"},{"$error":"#N/A"},{"$error":"#N/A"},{"$error":"#N/A"},{"$error":"#N/A"},{"$error":"#N/A"},{"$error":"#N/A"},{"$error":"#N/A"},{"$error":"#N/A"},{"$error":"#N/A"},{"$error":"#N/A"},{"$error":"#N/A"},{"$error":"#N/A"},{"$error":"#N/A"},{"$error":"#N/A"},{"$error":"#N/A"},{"$error":"#N/A"},{"$error":"#N/A"},{"$error":"#N/A"},{"$error":"#N/A"},{"$error":"#N/A"},{"$error":"#N/A"},{"$error":"#N/A"},{"$error":"#N/A"},{"$error":"#N/A"},{"$error":"#N/A"},{"$error":"#N/A"},{"$error":"#N/A"},{"$error":"#N/A"},{"$error":"#N/A"},{"$error":"#N/A"},{"$error":"#N/A"},{"$error":"#N/A"},{"$error":"#N/A"},{"$error":"#N/A"},{"$error":"#N/A"},{"$error":"#N/A"},{"$error":"#N/A"},{"$error":"#N/A"},{"$error":"#N/A"},{"$error":"#N/A"},{"$error":"#N/A"},{"$error":"#N/A"},{"$error":"#N/A"},{"$error":"#N/A"},{"$error":"#N/A"},{"$error":"#N/A"},{"$error":"#N/A"},{"$error":"#N/A"},{"$error":"#N/A"},{"$error":"#N/A"},{"$error":"#N/A"},{"$error":"#N/A"},{"$error":"#N/A"},{"$error":"#N/A"},{"$error":"#N/A"},{"$error":"#N/A"},{"$error":"#N/A"},{"$error":"#N/A"},{"$error":"#N/A"},{"$error":"#N/A"},{"$error":"#N/A"},{"$error":"#N/A"},{"$error":"#N/A"},{"$error":"#N/A"},{"$error":"#N/A"},{"$error":"#N/A"},{"$error":"#N/A"},{"$error":"#N/A"},{"$error":"#N/A"},{"$error":"#N/A"},{"$error":"#N/A"},{"$error":"#N/A"}]
[null,null,null,null,null,null,null,null,null,null,null,{"$error":"#N/A"},85,{"$f":"VLOOKUP($M102,Funknavigation!$A$2:$AC$185,N$17,FALSE)","v":"Karlsruhe/Baden-Baden "},{"$f":"VLOOKUP($M102,Funknavigation!$A$2:$AC$185,O$17,FALSE)","v":"NDB "},{"$f":"VLOOKUP($M102,Funknavigation!$A$2:$AC$185,P$17,FALSE)","v":"KBA"},{"$f":"VLOOKUP($M102,Funknavigation!$A$2:$AC$185,Q$17,FALSE)","v":"− · −   − · · ·   · −"},{"$f":"VLOOKUP($M102,Funknavigation!$A$2:$AC$185,R$17,FALSE)","v":85},{"$f":"VLOOKUP($M102,Funknavigation!$A$2:$AC$185,S$17,FALSE)","v":48.798099999999998},{"$f":"VLOOKUP($M102,Funknavigation!$A$2:$AC$185,T$17,FALSE)","v":8.0975000000000001},{"$f":"VLOOKUP($M102,Funknavigation!$A$2:$AC$185,U$17,FALSE)","v":""},{"$f":"VLOOKUP($M102,Funknavigation!$A$2:$AC$185,V$17,FALSE)","v":431},{"$f":"VLOOKUP($M102,Funknavigation!$A$2:$AC$185,W$17,FALSE)","v":""},{"$f":"VLOOKUP($M102,Funknavigation!$A$2:$AC$185,X$17,FALSE)","v":30},null,null,0.85168751371744489,0.14132803618024084,{"$f":"IF(AG102=1,MAX(MAX(AC$18:$AC101),MAX($AD$18:$AD$193))+1,\"-\")","v":{"$error":"#N/A"}},{"$f":"IF(AH102=1,MAX($AD$18:AD101)+1,\"-\")","v":{"$error":"#N/A"}},{"$error":"#N/A"},{"$error":"#N/A"},{"$error":"#N/A"},{"$error":"#N/A"},{"$error":"#N/A"},{"$error":"#N/A"},{"$error":"#N/A"},{"$error":"#N/A"},{"$error":"#N/A"},{"$error":"#N/A"},{"$error":"#N/A"},{"$error":"#N/A"},{"$error":"#N/A"},{"$error":"#N/A"},{"$error":"#N/A"},{"$error":"#N/A"},{"$error":"#N/A"},{"$error":"#N/A"},{"$error":"#N/A"},{"$error":"#N/A"},{"$error":"#N/A"},{"$error":"#N/A"},{"$error":"#N/A"},{"$error":"#N/A"},{"$error":"#N/A"},{"$error":"#N/A"},{"$error":"#N/A"},{"$error":"#N/A"},{"$error":"#N/A"},{"$error":"#N/A"},{"$error":"#N/A"},{"$error":"#N/A"},{"$error":"#N/A"},{"$error":"#N/A"},{"$error":"#N/A"},{"$error":"#N/A"},{"$error":"#N/A"},{"$error":"#N/A"},{"$error":"#N/A"},{"$error":"#N/A"},{"$error":"#N/A"},{"$error":"#N/A"},{"$error":"#N/A"},{"$error":"#N/A"},{"$error":"#N/A"},{"$error":"#N/A"},{"$error":"#N/A"},{"$error":"#N/A"},{"$error":"#N/A"},{"$error":"#N/A"},{"$error":"#N/A"},{"$error":"#N/A"},{"$error":"#N/A"},{"$error":"#N/A"},{"$error":"#N/A"},{"$error":"#N/A"},{"$error":"#N/A"},{"$error":"#N/A"},{"$error":"#N/A"},{"$error":"#N/A"},{"$error":"#N/A"},{"$error":"#N/A"},{"$error":"#N/A"},{"$error":"#N/A"},{"$error":"#N/A"},{"$error":"#N/A"},{"$error":"#N/A"},{"$error":"#N/A"},{"$error":"#N/A"},{"$error":"#N/A"},{"$error":"#N/A"},{"$error":"#N/A"},{"$error":"#N/A"},{"$error":"#N/A"},{"$error":"#N/A"},{"$error":"#N/A"},{"$error":"#N/A"},{"$error":"#N/A"},{"$error":"#N/A"},{"$error":"#N/A"},{"$error":"#N/A"},{"$error":"#N/A"},{"$error":"#N/A"},{"$error":"#N/A"},{"$error":"#N/A"},{"$error":"#N/A"},{"$error":"#N/A"},{"$error":"#N/A"},{"$error":"#N/A"},{"$error":"#N/A"},{"$error":"#N/A"},{"$error":"#N/A"},{"$error":"#N/A"},{"$error":"#N/A"},{"$error":"#N/A"},{"$error":"#N/A"},{"$error":"#N/A"},{"$error":"#N/A"},{"$error":"#N/A"},{"$error":"#N/A"},{"$error":"#N/A"},{"$error":"#N/A"},{"$error":"#N/A"},{"$error":"#N/A"},{"$error":"#N/A"},{"$error":"#N/A"}]
[null,null,null,null,null,null,null,null,null,null,null,{"$error":"#N/A"},86,{"$f":"VLOOKUP($M103,Funknavigation!$A$2:$AC$185,N$17,FALSE)","v":"Karlsruhe/Baden-Baden"},{"$f":"VLOOKUP($M103,Funknavigation!$A$2:$AC$185,O$17,FALSE)","v":"DME "},{"$f":"VLOOKUP($M103,Funknavigation!$A$2:$AC$185,P$17,FALSE)","v":"KBD"},{"$f":"VLOOKUP($M103,Funknavigation!$A$2:$AC$185,Q$17,FALSE)","v":"− · −   − · · ·   − · ·"},{"$f":"VLOOKUP($M103,Funknavigation!$A$2:$AC$185,R$17,FALSE)","v":86},{"$f":"VLOOKUP($M103,Funknavigation!$A$2:$AC$185,S$17,FALSE)","v":48.780299999999997},{"$f":"VLOOKUP($M103,Funknavigation!$A$2:$AC$185,T$17,FALSE)","v":8.0885999999999996},{"$f":"VLOOKUP($M103,Funknavigation!$A$2:$AC$185,U$17,FALSE)","v":"115.80"},{"$f":"VLOOKUP($M103,Funknavigation!$A$2:$AC$185,V$17,FALSE)","v":""},{"$f":"VLOOKUP($M103,Funknavigation!$A$2:$AC$185,W$17,FALSE)","v":"Ch 105x (*) "},{"$f":"VLOOKUP($M103,Funknavigation!$A$2:$AC$185,X$17,FALSE)","v":25},null,null,0.85137684511058986,0.14117270187681333,{"$f":"IF(AG103=1,MAX(MAX(AC$18:$AC102),MAX($AD$18:$AD$193))+1,\"-\")","v":{"$error":"#N/A"}},{"$f":"IF(AH103=1,MAX($AD$18:AD102)+1,\"-\")","v":{"$error":"#N/A"}},{"$error":"#N/A"},{"$error":"#N/A"},{"$error":"#N/A"},{"$error":"#N/A"},{"$error":"#N/A"},{"$error":"#N/A"},{"$error":"#N/A"},{"$error":"#N/A"},{"$error":"#N/A"},{"$error":"#N/A"},{"$error":"#N/A"},{"$error":"#N/A"},{"$error":"#N/A"},{"$error":"#N/A"},{"$error":"#N/A"},{"$error":"#N/A"},{"$error":"#N/A"},{"$error":"#N/A"},{"$error":"#N/A"},{"$error":"#N/A"},{"$error":"#N/A"},{"$error":"#N/A"},{"$error":"#N/A"},{"$error":"#N/A"},{"$error":"#N/A"},{"$error":"#N/A"},{"$error":"#N/A"},{"$error":"#N/A"},{"$error":"#N/A"},{"$error":"#N/A"},{"$error":"#N/A"},{"$error":"#N/A"},{"$error":"#N/A"},{"$error":"#N/A"},{"$error":"#N/A"},{"$error":"#N/A"},{"$error":"#N/A"},{"$error":"#N/A"},{"$error":"#N/A"},{"$error":"#N/A"},{"$error":"#N/A"},{"$error":"#N/A"},{"$error":"#N/A"},{"$error":"#N/A"},{"$error":"#N/A"},{"$error":"#N/A"},{"$error":"#N/A"},{"$error":"#N/A"},{"$error":"#N/A"},{"$error":"#N/A"},{"$error":"#N/A"},{"$error":"#N/A"},{"$error":"#N/A"},{"$error":"#N/A"},{"$error":"#N/A"},{"$error":"#N/A"},{"$error":"#N/A"},{"$error":"#N/A"},{"$error":"#N/A"},{"$error":"#N/A"},{"$error":"#N/A"},{"$error":"#N/A"},{"$error":"#N/A"},{"$error":"#N/A"},{"$error":"#N/A"},{"$error":"#N/A"},{"$error":"#N/A"},{"$error":"#N/A"},{"$error":"#N/A"},{"$error":"#N/A"},{"$error":"#N/A"},{"$error":"#N/A"},{"$error":"#N/A"},{"$error":"#N/A"},{"$error":"#N/A"},{"$error":"#N/A"},{"$error":"#N/A"},{"$error":"#N/A"},{"$error":"#N/A"},{"$error":"#N/A"},{"$error":"#N/A"},{"$error":"#N/A"},{"$error":"#N/A"},{"$error":"#N/A"},{"$error":"#N/A"},{"$error":"#N/A"},{"$error":"#N/A"},{"$error":"#N/A"},{"$error":"#N/A"},{"$error":"#N/A"},{"$f":"IF(DQ$3=\"OK\",(21600/(2*PI()))*ACOS(SIN($AA103)*SIN(DQ$6)+COS(DQ$6)*COS($AA103)*COS($AB103-DQ$7)),\"-\")","v":{"$error":"#N/A"}},{"$error":"#N/A"},{"$error":"#N/A"},{"$error":"#N/A"},{"$error":"#N/A"},{"$error":"#N/A"},{"$error":"#N/A"},{"$error":"#N/A"},{"$error":"#N/A"},{"$error":"#N/A"},{"$error":"#N/A"},{"$error":"#N/A"},{"$error":"#N/A"},{"$error":"#N/A"},{"$error":"#N/A"},{"$error":"#N/A"}]
[null,null,null,null,null,null,null,null,null,null,null,{"$error":"#N/A"},87,{"$f":"VLOOKUP($M104,Funknavigation!$A$2:$AC$185,N$17,FALSE)","v":"Kassel-Calden "},{"$f":"VLOOKUP($M104,Funknavigation!$A$2:$AC$185,O$17,FALSE)","v":"DME "},{"$f":"VLOOKUP($M104,Funknavigation!$A$2:$AC$185,P$17,FALSE)","v":"DKS"},{"$f":"VLOOKUP($M104,Funknavigation!$A$2:$AC$185,Q$17,FALSE)","v":"− · ·   − · −   · · ·"},{"$f":"VLOOKUP($M104,Funknavigation!$A$2:$AC$185,R$17,FALSE)","v":87},{"$f":"VLOOKUP($M104,Funknavigation!$A$2:$AC$185,S$17,FALSE)","v":51.421100000000003},{"$f":"VLOOKUP($M104,Funknavigation!$A$2:$AC$185,T$17,FALSE)","v":9.4053000000000004},{"$f":"VLOOKUP($M104,Funknavigation!$A$2:$AC$185,U$17,FALSE)","v":"111.50"},{"$f":"VLOOKUP($M104,Funknavigation!$A$2:$AC$185,V$17,FALSE)","v":""},{"$f":"VLOOKUP($M104,Funknavigation!$A$2:$AC$185,W$17,FALSE)","v":"Ch CH52x (*) "},{"$f":"VLOOKUP($M104,Funknavigation!$A$2:$AC$185,X$17,FALSE)","v":25},null,null,0.89746749999725617,0.16415345213782268,{"$f":"IF(AG104=1,MAX(MAX(AC$18:$AC103),MAX($AD$18:$AD$193))+1,\"-\")","v":{"$error":"#N/A"}},{"$f":"IF(AH104=1,MAX($AD$18:AD103)+1,\"-\")","v":{"$error":"#N/A"}},{"$error":"#N/A"},{"$error":"#N/A"},{"$error":"#N/A"},{"$error":"#N/A"},{"$error":"#N/A"},{"$error":"#N/A"},{"$error":"#N/A"},{"$error":"#N/A"},{"$error":"#N/A"},{"$error":"#N/A"},{"$error":"#N/A"},{"$error":"#N/A"},{"$error":"#N/A"},{"$error":"#N/A"},{"$error":"#N/A"},{"$error":"#N/A"},{"$error":"#N/A"},{"$error":"#N/A"},{"$error":"#N/A"},{"$error":"#N/A"},{"$error":"#N/A"},{"$error":"#N/A"},{"$error":"#N/A"},{"$error":"#N/A"},{"$error":"#N/A"},{"$error":"#N/A"},{"$error":"#N/A"},{"$error":"#N/A"},{"$error":"#N/A"},{"$error":"#N/A"},{"$error":"#N/A"},{"$error":"#N/A"},{"$error":"#N/A"},{"$error":"#N/A"},{"$error":"#N/A"},{"$error":"#N/A"},{"$error":"#N/A"},{"$error":"#N/A"},{"$error":"#N/A"},{"$error":"#N/A"},{"$error":"#N/A"},{"$error":"#N/A"},{"$error":"#N/A"},{"$error":"#N/A"},{"$error":"#N/A"},{"$error":"#N/A"},{"$error":"#N/A"},{"$error":"#N/A"},{"$error":"#N/A"},{"$error":"#N/A"},{"$error":"#N/A"},{"$error":"#N/A"},{"$error":"#N/A"},{"$error":"#N/A"},{"$error":"#N/A"},{"$error":"#N/A"},{"$error":"#N/A"},{"$error":"#N/A"},{"$error":"#N/A"},{"$error":"#N/A"},{"$error":"#N/A"},{"$error":"#N/A"},{"$error":"#N/A"},{"$error":"#N/A"},{"$error":"#N/A"},{"$error":"#N/A"},{"$error":"#N/A"},{"$error":"#N/A"},{"$error":"#N/A"},{"$error":"#N/A"},{"$error":"#N/A"},{"$error":"#N/A"},{"$error":"#N/A"},{"$error":"#N/A"},{"$error":"#N/A"},{"$error":"#N/A"},{"$error":"#N/A"},{"$error":"#N/A"},{"$error":"#N/A"},{"$error":"#N/A"},{"$error":"#N/A"},{"$error":"#N/A"},{"$error":"#N/A"},{"$error":"#N/A"},{"$error":"#N/A"},{"$error":"#N/A"},{"$error":"#N/A"},{"$error":"#N/A"},{"$error":"#N/A"},{"$error":"#N/A"},{"$error":"#N/A"},{"$error":"#N/A"},{"$error":"#N/A"},{"$error":"#N/A"},{"$error":"#N/A"},{"$error":"#N/A"},{"$error":"#N/A"},{"$error":"#N/A"},{"$error":"#N/A"},{"$error":"#N/A"},{"$error":"#N/A"},{"$error":"#N/A"},{"$error":"#N/A"},{"$error":"#N/A"},{"$error":"#N/A"},{"$error":"#N/A"}]
[null,null,null,null,null,null,null,null,null,null,null,{"$error":"#N/A"},88,{"$f":"VLOOKUP($M105,Funknavigation!$A$2:$AC$185,N$17,FALSE)","v":"Kempten "},{"$f":"VLOOKUP($M105,Funknavigation!$A$2:$AC$185,O$17,FALSE)","v":"DVOR/DME "},{"$f":"VLOOKUP($M105,Funknavigation!$A$2:$AC$185,P$17,FALSE)","v":"KPT"},{"$f":"VLOOKUP($M105,Funknavigation!$A$2:$AC$185,Q$17,FALSE)","v":"− · −   · − − ·   −"},{"$f":"VLOOKUP($M105,Funknavigation!$A$2:$AC$185,R$17,FALSE)","v":88},{"$f":"VLOOKUP($M105,Funknavigation!$A$2:$AC$185,S$17,FALSE)","v":47.745800000000003},{"$f":"VLOOKUP($M105,Funknavigation!$A$2:$AC$185,T$17,FALSE)","v":10.3497},{"$f":"VLOOKUP($M105,Funknavigation!$A$2:$AC$185,U$17,FALSE)","v":"108.40"},{"$f":"VLOOKUP($M105,Funknavigation!$A$2:$AC$185,V$17,FALSE)","v":""},{"$f":"VLOOKUP($M105,Funknavigation!$A$2:$AC$185,W$17,FALSE)","v":"Ch 21x "},{"$f":"VLOOKUP($M105,Funknavigation!$A$2:$AC$185,X$17,FALSE)","v":60},null,null,0.83332141399870863,0.18063634159365713,{"$f":"IF(AG105=1,MAX(MAX(AC$18:$AC104),MAX($AD$18:$AD$193))+1,\"-\")","v":{"$error":"#N/A"}},{"$f":"IF(AH105=1,MAX($AD$18:AD104)+1,\"-\")","v":{"$error":"#N/A"}},{"$error":"#N/A"},{"$error":"#N/A"},{"$error":"#N/A"},{"$error":"#N/A"},{"$error":"#N/A"},{"$error":"#N/A"},{"$error":"#N/A"},{"$error":"#N/A"},{"$error":"#N/A"},{"$error":"#N/A"},{"$error":"#N/A"},{"$error":"#N/A"},{"$error":"#N/A"},{"$error":"#N/A"},{"$error":"#N/A"},{"$error":"#N/A"},{"$error":"#N/A"},{"$error":"#N/A"},{"$error":"#N/A"},{"$error":"#N/A"},{"$error":"#N/A"},{"$error":"#N/A"},{"$error":"#N/A"},{"$error":"#N/A"},{"$error":"#N/A"},{"$error":"#N/A"},{"$error":"#N/A"},{"$error":"#N/A"},{"$error":"#N/A"},{"$error":"#N/A"},{"$error":"#N/A"},{"$error":"#N/A"},{"$error":"#N/A"},{"$error":"#N/A"},{"$error":"#N/A"},{"$error":"#N/A"},{"$error":"#N/A"},{"$error":"#N/A"},{"$error":"#N/A"},{"$error":"#N/A"},{"$error":"#N/A"},{"$error":"#N/A"},{"$error":"#N/A"},{"$error":"#N/A"},{"$error":"#N/A"},{"$error":"#N/A"},{"$error":"#N/A"},{"$error":"#N/A"},{"$error":"#N/A"},{"$error":"#N/A"},{"$error":"#N/A"},{"$error":"#N/A"},{"$error":"#N/A"},{"$error":"#N/A"},{"$error":"#N/A"},{"$error":"#N/A"},{"$error":"#N/A"},{"$error":"#N/A"},{"$error":"#N/A"},{"$error":"#N/A"},{"$error":"#N/A"},{"$error":"#N/A"},{"$error":"#N/A"},{"$error":"#N/A"},{"$error":"#N/A"},{"$error":"#N/A"},{"$error":"#N/A"},{"$error":"#N/A"},{"$error":"#N/A"},{"$error":"#N/A"},{"$error":"#N/A"},{"$error":"#N/A"},{"$error":"#N/A"},{"$error":"#N/A"},{"$error":"#N/A"},{"$error":"#N/A"},{"$error":"#N/A"},{"$error":"#N/A"},{"$error":"#N/A"},{"$error":"#N/A"},{"$error":"#N/A"},{"$error":"#N/A"},{"$error":"#N/A"},{"$error":"#N/A"},{"$error":"#N/A"},{"$error":"#N/A"},{"$error":"#N/A"},{"$error":"#N/A"},{"$error":"#N/A"},{"$error":"#N/A"},{"$error":"#N/A"},{"$error":"#N/A"},{"$error":"#N/A"},{"$error":"#N/A"},{"$error":"#N/A"},{"$error":"#N/A"},{"$error":"#N/A"},{"$error":"#N/A"},{"$error":"#N/A"},{"$error":"#N/A"},{"$error":"#N/A"},{"$error":"#N/A"},{"$error":"#N/A"},{"$error":"#N/A"},{"$error":"#N/A"},{"$error":"#N/A"}]
[null,null,null,null,null,null,null,null,null,null,null,{"$error":"#N/A"},89,{"$f":"VLOOKUP($M106,Funknavigation!$A$2:$AC$185,N$17,FALSE)","v":"Kiel-Holtenau "},{"$f":"VLOOKUP($M106,Funknavigation!$A$2:$AC$185,O$17,FALSE)","v":"NDB "},{"$f":"VLOOKUP($M106,Funknavigation!$A$2:$AC$185,P$17,FALSE)","v":"KIL"},{"$f":"VLOOKUP($M106,Funknavigation!$A$2:$AC$185,Q$17,FALSE)","v":"− · −   · ·   · − · ·"},{"$f":"VLOOKUP($M106,Funknavigation!$A$2:$AC$185,R$17,FALSE)","v":89},{"$f":"VLOOKUP($M106,Funknavigation!$A$2:$AC$185,S$17,FALSE)","v":54.377499999999998},{"$f":"VLOOKUP($M106,Funknavigation!$A$2:$AC$185,T$17,FALSE)","v":10.119999999999999},{"$f":"VLOOKUP($M106,Funknavigation!$A$2:$AC$185,U$17,FALSE)","v":""},{"$f":"VLOOKUP($M106,Funknavigation!$A$2:$AC$185,V$17,FALSE)","v":353},{"$f":"VLOOKUP($M106,Funknavigation!$A$2:$AC$185,W$17,FALSE)","v":""},{"$f":"VLOOKUP($M106,Funknavigation!$A$2:$AC$185,X$17,FALSE)","v":30},null,null,0.94906641400321645,0.17662732030182612,{"$f":"IF(AG106=1,MAX(MAX(AC$18:$AC105),MAX($AD$18:$AD$193))+1,\"-\")","v":{"$error":"#N/A"}},{"$f":"IF(AH106=1,MAX($AD$18:AD105)+1,\"-\")","v":{"$error":"#N/A"}},{"$error":"#N/A"},{"$error":"#N/A"},{"$error":"#N/A"},{"$error":"#N/A"},{"$error":"#N/A"},{"$error":"#N/A"},{"$error":"#N/A"},{"$error":"#N/A"},{"$error":"#N/A"},{"$error":"#N/A"},{"$error":"#N/A"},{"$error":"#N/A"},{"$error":"#N/A"},{"$error":"#N/A"},{"$error":"#N/A"},{"$error":"#N/A"},{"$error":"#N/A"},{"$error":"#N/A"},{"$error":"#N/A"},{"$error":"#N/A"},{"$error":"#N/A"},{"$error":"#N/A"},{"$error":"#N/A"},{"$error":"#N/A"},{"$error":"#N/A"},{"$error":"#N/A"},{"$error":"#N/A"},{"$error":"#N/A"},{"$error":"#N/A"},{"$error":"#N/A"},{"$error":"#N/A"},{"$error":"#N/A"},{"$error":"#N/A"},{"$error":"#N/A"},{"$error":"#N/A"},{"$error":"#N/A"},{"$error":"#N/A"},{"$error":"#N/A"},{"$error":"#N/A"},{"$error":"#N/A"},{"$error":"#N/A"},{"$error":"#N/A"},{"$error":"#N/A"},{"$error":"#N/A"},{"$error":"#N/A"},{"$error":"#N/A"},{"$error":"#N/A"},{"$error":"#N/A"},{"$error":"#N/A"},{"$error":"#N/A"},{"$error":"#N/A"},{"$error":"#N/A"},{"$error":"#N/A"},{"$error":"#N/A"},{"$error":"#N/A"},{"$error":"#N/A"},{"$error":"#N/A"},{"$error":"#N/A"},{"$error":"#N/A"},{"$error":"#N/A"},{"$error":"#N/A"},{"$error":"#N/A"},{"$error":"#N/A"},{"$error":"#N/A"},{"$error":"#N/A"},{"$error":"#N/A"},{"$error":"#N/A"},{"$error":"#N/A"},{"$error":"#N/A"},{"$error":"#N/A"},{"$error":"#N/A"},{"$error":"#N/A"},{"$error":"#N/A"},{"$error":"#N/A"},{"$error":"#N/A"},{"$error":"#N/A"},{"$error":"#N/A"},{"$error":"#N/A"},{"$error":"#N/A"},{"$error":"#N/A"},{"$error":"#N/A"},{"$error":"#N/A"},{"$error":"#N/A"},{"$error":"#N/A"},{"$error":"#N/A"},{"$error":"#N/A"},{"$error":"#N/A"},{"$error":"#N/A"},{"$error":"#N/A"},{"$error":"#N/A"},{"$error":"#N/A"},{"$error":"#N/A"},{"$error":"#N/A"},{"$error":"#N/A"},{"$error":"#N/A"},{"$error":"#N/A"},{"$error":"#N/A"},{"$error":"#N/A"},{"$error":"#N/A"},{"$error":"#N/A"},{"$error":"#N/A"},{"$error":"#N/A"},{"$error":"#N/A"},{"$error":"#N/A"},{"$error":"#N/A"},{"$error":"#N/A"}]
[null,null,null,null,null,null,null,null,null,null,null,{"$error":"#N/A"},90,{"$f":"VLOOKUP($M107,Funknavigation!$A$2:$AC$185,N$17,FALSE)","v":"Kiel-Holtenau"},{"$f":"VLOOKUP($M107,Funknavigation!$A$2:$AC$185,O$17,FALSE)","v":"DME "},{"$f":"VLOOKUP($M107,Funknavigation!$A$2:$AC$185,P$17,FALSE)","v":"KHD"},{"$f":"VLOOKUP($M107,Funknavigation!$A$2:$AC$185,Q$17,FALSE)","v":"− · −   · · · ·   − · ·"},{"$f":"VLOOKUP($M107,Funknavigation!$A$2:$AC$185,R$17,FALSE)","v":90},{"$f":"VLOOKUP($M107,Funknavigation!$A$2:$AC$185,S$17,FALSE)","v":54.378900000000002},{"$f":"VLOOKUP($M107,Funknavigation!$A$2:$AC$185,T$17,FALSE)","v":10.145300000000001},{"$f":"VLOOKUP($M107,Funknavigation!$A$2:$AC$185,U$17,FALSE)","v":"109.50"},{"$f":"VLOOKUP($M107,Funknavigation!$A$2:$AC$185,V$17,FALSE)","v":""},{"$f":"VLOOKUP($M107,Funknavigation!$A$2:$AC$185,W$17,FALSE)","v":"Ch 32x "},{"$f":"VLOOKUP($M107,Funknavigation!$A$2:$AC$185,X$17,FALSE)","v":25},null,null,0.9490908486127444,0.17706888860258072,{"$f":"IF(AG107=1,MAX(MAX(AC$18:$AC106),MAX($AD$18:$AD$193))+1,\"-\")","v":{"$error":"#N/A"}},{"$f":"IF(AH107=1,MAX($AD$18:AD106)+1,\"-\")","v":{"$error":"#N/A"}},{"$error":"#N/A"},{"$error":"#N/A"},{"$error":"#N/A"},{"$error":"#N/A"},{"$error":"#N/A"},{"$error":"#N/A"},{"$error":"#N/A"},{"$error":"#N/A"},{"$error":"#N/A"},{"$error":"#N/A"},{"$error":"#N/A"},{"$error":"#N/A"},{"$error":"#N/A"},{"$error":"#N/A"},{"$error":"#N/A"},{"$error":"#N/A"},{"$error":"#N/A"},{"$error":"#N/A"},{"$error":"#N/A"},{"$error":"#N/A"},{"$error":"#N/A"},{"$error":"#N/A"},{"$error":"#N/A"},{"$error":"#N/A"},{"$error":"#N/A"},{"$error":"#N/A"},{"$error":"#N/A"},{"$error":"#N/A"},{"$error":"#N/A"},{"$error":"#N/A"},{"$error":"#N/A"},{"$error":"#N/A"},{"$error":"#N/A"},{"$error":"#N/A"},{"$error":"#N/A"},{"$error":"#N/A"},{"$error":"#N/A"},{"$error":"#N/A"},{"$error":"#N/A"},{"$error":"#N/A"},{"$error":"#N/A"},{"$error":"#N/A"},{"$error":"#N/A"},{"$error":"#N/A"},{"$error":"#N/A"},{"$error":"#N/A"},{"$error":"#N/A"},{"$error":"#N/A"},{"$error":"#N/A"},{"$error":"#N/A"},{"$error":"#N/A"},{"$error":"#N/A"},{"$error":"#N/A"},{"$error":"#N/A"},{"$error":"#N/A"},{"$error":"#N/A"},{"$error":"#N/A"},{"$error":"#N/A"},{"$error":"#N/A"},{"$error":"#N/A"},{"$error":"#N/A"},{"$error":"#N/A"},{"$error":"#N/A"},{"$error":"#N/A"},{"$error":"#N/A"},{"$error":"#N/A"},{"$error":"#N/A"},{"$error":"#N/A"},{"$error":"#N/A"},{"$error":"#N/A"},{"$error":"#N/A"},{"$error":"#N/A"},{"$error":"#N/A"},{"$error":"#N/A"},{"$error":"#N/A"},{"$error":"#N/A"},{"$error":"#N/A"},{"$error":"#N/A"},{"$error":"#N/A"},{"$error":"#N/A"},{"$error":"#N/A"},{"$error":"#N/A"},{"$error":"#N/A"},{"$error":"#N/A"},{"$error":"#N/A"},{"$error":"#N/A"},{"$error":"#N/A"},{"$error":"#N/A"},{"$error":"#N/A"},{"$error":"#N/A"},{"$error":"#N/A"},{"$error":"#N/A"},{"$error":"#N/A"},{"$error":"#N/A"},{"$error":"#N/A"},{"$error":"#N/A"},{"$error":"#N/A"},{"$error":"#N/A"},{"$error":"#N/A"},{"$error":"#N/A"},{"$error":"#N/A"},{"$error":"#N/A"},{"$error":"#N/A"},{"$error":"#N/A"},{"$error":"#N/A"},{"$error":"#N/A"}]
[null,null,null,null,null,null,null,null,null,null,null,{"$error":"#N/A"},91,{"$f":"VLOOKUP($M108,Funknavigation!$A$2:$AC$185,N$17,FALSE)","v":"Klasdorf "},{"$f":"VLOOKUP($M108,Funknavigation!$A$2:$AC$185,O$17,FALSE)","v":"DVOR/DME "},{"$f":"VLOOKUP($M108,Funknavigation!$A$2:$AC$185,P$17,FALSE)","v":"KLF"},{"$f":"VLOOKUP($M108,Funknavigation!$A$2:$AC$185,Q$17,FALSE)","v":"− · −   · − · ·   · · − ·"},{"$f":"VLOOKUP($M108,Funknavigation!$A$2:$AC$185,R$17,FALSE)","v":91},{"$f":"VLOOKUP($M108,Funknavigation!$A$2:$AC$185,S$17,FALSE)","v":52.019399999999997},{"$f":"VLOOKUP($M108,Funknavigation!$A$2:$AC$185,T$17,FALSE)","v":13.5633},{"$f":"VLOOKUP($M108,Funknavigation!$A$2:$AC$185,U$17,FALSE)","v":"115.15"},{"$f":"VLOOKUP($M108,Funknavigation!$A$2:$AC$185,V$17,FALSE)","v":""},{"$f":"VLOOKUP($M108,Funknavigation!$A$2:$AC$185,W$17,FALSE)","v":"Ch 98y "},{"$f":"VLOOKUP($M108,Funknavigation!$A$2:$AC$185,X$17,FALSE)","v":60},null,null,0.90790980491193818,0.23672424243574691,{"$f":"IF(AG108=1,MAX(MAX(AC$18:$AC107),MAX($AD$18:$AD$193))+1,\"-\")","v":{"$error":"#N/A"}},{"$f":"IF(AH108=1,MAX($AD$18:AD107)+1,\"-\")","v":{"$error":"#N/A"}},{"$error":"#N/A"},{"$error":"#N/A"},{"$error":"#N/A"},{"$error":"#N/A"},{"$error":"#N/A"},{"$error":"#N/A"},{"$error":"#N/A"},{"$f":"IF(AL$3=\"OK\",(21600/(2*PI()))*ACOS(SIN($AA108)*SIN(AL$6)+COS(AL$6)*COS($AA108)*COS($AB108-AL$7)),\"-\")","v":{"$error":"#N/A"}},{"$error":"#N/A"},{"$error":"#N/A"},{"$error":"#N/A"},{"$error":"#N/A"},{"$error":"#N/A"},{"$error":"#N/A"},{"$error":"#N/A"},{"$error":"#N/A"},{"$error":"#N/A"},{"$f":"IF(AV$3=\"OK\",(21600/(2*PI()))*ACOS(SIN($AA108)*SIN(AV$6)+COS(AV$6)*COS($AA108)*COS($AB108-AV$7)),\"-\")","v":{"$error":"#N/A"}},{"$error":"#N/A"},{"$error":"#N/A"},{"$error":"#N/A"},{"$error":"#N/A"},{"$error":"#N/A"},{"$error":"#N/A"},{"$error":"#N/A"},{"$error":"#N/A"},{"$error":"#N/A"},{"$f":"IF(BF$3=\"OK\",(21600/(2*PI()))*ACOS(SIN($AA108)*SIN(BF$6)+COS(BF$6)*COS($AA108)*COS($AB108-BF$7)),\"-\")","v":{"$error":"#N/A"}},{"$error":"#N/A"},{"$error":"#N/A"},{"$error":"#N/A"},{"$error":"#N/A"},{"$error":"#N/A"},{"$error":"#N/A"},{"$error":"#N/A"},{"$error":"#N/A"},{"$error":"#N/A"},{"$f":"IF(BP$3=\"OK\",(21600/(2*PI()))*ACOS(SIN($AA108)*SIN(BP$6)+COS(BP$6)*COS($AA108)*COS($AB108-BP$7)),\"-\")","v":{"$error":"#N/A"}},{"$error":"#N/A"},{"$error":"#N/A"},{"$error":"#N/A"},{"$error":"#N/A"},{"$error":"#N/A"},{"$error":"#N/A"},{"$error":"#N/A"},{"$error":"#N/A"},{"$error":"#N/A"},{"$f":"IF(BZ$3=\"OK\",(21600/(2*PI()))*ACOS(SIN($AA108)*SIN(BZ$6)+COS(BZ$6)*COS($AA108)*COS($AB108-BZ$7)),\"-\")","v":{"$error":"#N/A"}},{"$error":"#N/A"},{"$error":"#N/A"},{"$error":"#N/A"},{"$error":"#N/A"},{"$error":"#N/A"},{"$error":"#N/A"},{"$error":"#N/A"},{"$error":"#N/A"},{"$error":"#N/A"},{"$f":"IF(CJ$3=\"OK\",(21600/(2*PI()))*ACOS(SIN($AA108)*SIN(CJ$6)+COS(CJ$6)*COS($AA108)*COS($AB108-CJ$7)),\"-\")","v":{"$error":"#N/A"}},{"$error":"#N/A"},{"$error":"#N/A"},{"$error":"#N/A"},{"$error":"#N/A"},{"$error":"#N/A"},{"$error":"#N/A"},{"$error":"#N/A"},{"$error":"#N/A"},{"$error":"#N/A"},{"$f":"IF(CT$3=\"OK\",(21600/(2*PI()))*ACOS(SIN($AA108)*SIN(CT$6)+COS(CT$6)*COS($AA108)*COS($AB108-CT$7)),\"-\")","v":{"$error":"#N/A"}},{"$error":"#N/A"},{"$error":"#N/A"},{"$error":"#N/A"},{"$error":"#N/A"},{"$error":"#N/A"},{"$error":"#N/A"},{"$error":"#N/A"},{"$error":"#N/A"},{"$error":"#N/A"},{"$error":"#N/A"},{"$error":"#N/A"},{"$error":"#N/A"},{"$error":"#N/A"},{"$error":"#N/A"},{"$error":"#N/A"},{"$error":"#N/A"},{"$error":"#N/A"},{"$error":"#N/A"},{"$error":"#N/A"},{"$error":"#N/A"},{"$error":"#N/A"},{"$error":"#N/A"},{"$error":"#N/A"},{"$error":"#N/A"},{"$error":"#N/A"},{"$error":"#N/A"},{"$error":"#N/A"},{"$error":"#N/A"},{"$error":"#N/A"},{"$error":"#N/A"},{"$error":"#N/A"},{"$error":"#N/A"},{"$error":"#N/A"},{"$error":"#N/A"},{"$error":"#N/A"},{"$error":"#N/A"},{"$error":"#N/A"},{"$error":"#N/A"}]
[null,null,null,null,null,null,null,null,null,null,null,{"$error":"#N/A"},92,{"$f":"VLOOKUP($M109,Funknavigation!$A$2:$AC$185,N$17,FALSE)","v":"Koeln/Bonn "},{"$f":"VLOOKUP($M109,Funknavigation!$A$2:$AC$185,O$17,FALSE)","v":"VOR/DME "},{"$f":"VLOOKUP($M109,Funknavigation!$A$2:$AC$185,P$17,FALSE)","v":"KBO"},{"$f":"VLOOKUP($M109,Funknavigation!$A$2:$AC$185,Q$17,FALSE)","v":"− · −   − · · ·   − − −"},{"$f":"VLOOKUP($M109,Funknavigation!$A$2:$AC$185,R$17,FALSE)","v":92},{"$f":"VLOOKUP($M109,Funknavigation!$A$2:$AC$185,S$17,FALSE)","v":50.861699999999999},{"$f":"VLOOKUP($M109,Funknavigation!$A$2:$AC$185,T$17,FALSE)","v":7.1456},{"$f":"VLOOKUP($M109,Funknavigation!$A$2:$AC$185,U$17,FALSE)","v":"112.15"},{"$f":"VLOOKUP($M109,Funknavigation!$A$2:$AC$185,V$17,FALSE)","v":""},{"$f":"VLOOKUP($M109,Funknavigation!$A$2:$AC$185,W$17,FALSE)","v":"Ch 58y "},{"$f":"VLOOKUP($M109,Funknavigation!$A$2:$AC$185,X$17,FALSE)","v":25},null,null,0.88770412816159983,0.12471424703050682,{"$f":"IF(AG109=1,MAX(MAX(AC$18:$AC108),MAX($AD$18:$AD$193))+1,\"-\")","v":{"$error":"#N/A"}},{"$f":"IF(AH109=1,MAX($AD$18:AD108)+1,\"-\")","v":{"$error":"#N/A"}},{"$error":"#N/A"},{"$error":"#N/A"},{"$error":"#N/A"},{"$error":"#N/A"},{"$error":"#N/A"},{"$error":"#N/A"},{"$error":"#N/A"},{"$error":"#N/A"},{"$error":"#N/A"},{"$error":"#N/A"},{"$error":"#N/A"},{"$error":"#N/A"},{"$error":"#N/A"},{"$error":"#N/A"},{"$error":"#N/A"},{"$error":"#N/A"},{"$error":"#N/A"},{"$error":"#N/A"},{"$error":"#N/A"},{"$error":"#N/A"},{"$error":"#N/A"},{"$error":"#N/A"},{"$error":"#N/A"},{"$error":"#N/A"},{"$error":"#N/A"},{"$error":"#N/A"},{"$error":"#N/A"},{"$error":"#N/A"},{"$error":"#N/A"},{"$error":"#N/A"},{"$error":"#N/A"},{"$error":"#N/A"},{"$error":"#N/A"},{"$error":"#N/A"},{"$error":"#N/A"},{"$error":"#N/A"},{"$error":"#N/A"},{"$error":"#N/A"},{"$error":"#N/A"},{"$error":"#N/A"},{"$error":"#N/A"},{"$error":"#N/A"},{"$error":"#N/A"},{"$error":"#N/A"},{"$error":"#N/A"},{"$error":"#N/A"},{"$error":"#N/A"},{"$error":"#N/A"},{"$error":"#N/A"},{"$error":"#N/A"},{"$error":"#N/A"},{"$error":"#N/A"},{"$error":"#N/A"},{"$error":"#N/A"},{"$error":"#N/A"},{"$error":"#N/A"},{"$error":"#N/A"},{"$error":"#N/A"},{"$error":"#N/A"},{"$error":"#N/A"},{"$error":"#N/A"},{"$error":"#N/A"},{"$error":"#N/A"},{"$error":"#N/A"},{"$error":"#N/A"},{"$error":"#N/A"},{"$error":"#N/A"},{"$error":"#N/A"},{"$error":"#N/A"},{"$error":"#N/A"},{"$error":"#N/A"},{"$error":"#N/A"},{"$error":"#N/A"},{"$error":"#N/A"},{"$error":"#N/A"},{"$error":"#N/A"},{"$error":"#N/A"},{"$error":"#N/A"},{"$error":"#N/A"},{"$error":"#N/A"},{"$error":"#N/A"},{"$error":"#N/A"},{"$error":"#N/A"},{"$error":"#N/A"},{"$error":"#N/A"},{"$error":"#N/A"},{"$error":"#N/A"},{"$error":"#N/A"},{"$error":"#N/A"},{"$error":"#N/A"},{"$error":"#N/A"},{"$error":"#N/A"},{"$error":"#N/A"},{"$error":"#N/A"},{"$error":"#N/A"},{"$error":"#N/A"},{"$error":"#N/A"},{"$error":"#N/A"},{"$error":"#N/A"},{"$error":"#N/A"},{"$error":"#N/A"},{"$error":"#N/A"},{"$error":"#N/A"},{"$error":"#N/A"},{"$error":"#N/A"},{"$error":"#N/A"}]
[null,null,null,null,null,null,null,null,null,null,null,{"$error":"#N/A"},93,{"$f":"VLOOKUP($M110,Funknavigation!$A$2:$AC$185,N$17,FALSE)","v":"Koeln/Bonn"},{"$f":"VLOOKUP($M110,Funknavigation!$A$2:$AC$185,O$17,FALSE)","v":"LO "},{"$f":"VLOOKUP($M110,Funknavigation!$A$2:$AC$185,P$17,FALSE)","v":"LW"},{"$f":"VLOOKUP($M110,Funknavigation!$A$2:$AC$185,Q$17,FALSE)","v":"· − · ·   · − −"},{"$f":"VLOOKUP($M110,Funknavigation!$A$2:$AC$185,R$17,FALSE)","v":93},{"$f":"VLOOKUP($M110,Funknavigation!$A$2:$AC$185,S$17,FALSE)","v":50.898299999999999},{"$f":"VLOOKUP($M110,Funknavigation!$A$2:$AC$185,T$17,FALSE)","v":7.2527999999999997},{"$f":"VLOOKUP($M110,Funknavigation!$A$2:$AC$185,U$17,FALSE)","v":""},{"$f":"VLOOKUP($M110,Funknavigation!$A$2:$AC$185,V$17,FALSE)","v":300.5},{"$f":"VLOOKUP($M110,Funknavigation!$A$2:$AC$185,W$17,FALSE)","v":""},{"$f":"VLOOKUP($M110,Funknavigation!$A$2:$AC$185,X$17,FALSE)","v":11},null,null,0.88834291866782977,0.12658523998864471,{"$f":"IF(AG110=1,MAX(MAX(AC$18:$AC109),MAX($AD$18:$AD$193))+1,\"-\")","v":{"$error":"#N/A"}},{"$f":"IF(AH110=1,MAX($AD$18:AD109)+1,\"-\")","v":{"$error":"#N/A"}},{"$error":"#N/A"},{"$error":"#N/A"},{"$error":"#N/A"},{"$error":"#N/A"},{"$error":"#N/A"},{"$error":"#N/A"},{"$error":"#N/A"},{"$error":"#N/A"},{"$error":"#N/A"},{"$error":"#N/A"},{"$error":"#N/A"},{"$error":"#N/A"},{"$error":"#N/A"},{"$error":"#N/A"},{"$error":"#N/A"},{"$error":"#N/A"},{"$error":"#N/A"},{"$error":"#N/A"},{"$error":"#N/A"},{"$error":"#N/A"},{"$error":"#N/A"},{"$error":"#N/A"},{"$error":"#N/A"},{"$error":"#N/A"},{"$error":"#N/A"},{"$error":"#N/A"},{"$error":"#N/A"},{"$error":"#N/A"},{"$error":"#N/A"},{"$error":"#N/A"},{"$error":"#N/A"},{"$error":"#N/A"},{"$error":"#N/A"},{"$error":"#N/A"},{"$error":"#N/A"},{"$error":"#N/A"},{"$error":"#N/A"},{"$error":"#N/A"},{"$error":"#N/A"},{"$error":"#N/A"},{"$error":"#N/A"},{"$error":"#N/A"},{"$error":"#N/A"},{"$error":"#N/A"},{"$error":"#N/A"},{"$error":"#N/A"},{"$error":"#N/A"},{"$error":"#N/A"},{"$error":"#N/A"},{"$error":"#N/A"},{"$error":"#N/A"},{"$error":"#N/A"},{"$error":"#N/A"},{"$error":"#N/A"},{"$error":"#N/A"},{"$error":"#N/A"},{"$error":"#N/A"},{"$error":"#N/A"},{"$error":"#N/A"},{"$error":"#N/A"},{"$error":"#N/A"},{"$error":"#N/A"},{"$error":"#N/A"},{"$error":"#N/A"},{"$error":"#N/A"},{"$error":"#N/A"},{"$error":"#N/A"},{"$error":"#N/A"},{"$error":"#N/A"},{"$error":"#N/A"},{"$error":"#N/A"},{"$error":"#N/A"},{"$error":"#N/A"},{"$error":"#N/A"},{"$error":"#N/A"},{"$error":"#N/A"},{"$error":"#N/A"},{"$error":"#N/A"},{"$error":"#N/A"},{"$error":"#N/A"},{"$error":"#N/A"},{"$error":"#N/A"},{"$error":"#N/A"},{"$error":"#N/A"},{"$error":"#N/A"},{"$error":"#N/A"},{"$error":"#N/A"},{"$error":"#N/A"},{"$error":"#N/A"},{"$error":"#N/A"},{"$error":"#N/A"},{"$error":"#N/A"},{"$error":"#N/A"},{"$error":"#N/A"},{"$error":"#N/A"},{"$error":"#N/A"},{"$error":"#N/A"},{"$error":"#N/A"},{"$error":"#N/A"},{"$error":"#N/A"},{"$error":"#N/A"},{"$error":"#N/A"},{"$error":"#N/A"},{"$error":"#N/A"},{"$error":"#N/A"},{"$error":"#N/A"}]
[null,null,null,null,null,null,null,null,null,null,null,{"$error":"#N/A"},94,{"$f":"VLOOKUP($M111,Funknavigation!$A$2:$AC$185,N$17,FALSE)","v":"Koeln/Bonn"},{"$f":"VLOOKUP($M111,Funknavigation!$A$2:$AC$185,O$17,FALSE)","v":"LO "},{"$f":"VLOOKUP($M111,Funknavigation!$A$2:$AC$185,P$17,FALSE)","v":"LV"},{"$f":"VLOOKUP($M111,Funknavigation!$A$2:$AC$185,Q$17,FALSE)","v":"· − · ·   · · · −"},{"$f":"VLOOKUP($M111,Funknavigation!$A$2:$AC$185,R$17,FALSE)","v":94},{"$f":"VLOOKUP($M111,Funknavigation!$A$2:$AC$185,S$17,FALSE)","v":50.804200000000002},{"$f":"VLOOKUP($M111,Funknavigation!$A$2:$AC$185,T$17,FALSE)","v":7.2403000000000004},{"$f":"VLOOKUP($M111,Funknavigation!$A$2:$AC$185,U$17,FALSE)","v":""},{"$f":"VLOOKUP($M111,Funknavigation!$A$2:$AC$185,V$17,FALSE)","v":327},{"$f":"VLOOKUP($M111,Funknavigation!$A$2:$AC$185,W$17,FALSE)","v":""},{"$f":"VLOOKUP($M111,Funknavigation!$A$2:$AC$185,X$17,FALSE)","v":15},null,null,0.88670056384170315,0.12636707383214546,{"$f":"IF(AG111=1,MAX(MAX(AC$18:$AC110),MAX($AD$18:$AD$193))+1,\"-\")","v":{"$error":"#N/A"}},{"$f":"IF(AH111=1,MAX($AD$18:AD110)+1,\"-\")","v":{"$error":"#N/A"}},{"$error":"#N/A"},{"$error":"#N/A"},{"$error":"#N/A"},{"$error":"#N/A"},{"$error":"#N/A"},{"$error":"#N/A"},{"$error":"#N/A"},{"$error":"#N/A"},{"$error":"#N/A"},{"$error":"#N/A"},{"$error":"#N/A"},{"$error":"#N/A"},{"$error":"#N/A"},{"$error":"#N/A"},{"$error":"#N/A"},{"$error":"#N/A"},{"$error":"#N/A"},{"$error":"#N/A"},{"$error":"#N/A"},{"$error":"#N/A"},{"$error":"#N/A"},{"$error":"#N/A"},{"$error":"#N/A"},{"$error":"#N/A"},{"$error":"#N/A"},{"$error":"#N/A"},{"$error":"#N/A"},{"$error":"#N/A"},{"$error":"#N/A"},{"$error":"#N/A"},{"$error":"#N/A"},{"$error":"#N/A"},{"$error":"#N/A"},{"$error":"#N/A"},{"$error":"#N/A"},{"$error":"#N/A"},{"$error":"#N/A"},{"$error":"#N/A"},{"$error":"#N/A"},{"$error":"#N/A"},{"$error":"#N/A"},{"$error":"#N/A"},{"$error":"#N/A"},{"$error":"#N/A"},{"$error":"#N/A"},{"$error":"#N/A"},{"$error":"#N/A"},{"$error":"#N/A"},{"$error":"#N/A"},{"$error":"#N/A"},{"$error":"#N/A"},{"$error":"#N/A"},{"$error":"#N/A"},{"$error":"#N/A"},{"$error":"#N/A"},{"$error":"#N/A"},{"$error":"#N/A"},{"$error":"#N/A"},{"$error":"#N/A"},{"$error":"#N/A"},{"$error":"#N/A"},{"$error":"#N/A"},{"$error":"#N/A"},{"$error":"#N/A"},{"$error":"#N/A"},{"$error":"#N/A"},{"$error":"#N/A"},{"$error":"#N/A"},{"$error":"#N/A"},{"$error":"#N/A"},{"$error":"#N/A"},{"$error":"#N/A"},{"$error":"#N/A"},{"$error":"#N/A"},{"$error":"#N/A"},{"$error":"#N/A"},{"$error":"#N/A"},{"$error":"#N/A"},{"$error":"#N/A"},{"$error":"#N/A"},{"$error":"#N/A"},{"$error":"#N/A"},{"$error":"#N/A"},{"$error":"#N/A"},{"$error":"#N/A"},{"$error":"#N/A"},{"$error":"#N/A"},{"$error":"#N/A"},{"$error":"#N/A"},{"$error":"#N/A"},{"$error":"#N/A"},{"$error":"#N/A"},{"$error":"#N/A"},{"$error":"#N/A"},{"$error":"#N/A"},{"$error":"#N/A"},{"$error":"#N/A"},{"$error":"#N/A"},{"$error":"#N/A"},{"$error":"#N/A"},{"$error":"#N/A"},{"$error":"#N/A"},{"$error":"#N/A"},{"$error":"#N/A"},{"$error":"#N/A"},{"$error":"#N/A"}]
[null,null,null,null,null,null,null,null,null,null,null,{"$error":"#N/A"},95,{"$f":"VLOOKUP($M112,Funknavigation!$A$2:$AC$185,N$17,FALSE)","v":"Koeln/Bonn"},{"$f":"VLOOKUP($M112,Funknavigation!$A$2:$AC$185,O$17,FALSE)","v":"LO "},{"$f":"VLOOKUP($M112,Funknavigation!$A$2:$AC$185,P$17,FALSE)","v":"LJ"},{"$f":"VLOOKUP($M112,Funknavigation!$A$2:$AC$185,Q$17,FALSE)","v":"· − · ·   · − − −"},{"$f":"VLOOKUP($M112,Funknavigation!$A$2:$AC$185,R$17,FALSE)","v":95},{"$f":"VLOOKUP($M112,Funknavigation!$A$2:$AC$185,S$17,FALSE)","v":50.926900000000003},{"$f":"VLOOKUP($M112,Funknavigation!$A$2:$AC$185,T$17,FALSE)","v":7.0621999999999998},{"$f":"VLOOKUP($M112,Funknavigation!$A$2:$AC$185,U$17,FALSE)","v":""},{"$f":"VLOOKUP($M112,Funknavigation!$A$2:$AC$185,V$17,FALSE)","v":365},{"$f":"VLOOKUP($M112,Funknavigation!$A$2:$AC$185,W$17,FALSE)","v":""},{"$f":"VLOOKUP($M112,Funknavigation!$A$2:$AC$185,X$17,FALSE)","v":25},null,null,0.88884208283390032,0.12325864243434353,{"$f":"IF(AG112=1,MAX(MAX(AC$18:$AC111),MAX($AD$18:$AD$193))+1,\"-\")","v":{"$error":"#N/A"}},{"$f":"IF(AH112=1,MAX($AD$18:AD111)+1,\"-\")","v":{"$error":"#N/A"}},{"$error":"#N/A"},{"$error":"#N/A"},{"$error":"#N/A"},{"$error":"#N/A"},{"$error":"#N/A"},{"$error":"#N/A"},{"$error":"#N/A"},{"$error":"#N/A"},{"$error":"#N/A"},{"$error":"#N/A"},{"$error":"#N/A"},{"$error":"#N/A"},{"$error":"#N/A"},{"$error":"#N/A"},{"$error":"#N/A"},{"$error":"#N/A"},{"$error":"#N/A"},{"$error":"#N/A"},{"$error":"#N/A"},{"$error":"#N/A"},{"$error":"#N/A"},{"$error":"#N/A"},{"$error":"#N/A"},{"$error":"#N/A"},{"$error":"#N/A"},{"$error":"#N/A"},{"$error":"#N/A"},{"$error":"#N/A"},{"$error":"#N/A"},{"$error":"#N/A"},{"$error":"#N/A"},{"$error":"#N/A"},{"$error":"#N/A"},{"$error":"#N/A"},{"$error":"#N/A"},{"$error":"#N/A"},{"$error":"#N/A"},{"$error":"#N/A"},{"$error":"#N/A"},{"$error":"#N/A"},{"$error":"#N/A"},{"$error":"#N/A"},{"$error":"#N/A"},{"$error":"#N/A"},{"$error":"#N/A"},{"$error":"#N/A"},{"$error":"#N/A"},{"$error":"#N/A"},{"$error":"#N/A"},{"$error":"#N/A"},{"$error":"#N/A"},{"$error":"#N/A"},{"$error":"#N/A"},{"$error":"#N/A"},{"$error":"#N/A"},{"$error":"#N/A"},{"$error":"#N/A"},{"$error":"#N/A"},{"$error":"#N/A"},{"$error":"#N/A"},{"$error":"#N/A"},{"$error":"#N/A"},{"$error":"#N/A"},{"$error":"#N/A"},{"$error":"#N/A"},{"$error":"#N/A"},{"$error":"#N/A"},{"$error":"#N/A"},{"$error":"#N/A"},{"$error":"#N/A"},{"$error":"#N/A"},{"$error":"#N/A"},{"$error":"#N/A"},{"$error":"#N/A"},{"$error":"#N/A"},{"$error":"#N/A"},{"$error":"#N/A"},{"$error":"#N/A"},{"$error":"#N/A"},{"$error":"#N/A"},{"$error":"#N/A"},{"$error":"#N/A"},{"$error":"#N/A"},{"$error":"#N/A"},{"$error":"#N/A"},{"$error":"#N/A"},{"$error":"#N/A"},{"$error":"#N/A"},{"$error":"#N/A"},{"$error":"#N/A"},{"$error":"#N/A"},{"$error":"#N/A"},{"$error":"#N/A"},{"$error":"#N/A"},{"$error":"#N/A"},{"$error":"#N/A"},{"$error":"#N/A"},{"$error":"#N/A"},{"$error":"#N/A"},{"$error":"#N/A"},{"$error":"#N/A"},{"$error":"#N/A"},{"$error":"#N/A"},{"$error":"#N/A"},{"$error":"#N/A"},{"$error":"#N/A"}]
[null,null,null,null,null,null,null,null,null,null,null,{"$error":"#N/A"},96,{"$f":"VLOOKUP($M113,Funknavigation!$A$2:$AC$185,N$17,FALSE)","v":"Lahr "},{"$f":"VLOOKUP($M113,Funknavigation!$A$2:$AC$185,O$17,FALSE)","v":"DME "},{"$f":"VLOOKUP($M113,Funknavigation!$A$2:$AC$185,P$17,FALSE)","v":"LRD"},{"$f":"VLOOKUP($M113,Funknavigation!$A$2:$AC$185,Q$17,FALSE)","v":"· − · ·   · − ·   − · ·"},{"$f":"VLOOKUP($M113,Funknavigation!$A$2:$AC$185,R$17,FALSE)","v":96},{"$f":"VLOOKUP($M113,Funknavigation!$A$2:$AC$185,S$17,FALSE)","v":48.364199999999997},{"$f":"VLOOKUP($M113,Funknavigation!$A$2:$AC$185,T$17,FALSE)","v":7.8274999999999997},{"$f":"VLOOKUP($M113,Funknavigation!$A$2:$AC$185,U$17,FALSE)","v":"108.05"},{"$f":"VLOOKUP($M113,Funknavigation!$A$2:$AC$185,V$17,FALSE)","v":""},{"$f":"VLOOKUP($M113,Funknavigation!$A$2:$AC$185,W$17,FALSE)","v":"Ch 17y (*) "},{"$f":"VLOOKUP($M113,Funknavigation!$A$2:$AC$185,X$17,FALSE)","v":25},null,null,0.84411453009304138,0.13661564719985614,{"$f":"IF(AG113=1,MAX(MAX(AC$18:$AC112),MAX($AD$18:$AD$193))+1,\"-\")","v":{"$error":"#N/A"}},{"$f":"IF(AH113=1,MAX($AD$18:AD112)+1,\"-\")","v":{"$error":"#N/A"}},{"$error":"#N/A"},{"$error":"#N/A"},{"$error":"#N/A"},{"$error":"#N/A"},{"$error":"#N/A"},{"$error":"#N/A"},{"$error":"#N/A"},{"$error":"#N/A"},{"$error":"#N/A"},{"$error":"#N/A"},{"$error":"#N/A"},{"$error":"#N/A"},{"$error":"#N/A"},{"$error":"#N/A"},{"$error":"#N/A"},{"$error":"#N/A"},{"$error":"#N/A"},{"$error":"#N/A"},{"$error":"#N/A"},{"$error":"#N/A"},{"$error":"#N/A"},{"$error":"#N/A"},{"$error":"#N/A"},{"$error":"#N/A"},{"$error":"#N/A"},{"$error":"#N/A"},{"$error":"#N/A"},{"$error":"#N/A"},{"$error":"#N/A"},{"$error":"#N/A"},{"$error":"#N/A"},{"$error":"#N/A"},{"$error":"#N/A"},{"$error":"#N/A"},{"$error":"#N/A"},{"$error":"#N/A"},{"$error":"#N/A"},{"$error":"#N/A"},{"$error":"#N/A"},{"$error":"#N/A"},{"$error":"#N/A"},{"$error":"#N/A"},{"$error":"#N/A"},{"$error":"#N/A"},{"$error":"#N/A"},{"$error":"#N/A"},{"$error":"#N/A"},{"$error":"#N/A"},{"$error":"#N/A"},{"$error":"#N/A"},{"$error":"#N/A"},{"$error":"#N/A"},{"$error":"#N/A"},{"$error":"#N/A"},{"$error":"#N/A"},{"$error":"#N/A"},{"$error":"#N/A"},{"$error":"#N/A"},{"$error":"#N/A"},{"$error":"#N/A"},{"$error":"#N/A"},{"$error":"#N/A"},{"$error":"#N/A"},{"$error":"#N/A"},{"$error":"#N/A"},{"$error":"#N/A"},{"$error":"#N/A"},{"$error":"#N/A"},{"$error":"#N/A"},{"$error":"#N/A"},{"$error":"#N/A"},{"$error":"#N/A"},{"$error":"#N/A"},{"$error":"#N/A"},{"$error":"#N/A"},{"$error":"#N/A"},{"$error":"#N/A"},{"$error":"#N/A"},{"$error":"#N/A"},{"$error":"#N/A"},{"$error":"#N/A"},{"$error":"#N/A"},{"$error":"#N/A"},{"$error":"#N/A"},{"$error":"#N/A"},{"$f":"IF(DL$3=\"OK\",(21600/(2*PI()))*ACOS(SIN($AA113)*SIN(DL$6)+COS(DL$6)*COS($AA113)*COS($AB113-DL$7)),\"-\")","v":{"$error":"#N/A"}},{"$error":"#N/A"},{"$error":"#N/A"},{"$error":"#N/A"},{"$error":"#N/A"},{"$error":"#N/A"},{"$error":"#N/A"},{"$error":"#N/A"},{"$error":"#N/A"},{"$error":"#N/A"},{"$error":"#N/A"},{"$error":"#N/A"},{"$error":"#N/A"},{"$error":"#N/A"},{"$error":"#N/A"},{"$error":"#N/A"},{"$error":"#N/A"},{"$error":"#N/A"},{"$error":"#N/A"},{"$error":"#N/A"},{"$error":"#N/A"}]
[null,null,null,null,null,null,null,null,null,null,null,{"$error":"#N/A"},97,{"$f":"VLOOKUP($M114,Funknavigation!$A$2:$AC$185,N$17,FALSE)","v":"Lahr"},{"$f":"VLOOKUP($M114,Funknavigation!$A$2:$AC$185,O$17,FALSE)","v":"NDB "},{"$f":"VLOOKUP($M114,Funknavigation!$A$2:$AC$185,P$17,FALSE)","v":"LHR"},{"$f":"VLOOKUP($M114,Funknavigation!$A$2:$AC$185,Q$17,FALSE)","v":"· − · ·   · · · ·   · − ·"},{"$f":"VLOOKUP($M114,Funknavigation!$A$2:$AC$185,R$17,FALSE)","v":97},{"$f":"VLOOKUP($M114,Funknavigation!$A$2:$AC$185,S$17,FALSE)","v":48.348599999999998},{"$f":"VLOOKUP($M114,Funknavigation!$A$2:$AC$185,T$17,FALSE)","v":7.8110999999999997},{"$f":"VLOOKUP($M114,Funknavigation!$A$2:$AC$185,U$17,FALSE)","v":""},{"$f":"VLOOKUP($M114,Funknavigation!$A$2:$AC$185,V$17,FALSE)","v":337},{"$f":"VLOOKUP($M114,Funknavigation!$A$2:$AC$185,W$17,FALSE)","v":""},{"$f":"VLOOKUP($M114,Funknavigation!$A$2:$AC$185,X$17,FALSE)","v":17},null,null,0.8438422587297304,0.13632941320252906,{"$f":"IF(AG114=1,MAX(MAX(AC$18:$AC113),MAX($AD$18:$AD$193))+1,\"-\")","v":{"$error":"#N/A"}},{"$f":"IF(AH114=1,MAX($AD$18:AD113)+1,\"-\")","v":{"$error":"#N/A"}},{"$error":"#N/A"},{"$error":"#N/A"},{"$error":"#N/A"},{"$f":"IF(MIN(AJ114:EF114)<(X114/$AH$16),1,0)","v":{"$error":"#N/A"}},{"$f":"IF(MIN(AJ114:EF114)<X114,1,0)","v":{"$error":"#N/A"}},{"$error":"#N/A"},{"$error":"#N/A"},{"$error":"#N/A"},{"$error":"#N/A"},{"$error":"#N/A"},{"$error":"#N/A"},{"$error":"#N/A"},{"$error":"#N/A"},{"$error":"#N/A"},{"$error":"#N/A"},{"$error":"#N/A"},{"$error":"#N/A"},{"$error":"#N/A"},{"$error":"#N/A"},{"$error":"#N/A"},{"$error":"#N/A"},{"$error":"#N/A"},{"$error":"#N/A"},{"$error":"#N/A"},{"$error":"#N/A"},{"$error":"#N/A"},{"$error":"#N/A"},{"$error":"#N/A"},{"$error":"#N/A"},{"$error":"#N/A"},{"$error":"#N/A"},{"$error":"#N/A"},{"$error":"#N/A"},{"$error":"#N/A"},{"$error":"#N/A"},{"$error":"#N/A"},{"$error":"#N/A"},{"$error":"#N/A"},{"$error":"#N/A"},{"$error":"#N/A"},{"$error":"#N/A"},{"$error":"#N/A"},{"$error":"#N/A"},{"$error":"#N/A"},{"$error":"#N/A"},{"$error":"#N/A"},{"$error":"#N/A"},{"$error":"#N/A"},{"$error":"#N/A"},{"$error":"#N/A"},{"$error":"#N/A"},{"$error":"#N/A"},{"$error":"#N/A"},{"$error":"#N/A"},{"$error":"#N/A"},{"$error":"#N/A"},{"$error":"#N/A"},{"$error":"#N/A"},{"$error":"#N/A"},{"$error":"#N/A"},{"$error":"#N/A"},{"$error":"#N/A"},{"$error":"#N/A"},{"$error":"#N/A"},{"$error":"#N/A"},{"$error":"#N/A"},{"$error":"#N/A"},{"$error":"#N/A"},{"$error":"#N/A"},{"$error":"#N/A"},{"$error":"#N/A"},{"$error":"#N/A"},{"$error":"#N/A"},{"$error":"#N/A"},{"$error":"#N/A"},{"$error":"#N/A"},{"$error":"#N/A"},{"$error":"#N/A"},{"$error":"#N/A"},{"$error":"#N/A"},{"$error":"#N/A"},{"$error":"#N/A"},{"$error":"#N/A"},{"$error":"#N/A"},{"$error":"#N/A"},{"$error":"#N/A"},{"$error":"#N/A"},{"$error":"#N/A"},{"$error":"#N/A"},{"$error":"#N/A"},{"$error":"#N/A"},{"$error":"#N/A"},{"$error":"#N/A"},{"$error":"#N/A"},{"$error":"#N/A"},{"$error":"#N/A"},{"$error":"#N/A"},{"$error":"#N/A"},{"$error":"#N/A"},{"$error":"#N/A"},{"$error":"#N/A"},{"$error":"#N/A"},{"$error":"#N/A"},{"$error":"#N/A"},{"$error":"#N/A"},{"$error":"#N/A"}]
[null,null,null,null,null,null,null,null,null,null,null,{"$error":"#N/A"},98,{"$f":"VLOOKUP($M115,Funknavigation!$A$2:$AC$185,N$17,FALSE)","v":"Landsberg "},{"$f":"VLOOKUP($M115,Funknavigation!$A$2:$AC$185,O$17,FALSE)","v":"NDB "},{"$f":"VLOOKUP($M115,Funknavigation!$A$2:$AC$185,P$17,FALSE)","v":"LQ"},{"$f":"VLOOKUP($M115,Funknavigation!$A$2:$AC$185,Q$17,FALSE)","v":"· − · ·   − − · −"},{"$f":"VLOOKUP($M115,Funknavigation!$A$2:$AC$185,R$17,FALSE)","v":98},{"$f":"VLOOKUP($M115,Funknavigation!$A$2:$AC$185,S$17,FALSE)","v":48.094700000000003},{"$f":"VLOOKUP($M115,Funknavigation!$A$2:$AC$185,T$17,FALSE)","v":11.0189},{"$f":"VLOOKUP($M115,Funknavigation!$A$2:$AC$185,U$17,FALSE)","v":""},{"$f":"VLOOKUP($M115,Funknavigation!$A$2:$AC$185,V$17,FALSE)","v":448},{"$f":"VLOOKUP($M115,Funknavigation!$A$2:$AC$185,W$17,FALSE)","v":""},{"$f":"VLOOKUP($M115,Funknavigation!$A$2:$AC$185,X$17,FALSE)","v":25},null,null,0.83941086775891682,0.19231608494800317,{"$f":"IF(AG115=1,MAX(MAX(AC$18:$AC114),MAX($AD$18:$AD$193))+1,\"-\")","v":{"$error":"#N/A"}},{"$f":"IF(AH115=1,MAX($AD$18:AD114)+1,\"-\")","v":{"$error":"#N/A"}},{"$error":"#N/A"},{"$error":"#N/A"},{"$error":"#N/A"},{"$error":"#N/A"},{"$error":"#N/A"},{"$error":"#N/A"},{"$error":"#N/A"},{"$error":"#N/A"},{"$error":"#N/A"},{"$error":"#N/A"},{"$error":"#N/A"},{"$error":"#N/A"},{"$error":"#N/A"},{"$error":"#N/A"},{"$error":"#N/A"},{"$error":"#N/A"},{"$error":"#N/A"},{"$error":"#N/A"},{"$error":"#N/A"},{"$error":"#N/A"},{"$error":"#N/A"},{"$error":"#N/A"},{"$error":"#N/A"},{"$error":"#N/A"},{"$error":"#N/A"},{"$error":"#N/A"},{"$error":"#N/A"},{"$error":"#N/A"},{"$error":"#N/A"},{"$error":"#N/A"},{"$error":"#N/A"},{"$error":"#N/A"},{"$error":"#N/A"},{"$error":"#N/A"},{"$error":"#N/A"},{"$error":"#N/A"},{"$error":"#N/A"},{"$error":"#N/A"},{"$error":"#N/A"},{"$error":"#N/A"},{"$error":"#N/A"},{"$error":"#N/A"},{"$error":"#N/A"},{"$error":"#N/A"},{"$error":"#N/A"},{"$error":"#N/A"},{"$error":"#N/A"},{"$error":"#N/A"},{"$error":"#N/A"},{"$error":"#N/A"},{"$error":"#N/A"},{"$error":"#N/A"},{"$error":"#N/A"},{"$error":"#N/A"},{"$error":"#N/A"},{"$error":"#N/A"},{"$error":"#N/A"},{"$error":"#N/A"},{"$error":"#N/A"},{"$error":"#N/A"},{"$error":"#N/A"},{"$error":"#N/A"},{"$error":"#N/A"},{"$error":"#N/A"},{"$error":"#N/A"},{"$error":"#N/A"},{"$error":"#N/A"},{"$error":"#N/A"},{"$error":"#N/A"},{"$error":"#N/A"},{"$error":"#N/A"},{"$error":"#N/A"},{"$error":"#N/A"},{"$error":"#N/A"},{"$error":"#N/A"},{"$error":"#N/A"},{"$error":"#N/A"},{"$error":"#N/A"},{"$error":"#N/A"},{"$error":"#N/A"},{"$error":"#N/A"},{"$error":"#N/A"},{"$error":"#N/A"},{"$error":"#N/A"},{"$error":"#N/A"},{"$error":"#N/A"},{"$error":"#N/A"},{"$error":"#N/A"},{"$error":"#N/A"},{"$error":"#N/A"},{"$error":"#N/A"},{"$error":"#N/A"},{"$error":"#N/A"},{"$error":"#N/A"},{"$error":"#N/A"},{"$error":"#N/A"},{"$error":"#N/A"},{"$error":"#N/A"},{"$error":"#N/A"},{"$error":"#N/A"},{"$error":"#N/A"},{"$error":"#N/A"},{"$error":"#N/A"},{"$error":"#N/A"},{"$error":"#N/A"},{"$error":"#N/A"}]
[null,null,null,null,null,null,null,null,null,null,null,{"$error":"#N/A"},99,{"$f":"VLOOKUP($M116,Funknavigation!$A$2:$AC$185,N$17,FALSE)","v":"Laupheim "},{"$f":"VLOOKUP($M116,Funknavigation!$A$2:$AC$185,O$17,FALSE)","v":"NDB "},{"$f":"VLOOKUP($M116,Funknavigation!$A$2:$AC$185,P$17,FALSE)","v":"LUP"},{"$f":"VLOOKUP($M116,Funknavigation!$A$2:$AC$185,Q$17,FALSE)","v":"· − · ·   · · −   · − − ·"},{"$f":"VLOOKUP($M116,Funknavigation!$A$2:$AC$185,R$17,FALSE)","v":99},{"$f":"VLOOKUP($M116,Funknavigation!$A$2:$AC$185,S$17,FALSE)","v":48.218299999999999},{"$f":"VLOOKUP($M116,Funknavigation!$A$2:$AC$185,T$17,FALSE)","v":9.9114000000000004},{"$f":"VLOOKUP($M116,Funknavigation!$A$2:$AC$185,U$17,FALSE)","v":""},{"$f":"VLOOKUP($M116,Funknavigation!$A$2:$AC$185,V$17,FALSE)","v":407},{"$f":"VLOOKUP($M116,Funknavigation!$A$2:$AC$185,W$17,FALSE)","v":""},{"$f":"VLOOKUP($M116,Funknavigation!$A$2:$AC$185,X$17,FALSE)","v":25},null,null,0.84156809471438165,0.17298656348216598,{"$f":"IF(AG116=1,MAX(MAX(AC$18:$AC115),MAX($AD$18:$AD$193))+1,\"-\")","v":{"$error":"#N/A"}},{"$f":"IF(AH116=1,MAX($AD$18:AD115)+1,\"-\")","v":{"$error":"#N/A"}},{"$error":"#N/A"},{"$error":"#N/A"},{"$error":"#N/A"},{"$error":"#N/A"},{"$error":"#N/A"},{"$error":"#N/A"},{"$error":"#N/A"},{"$error":"#N/A"},{"$error":"#N/A"},{"$error":"#N/A"},{"$error":"#N/A"},{"$error":"#N/A"},{"$error":"#N/A"},{"$error":"#N/A"},{"$error":"#N/A"},{"$error":"#N/A"},{"$error":"#N/A"},{"$error":"#N/A"},{"$error":"#N/A"},{"$error":"#N/A"},{"$error":"#N/A"},{"$error":"#N/A"},{"$error":"#N/A"},{"$error":"#N/A"},{"$error":"#N/A"},{"$error":"#N/A"},{"$error":"#N/A"},{"$error":"#N/A"},{"$error":"#N/A"},{"$error":"#N/A"},{"$error":"#N/A"},{"$error":"#N/A"},{"$error":"#N/A"},{"$error":"#N/A"},{"$error":"#N/A"},{"$error":"#N/A"},{"$error":"#N/A"},{"$error":"#N/A"},{"$error":"#N/A"},{"$error":"#N/A"},{"$error":"#N/A"},{"$error":"#N/A"},{"$error":"#N/A"},{"$error":"#N/A"},{"$error":"#N/A"},{"$error":"#N/A"},{"$error":"#N/A"},{"$error":"#N/A"},{"$error":"#N/A"},{"$error":"#N/A"},{"$error":"#N/A"},{"$error":"#N/A"},{"$error":"#N/A"},{"$error":"#N/A"},{"$error":"#N/A"},{"$error":"#N/A"},{"$error":"#N/A"},{"$error":"#N/A"},{"$error":"#N/A"},{"$error":"#N/A"},{"$error":"#N/A"},{"$error":"#N/A"},{"$error":"#N/A"},{"$error":"#N/A"},{"$error":"#N/A"},{"$error":"#N/A"},{"$error":"#N/A"},{"$error":"#N/A"},{"$error":"#N/A"},{"$error":"#N/A"},{"$error":"#N/A"},{"$error":"#N/A"},{"$error":"#N/A"},{"$error":"#N/A"},{"$error":"#N/A"},{"$error":"#N/A"},{"$error":"#N/A"},{"$error":"#N/A"},{"$error":"#N/A"},{"$error":"#N/A"},{"$error":"#N/A"},{"$error":"#N/A"},{"$error":"#N/A"},{"$error":"#N/A"},{"$error":"#N/A"},{"$error":"#N/A"},{"$error":"#N/A"},{"$error":"#N/A"},{"$error":"#N/A"},{"$error":"#N/A"},{"$error":"#N/A"},{"$error":"#N/A"},{"$error":"#N/A"},{"$error":"#N/A"},{"$error":"#N/A"},{"$error":"#N/A"},{"$error":"#N/A"},{"$error":"#N/A"},{"$error":"#N/A"},{"$error":"#N/A"},{"$error":"#N/A"},{"$error":"#N/A"},{"$error":"#N/A"},{"$error":"#N/A"},{"$error":"#N/A"},{"$error":"#N/A"}]
[null,null,null,null,null,null,null,null,null,null,null,{"$error":"#N/A"},100,{"$f":"VLOOKUP($M117,Funknavigation!$A$2:$AC$185,N$17,FALSE)","v":"Leine "},{"$f":"VLOOKUP($M117,Funknavigation!$A$2:$AC$185,O$17,FALSE)","v":"DVOR/DME "},{"$f":"VLOOKUP($M117,Funknavigation!$A$2:$AC$185,P$17,FALSE)","v":"DLE"},{"$f":"VLOOKUP($M117,Funknavigation!$A$2:$AC$185,Q$17,FALSE)","v":"− · ·   · − · ·   ·"},{"$f":"VLOOKUP($M117,Funknavigation!$A$2:$AC$185,R$17,FALSE)","v":100},{"$f":"VLOOKUP($M117,Funknavigation!$A$2:$AC$185,S$17,FALSE)","v":52.250300000000003},{"$f":"VLOOKUP($M117,Funknavigation!$A$2:$AC$185,T$17,FALSE)","v":9.8835999999999995},{"$f":"VLOOKUP($M117,Funknavigation!$A$2:$AC$185,U$17,FALSE)","v":"115.20"},{"$f":"VLOOKUP($M117,Funknavigation!$A$2:$AC$185,V$17,FALSE)","v":""},{"$f":"VLOOKUP($M117,Funknavigation!$A$2:$AC$185,W$17,FALSE)","v":"Ch 99x "},{"$f":"VLOOKUP($M117,Funknavigation!$A$2:$AC$185,X$17,FALSE)","v":60},null,null,0.91193977015479333,0.17250136195011154,{"$f":"IF(AG117=1,MAX(MAX(AC$18:$AC116),MAX($AD$18:$AD$193))+1,\"-\")","v":{"$error":"#N/A"}},{"$f":"IF(AH117=1,MAX($AD$18:AD116)+1,\"-\")","v":{"$error":"#N/A"}},{"$error":"#N/A"},{"$error":"#N/A"},{"$error":"#N/A"},{"$error":"#N/A"},{"$error":"#N/A"},{"$error":"#N/A"},{"$error":"#N/A"},{"$error":"#N/A"},{"$error":"#N/A"},{"$error":"#N/A"},{"$error":"#N/A"},{"$error":"#N/A"},{"$error":"#N/A"},{"$error":"#N/A"},{"$error":"#N/A"},{"$error":"#N/A"},{"$error":"#N/A"},{"$error":"#N/A"},{"$error":"#N/A"},{"$error":"#N/A"},{"$error":"#N/A"},{"$error":"#N/A"},{"$error":"#N/A"},{"$error":"#N/A"},{"$error":"#N/A"},{"$error":"#N/A"},{"$error":"#N/A"},{"$error":"#N/A"},{"$error":"#N/A"},{"$error":"#N/A"},{"$error":"#N/A"},{"$error":"#N/A"},{"$error":"#N/A"},{"$error":"#N/A"},{"$error":"#N/A"},{"$error":"#N/A"},{"$error":"#N/A"},{"$error":"#N/A"},{"$error":"#N/A"},{"$error":"#N/A"},{"$error":"#N/A"},{"$error":"#N/A"},{"$error":"#N/A"},{"$error":"#N/A"},{"$error":"#N/A"},{"$error":"#N/A"},{"$error":"#N/A"},{"$error":"#N/A"},{"$error":"#N/A"},{"$error":"#N/A"},{"$error":"#N/A"},{"$error":"#N/A"},{"$error":"#N/A"},{"$error":"#N/A"},{"$error":"#N/A"},{"$error":"#N/A"},{"$error":"#N/A"},{"$error":"#N/A"},{"$error":"#N/A"},{"$error":"#N/A"},{"$error":"#N/A"},{"$error":"#N/A"},{"$error":"#N/A"},{"$error":"#N/A"},{"$error":"#N/A"},{"$error":"#N/A"},{"$error":"#N/A"},{"$error":"#N/A"},{"$error":"#N/A"},{"$error":"#N/A"},{"$error":"#N/A"},{"$error":"#N/A"},{"$error":"#N/A"},{"$error":"#N/A"},{"$error":"#N/A"},{"$error":"#N/A"},{"$error":"#N/A"},{"$error":"#N/A"},{"$error":"#N/A"},{"$error":"#N/A"},{"$error":"#N/A"},{"$error":"#N/A"},{"$error":"#N/A"},{"$error":"#N/A"},{"$error":"#N/A"},{"$error":"#N/A"},{"$error":"#N/A"},{"$error":"#N/A"},{"$error":"#N/A"},{"$error":"#N/A"},{"$error":"#N/A"},{"$error":"#N/A"},{"$error":"#N/A"},{"$error":"#N/A"},{"$error":"#N/A"},{"$error":"#N/A"},{"$error":"#N/A"},{"$error":"#N/A"},{"$error":"#N/A"},{"$error":"#N/A"},{"$error":"#N/A"},{"$error":"#N/A"},{"$error":"#N/A"},{"$error":"#N/A"},{"$error":"#N/A"},{"$error":"#N/A"}]
[null,null,null,null,null,null,null,null,null,null,null,{"$error":"#N/A"},101,{"$f":"VLOOKUP($M118,Funknavigation!$A$2:$AC$185,N$17,FALSE)","v":"Leipzig "},{"$f":"VLOOKUP($M118,Funknavigation!$A$2:$AC$185,O$17,FALSE)","v":"VOR/DME "},{"$f":"VLOOKUP($M118,Funknavigation!$A$2:$AC$185,P$17,FALSE)","v":"LEG"},{"$f":"VLOOKUP($M118,Funknavigation!$A$2:$AC$185,Q$17,FALSE)","v":"· − · ·   ·   − − ·"},{"$f":"VLOOKUP($M118,Funknavigation!$A$2:$AC$185,R$17,FALSE)","v":101},{"$f":"VLOOKUP($M118,Funknavigation!$A$2:$AC$185,S$17,FALSE)","v":51.436100000000003},{"$f":"VLOOKUP($M118,Funknavigation!$A$2:$AC$185,T$17,FALSE)","v":12.473599999999999},{"$f":"VLOOKUP($M118,Funknavigation!$A$2:$AC$185,U$17,FALSE)","v":"115.85"},{"$f":"VLOOKUP($M118,Funknavigation!$A$2:$AC$185,V$17,FALSE)","v":""},{"$f":"VLOOKUP($M118,Funknavigation!$A$2:$AC$185,W$17,FALSE)","v":"Ch 105y "},{"$f":"VLOOKUP($M118,Funknavigation!$A$2:$AC$185,X$17,FALSE)","v":80},null,null,0.89772929938505541,0.21770538957676469,{"$f":"IF(AG118=1,MAX(MAX(AC$18:$AC117),MAX($AD$18:$AD$193))+1,\"-\")","v":{"$error":"#N/A"}},{"$f":"IF(AH118=1,MAX($AD$18:AD117)+1,\"-\")","v":{"$error":"#N/A"}},{"$error":"#N/A"},{"$error":"#N/A"},{"$error":"#N/A"},{"$error":"#N/A"},{"$error":"#N/A"},{"$error":"#N/A"},{"$error":"#N/A"},{"$f":"IF(AL$3=\"OK\",(21600/(2*PI()))*ACOS(SIN($AA118)*SIN(AL$6)+COS(AL$6)*COS($AA118)*COS($AB118-AL$7)),\"-\")","v":{"$error":"#N/A"}},{"$error":"#N/A"},{"$error":"#N/A"},{"$error":"#N/A"},{"$error":"#N/A"},{"$error":"#N/A"},{"$error":"#N/A"},{"$error":"#N/A"},{"$error":"#N/A"},{"$error":"#N/A"},{"$f":"IF(AV$3=\"OK\",(21600/(2*PI()))*ACOS(SIN($AA118)*SIN(AV$6)+COS(AV$6)*COS($AA118)*COS($AB118-AV$7)),\"-\")","v":{"$error":"#N/A"}},{"$error":"#N/A"},{"$error":"#N/A"},{"$error":"#N/A"},{"$error":"#N/A"},{"$error":"#N/A"},{"$error":"#N/A"},{"$error":"#N/A"},{"$error":"#N/A"},{"$error":"#N/A"},{"$f":"IF(BF$3=\"OK\",(21600/(2*PI()))*ACOS(SIN($AA118)*SIN(BF$6)+COS(BF$6)*COS($AA118)*COS($AB118-BF$7)),\"-\")","v":{"$error":"#N/A"}},{"$error":"#N/A"},{"$error":"#N/A"},{"$error":"#N/A"},{"$error":"#N/A"},{"$error":"#N/A"},{"$error":"#N/A"},{"$error":"#N/A"},{"$error":"#N/A"},{"$error":"#N/A"},{"$f":"IF(BP$3=\"OK\",(21600/(2*PI()))*ACOS(SIN($AA118)*SIN(BP$6)+COS(BP$6)*COS($AA118)*COS($AB118-BP$7)),\"-\")","v":{"$error":"#N/A"}},{"$error":"#N/A"},{"$error":"#N/A"},{"$error":"#N/A"},{"$error":"#N/A"},{"$error":"#N/A"},{"$error":"#N/A"},{"$error":"#N/A"},{"$error":"#N/A"},{"$error":"#N/A"},{"$f":"IF(BZ$3=\"OK\",(21600/(2*PI()))*ACOS(SIN($AA118)*SIN(BZ$6)+COS(BZ$6)*COS($AA118)*COS($AB118-BZ$7)),\"-\")","v":{"$error":"#N/A"}},{"$error":"#N/A"},{"$error":"#N/A"},{"$error":"#N/A"},{"$error":"#N/A"},{"$error":"#N/A"},{"$error":"#N/A"},{"$error":"#N/A"},{"$error":"#N/A"},{"$error":"#N/A"},{"$f":"IF(CJ$3=\"OK\",(21600/(2*PI()))*ACOS(SIN($AA118)*SIN(CJ$6)+COS(CJ$6)*COS($AA118)*COS($AB118-CJ$7)),\"-\")","v":{"$error":"#N/A"}},{"$error":"#N/A"},{"$error":"#N/A"},{"$error":"#N/A"},{"$error":"#N/A"},{"$error":"#N/A"},{"$error":"#N/A"},{"$error":"#N/A"},{"$error":"#N/A"},{"$error":"#N/A"},{"$f":"IF(CT$3=\"OK\",(21600/(2*PI()))*ACOS(SIN($AA118)*SIN(CT$6)+COS(CT$6)*COS($AA118)*COS($AB118-CT$7)),\"-\")","v":{"$error":"#N/A"}},{"$error":"#N/A"},{"$error":"#N/A"},{"$error":"#N/A"},{"$error":"#N/A"},{"$error":"#N/A"},{"$error":"#N/A"},{"$error":"#N/A"},{"$error":"#N/A"},{"$error":"#N/A"},{"$error":"#N/A"},{"$error":"#N/A"},{"$error":"#N/A"},{"$error":"#N/A"},{"$error":"#N/A"},{"$error":"#N/A"},{"$error":"#N/A"},{"$error":"#N/A"},{"$error":"#N/A"},{"$error":"#N/A"},{"$error":"#N/A"},{"$error":"#N/A"},{"$error":"#N/A"},{"$error":"#N/A"},{"$error":"#N/A"},{"$error":"#N/A"},{"$error":"#N/A"},{"$error":"#N/A"},{"$error":"#N/A"},{"$error":"#N/A"},{"$error":"#N/A"},{"$error":"#N/A"},{"$error":"#N/A"},{"$error":"#N/A"},{"$error":"#N/A"},{"$error":"#N/A"},{"$error":"#N/A"},{"$error":"#N/A"},{"$error":"#N/A"}]
[null,null,null,null,null,null,null,null,null,null,null,{"$error":"#N/A"},102,{"$f":"VLOOKUP($M119,Funknavigation!$A$2:$AC$185,N$17,FALSE)","v":"Leipzig"},{"$f":"VLOOKUP($M119,Funknavigation!$A$2:$AC$185,O$17,FALSE)","v":"NDB "},{"$f":"VLOOKUP($M119,Funknavigation!$A$2:$AC$185,P$17,FALSE)","v":"ZIG"},{"$f":"VLOOKUP($M119,Funknavigation!$A$2:$AC$185,Q$17,FALSE)","v":"− − · ·   · ·   − − ·"},{"$f":"VLOOKUP($M119,Funknavigation!$A$2:$AC$185,R$17,FALSE)","v":102},{"$f":"VLOOKUP($M119,Funknavigation!$A$2:$AC$185,S$17,FALSE)","v":51.433900000000001},{"$f":"VLOOKUP($M119,Funknavigation!$A$2:$AC$185,T$17,FALSE)","v":12.2806},{"$f":"VLOOKUP($M119,Funknavigation!$A$2:$AC$185,U$17,FALSE)","v":""},{"$f":"VLOOKUP($M119,Funknavigation!$A$2:$AC$185,V$17,FALSE)","v":340},{"$f":"VLOOKUP($M119,Funknavigation!$A$2:$AC$185,W$17,FALSE)","v":""},{"$f":"VLOOKUP($M119,Funknavigation!$A$2:$AC$185,X$17,FALSE)","v":15},null,null,0.89769090214151148,0.21433690412041564,{"$f":"IF(AG119=1,MAX(MAX(AC$18:$AC118),MAX($AD$18:$AD$193))+1,\"-\")","v":{"$error":"#N/A"}},{"$f":"IF(AH119=1,MAX($AD$18:AD118)+1,\"-\")","v":{"$error":"#N/A"}},{"$error":"#N/A"},{"$error":"#N/A"},{"$error":"#N/A"},{"$error":"#N/A"},{"$error":"#N/A"},{"$error":"#N/A"},{"$error":"#N/A"},{"$error":"#N/A"},{"$error":"#N/A"},{"$error":"#N/A"},{"$error":"#N/A"},{"$error":"#N/A"},{"$error":"#N/A"},{"$error":"#N/A"},{"$error":"#N/A"},{"$error":"#N/A"},{"$error":"#N/A"},{"$error":"#N/A"},{"$error":"#N/A"},{"$error":"#N/A"},{"$error":"#N/A"},{"$error":"#N/A"},{"$error":"#N/A"},{"$error":"#N/A"},{"$error":"#N/A"},{"$error":"#N/A"},{"$error":"#N/A"},{"$error":"#N/A"},{"$error":"#N/A"},{"$error":"#N/A"},{"$error":"#N/A"},{"$error":"#N/A"},{"$error":"#N/A"},{"$error":"#N/A"},{"$error":"#N/A"},{"$error":"#N/A"},{"$error":"#N/A"},{"$error":"#N/A"},{"$error":"#N/A"},{"$error":"#N/A"},{"$error":"#N/A"},{"$error":"#N/A"},{"$error":"#N/A"},{"$error":"#N/A"},{"$error":"#N/A"},{"$error":"#N/A"},{"$error":"#N/A"},{"$error":"#N/A"},{"$error":"#N/A"},{"$error":"#N/A"},{"$error":"#N/A"},{"$error":"#N/A"},{"$error":"#N/A"},{"$error":"#N/A"},{"$error":"#N/A"},{"$error":"#N/A"},{"$error":"#N/A"},{"$error":"#N/A"},{"$error":"#N/A"},{"$error":"#N/A"},{"$error":"#N/A"},{"$error":"#N/A"},{"$error":"#N/A"},{"$error":"#N/A"},{"$error":"#N/A"},{"$error":"#N/A"},{"$error":"#N/A"},{"$error":"#N/A"},{"$error":"#N/A"},{"$error":"#N/A"},{"$error":"#N/A"},{"$error":"#N/A"},{"$error":"#N/A"},{"$error":"#N/A"},{"$error":"#N/A"},{"$error":"#N/A"},{"$error":"#N/A"},{"$error":"#N/A"},{"$error":"#N/A"},{"$error":"#N/A"},{"$error":"#N/A"},{"$error":"#N/A"},{"$error":"#N/A"},{"$error":"#N/A"},{"$error":"#N/A"},{"$error":"#N/A"},{"$error":"#N/A"},{"$error":"#N/A"},{"$error":"#N/A"},{"$error":"#N/A"},{"$error":"#N/A"},{"$error":"#N/A"},{"$error":"#N/A"},{"$error":"#N/A"},{"$error":"#N/A"},{"$error":"#N/A"},{"$error":"#N/A"},{"$error":"#N/A"},{"$error":"#N/A"},{"$error":"#N/A"},{"$error":"#N/A"},{"$error":"#N/A"},{"$error":"#N/A"},{"$error":"#N/A"},{"$error":"#N/A"},{"$error":"#N/A"}]
[null,null,null,null,null,null,null,null,null,null,null,{"$error":"#N/A"},103,{"$f":"VLOOKUP($M120,Funknavigation!$A$2:$AC$185,N$17,FALSE)","v":"Lima "},{"$f":"VLOOKUP($M120,Funknavigation!$A$2:$AC$185,O$17,FALSE)","v":"NDB "},{"$f":"VLOOKUP($M120,Funknavigation!$A$2:$AC$185,P$17,FALSE)","v":"LMA"},{"$f":"VLOOKUP($M120,Funknavigation!$A$2:$AC$185,Q$17,FALSE)","v":"· − · ·   − −   · −"},{"$f":"VLOOKUP($M120,Funknavigation!$A$2:$AC$185,R$17,FALSE)","v":103},{"$f":"VLOOKUP($M120,Funknavigation!$A$2:$AC$185,S$17,FALSE)","v":51.370800000000003},{"$f":"VLOOKUP($M120,Funknavigation!$A$2:$AC$185,T$17,FALSE)","v":6.3949999999999996},{"$f":"VLOOKUP($M120,Funknavigation!$A$2:$AC$185,U$17,FALSE)","v":""},{"$f":"VLOOKUP($M120,Funknavigation!$A$2:$AC$185,V$17,FALSE)","v":311},{"$f":"VLOOKUP($M120,Funknavigation!$A$2:$AC$185,W$17,FALSE)","v":""},{"$f":"VLOOKUP($M120,Funknavigation!$A$2:$AC$185,X$17,FALSE)","v":15},null,null,0.89658959938350302,0.11161380566503737,{"$f":"IF(AG120=1,MAX(MAX(AC$18:$AC119),MAX($AD$18:$AD$193))+1,\"-\")","v":{"$error":"#N/A"}},{"$f":"IF(AH120=1,MAX($AD$18:AD119)+1,\"-\")","v":{"$error":"#N/A"}},{"$error":"#N/A"},{"$error":"#N/A"},{"$error":"#N/A"},{"$error":"#N/A"},{"$error":"#N/A"},{"$error":"#N/A"},{"$error":"#N/A"},{"$error":"#N/A"},{"$error":"#N/A"},{"$error":"#N/A"},{"$error":"#N/A"},{"$error":"#N/A"},{"$error":"#N/A"},{"$error":"#N/A"},{"$error":"#N/A"},{"$error":"#N/A"},{"$error":"#N/A"},{"$error":"#N/A"},{"$error":"#N/A"},{"$error":"#N/A"},{"$error":"#N/A"},{"$error":"#N/A"},{"$error":"#N/A"},{"$error":"#N/A"},{"$error":"#N/A"},{"$error":"#N/A"},{"$error":"#N/A"},{"$error":"#N/A"},{"$error":"#N/A"},{"$error":"#N/A"},{"$error":"#N/A"},{"$error":"#N/A"},{"$error":"#N/A"},{"$error":"#N/A"},{"$error":"#N/A"},{"$error":"#N/A"},{"$error":"#N/A"},{"$error":"#N/A"},{"$error":"#N/A"},{"$error":"#N/A"},{"$error":"#N/A"},{"$error":"#N/A"},{"$error":"#N/A"},{"$error":"#N/A"},{"$error":"#N/A"},{"$error":"#N/A"},{"$error":"#N/A"},{"$error":"#N/A"},{"$error":"#N/A"},{"$error":"#N/A"},{"$error":"#N/A"},{"$error":"#N/A"},{"$error":"#N/A"},{"$error":"#N/A"},{"$error":"#N/A"},{"$error":"#N/A"},{"$error":"#N/A"},{"$error":"#N/A"},{"$error":"#N/A"},{"$error":"#N/A"},{"$error":"#N/A"},{"$error":"#N/A"},{"$error":"#N/A"},{"$error":"#N/A"},{"$error":"#N/A"},{"$error":"#N/A"},{"$error":"#N/A"},{"$error":"#N/A"},{"$error":"#N/A"},{"$error":"#N/A"},{"$error":"#N/A"},{"$error":"#N/A"},{"$error":"#N/A"},{"$error":"#N/A"},{"$error":"#N/A"},{"$error":"#N/A"},{"$error":"#N/A"},{"$error":"#N/A"},{"$error":"#N/A"},{"$error":"#N/A"},{"$error":"#N/A"},{"$error":"#N/A"},{"$error":"#N/A"},{"$error":"#N/A"},{"$error":"#N/A"},{"$error":"#N/A"},{"$error":"#N/A"},{"$error":"#N/A"},{"$error":"#N/A"},{"$error":"#N/A"},{"$error":"#N/A"},{"$error":"#N/A"},{"$error":"#N/A"},{"$error":"#N/A"},{"$error":"#N/A"},{"$error":"#N/A"},{"$error":"#N/A"},{"$error":"#N/A"},{"$error":"#N/A"},{"$error":"#N/A"},{"$error":"#N/A"},{"$error":"#N/A"},{"$error":"#N/A"},{"$error":"#N/A"},{"$error":"#N/A"},{"$error":"#N/A"}]
[null,null,null,null,null,null,null,null,null,null,null,{"$error":"#N/A"},104,{"$f":"VLOOKUP($M121,Funknavigation!$A$2:$AC$185,N$17,FALSE)","v":"Loewenberg "},{"$f":"VLOOKUP($M121,Funknavigation!$A$2:$AC$185,O$17,FALSE)","v":"DVOR/DME "},{"$f":"VLOOKUP($M121,Funknavigation!$A$2:$AC$185,P$17,FALSE)","v":"LWB"},{"$f":"VLOOKUP($M121,Funknavigation!$A$2:$AC$185,Q$17,FALSE)","v":"· − · ·   · − −   − · · ·"},{"$f":"VLOOKUP($M121,Funknavigation!$A$2:$AC$185,R$17,FALSE)","v":104},{"$f":"VLOOKUP($M121,Funknavigation!$A$2:$AC$185,S$17,FALSE)","v":52.91},{"$f":"VLOOKUP($M121,Funknavigation!$A$2:$AC$185,T$17,FALSE)","v":13.1347},{"$f":"VLOOKUP($M121,Funknavigation!$A$2:$AC$185,U$17,FALSE)","v":"114.55"},{"$f":"VLOOKUP($M121,Funknavigation!$A$2:$AC$185,V$17,FALSE)","v":""},{"$f":"VLOOKUP($M121,Funknavigation!$A$2:$AC$185,W$17,FALSE)","v":"Ch 92y "},{"$f":"VLOOKUP($M121,Funknavigation!$A$2:$AC$185,X$17,FALSE)","v":80},null,null,0.92345370723019982,0.22924376126169921,{"$f":"IF(AG121=1,MAX(MAX(AC$18:$AC120),MAX($AD$18:$AD$193))+1,\"-\")","v":{"$error":"#N/A"}},{"$f":"IF(AH121=1,MAX($AD$18:AD120)+1,\"-\")","v":{"$error":"#N/A"}},{"$error":"#N/A"},{"$error":"#N/A"},{"$error":"#N/A"},{"$error":"#N/A"},{"$error":"#N/A"},{"$error":"#N/A"},{"$error":"#N/A"},{"$error":"#N/A"},{"$error":"#N/A"},{"$error":"#N/A"},{"$error":"#N/A"},{"$error":"#N/A"},{"$error":"#N/A"},{"$error":"#N/A"},{"$error":"#N/A"},{"$error":"#N/A"},{"$error":"#N/A"},{"$error":"#N/A"},{"$error":"#N/A"},{"$error":"#N/A"},{"$error":"#N/A"},{"$error":"#N/A"},{"$error":"#N/A"},{"$error":"#N/A"},{"$error":"#N/A"},{"$error":"#N/A"},{"$error":"#N/A"},{"$error":"#N/A"},{"$error":"#N/A"},{"$error":"#N/A"},{"$error":"#N/A"},{"$error":"#N/A"},{"$error":"#N/A"},{"$error":"#N/A"},{"$error":"#N/A"},{"$error":"#N/A"},{"$error":"#N/A"},{"$error":"#N/A"},{"$error":"#N/A"},{"$error":"#N/A"},{"$error":"#N/A"},{"$error":"#N/A"},{"$error":"#N/A"},{"$error":"#N/A"},{"$error":"#N/A"},{"$error":"#N/A"},{"$error":"#N/A"},{"$error":"#N/A"},{"$error":"#N/A"},{"$error":"#N/A"},{"$error":"#N/A"},{"$error":"#N/A"},{"$error":"#N/A"},{"$error":"#N/A"},{"$error":"#N/A"},{"$error":"#N/A"},{"$error":"#N/A"},{"$error":"#N/A"},{"$error":"#N/A"},{"$error":"#N/A"},{"$error":"#N/A"},{"$error":"#N/A"},{"$error":"#N/A"},{"$error":"#N/A"},{"$error":"#N/A"},{"$error":"#N/A"},{"$error":"#N/A"},{"$error":"#N/A"},{"$error":"#N/A"},{"$error":"#N/A"},{"$error":"#N/A"},{"$error":"#N/A"},{"$error":"#N/A"},{"$error":"#N/A"},{"$error":"#N/A"},{"$error":"#N/A"},{"$error":"#N/A"},{"$error":"#N/A"},{"$error":"#N/A"},{"$error":"#N/A"},{"$error":"#N/A"},{"$error":"#N/A"},{"$error":"#N/A"},{"$error":"#N/A"},{"$error":"#N/A"},{"$error":"#N/A"},{"$error":"#N/A"},{"$error":"#N/A"},{"$error":"#N/A"},{"$error":"#N/A"},{"$error":"#N/A"},{"$error":"#N/A"},{"$error":"#N/A"},{"$error":"#N/A"},{"$error":"#N/A"},{"$error":"#N/A"},{"$error":"#N/A"},{"$error":"#N/A"},{"$error":"#N/A"},{"$error":"#N/A"},{"$error":"#N/A"},{"$error":"#N/A"},{"$error":"#N/A"},{"$error":"#N/A"},{"$error":"#N/A"},{"$error":"#N/A"}]
[null,null,null,null,null,null,null,null,null,null,null,{"$error":"#N/A"},105,{"$f":"VLOOKUP($M122,Funknavigation!$A$2:$AC$185,N$17,FALSE)","v":"Luburg "},{"$f":"VLOOKUP($M122,Funknavigation!$A$2:$AC$185,O$17,FALSE)","v":"VOR/DME "},{"$f":"VLOOKUP($M122,Funknavigation!$A$2:$AC$185,P$17,FALSE)","v":"LBU"},{"$f":"VLOOKUP($M122,Funknavigation!$A$2:$AC$185,Q$17,FALSE)","v":"· − · ·   − · · ·   · · −"},{"$f":"VLOOKUP($M122,Funknavigation!$A$2:$AC$185,R$17,FALSE)","v":105},{"$f":"VLOOKUP($M122,Funknavigation!$A$2:$AC$185,S$17,FALSE)","v":48.9131},{"$f":"VLOOKUP($M122,Funknavigation!$A$2:$AC$185,T$17,FALSE)","v":9.3402999999999992},{"$f":"VLOOKUP($M122,Funknavigation!$A$2:$AC$185,U$17,FALSE)","v":"109.20"},{"$f":"VLOOKUP($M122,Funknavigation!$A$2:$AC$185,V$17,FALSE)","v":""},{"$f":"VLOOKUP($M122,Funknavigation!$A$2:$AC$185,W$17,FALSE)","v":"Ch 29x "},{"$f":"VLOOKUP($M122,Funknavigation!$A$2:$AC$185,X$17,FALSE)","v":40},null,null,0.85369464235723835,0.16301898812402635,{"$f":"IF(AG122=1,MAX(MAX(AC$18:$AC121),MAX($AD$18:$AD$193))+1,\"-\")","v":{"$error":"#N/A"}},{"$f":"IF(AH122=1,MAX($AD$18:AD121)+1,\"-\")","v":{"$error":"#N/A"}},{"$error":"#N/A"},{"$error":"#N/A"},{"$error":"#N/A"},{"$error":"#N/A"},{"$error":"#N/A"},{"$error":"#N/A"},{"$error":"#N/A"},{"$error":"#N/A"},{"$error":"#N/A"},{"$error":"#N/A"},{"$error":"#N/A"},{"$error":"#N/A"},{"$error":"#N/A"},{"$error":"#N/A"},{"$error":"#N/A"},{"$error":"#N/A"},{"$error":"#N/A"},{"$error":"#N/A"},{"$error":"#N/A"},{"$error":"#N/A"},{"$error":"#N/A"},{"$error":"#N/A"},{"$error":"#N/A"},{"$error":"#N/A"},{"$error":"#N/A"},{"$error":"#N/A"},{"$error":"#N/A"},{"$error":"#N/A"},{"$error":"#N/A"},{"$error":"#N/A"},{"$error":"#N/A"},{"$error":"#N/A"},{"$error":"#N/A"},{"$error":"#N/A"},{"$error":"#N/A"},{"$error":"#N/A"},{"$error":"#N/A"},{"$error":"#N/A"},{"$error":"#N/A"},{"$error":"#N/A"},{"$error":"#N/A"},{"$error":"#N/A"},{"$error":"#N/A"},{"$error":"#N/A"},{"$error":"#N/A"},{"$error":"#N/A"},{"$error":"#N/A"},{"$error":"#N/A"},{"$error":"#N/A"},{"$error":"#N/A"},{"$error":"#N/A"},{"$error":"#N/A"},{"$error":"#N/A"},{"$error":"#N/A"},{"$error":"#N/A"},{"$error":"#N/A"},{"$error":"#N/A"},{"$error":"#N/A"},{"$error":"#N/A"},{"$error":"#N/A"},{"$error":"#N/A"},{"$error":"#N/A"},{"$error":"#N/A"},{"$error":"#N/A"},{"$error":"#N/A"},{"$error":"#N/A"},{"$error":"#N/A"},{"$error":"#N/A"},{"$error":"#N/A"},{"$error":"#N/A"},{"$error":"#N/A"},{"$error":"#N/A"},{"$error":"#N/A"},{"$error":"#N/A"},{"$error":"#N/A"},{"$error":"#N/A"},{"$error":"#N/A"},{"$error":"#N/A"},{"$error":"#N/A"},{"$error":"#N/A"},{"$error":"#N/A"},{"$error":"#N/A"},{"$error":"#N/A"},{"$error":"#N/A"},{"$error":"#N/A"},{"$error":"#N/A"},{"$error":"#N/A"},{"$error":"#N/A"},{"$error":"#N/A"},{"$error":"#N/A"},{"$error":"#N/A"},{"$error":"#N/A"},{"$error":"#N/A"},{"$error":"#N/A"},{"$error":"#N/A"},{"$error":"#N/A"},{"$error":"#N/A"},{"$error":"#N/A"},{"$error":"#N/A"},{"$error":"#N/A"},{"$error":"#N/A"},{"$error":"#N/A"},{"$error":"#N/A"},{"$error":"#N/A"},{"$error":"#N/A"},{"$error":"#N/A"}]
[null,null,null,null,null,null,null,null,null,null,null,{"$error":"#N/A"},106,{"$f":"VLOOKUP($M123,Funknavigation!$A$2:$AC$185,N$17,FALSE)","v":"Luebars "},{"$f":"VLOOKUP($M123,Funknavigation!$A$2:$AC$185,O$17,FALSE)","v":"NDB "},{"$f":"VLOOKUP($M123,Funknavigation!$A$2:$AC$185,P$17,FALSE)","v":"DLS"},{"$f":"VLOOKUP($M123,Funknavigation!$A$2:$AC$185,Q$17,FALSE)","v":"− · ·   · − · ·   · · ·"},{"$f":"VLOOKUP($M123,Funknavigation!$A$2:$AC$185,R$17,FALSE)","v":106},{"$f":"VLOOKUP($M123,Funknavigation!$A$2:$AC$185,S$17,FALSE)","v":52.613900000000001},{"$f":"VLOOKUP($M123,Funknavigation!$A$2:$AC$185,T$17,FALSE)","v":13.3636},{"$f":"VLOOKUP($M123,Funknavigation!$A$2:$AC$185,U$17,FALSE)","v":""},{"$f":"VLOOKUP($M123,Funknavigation!$A$2:$AC$185,V$17,FALSE)","v":413.5},{"$f":"VLOOKUP($M123,Funknavigation!$A$2:$AC$185,W$17,FALSE)","v":""},{"$f":"VLOOKUP($M123,Funknavigation!$A$2:$AC$185,X$17,FALSE)","v":0},null,null,0.91828578731504451,0.23323881991951423,{"$f":"IF(AG123=1,MAX(MAX(AC$18:$AC122),MAX($AD$18:$AD$193))+1,\"-\")","v":{"$error":"#N/A"}},{"$f":"IF(AH123=1,MAX($AD$18:AD122)+1,\"-\")","v":{"$error":"#N/A"}},{"$error":"#N/A"},{"$error":"#N/A"},{"$error":"#N/A"},{"$error":"#N/A"},{"$error":"#N/A"},{"$error":"#N/A"},{"$error":"#N/A"},{"$error":"#N/A"},{"$error":"#N/A"},{"$error":"#N/A"},{"$error":"#N/A"},{"$error":"#N/A"},{"$error":"#N/A"},{"$error":"#N/A"},{"$error":"#N/A"},{"$error":"#N/A"},{"$error":"#N/A"},{"$error":"#N/A"},{"$error":"#N/A"},{"$error":"#N/A"},{"$error":"#N/A"},{"$error":"#N/A"},{"$error":"#N/A"},{"$error":"#N/A"},{"$error":"#N/A"},{"$error":"#N/A"},{"$error":"#N/A"},{"$error":"#N/A"},{"$error":"#N/A"},{"$error":"#N/A"},{"$error":"#N/A"},{"$error":"#N/A"},{"$error":"#N/A"},{"$error":"#N/A"},{"$error":"#N/A"},{"$error":"#N/A"},{"$error":"#N/A"},{"$error":"#N/A"},{"$error":"#N/A"},{"$error":"#N/A"},{"$error":"#N/A"},{"$error":"#N/A"},{"$error":"#N/A"},{"$error":"#N/A"},{"$error":"#N/A"},{"$error":"#N/A"},{"$error":"#N/A"},{"$error":"#N/A"},{"$error":"#N/A"},{"$error":"#N/A"},{"$error":"#N/A"},{"$error":"#N/A"},{"$error":"#N/A"},{"$error":"#N/A"},{"$error":"#N/A"},{"$error":"#N/A"},{"$error":"#N/A"},{"$error":"#N/A"},{"$error":"#N/A"},{"$error":"#N/A"},{"$error":"#N/A"},{"$error":"#N/A"},{"$error":"#N/A"},{"$error":"#N/A"},{"$error":"#N/A"},{"$error":"#N/A"},{"$error":"#N/A"},{"$error":"#N/A"},{"$error":"#N/A"},{"$error":"#N/A"},{"$error":"#N/A"},{"$error":"#N/A"},{"$error":"#N/A"},{"$error":"#N/A"},{"$error":"#N/A"},{"$error":"#N/A"},{"$error":"#N/A"},{"$error":"#N/A"},{"$error":"#N/A"},{"$error":"#N/A"},{"$f":"IF(DG$3=\"OK\",(21600/(2*PI()))*ACOS(SIN($AA123)*SIN(DG$6)+COS(DG$6)*COS($AA123)*COS($AB123-DG$7)),\"-\")","v":{"$error":"#N/A"}},{"$error":"#N/A"},{"$error":"#N/A"},{"$error":"#N/A"},{"$error":"#N/A"},{"$error":"#N/A"},{"$error":"#N/A"},{"$error":"#N/A"},{"$error":"#N/A"},{"$error":"#N/A"},{"$error":"#N/A"},{"$error":"#N/A"},{"$error":"#N/A"},{"$error":"#N/A"},{"$error":"#N/A"},{"$error":"#N/A"},{"$error":"#N/A"},{"$error":"#N/A"},{"$error":"#N/A"},{"$error":"#N/A"},{"$error":"#N/A"},{"$error":"#N/A"},{"$error":"#N/A"},{"$error":"#N/A"},{"$error":"#N/A"},{"$error":"#N/A"}]
[null,null,null,null,null,null,null,null,null,null,null,{"$error":"#N/A"},107,{"$f":"VLOOKUP($M124,Funknavigation!$A$2:$AC$185,N$17,FALSE)","v":"Luebeck-Blankensee "},{"$f":"VLOOKUP($M124,Funknavigation!$A$2:$AC$185,O$17,FALSE)","v":"LO "},{"$f":"VLOOKUP($M124,Funknavigation!$A$2:$AC$185,P$17,FALSE)","v":"LYE"},{"$f":"VLOOKUP($M124,Funknavigation!$A$2:$AC$185,Q$17,FALSE)","v":"· − · ·   − · − −   ·"},{"$f":"VLOOKUP($M124,Funknavigation!$A$2:$AC$185,R$17,FALSE)","v":107},{"$f":"VLOOKUP($M124,Funknavigation!$A$2:$AC$185,S$17,FALSE)","v":53.800800000000002},{"$f":"VLOOKUP($M124,Funknavigation!$A$2:$AC$185,T$17,FALSE)","v":10.6958},{"$f":"VLOOKUP($M124,Funknavigation!$A$2:$AC$185,U$17,FALSE)","v":""},{"$f":"VLOOKUP($M124,Funknavigation!$A$2:$AC$185,V$17,FALSE)","v":394},{"$f":"VLOOKUP($M124,Funknavigation!$A$2:$AC$185,W$17,FALSE)","v":""},{"$f":"VLOOKUP($M124,Funknavigation!$A$2:$AC$185,X$17,FALSE)","v":15},null,null,0.93900110020696526,0.18667692613480952,{"$f":"IF(AG124=1,MAX(MAX(AC$18:$AC123),MAX($AD$18:$AD$193))+1,\"-\")","v":{"$error":"#N/A"}},{"$f":"IF(AH124=1,MAX($AD$18:AD123)+1,\"-\")","v":{"$error":"#N/A"}},{"$error":"#N/A"},{"$error":"#N/A"},{"$error":"#N/A"},{"$error":"#N/A"},{"$error":"#N/A"},{"$error":"#N/A"},{"$error":"#N/A"},{"$error":"#N/A"},{"$error":"#N/A"},{"$error":"#N/A"},{"$error":"#N/A"},{"$error":"#N/A"},{"$error":"#N/A"},{"$error":"#N/A"},{"$error":"#N/A"},{"$error":"#N/A"},{"$error":"#N/A"},{"$error":"#N/A"},{"$error":"#N/A"},{"$error":"#N/A"},{"$error":"#N/A"},{"$error":"#N/A"},{"$error":"#N/A"},{"$error":"#N/A"},{"$error":"#N/A"},{"$error":"#N/A"},{"$error":"#N/A"},{"$error":"#N/A"},{"$error":"#N/A"},{"$error":"#N/A"},{"$error":"#N/A"},{"$error":"#N/A"},{"$error":"#N/A"},{"$error":"#N/A"},{"$error":"#N/A"},{"$error":"#N/A"},{"$error":"#N/A"},{"$error":"#N/A"},{"$error":"#N/A"},{"$error":"#N/A"},{"$error":"#N/A"},{"$error":"#N/A"},{"$error":"#N/A"},{"$error":"#N/A"},{"$error":"#N/A"},{"$error":"#N/A"},{"$error":"#N/A"},{"$error":"#N/A"},{"$error":"#N/A"},{"$error":"#N/A"},{"$error":"#N/A"},{"$error":"#N/A"},{"$error":"#N/A"},{"$error":"#N/A"},{"$error":"#N/A"},{"$error":"#N/A"},{"$error":"#N/A"},{"$error":"#N/A"},{"$error":"#N/A"},{"$error":"#N/A"},{"$error":"#N/A"},{"$error":"#N/A"},{"$error":"#N/A"},{"$error":"#N/A"},{"$error":"#N/A"},{"$error":"#N/A"},{"$error":"#N/A"},{"$error":"#N/A"},{"$error":"#N/A"},{"$error":"#N/A"},{"$error":"#N/A"},{"$error":"#N/A"},{"$error":"#N/A"},{"$error":"#N/A"},{"$error":"#N/A"},{"$error":"#N/A"},{"$error":"#N/A"},{"$error":"#N/A"},{"$error":"#N/A"},{"$error":"#N/A"},{"$error":"#N/A"},{"$error":"#N/A"},{"$error":"#N/A"},{"$error":"#N/A"},{"$error":"#N/A"},{"$error":"#N/A"},{"$error":"#N/A"},{"$error":"#N/A"},{"$error":"#N/A"},{"$error":"#N/A"},{"$error":"#N/A"},{"$error":"#N/A"},{"$error":"#N/A"},{"$error":"#N/A"},{"$error":"#N/A"},{"$error":"#N/A"},{"$error":"#N/A"},{"$error":"#N/A"},{"$error":"#N/A"},{"$error":"#N/A"},{"$error":"#N/A"},{"$error":"#N/A"},{"$error":"#N/A"},{"$error":"#N/A"},{"$error":"#N/A"},{"$error":"#N/A"}]
[null,null,null,null,null,null,null,null,null,null,null,{"$error":"#N/A"},108,{"$f":"VLOOKUP($M125,Funknavigation!$A$2:$AC$185,N$17,FALSE)","v":"Luebeck-Blankensee"},{"$f":"VLOOKUP($M125,Funknavigation!$A$2:$AC$185,O$17,FALSE)","v":"DME "},{"$f":"VLOOKUP($M125,Funknavigation!$A$2:$AC$185,P$17,FALSE)","v":"ILUE"},{"$f":"VLOOKUP($M125,Funknavigation!$A$2:$AC$185,Q$17,FALSE)","v":"· ·   · − · ·   · · −   ·"},{"$f":"VLOOKUP($M125,Funknavigation!$A$2:$AC$185,R$17,FALSE)","v":108},{"$f":"VLOOKUP($M125,Funknavigation!$A$2:$AC$185,S$17,FALSE)","v":53.806399999999996},{"$f":"VLOOKUP($M125,Funknavigation!$A$2:$AC$185,T$17,FALSE)","v":10.7186},{"$f":"VLOOKUP($M125,Funknavigation!$A$2:$AC$185,U$17,FALSE)","v":"109.35"},{"$f":"VLOOKUP($M125,Funknavigation!$A$2:$AC$185,V$17,FALSE)","v":""},{"$f":"VLOOKUP($M125,Funknavigation!$A$2:$AC$185,W$17,FALSE)","v":"Ch 30y"},{"$f":"VLOOKUP($M125,Funknavigation!$A$2:$AC$185,X$17,FALSE)","v":25},null,null,0.93909883864507693,0.1870748612042642,{"$f":"IF(AG125=1,MAX(MAX(AC$18:$AC124),MAX($AD$18:$AD$193))+1,\"-\")","v":{"$error":"#N/A"}},{"$f":"IF(AH125=1,MAX($AD$18:AD124)+1,\"-\")","v":{"$error":"#N/A"}},{"$error":"#N/A"},{"$error":"#N/A"},{"$error":"#N/A"},{"$error":"#N/A"},{"$error":"#N/A"},{"$error":"#N/A"},{"$error":"#N/A"},{"$error":"#N/A"},{"$error":"#N/A"},{"$error":"#N/A"},{"$error":"#N/A"},{"$error":"#N/A"},{"$error":"#N/A"},{"$error":"#N/A"},{"$error":"#N/A"},{"$error":"#N/A"},{"$error":"#N/A"},{"$error":"#N/A"},{"$error":"#N/A"},{"$error":"#N/A"},{"$error":"#N/A"},{"$error":"#N/A"},{"$error":"#N/A"},{"$error":"#N/A"},{"$error":"#N/A"},{"$error":"#N/A"},{"$error":"#N/A"},{"$error":"#N/A"},{"$error":"#N/A"},{"$error":"#N/A"},{"$error":"#N/A"},{"$error":"#N/A"},{"$error":"#N/A"},{"$error":"#N/A"},{"$error":"#N/A"},{"$error":"#N/A"},{"$error":"#N/A"},{"$error":"#N/A"},{"$error":"#N/A"},{"$error":"#N/A"},{"$error":"#N/A"},{"$error":"#N/A"},{"$error":"#N/A"},{"$error":"#N/A"},{"$error":"#N/A"},{"$error":"#N/A"},{"$error":"#N/A"},{"$error":"#N/A"},{"$error":"#N/A"},{"$error":"#N/A"},{"$error":"#N/A"},{"$error":"#N/A"},{"$error":"#N/A"},{"$error":"#N/A"},{"$error":"#N/A"},{"$error":"#N/A"},{"$error":"#N/A"},{"$error":"#N/A"},{"$error":"#N/A"},{"$error":"#N/A"},{"$error":"#N/A"},{"$error":"#N/A"},{"$error":"#N/A"},{"$error":"#N/A"},{"$error":"#N/A"},{"$error":"#N/A"},{"$error":"#N/A"},{"$error":"#N/A"},{"$error":"#N/A"},{"$error":"#N/A"},{"$error":"#N/A"},{"$error":"#N/A"},{"$error":"#N/A"},{"$error":"#N/A"},{"$error":"#N/A"},{"$error":"#N/A"},{"$error":"#N/A"},{"$error":"#N/A"},{"$error":"#N/A"},{"$error":"#N/A"},{"$error":"#N/A"},{"$error":"#N/A"},{"$error":"#N/A"},{"$error":"#N/A"},{"$error":"#N/A"},{"$error":"#N/A"},{"$error":"#N/A"},{"$error":"#N/A"},{"$error":"#N/A"},{"$error":"#N/A"},{"$error":"#N/A"},{"$error":"#N/A"},{"$error":"#N/A"},{"$error":"#N/A"},{"$error":"#N/A"},{"$error":"#N/A"},{"$error":"#N/A"},{"$error":"#N/A"},{"$error":"#N/A"},{"$error":"#N/A"},{"$error":"#N/A"},{"$error":"#N/A"},{"$error":"#N/A"},{"$error":"#N/A"},{"$error":"#N/A"},{"$error":"#N/A"}]
[null,null,null,null,null,null,null,null,null,null,null,{"$error":"#N/A"},109,{"$f":"VLOOKUP($M126,Funknavigation!$A$2:$AC$185,N$17,FALSE)","v":"Magdeburg "},{"$f":"VLOOKUP($M126,Funknavigation!$A$2:$AC$185,O$17,FALSE)","v":"VOR/DME "},{"$f":"VLOOKUP($M126,Funknavigation!$A$2:$AC$185,P$17,FALSE)","v":"MAG"},{"$f":"VLOOKUP($M126,Funknavigation!$A$2:$AC$185,Q$17,FALSE)","v":"− −   · −   − − ·"},{"$f":"VLOOKUP($M126,Funknavigation!$A$2:$AC$185,R$17,FALSE)","v":109},{"$f":"VLOOKUP($M126,Funknavigation!$A$2:$AC$185,S$17,FALSE)","v":51.994999999999997},{"$f":"VLOOKUP($M126,Funknavigation!$A$2:$AC$185,T$17,FALSE)","v":11.7944},{"$f":"VLOOKUP($M126,Funknavigation!$A$2:$AC$185,U$17,FALSE)","v":"110.45"},{"$f":"VLOOKUP($M126,Funknavigation!$A$2:$AC$185,V$17,FALSE)","v":""},{"$f":"VLOOKUP($M126,Funknavigation!$A$2:$AC$185,W$17,FALSE)","v":"Ch 41y "},{"$f":"VLOOKUP($M126,Funknavigation!$A$2:$AC$185,X$17,FALSE)","v":80},null,null,0.90748394457445158,0.20585111329721917,{"$f":"IF(AG126=1,MAX(MAX(AC$18:$AC125),MAX($AD$18:$AD$193))+1,\"-\")","v":{"$error":"#N/A"}},{"$f":"IF(AH126=1,MAX($AD$18:AD125)+1,\"-\")","v":{"$error":"#N/A"}},{"$error":"#N/A"},{"$error":"#N/A"},{"$error":"#N/A"},{"$error":"#N/A"},{"$error":"#N/A"},{"$error":"#N/A"},{"$error":"#N/A"},{"$error":"#N/A"},{"$error":"#N/A"},{"$error":"#N/A"},{"$error":"#N/A"},{"$error":"#N/A"},{"$error":"#N/A"},{"$error":"#N/A"},{"$error":"#N/A"},{"$error":"#N/A"},{"$error":"#N/A"},{"$error":"#N/A"},{"$error":"#N/A"},{"$error":"#N/A"},{"$error":"#N/A"},{"$error":"#N/A"},{"$error":"#N/A"},{"$error":"#N/A"},{"$error":"#N/A"},{"$error":"#N/A"},{"$error":"#N/A"},{"$error":"#N/A"},{"$error":"#N/A"},{"$error":"#N/A"},{"$error":"#N/A"},{"$error":"#N/A"},{"$error":"#N/A"},{"$error":"#N/A"},{"$error":"#N/A"},{"$error":"#N/A"},{"$error":"#N/A"},{"$error":"#N/A"},{"$error":"#N/A"},{"$error":"#N/A"},{"$error":"#N/A"},{"$error":"#N/A"},{"$error":"#N/A"},{"$error":"#N/A"},{"$error":"#N/A"},{"$error":"#N/A"},{"$error":"#N/A"},{"$error":"#N/A"},{"$error":"#N/A"},{"$error":"#N/A"},{"$error":"#N/A"},{"$error":"#N/A"},{"$error":"#N/A"},{"$error":"#N/A"},{"$error":"#N/A"},{"$error":"#N/A"},{"$error":"#N/A"},{"$error":"#N/A"},{"$error":"#N/A"},{"$error":"#N/A"},{"$error":"#N/A"},{"$error":"#N/A"},{"$error":"#N/A"},{"$error":"#N/A"},{"$error":"#N/A"},{"$error":"#N/A"},{"$error":"#N/A"},{"$error":"#N/A"},{"$error":"#N/A"},{"$error":"#N/A"},{"$error":"#N/A"},{"$error":"#N/A"},{"$error":"#N/A"},{"$error":"#N/A"},{"$error":"#N/A"},{"$error":"#N/A"},{"$error":"#N/A"},{"$error":"#N/A"},{"$error":"#N/A"},{"$error":"#N/A"},{"$error":"#N/A"},{"$error":"#N/A"},{"$error":"#N/A"},{"$error":"#N/A"},{"$error":"#N/A"},{"$error":"#N/A"},{"$error":"#N/A"},{"$error":"#N/A"},{"$error":"#N/A"},{"$error":"#N/A"},{"$error":"#N/A"},{"$error":"#N/A"},{"$error":"#N/A"},{"$error":"#N/A"},{"$error":"#N/A"},{"$error":"#N/A"},{"$error":"#N/A"},{"$error":"#N/A"},{"$error":"#N/A"},{"$error":"#N/A"},{"$error":"#N/A"},{"$error":"#N/A"},{"$error":"#N/A"},{"$error":"#N/A"},{"$error":"#N/A"},{"$error":"#N/A"}]
[null,null,null,null,null,null,null,null,null,null,null,{"$error":"#N/A"},110,{"$f":"VLOOKUP($M127,Funknavigation!$A$2:$AC$185,N$17,FALSE)","v":"Maisach "},{"$f":"VLOOKUP($M127,Funknavigation!$A$2:$AC$185,O$17,FALSE)","v":"DVOR/DME "},{"$f":"VLOOKUP($M127,Funknavigation!$A$2:$AC$185,P$17,FALSE)","v":"MAH"},{"$f":"VLOOKUP($M127,Funknavigation!$A$2:$AC$185,Q$17,FALSE)","v":"− −   · −   · · · ·"},{"$f":"VLOOKUP($M127,Funknavigation!$A$2:$AC$185,R$17,FALSE)","v":110},{"$f":"VLOOKUP($M127,Funknavigation!$A$2:$AC$185,S$17,FALSE)","v":48.263300000000001},{"$f":"VLOOKUP($M127,Funknavigation!$A$2:$AC$185,T$17,FALSE)","v":11.3119},{"$f":"VLOOKUP($M127,Funknavigation!$A$2:$AC$185,U$17,FALSE)","v":"115.20"},{"$f":"VLOOKUP($M127,Funknavigation!$A$2:$AC$185,V$17,FALSE)","v":""},{"$f":"VLOOKUP($M127,Funknavigation!$A$2:$AC$185,W$17,FALSE)","v":"Ch 99x "},{"$f":"VLOOKUP($M127,Funknavigation!$A$2:$AC$185,X$17,FALSE)","v":40},null,null,0.84235349287777928,0.19742989965634655,{"$f":"IF(AG127=1,MAX(MAX(AC$18:$AC126),MAX($AD$18:$AD$193))+1,\"-\")","v":{"$error":"#N/A"}},{"$f":"IF(AH127=1,MAX($AD$18:AD126)+1,\"-\")","v":{"$error":"#N/A"}},{"$error":"#N/A"},{"$error":"#N/A"},{"$error":"#N/A"},{"$error":"#N/A"},{"$error":"#N/A"},{"$error":"#N/A"},{"$error":"#N/A"},{"$error":"#N/A"},{"$error":"#N/A"},{"$error":"#N/A"},{"$error":"#N/A"},{"$error":"#N/A"},{"$error":"#N/A"},{"$error":"#N/A"},{"$error":"#N/A"},{"$error":"#N/A"},{"$error":"#N/A"},{"$error":"#N/A"},{"$error":"#N/A"},{"$error":"#N/A"},{"$error":"#N/A"},{"$error":"#N/A"},{"$error":"#N/A"},{"$error":"#N/A"},{"$error":"#N/A"},{"$error":"#N/A"},{"$error":"#N/A"},{"$error":"#N/A"},{"$error":"#N/A"},{"$error":"#N/A"},{"$error":"#N/A"},{"$error":"#N/A"},{"$error":"#N/A"},{"$error":"#N/A"},{"$error":"#N/A"},{"$error":"#N/A"},{"$error":"#N/A"},{"$error":"#N/A"},{"$error":"#N/A"},{"$error":"#N/A"},{"$error":"#N/A"},{"$error":"#N/A"},{"$error":"#N/A"},{"$error":"#N/A"},{"$error":"#N/A"},{"$error":"#N/A"},{"$error":"#N/A"},{"$error":"#N/A"},{"$error":"#N/A"},{"$error":"#N/A"},{"$error":"#N/A"},{"$error":"#N/A"},{"$error":"#N/A"},{"$error":"#N/A"},{"$error":"#N/A"},{"$error":"#N/A"},{"$error":"#N/A"},{"$error":"#N/A"},{"$error":"#N/A"},{"$error":"#N/A"},{"$error":"#N/A"},{"$error":"#N/A"},{"$error":"#N/A"},{"$error":"#N/A"},{"$error":"#N/A"},{"$error":"#N/A"},{"$error":"#N/A"},{"$error":"#N/A"},{"$error":"#N/A"},{"$error":"#N/A"},{"$error":"#N/A"},{"$error":"#N/A"},{"$error":"#N/A"},{"$error":"#N/A"},{"$error":"#N/A"},{"$error":"#N/A"},{"$error":"#N/A"},{"$error":"#N/A"},{"$error":"#N/A"},{"$error":"#N/A"},{"$error":"#N/A"},{"$error":"#N/A"},{"$error":"#N/A"},{"$error":"#N/A"},{"$error":"#N/A"},{"$error":"#N/A"},{"$error":"#N/A"},{"$error":"#N/A"},{"$error":"#N/A"},{"$error":"#N/A"},{"$error":"#N/A"},{"$error":"#N/A"},{"$error":"#N/A"},{"$error":"#N/A"},{"$error":"#N/A"},{"$error":"#N/A"},{"$error":"#N/A"},{"$error":"#N/A"},{"$error":"#N/A"},{"$error":"#N/A"},{"$error":"#N/A"},{"$error":"#N/A"},{"$error":"#N/A"},{"$error":"#N/A"},{"$error":"#N/A"},{"$error":"#N/A"}]
[null,null,null,null,null,null,null,null,null,null,null,{"$error":"#N/A"},111,{"$f":"VLOOKUP($M128,Funknavigation!$A$2:$AC$185,N$17,FALSE)","v":"Mannheim "},{"$f":"VLOOKUP($M128,Funknavigation!$A$2:$AC$185,O$17,FALSE)","v":"DME "},{"$f":"VLOOKUP($M128,Funknavigation!$A$2:$AC$185,P$17,FALSE)","v":"MND"},{"$f":"VLOOKUP($M128,Funknavigation!$A$2:$AC$185,Q$17,FALSE)","v":"− −   − ·   − · ·"},{"$f":"VLOOKUP($M128,Funknavigation!$A$2:$AC$185,R$17,FALSE)","v":111},{"$f":"VLOOKUP($M128,Funknavigation!$A$2:$AC$185,S$17,FALSE)","v":49.470599999999997},{"$f":"VLOOKUP($M128,Funknavigation!$A$2:$AC$185,T$17,FALSE)","v":8.5160999999999998},{"$f":"VLOOKUP($M128,Funknavigation!$A$2:$AC$185,U$17,FALSE)","v":"113.55"},{"$f":"VLOOKUP($M128,Funknavigation!$A$2:$AC$185,V$17,FALSE)","v":""},{"$f":"VLOOKUP($M128,Funknavigation!$A$2:$AC$185,W$17,FALSE)","v":"Ch 82y () "},{"$f":"VLOOKUP($M128,Funknavigation!$A$2:$AC$185,X$17,FALSE)","v":15},null,null,0.86342485293710669,0.14863398442908909,{"$f":"IF(AG128=1,MAX(MAX(AC$18:$AC127),MAX($AD$18:$AD$193))+1,\"-\")","v":{"$error":"#N/A"}},{"$f":"IF(AH128=1,MAX($AD$18:AD127)+1,\"-\")","v":{"$error":"#N/A"}},{"$error":"#N/A"},{"$error":"#N/A"},{"$error":"#N/A"},{"$error":"#N/A"},{"$error":"#N/A"},{"$error":"#N/A"},{"$error":"#N/A"},{"$f":"IF(AL$3=\"OK\",(21600/(2*PI()))*ACOS(SIN($AA128)*SIN(AL$6)+COS(AL$6)*COS($AA128)*COS($AB128-AL$7)),\"-\")","v":{"$error":"#N/A"}},{"$error":"#N/A"},{"$error":"#N/A"},{"$error":"#N/A"},{"$error":"#N/A"},{"$error":"#N/A"},{"$error":"#N/A"},{"$error":"#N/A"},{"$error":"#N/A"},{"$error":"#N/A"},{"$f":"IF(AV$3=\"OK\",(21600/(2*PI()))*ACOS(SIN($AA128)*SIN(AV$6)+COS(AV$6)*COS($AA128)*COS($AB128-AV$7)),\"-\")","v":{"$error":"#N/A"}},{"$error":"#N/A"},{"$error":"#N/A"},{"$error":"#N/A"},{"$error":"#N/A"},{"$error":"#N/A"},{"$error":"#N/A"},{"$error":"#N/A"},{"$error":"#N/A"},{"$error":"#N/A"},{"$f":"IF(BF$3=\"OK\",(21600/(2*PI()))*ACOS(SIN($AA128)*SIN(BF$6)+COS(BF$6)*COS($AA128)*COS($AB128-BF$7)),\"-\")","v":{"$error":"#N/A"}},{"$error":"#N/A"},{"$error":"#N/A"},{"$error":"#N/A"},{"$error":"#N/A"},{"$error":"#N/A"},{"$error":"#N/A"},{"$error":"#N/A"},{"$error":"#N/A"},{"$error":"#N/A"},{"$f":"IF(BP$3=\"OK\",(21600/(2*PI()))*ACOS(SIN($AA128)*SIN(BP$6)+COS(BP$6)*COS($AA128)*COS($AB128-BP$7)),\"-\")","v":{"$error":"#N/A"}},{"$error":"#N/A"},{"$error":"#N/A"},{"$error":"#N/A"},{"$error":"#N/A"},{"$error":"#N/A"},{"$error":"#N/A"},{"$error":"#N/A"},{"$error":"#N/A"},{"$error":"#N/A"},{"$f":"IF(BZ$3=\"OK\",(21600/(2*PI()))*ACOS(SIN($AA128)*SIN(BZ$6)+COS(BZ$6)*COS($AA128)*COS($AB128-BZ$7)),\"-\")","v":{"$error":"#N/A"}},{"$error":"#N/A"},{"$error":"#N/A"},{"$error":"#N/A"},{"$error":"#N/A"},{"$error":"#N/A"},{"$error":"#N/A"},{"$error":"#N/A"},{"$error":"#N/A"},{"$error":"#N/A"},{"$f":"IF(CJ$3=\"OK\",(21600/(2*PI()))*ACOS(SIN($AA128)*SIN(CJ$6)+COS(CJ$6)*COS($AA128)*COS($AB128-CJ$7)),\"-\")","v":{"$error":"#N/A"}},{"$error":"#N/A"},{"$error":"#N/A"},{"$error":"#N/A"},{"$error":"#N/A"},{"$error":"#N/A"},{"$error":"#N/A"},{"$error":"#N/A"},{"$error":"#N/A"},{"$error":"#N/A"},{"$f":"IF(CT$3=\"OK\",(21600/(2*PI()))*ACOS(SIN($AA128)*SIN(CT$6)+COS(CT$6)*COS($AA128)*COS($AB128-CT$7)),\"-\")","v":{"$error":"#N/A"}},{"$error":"#N/A"},{"$error":"#N/A"},{"$error":"#N/A"},{"$error":"#N/A"},{"$error":"#N/A"},{"$error":"#N/A"},{"$error":"#N/A"},{"$error":"#N/A"},{"$error":"#N/A"},{"$error":"#N/A"},{"$error":"#N/A"},{"$error":"#N/A"},{"$error":"#N/A"},{"$error":"#N/A"},{"$error":"#N/A"},{"$error":"#N/A"},{"$error":"#N/A"},{"$error":"#N/A"},{"$error":"#N/A"},{"$error":"#N/A"},{"$error":"#N/A"},{"$error":"#N/A"},{"$error":"#N/A"},{"$error":"#N/A"},{"$error":"#N/A"},{"$error":"#N/A"},{"$error":"#N/A"},{"$error":"#N/A"},{"$error":"#N/A"},{"$error":"#N/A"},{"$error":"#N/A"},{"$error":"#N/A"},{"$error":"#N/A"},{"$error":"#N/A"},{"$error":"#N/A"},{"$error":"#N/A"},{"$error":"#N/A"},{"$error":"#N/A"}]
[null,null,null,null,null,null,null,null,null,null,null,{"$error":"#N/A"},112,{"$f":"VLOOKUP($M129,Funknavigation!$A$2:$AC$185,N$17,FALSE)","v":"Metro "},{"$f":"VLOOKUP($M129,Funknavigation!$A$2:$AC$185,O$17,FALSE)","v":"VOR "},{"$f":"VLOOKUP($M129,Funknavigation!$A$2:$AC$185,P$17,FALSE)","v":"MTR"},{"$f":"VLOOKUP($M129,Funknavigation!$A$2:$AC$185,Q$17,FALSE)","v":"− −   −   · − ·"},{"$f":"VLOOKUP($M129,Funknavigation!$A$2:$AC$185,R$17,FALSE)","v":112},{"$f":"VLOOKUP($M129,Funknavigation!$A$2:$AC$185,S$17,FALSE)","v":50.276400000000002},{"$f":"VLOOKUP($M129,Funknavigation!$A$2:$AC$185,T$17,FALSE)","v":8.8485999999999994},{"$f":"VLOOKUP($M129,Funknavigation!$A$2:$AC$185,U$17,FALSE)","v":"110.00"},{"$f":"VLOOKUP($M129,Funknavigation!$A$2:$AC$185,V$17,FALSE)","v":""},{"$f":"VLOOKUP($M129,Funknavigation!$A$2:$AC$185,W$17,FALSE)","v":""},{"$f":"VLOOKUP($M129,Funknavigation!$A$2:$AC$185,X$17,FALSE)","v":60},null,null,0.87748871604967715,0.15443720419197021,{"$f":"IF(AG129=1,MAX(MAX(AC$18:$AC128),MAX($AD$18:$AD$193))+1,\"-\")","v":{"$error":"#N/A"}},{"$f":"IF(AH129=1,MAX($AD$18:AD128)+1,\"-\")","v":{"$error":"#N/A"}},{"$error":"#N/A"},{"$error":"#N/A"},{"$error":"#N/A"},{"$error":"#N/A"},{"$error":"#N/A"},{"$error":"#N/A"},{"$error":"#N/A"},{"$error":"#N/A"},{"$error":"#N/A"},{"$error":"#N/A"},{"$error":"#N/A"},{"$error":"#N/A"},{"$error":"#N/A"},{"$error":"#N/A"},{"$error":"#N/A"},{"$error":"#N/A"},{"$error":"#N/A"},{"$error":"#N/A"},{"$error":"#N/A"},{"$error":"#N/A"},{"$error":"#N/A"},{"$error":"#N/A"},{"$error":"#N/A"},{"$error":"#N/A"},{"$error":"#N/A"},{"$error":"#N/A"},{"$error":"#N/A"},{"$error":"#N/A"},{"$error":"#N/A"},{"$error":"#N/A"},{"$error":"#N/A"},{"$error":"#N/A"},{"$error":"#N/A"},{"$error":"#N/A"},{"$error":"#N/A"},{"$error":"#N/A"},{"$error":"#N/A"},{"$error":"#N/A"},{"$error":"#N/A"},{"$error":"#N/A"},{"$error":"#N/A"},{"$error":"#N/A"},{"$error":"#N/A"},{"$error":"#N/A"},{"$error":"#N/A"},{"$error":"#N/A"},{"$error":"#N/A"},{"$error":"#N/A"},{"$error":"#N/A"},{"$error":"#N/A"},{"$error":"#N/A"},{"$error":"#N/A"},{"$error":"#N/A"},{"$error":"#N/A"},{"$error":"#N/A"},{"$error":"#N/A"},{"$error":"#N/A"},{"$error":"#N/A"},{"$error":"#N/A"},{"$error":"#N/A"},{"$error":"#N/A"},{"$error":"#N/A"},{"$error":"#N/A"},{"$error":"#N/A"},{"$error":"#N/A"},{"$error":"#N/A"},{"$error":"#N/A"},{"$error":"#N/A"},{"$error":"#N/A"},{"$error":"#N/A"},{"$error":"#N/A"},{"$error":"#N/A"},{"$error":"#N/A"},{"$error":"#N/A"},{"$error":"#N/A"},{"$error":"#N/A"},{"$error":"#N/A"},{"$error":"#N/A"},{"$error":"#N/A"},{"$error":"#N/A"},{"$error":"#N/A"},{"$error":"#N/A"},{"$error":"#N/A"},{"$error":"#N/A"},{"$error":"#N/A"},{"$error":"#N/A"},{"$error":"#N/A"},{"$error":"#N/A"},{"$error":"#N/A"},{"$error":"#N/A"},{"$error":"#N/A"},{"$error":"#N/A"},{"$error":"#N/A"},{"$error":"#N/A"},{"$error":"#N/A"},{"$error":"#N/A"},{"$error":"#N/A"},{"$error":"#N/A"},{"$error":"#N/A"},{"$error":"#N/A"},{"$error":"#N/A"},{"$error":"#N/A"},{"$error":"#N/A"},{"$error":"#N/A"},{"$error":"#N/A"},{"$error":"#N/A"}]
[null,null,null,null,null,null,null,null,null,null,null,{"$error":"#N/A"},113,{"$f":"VLOOKUP($M130,Funknavigation!$A$2:$AC$185,N$17,FALSE)","v":"Michaelsdorf "},{"$f":"VLOOKUP($M130,Funknavigation!$A$2:$AC$185,O$17,FALSE)","v":"DVOR "},{"$f":"VLOOKUP($M130,Funknavigation!$A$2:$AC$185,P$17,FALSE)","v":"MIC"},{"$f":"VLOOKUP($M130,Funknavigation!$A$2:$AC$185,Q$17,FALSE)","v":"− −   · ·   − · − ·"},{"$f":"VLOOKUP($M130,Funknavigation!$A$2:$AC$185,R$17,FALSE)","v":113},{"$f":"VLOOKUP($M130,Funknavigation!$A$2:$AC$185,S$17,FALSE)","v":54.305599999999998},{"$f":"VLOOKUP($M130,Funknavigation!$A$2:$AC$185,T$17,FALSE)","v":11.0053},{"$f":"VLOOKUP($M130,Funknavigation!$A$2:$AC$185,U$17,FALSE)","v":"112.20"},{"$f":"VLOOKUP($M130,Funknavigation!$A$2:$AC$185,V$17,FALSE)","v":""},{"$f":"VLOOKUP($M130,Funknavigation!$A$2:$AC$185,W$17,FALSE)","v":""},{"$f":"VLOOKUP($M130,Funknavigation!$A$2:$AC$185,X$17,FALSE)","v":60},null,null,0.9478115222710326,0.19207872016973196,{"$f":"IF(AG130=1,MAX(MAX(AC$18:$AC129),MAX($AD$18:$AD$193))+1,\"-\")","v":{"$error":"#N/A"}},{"$f":"IF(AH130=1,MAX($AD$18:AD129)+1,\"-\")","v":{"$error":"#N/A"}},{"$error":"#N/A"},{"$error":"#N/A"},{"$error":"#N/A"},{"$error":"#N/A"},{"$error":"#N/A"},{"$error":"#N/A"},{"$error":"#N/A"},{"$error":"#N/A"},{"$error":"#N/A"},{"$error":"#N/A"},{"$error":"#N/A"},{"$error":"#N/A"},{"$error":"#N/A"},{"$error":"#N/A"},{"$error":"#N/A"},{"$error":"#N/A"},{"$error":"#N/A"},{"$error":"#N/A"},{"$error":"#N/A"},{"$error":"#N/A"},{"$error":"#N/A"},{"$error":"#N/A"},{"$error":"#N/A"},{"$error":"#N/A"},{"$error":"#N/A"},{"$error":"#N/A"},{"$error":"#N/A"},{"$error":"#N/A"},{"$error":"#N/A"},{"$error":"#N/A"},{"$error":"#N/A"},{"$error":"#N/A"},{"$error":"#N/A"},{"$error":"#N/A"},{"$error":"#N/A"},{"$error":"#N/A"},{"$error":"#N/A"},{"$error":"#N/A"},{"$error":"#N/A"},{"$error":"#N/A"},{"$error":"#N/A"},{"$error":"#N/A"},{"$error":"#N/A"},{"$error":"#N/A"},{"$error":"#N/A"},{"$error":"#N/A"},{"$error":"#N/A"},{"$error":"#N/A"},{"$error":"#N/A"},{"$error":"#N/A"},{"$error":"#N/A"},{"$error":"#N/A"},{"$error":"#N/A"},{"$error":"#N/A"},{"$error":"#N/A"},{"$error":"#N/A"},{"$error":"#N/A"},{"$error":"#N/A"},{"$error":"#N/A"},{"$error":"#N/A"},{"$error":"#N/A"},{"$error":"#N/A"},{"$error":"#N/A"},{"$error":"#N/A"},{"$error":"#N/A"},{"$error":"#N/A"},{"$error":"#N/A"},{"$error":"#N/A"},{"$error":"#N/A"},{"$error":"#N/A"},{"$error":"#N/A"},{"$error":"#N/A"},{"$error":"#N/A"},{"$error":"#N/A"},{"$error":"#N/A"},{"$error":"#N/A"},{"$error":"#N/A"},{"$error":"#N/A"},{"$error":"#N/A"},{"$error":"#N/A"},{"$error":"#N/A"},{"$error":"#N/A"},{"$error":"#N/A"},{"$error":"#N/A"},{"$error":"#N/A"},{"$error":"#N/A"},{"$error":"#N/A"},{"$error":"#N/A"},{"$error":"#N/A"},{"$error":"#N/A"},{"$error":"#N/A"},{"$error":"#N/A"},{"$error":"#N/A"},{"$error":"#N/A"},{"$error":"#N/A"},{"$error":"#N/A"},{"$error":"#N/A"},{"$error":"#N/A"},{"$error":"#N/A"},{"$error":"#N/A"},{"$error":"#N/A"},{"$error":"#N/A"},{"$error":"#N/A"},{"$error":"#N/A"},{"$error":"#N/A"},{"$error":"#N/A"}]
[null,null,null,null,null,null,null,null,null,null,null,{"$error":"#N/A"},114,{"$f":"VLOOKUP($M131,Funknavigation!$A$2:$AC$185,N$17,FALSE)","v":"Mike "},{"$f":"VLOOKUP($M131,Funknavigation!$A$2:$AC$185,O$17,FALSE)","v":"NDB "},{"$f":"VLOOKUP($M131,Funknavigation!$A$2:$AC$185,P$17,FALSE)","v":"MIQ"},{"$f":"VLOOKUP($M131,Funknavigation!$A$2:$AC$185,Q$17,FALSE)","v":"− −   · ·   − − · −"},{"$f":"VLOOKUP($M131,Funknavigation!$A$2:$AC$185,R$17,FALSE)","v":114},{"$f":"VLOOKUP($M131,Funknavigation!$A$2:$AC$185,S$17,FALSE)","v":48.570300000000003},{"$f":"VLOOKUP($M131,Funknavigation!$A$2:$AC$185,T$17,FALSE)","v":11.5975},{"$f":"VLOOKUP($M131,Funknavigation!$A$2:$AC$185,U$17,FALSE)","v":""},{"$f":"VLOOKUP($M131,Funknavigation!$A$2:$AC$185,V$17,FALSE)","v":426},{"$f":"VLOOKUP($M131,Funknavigation!$A$2:$AC$185,W$17,FALSE)","v":""},{"$f":"VLOOKUP($M131,Funknavigation!$A$2:$AC$185,X$17,FALSE)","v":24},null,null,0.84771165368140189,0.20241456000004238,{"$f":"IF(AG131=1,MAX(MAX(AC$18:$AC130),MAX($AD$18:$AD$193))+1,\"-\")","v":{"$error":"#N/A"}},{"$f":"IF(AH131=1,MAX($AD$18:AD130)+1,\"-\")","v":{"$error":"#N/A"}},{"$error":"#N/A"},{"$error":"#N/A"},{"$error":"#N/A"},{"$error":"#N/A"},{"$error":"#N/A"},{"$error":"#N/A"},{"$error":"#N/A"},{"$error":"#N/A"},{"$error":"#N/A"},{"$error":"#N/A"},{"$error":"#N/A"},{"$error":"#N/A"},{"$error":"#N/A"},{"$error":"#N/A"},{"$error":"#N/A"},{"$error":"#N/A"},{"$error":"#N/A"},{"$error":"#N/A"},{"$error":"#N/A"},{"$error":"#N/A"},{"$error":"#N/A"},{"$error":"#N/A"},{"$error":"#N/A"},{"$error":"#N/A"},{"$error":"#N/A"},{"$error":"#N/A"},{"$error":"#N/A"},{"$error":"#N/A"},{"$error":"#N/A"},{"$error":"#N/A"},{"$error":"#N/A"},{"$error":"#N/A"},{"$error":"#N/A"},{"$error":"#N/A"},{"$error":"#N/A"},{"$error":"#N/A"},{"$error":"#N/A"},{"$error":"#N/A"},{"$error":"#N/A"},{"$error":"#N/A"},{"$error":"#N/A"},{"$error":"#N/A"},{"$error":"#N/A"},{"$error":"#N/A"},{"$error":"#N/A"},{"$error":"#N/A"},{"$error":"#N/A"},{"$error":"#N/A"},{"$error":"#N/A"},{"$error":"#N/A"},{"$error":"#N/A"},{"$error":"#N/A"},{"$error":"#N/A"},{"$error":"#N/A"},{"$error":"#N/A"},{"$error":"#N/A"},{"$error":"#N/A"},{"$error":"#N/A"},{"$error":"#N/A"},{"$error":"#N/A"},{"$error":"#N/A"},{"$error":"#N/A"},{"$error":"#N/A"},{"$error":"#N/A"},{"$error":"#N/A"},{"$error":"#N/A"},{"$error":"#N/A"},{"$error":"#N/A"},{"$error":"#N/A"},{"$error":"#N/A"},{"$error":"#N/A"},{"$error":"#N/A"},{"$error":"#N/A"},{"$error":"#N/A"},{"$error":"#N/A"},{"$error":"#N/A"},{"$error":"#N/A"},{"$error":"#N/A"},{"$error":"#N/A"},{"$error":"#N/A"},{"$error":"#N/A"},{"$error":"#N/A"},{"$error":"#N/A"},{"$error":"#N/A"},{"$error":"#N/A"},{"$error":"#N/A"},{"$error":"#N/A"},{"$error":"#N/A"},{"$error":"#N/A"},{"$error":"#N/A"},{"$error":"#N/A"},{"$error":"#N/A"},{"$error":"#N/A"},{"$error":"#N/A"},{"$error":"#N/A"},{"$error":"#N/A"},{"$error":"#N/A"},{"$error":"#N/A"},{"$error":"#N/A"},{"$error":"#N/A"},{"$error":"#N/A"},{"$error":"#N/A"},{"$error":"#N/A"},{"$error":"#N/A"},{"$error":"#N/A"},{"$error":"#N/A"}]
[null,null,null,null,null,null,null,null,null,null,null,{"$error":"#N/A"},115,{"$f":"VLOOKUP($M132,Funknavigation!$A$2:$AC$185,N$17,FALSE)","v":"Moenchengladbach "},{"$f":"VLOOKUP($M132,Funknavigation!$A$2:$AC$185,O$17,FALSE)","v":"DVOR "},{"$f":"VLOOKUP($M132,Funknavigation!$A$2:$AC$185,P$17,FALSE)","v":"MHV"},{"$f":"VLOOKUP($M132,Funknavigation!$A$2:$AC$185,Q$17,FALSE)","v":"− −   · · · ·   · · · −"},{"$f":"VLOOKUP($M132,Funknavigation!$A$2:$AC$185,R$17,FALSE)","v":115},{"$f":"VLOOKUP($M132,Funknavigation!$A$2:$AC$185,S$17,FALSE)","v":51.237200000000001},{"$f":"VLOOKUP($M132,Funknavigation!$A$2:$AC$185,T$17,FALSE)","v":6.4903000000000004},{"$f":"VLOOKUP($M132,Funknavigation!$A$2:$AC$185,U$17,FALSE)","v":"109.80"},{"$f":"VLOOKUP($M132,Funknavigation!$A$2:$AC$185,V$17,FALSE)","v":""},{"$f":"VLOOKUP($M132,Funknavigation!$A$2:$AC$185,W$17,FALSE)","v":""},{"$f":"VLOOKUP($M132,Funknavigation!$A$2:$AC$185,X$17,FALSE)","v":40},null,null,0.89425783950283866,0.11327710444218797,{"$f":"IF(AG132=1,MAX(MAX(AC$18:$AC131),MAX($AD$18:$AD$193))+1,\"-\")","v":{"$error":"#N/A"}},{"$f":"IF(AH132=1,MAX($AD$18:AD131)+1,\"-\")","v":{"$error":"#N/A"}},{"$error":"#N/A"},{"$error":"#N/A"},{"$error":"#N/A"},{"$error":"#N/A"},{"$error":"#N/A"},{"$error":"#N/A"},{"$error":"#N/A"},{"$error":"#N/A"},{"$error":"#N/A"},{"$error":"#N/A"},{"$error":"#N/A"},{"$error":"#N/A"},{"$error":"#N/A"},{"$error":"#N/A"},{"$error":"#N/A"},{"$error":"#N/A"},{"$error":"#N/A"},{"$error":"#N/A"},{"$error":"#N/A"},{"$error":"#N/A"},{"$error":"#N/A"},{"$error":"#N/A"},{"$error":"#N/A"},{"$error":"#N/A"},{"$error":"#N/A"},{"$error":"#N/A"},{"$error":"#N/A"},{"$error":"#N/A"},{"$error":"#N/A"},{"$error":"#N/A"},{"$error":"#N/A"},{"$error":"#N/A"},{"$error":"#N/A"},{"$error":"#N/A"},{"$error":"#N/A"},{"$error":"#N/A"},{"$error":"#N/A"},{"$error":"#N/A"},{"$error":"#N/A"},{"$error":"#N/A"},{"$error":"#N/A"},{"$error":"#N/A"},{"$error":"#N/A"},{"$error":"#N/A"},{"$error":"#N/A"},{"$error":"#N/A"},{"$error":"#N/A"},{"$error":"#N/A"},{"$error":"#N/A"},{"$error":"#N/A"},{"$error":"#N/A"},{"$error":"#N/A"},{"$error":"#N/A"},{"$error":"#N/A"},{"$error":"#N/A"},{"$error":"#N/A"},{"$error":"#N/A"},{"$error":"#N/A"},{"$error":"#N/A"},{"$error":"#N/A"},{"$error":"#N/A"},{"$error":"#N/A"},{"$error":"#N/A"},{"$error":"#N/A"},{"$error":"#N/A"},{"$error":"#N/A"},{"$error":"#N/A"},{"$error":"#N/A"},{"$error":"#N/A"},{"$error":"#N/A"},{"$error":"#N/A"},{"$error":"#N/A"},{"$error":"#N/A"},{"$error":"#N/A"},{"$error":"#N/A"},{"$error":"#N/A"},{"$error":"#N/A"},{"$error":"#N/A"},{"$error":"#N/A"},{"$error":"#N/A"},{"$error":"#N/A"},{"$error":"#N/A"},{"$error":"#N/A"},{"$error":"#N/A"},{"$error":"#N/A"},{"$error":"#N/A"},{"$error":"#N/A"},{"$error":"#N/A"},{"$error":"#N/A"},{"$error":"#N/A"},{"$error":"#N/A"},{"$error":"#N/A"},{"$error":"#N/A"},{"$error":"#N/A"},{"$error":"#N/A"},{"$error":"#N/A"},{"$error":"#N/A"},{"$error":"#N/A"},{"$error":"#N/A"},{"$error":"#N/A"},{"$error":"#N/A"},{"$f":"IF(EB$3=\"OK\",(21600/(2*PI()))*ACOS(SIN($AA132)*SIN(EB$6)+COS(EB$6)*COS($AA132)*COS($AB132-EB$7)),\"-\")","v":{"$error":"#N/A"}},{"$error":"#N/A"},{"$error":"#N/A"},{"$error":"#N/A"},{"$error":"#N/A"}]
[null,null,null,null,null,null,null,null,null,null,null,{"$error":"#N/A"},116,{"$f":"VLOOKUP($M133,Funknavigation!$A$2:$AC$185,N$17,FALSE)","v":"Moenchengladbach"},{"$f":"VLOOKUP($M133,Funknavigation!$A$2:$AC$185,O$17,FALSE)","v":"DME "},{"$f":"VLOOKUP($M133,Funknavigation!$A$2:$AC$185,P$17,FALSE)","v":"MHD"},{"$f":"VLOOKUP($M133,Funknavigation!$A$2:$AC$185,Q$17,FALSE)","v":"− −   · · · ·   − · ·"},{"$f":"VLOOKUP($M133,Funknavigation!$A$2:$AC$185,R$17,FALSE)","v":116},{"$f":"VLOOKUP($M133,Funknavigation!$A$2:$AC$185,S$17,FALSE)","v":51.234999999999999},{"$f":"VLOOKUP($M133,Funknavigation!$A$2:$AC$185,T$17,FALSE)","v":6.4919000000000002},{"$f":"VLOOKUP($M133,Funknavigation!$A$2:$AC$185,U$17,FALSE)","v":"112.50"},{"$f":"VLOOKUP($M133,Funknavigation!$A$2:$AC$185,V$17,FALSE)","v":""},{"$f":"VLOOKUP($M133,Funknavigation!$A$2:$AC$185,W$17,FALSE)","v":"Ch 72x (*)"},{"$f":"VLOOKUP($M133,Funknavigation!$A$2:$AC$185,X$17,FALSE)","v":25},null,null,0.89421944225929462,0.11330502971021988,{"$f":"IF(AG133=1,MAX(MAX(AC$18:$AC132),MAX($AD$18:$AD$193))+1,\"-\")","v":{"$error":"#N/A"}},{"$f":"IF(AH133=1,MAX($AD$18:AD132)+1,\"-\")","v":{"$error":"#N/A"}},{"$error":"#N/A"},{"$error":"#N/A"},{"$error":"#N/A"},{"$error":"#N/A"},{"$error":"#N/A"},{"$error":"#N/A"},{"$error":"#N/A"},{"$error":"#N/A"},{"$error":"#N/A"},{"$error":"#N/A"},{"$error":"#N/A"},{"$error":"#N/A"},{"$error":"#N/A"},{"$error":"#N/A"},{"$error":"#N/A"},{"$error":"#N/A"},{"$error":"#N/A"},{"$error":"#N/A"},{"$error":"#N/A"},{"$error":"#N/A"},{"$error":"#N/A"},{"$error":"#N/A"},{"$error":"#N/A"},{"$error":"#N/A"},{"$error":"#N/A"},{"$error":"#N/A"},{"$error":"#N/A"},{"$error":"#N/A"},{"$error":"#N/A"},{"$error":"#N/A"},{"$error":"#N/A"},{"$error":"#N/A"},{"$error":"#N/A"},{"$error":"#N/A"},{"$error":"#N/A"},{"$error":"#N/A"},{"$error":"#N/A"},{"$error":"#N/A"},{"$error":"#N/A"},{"$error":"#N/A"},{"$error":"#N/A"},{"$error":"#N/A"},{"$error":"#N/A"},{"$error":"#N/A"},{"$error":"#N/A"},{"$error":"#N/A"},{"$error":"#N/A"},{"$error":"#N/A"},{"$error":"#N/A"},{"$error":"#N/A"},{"$error":"#N/A"},{"$error":"#N/A"},{"$error":"#N/A"},{"$error":"#N/A"},{"$error":"#N/A"},{"$error":"#N/A"},{"$error":"#N/A"},{"$error":"#N/A"},{"$error":"#N/A"},{"$error":"#N/A"},{"$error":"#N/A"},{"$error":"#N/A"},{"$error":"#N/A"},{"$error":"#N/A"},{"$error":"#N/A"},{"$error":"#N/A"},{"$error":"#N/A"},{"$error":"#N/A"},{"$error":"#N/A"},{"$error":"#N/A"},{"$error":"#N/A"},{"$error":"#N/A"},{"$error":"#N/A"},{"$error":"#N/A"},{"$error":"#N/A"},{"$error":"#N/A"},{"$error":"#N/A"},{"$error":"#N/A"},{"$error":"#N/A"},{"$error":"#N/A"},{"$error":"#N/A"},{"$error":"#N/A"},{"$error":"#N/A"},{"$error":"#N/A"},{"$error":"#N/A"},{"$error":"#N/A"},{"$error":"#N/A"},{"$error":"#N/A"},{"$error":"#N/A"},{"$error":"#N/A"},{"$error":"#N/A"},{"$error":"#N/A"},{"$error":"#N/A"},{"$error":"#N/A"},{"$error":"#N/A"},{"$error":"#N/A"},{"$error":"#N/A"},{"$error":"#N/A"},{"$error":"#N/A"},{"$error":"#N/A"},{"$error":"#N/A"},{"$error":"#N/A"},{"$error":"#N/A"},{"$error":"#N/A"},{"$error":"#N/A"},{"$error":"#N/A"}]
[null,null,null,null,null,null,null,null,null,null,null,{"$error":"#N/A"},117,{"$f":"VLOOKUP($M134,Funknavigation!$A$2:$AC$185,N$17,FALSE)","v":"Muenchen "},{"$f":"VLOOKUP($M134,Funknavigation!$A$2:$AC$185,O$17,FALSE)","v":"DME "},{"$f":"VLOOKUP($M134,Funknavigation!$A$2:$AC$185,P$17,FALSE)","v":"DMN"},{"$f":"VLOOKUP($M134,Funknavigation!$A$2:$AC$185,Q$17,FALSE)","v":"− · ·   − −   − ·"},{"$f":"VLOOKUP($M134,Funknavigation!$A$2:$AC$185,R$17,FALSE)","v":117},{"$f":"VLOOKUP($M134,Funknavigation!$A$2:$AC$185,S$17,FALSE)","v":48.366900000000001},{"$f":"VLOOKUP($M134,Funknavigation!$A$2:$AC$185,T$17,FALSE)","v":11.793900000000001},{"$f":"VLOOKUP($M134,Funknavigation!$A$2:$AC$185,U$17,FALSE)","v":"116.00"},{"$f":"VLOOKUP($M134,Funknavigation!$A$2:$AC$185,V$17,FALSE)","v":""},{"$f":"VLOOKUP($M134,Funknavigation!$A$2:$AC$185,W$17,FALSE)","v":"Ch 107x (*) "},{"$f":"VLOOKUP($M134,Funknavigation!$A$2:$AC$185,X$17,FALSE)","v":25},null,null,0.84416165398284548,0.20584238665095925,{"$f":"IF(AG134=1,MAX(MAX(AC$18:$AC133),MAX($AD$18:$AD$193))+1,\"-\")","v":{"$error":"#N/A"}},{"$f":"IF(AH134=1,MAX($AD$18:AD133)+1,\"-\")","v":{"$error":"#N/A"}},{"$error":"#N/A"},{"$error":"#N/A"},{"$error":"#N/A"},{"$error":"#N/A"},{"$error":"#N/A"},{"$error":"#N/A"},{"$error":"#N/A"},{"$error":"#N/A"},{"$error":"#N/A"},{"$error":"#N/A"},{"$error":"#N/A"},{"$error":"#N/A"},{"$error":"#N/A"},{"$error":"#N/A"},{"$error":"#N/A"},{"$error":"#N/A"},{"$error":"#N/A"},{"$error":"#N/A"},{"$error":"#N/A"},{"$error":"#N/A"},{"$error":"#N/A"},{"$error":"#N/A"},{"$error":"#N/A"},{"$error":"#N/A"},{"$error":"#N/A"},{"$error":"#N/A"},{"$error":"#N/A"},{"$error":"#N/A"},{"$error":"#N/A"},{"$error":"#N/A"},{"$error":"#N/A"},{"$error":"#N/A"},{"$error":"#N/A"},{"$error":"#N/A"},{"$error":"#N/A"},{"$error":"#N/A"},{"$error":"#N/A"},{"$error":"#N/A"},{"$error":"#N/A"},{"$error":"#N/A"},{"$error":"#N/A"},{"$error":"#N/A"},{"$error":"#N/A"},{"$error":"#N/A"},{"$error":"#N/A"},{"$error":"#N/A"},{"$error":"#N/A"},{"$error":"#N/A"},{"$error":"#N/A"},{"$error":"#N/A"},{"$error":"#N/A"},{"$error":"#N/A"},{"$error":"#N/A"},{"$error":"#N/A"},{"$error":"#N/A"},{"$error":"#N/A"},{"$error":"#N/A"},{"$error":"#N/A"},{"$error":"#N/A"},{"$error":"#N/A"},{"$error":"#N/A"},{"$error":"#N/A"},{"$error":"#N/A"},{"$error":"#N/A"},{"$error":"#N/A"},{"$error":"#N/A"},{"$error":"#N/A"},{"$error":"#N/A"},{"$error":"#N/A"},{"$error":"#N/A"},{"$error":"#N/A"},{"$error":"#N/A"},{"$error":"#N/A"},{"$error":"#N/A"},{"$error":"#N/A"},{"$error":"#N/A"},{"$error":"#N/A"},{"$error":"#N/A"},{"$error":"#N/A"},{"$error":"#N/A"},{"$error":"#N/A"},{"$error":"#N/A"},{"$error":"#N/A"},{"$error":"#N/A"},{"$error":"#N/A"},{"$error":"#N/A"},{"$error":"#N/A"},{"$error":"#N/A"},{"$error":"#N/A"},{"$error":"#N/A"},{"$error":"#N/A"},{"$error":"#N/A"},{"$error":"#N/A"},{"$error":"#N/A"},{"$error":"#N/A"},{"$error":"#N/A"},{"$error":"#N/A"},{"$error":"#N/A"},{"$error":"#N/A"},{"$error":"#N/A"},{"$error":"#N/A"},{"$error":"#N/A"},{"$error":"#N/A"},{"$error":"#N/A"},{"$error":"#N/A"},{"$error":"#N/A"}]
[null,null,null,null,null,null,null,null,null,null,null,{"$error":"#N/A"},118,{"$f":"VLOOKUP($M135,Funknavigation!$A$2:$AC$185,N$17,FALSE)","v":"Muenchen"},{"$f":"VLOOKUP($M135,Funknavigation!$A$2:$AC$185,O$17,FALSE)","v":"DME "},{"$f":"VLOOKUP($M135,Funknavigation!$A$2:$AC$185,P$17,FALSE)","v":"DMS"},{"$f":"VLOOKUP($M135,Funknavigation!$A$2:$AC$185,Q$17,FALSE)","v":"− · ·   − −   · · ·"},{"$f":"VLOOKUP($M135,Funknavigation!$A$2:$AC$185,R$17,FALSE)","v":118},{"$f":"VLOOKUP($M135,Funknavigation!$A$2:$AC$185,S$17,FALSE)","v":48.340600000000002},{"$f":"VLOOKUP($M135,Funknavigation!$A$2:$AC$185,T$17,FALSE)","v":11.7781},{"$f":"VLOOKUP($M135,Funknavigation!$A$2:$AC$185,U$17,FALSE)","v":"115.00"},{"$f":"VLOOKUP($M135,Funknavigation!$A$2:$AC$185,V$17,FALSE)","v":""},{"$f":"VLOOKUP($M135,Funknavigation!$A$2:$AC$185,W$17,FALSE)","v":"Ch 97x (*) "},{"$f":"VLOOKUP($M135,Funknavigation!$A$2:$AC$185,X$17,FALSE)","v":25},null,null,0.84370263238957099,0.20556662462914413,{"$f":"IF(AG135=1,MAX(MAX(AC$18:$AC134),MAX($AD$18:$AD$193))+1,\"-\")","v":{"$error":"#N/A"}},{"$f":"IF(AH135=1,MAX($AD$18:AD134)+1,\"-\")","v":{"$error":"#N/A"}},{"$error":"#N/A"},{"$error":"#N/A"},{"$error":"#N/A"},{"$error":"#N/A"},{"$error":"#N/A"},{"$error":"#N/A"},{"$error":"#N/A"},{"$error":"#N/A"},{"$error":"#N/A"},{"$error":"#N/A"},{"$error":"#N/A"},{"$error":"#N/A"},{"$error":"#N/A"},{"$error":"#N/A"},{"$error":"#N/A"},{"$error":"#N/A"},{"$error":"#N/A"},{"$error":"#N/A"},{"$error":"#N/A"},{"$error":"#N/A"},{"$error":"#N/A"},{"$error":"#N/A"},{"$error":"#N/A"},{"$error":"#N/A"},{"$error":"#N/A"},{"$error":"#N/A"},{"$error":"#N/A"},{"$error":"#N/A"},{"$error":"#N/A"},{"$error":"#N/A"},{"$error":"#N/A"},{"$error":"#N/A"},{"$error":"#N/A"},{"$error":"#N/A"},{"$error":"#N/A"},{"$error":"#N/A"},{"$error":"#N/A"},{"$error":"#N/A"},{"$error":"#N/A"},{"$error":"#N/A"},{"$error":"#N/A"},{"$error":"#N/A"},{"$error":"#N/A"},{"$error":"#N/A"},{"$error":"#N/A"},{"$error":"#N/A"},{"$error":"#N/A"},{"$error":"#N/A"},{"$error":"#N/A"},{"$error":"#N/A"},{"$error":"#N/A"},{"$error":"#N/A"},{"$error":"#N/A"},{"$error":"#N/A"},{"$error":"#N/A"},{"$error":"#N/A"},{"$error":"#N/A"},{"$error":"#N/A"},{"$error":"#N/A"},{"$error":"#N/A"},{"$error":"#N/A"},{"$error":"#N/A"},{"$error":"#N/A"},{"$error":"#N/A"},{"$error":"#N/A"},{"$error":"#N/A"},{"$error":"#N/A"},{"$error":"#N/A"},{"$error":"#N/A"},{"$error":"#N/A"},{"$error":"#N/A"},{"$error":"#N/A"},{"$error":"#N/A"},{"$error":"#N/A"},{"$error":"#N/A"},{"$error":"#N/A"},{"$error":"#N/A"},{"$error":"#N/A"},{"$error":"#N/A"},{"$error":"#N/A"},{"$error":"#N/A"},{"$error":"#N/A"},{"$error":"#N/A"},{"$error":"#N/A"},{"$error":"#N/A"},{"$error":"#N/A"},{"$error":"#N/A"},{"$error":"#N/A"},{"$error":"#N/A"},{"$error":"#N/A"},{"$error":"#N/A"},{"$error":"#N/A"},{"$error":"#N/A"},{"$error":"#N/A"},{"$error":"#N/A"},{"$error":"#N/A"},{"$error":"#N/A"},{"$error":"#N/A"},{"$error":"#N/A"},{"$error":"#N/A"},{"$error":"#N/A"},{"$error":"#N/A"},{"$error":"#N/A"},{"$error":"#N/A"},{"$error":"#N/A"},{"$error":"#N/A"}]
[null,null,null,null,null,null,null,null,null,null,null,{"$error":"#N/A"},119,{"$f":"VLOOKUP($M136,Funknavigation!$A$2:$AC$185,N$17,FALSE)","v":"Muenchen"},{"$f":"VLOOKUP($M136,Funknavigation!$A$2:$AC$185,O$17,FALSE)","v":"VOR/DME "},{"$f":"VLOOKUP($M136,Funknavigation!$A$2:$AC$185,P$17,FALSE)","v":"MUN"},{"$f":"VLOOKUP($M136,Funknavigation!$A$2:$AC$185,Q$17,FALSE)","v":"− −   · · −   − ·"},{"$f":"VLOOKUP($M136,Funknavigation!$A$2:$AC$185,R$17,FALSE)","v":119},{"$f":"VLOOKUP($M136,Funknavigation!$A$2:$AC$185,S$17,FALSE)","v":48.180300000000003},{"$f":"VLOOKUP($M136,Funknavigation!$A$2:$AC$185,T$17,FALSE)","v":11.8161},{"$f":"VLOOKUP($M136,Funknavigation!$A$2:$AC$185,U$17,FALSE)","v":"112.30"},{"$f":"VLOOKUP($M136,Funknavigation!$A$2:$AC$185,V$17,FALSE)","v":""},{"$f":"VLOOKUP($M136,Funknavigation!$A$2:$AC$185,W$17,FALSE)","v":"Ch 70x "},{"$f":"VLOOKUP($M136,Funknavigation!$A$2:$AC$185,X$17,FALSE)","v":40},null,null,0.84090486959862398,0.20622984974490197,{"$f":"IF(AG136=1,MAX(MAX(AC$18:$AC135),MAX($AD$18:$AD$193))+1,\"-\")","v":{"$error":"#N/A"}},{"$f":"IF(AH136=1,MAX($AD$18:AD135)+1,\"-\")","v":{"$error":"#N/A"}},{"$error":"#N/A"},{"$error":"#N/A"},{"$error":"#N/A"},{"$error":"#N/A"},{"$error":"#N/A"},{"$error":"#N/A"},{"$error":"#N/A"},{"$error":"#N/A"},{"$error":"#N/A"},{"$error":"#N/A"},{"$error":"#N/A"},{"$error":"#N/A"},{"$error":"#N/A"},{"$error":"#N/A"},{"$error":"#N/A"},{"$error":"#N/A"},{"$error":"#N/A"},{"$error":"#N/A"},{"$error":"#N/A"},{"$error":"#N/A"},{"$error":"#N/A"},{"$error":"#N/A"},{"$error":"#N/A"},{"$error":"#N/A"},{"$error":"#N/A"},{"$error":"#N/A"},{"$error":"#N/A"},{"$error":"#N/A"},{"$error":"#N/A"},{"$error":"#N/A"},{"$error":"#N/A"},{"$error":"#N/A"},{"$error":"#N/A"},{"$error":"#N/A"},{"$error":"#N/A"},{"$error":"#N/A"},{"$error":"#N/A"},{"$error":"#N/A"},{"$error":"#N/A"},{"$error":"#N/A"},{"$error":"#N/A"},{"$error":"#N/A"},{"$error":"#N/A"},{"$error":"#N/A"},{"$error":"#N/A"},{"$error":"#N/A"},{"$error":"#N/A"},{"$error":"#N/A"},{"$error":"#N/A"},{"$error":"#N/A"},{"$error":"#N/A"},{"$error":"#N/A"},{"$error":"#N/A"},{"$error":"#N/A"},{"$error":"#N/A"},{"$error":"#N/A"},{"$error":"#N/A"},{"$error":"#N/A"},{"$error":"#N/A"},{"$error":"#N/A"},{"$error":"#N/A"},{"$error":"#N/A"},{"$error":"#N/A"},{"$error":"#N/A"},{"$error":"#N/A"},{"$error":"#N/A"},{"$error":"#N/A"},{"$error":"#N/A"},{"$error":"#N/A"},{"$error":"#N/A"},{"$error":"#N/A"},{"$error":"#N/A"},{"$error":"#N/A"},{"$error":"#N/A"},{"$error":"#N/A"},{"$error":"#N/A"},{"$error":"#N/A"},{"$error":"#N/A"},{"$error":"#N/A"},{"$error":"#N/A"},{"$error":"#N/A"},{"$error":"#N/A"},{"$error":"#N/A"},{"$error":"#N/A"},{"$error":"#N/A"},{"$error":"#N/A"},{"$error":"#N/A"},{"$error":"#N/A"},{"$error":"#N/A"},{"$error":"#N/A"},{"$error":"#N/A"},{"$error":"#N/A"},{"$error":"#N/A"},{"$error":"#N/A"},{"$error":"#N/A"},{"$error":"#N/A"},{"$error":"#N/A"},{"$error":"#N/A"},{"$error":"#N/A"},{"$error":"#N/A"},{"$error":"#N/A"},{"$error":"#N/A"},{"$error":"#N/A"},{"$error":"#N/A"},{"$error":"#N/A"},{"$error":"#N/A"}]
[null,null,null,null,null,null,null,null,null,null,null,{"$error":"#N/A"},120,{"$f":"VLOOKUP($M137,Funknavigation!$A$2:$AC$185,N$17,FALSE)","v":"Muenchen"},{"$f":"VLOOKUP($M137,Funknavigation!$A$2:$AC$185,O$17,FALSE)","v":"LO "},{"$f":"VLOOKUP($M137,Funknavigation!$A$2:$AC$185,P$17,FALSE)","v":"MNE"},{"$f":"VLOOKUP($M137,Funknavigation!$A$2:$AC$185,Q$17,FALSE)","v":"− −   − ·   ·"},{"$f":"VLOOKUP($M137,Funknavigation!$A$2:$AC$185,R$17,FALSE)","v":120},{"$f":"VLOOKUP($M137,Funknavigation!$A$2:$AC$185,S$17,FALSE)","v":48.3553},{"$f":"VLOOKUP($M137,Funknavigation!$A$2:$AC$185,T$17,FALSE)","v":11.6761},{"$f":"VLOOKUP($M137,Funknavigation!$A$2:$AC$185,U$17,FALSE)","v":""},{"$f":"VLOOKUP($M137,Funknavigation!$A$2:$AC$185,V$17,FALSE)","v":369},{"$f":"VLOOKUP($M137,Funknavigation!$A$2:$AC$185,W$17,FALSE)","v":""},{"$f":"VLOOKUP($M137,Funknavigation!$A$2:$AC$185,X$17,FALSE)","v":22},null,null,0.84395919578961398,0.20378638879210989,{"$f":"IF(AG137=1,MAX(MAX(AC$18:$AC136),MAX($AD$18:$AD$193))+1,\"-\")","v":{"$error":"#N/A"}},{"$f":"IF(AH137=1,MAX($AD$18:AD136)+1,\"-\")","v":{"$error":"#N/A"}},{"$error":"#N/A"},{"$error":"#N/A"},{"$error":"#N/A"},{"$error":"#N/A"},{"$error":"#N/A"},{"$error":"#N/A"},{"$error":"#N/A"},{"$error":"#N/A"},{"$error":"#N/A"},{"$error":"#N/A"},{"$error":"#N/A"},{"$error":"#N/A"},{"$error":"#N/A"},{"$error":"#N/A"},{"$error":"#N/A"},{"$error":"#N/A"},{"$error":"#N/A"},{"$error":"#N/A"},{"$error":"#N/A"},{"$error":"#N/A"},{"$error":"#N/A"},{"$error":"#N/A"},{"$error":"#N/A"},{"$error":"#N/A"},{"$error":"#N/A"},{"$error":"#N/A"},{"$error":"#N/A"},{"$error":"#N/A"},{"$error":"#N/A"},{"$error":"#N/A"},{"$error":"#N/A"},{"$error":"#N/A"},{"$error":"#N/A"},{"$error":"#N/A"},{"$error":"#N/A"},{"$error":"#N/A"},{"$error":"#N/A"},{"$error":"#N/A"},{"$error":"#N/A"},{"$error":"#N/A"},{"$error":"#N/A"},{"$error":"#N/A"},{"$error":"#N/A"},{"$error":"#N/A"},{"$error":"#N/A"},{"$error":"#N/A"},{"$error":"#N/A"},{"$error":"#N/A"},{"$error":"#N/A"},{"$error":"#N/A"},{"$error":"#N/A"},{"$error":"#N/A"},{"$error":"#N/A"},{"$error":"#N/A"},{"$error":"#N/A"},{"$error":"#N/A"},{"$error":"#N/A"},{"$error":"#N/A"},{"$error":"#N/A"},{"$error":"#N/A"},{"$error":"#N/A"},{"$error":"#N/A"},{"$error":"#N/A"},{"$error":"#N/A"},{"$error":"#N/A"},{"$error":"#N/A"},{"$error":"#N/A"},{"$error":"#N/A"},{"$error":"#N/A"},{"$error":"#N/A"},{"$error":"#N/A"},{"$error":"#N/A"},{"$error":"#N/A"},{"$error":"#N/A"},{"$error":"#N/A"},{"$error":"#N/A"},{"$error":"#N/A"},{"$error":"#N/A"},{"$error":"#N/A"},{"$error":"#N/A"},{"$error":"#N/A"},{"$error":"#N/A"},{"$error":"#N/A"},{"$error":"#N/A"},{"$error":"#N/A"},{"$error":"#N/A"},{"$error":"#N/A"},{"$error":"#N/A"},{"$error":"#N/A"},{"$error":"#N/A"},{"$error":"#N/A"},{"$error":"#N/A"},{"$error":"#N/A"},{"$error":"#N/A"},{"$error":"#N/A"},{"$error":"#N/A"},{"$error":"#N/A"},{"$error":"#N/A"},{"$error":"#N/A"},{"$error":"#N/A"},{"$error":"#N/A"},{"$error":"#N/A"},{"$error":"#N/A"},{"$error":"#N/A"},{"$error":"#N/A"},{"$error":"#N/A"}]
[null,null,null,null,null,null,null,null,null,null,null,{"$error":"#N/A"},121,{"$f":"VLOOKUP($M138,Funknavigation!$A$2:$AC$185,N$17,FALSE)","v":"Muenchen"},{"$f":"VLOOKUP($M138,Funknavigation!$A$2:$AC$185,O$17,FALSE)","v":"LO "},{"$f":"VLOOKUP($M138,Funknavigation!$A$2:$AC$185,P$17,FALSE)","v":"MSE"},{"$f":"VLOOKUP($M138,Funknavigation!$A$2:$AC$185,Q$17,FALSE)","v":"− −   · · ·   ·"},{"$f":"VLOOKUP($M138,Funknavigation!$A$2:$AC$185,R$17,FALSE)","v":121},{"$f":"VLOOKUP($M138,Funknavigation!$A$2:$AC$185,S$17,FALSE)","v":48.333300000000001},{"$f":"VLOOKUP($M138,Funknavigation!$A$2:$AC$185,T$17,FALSE)","v":11.652799999999999},{"$f":"VLOOKUP($M138,Funknavigation!$A$2:$AC$185,U$17,FALSE)","v":""},{"$f":"VLOOKUP($M138,Funknavigation!$A$2:$AC$185,V$17,FALSE)","v":358},{"$f":"VLOOKUP($M138,Funknavigation!$A$2:$AC$185,W$17,FALSE)","v":""},{"$f":"VLOOKUP($M138,Funknavigation!$A$2:$AC$185,X$17,FALSE)","v":25},null,null,0.84357522335417534,0.20337972707639521,{"$f":"IF(AG138=1,MAX(MAX(AC$18:$AC137),MAX($AD$18:$AD$193))+1,\"-\")","v":{"$error":"#N/A"}},{"$f":"IF(AH138=1,MAX($AD$18:AD137)+1,\"-\")","v":{"$error":"#N/A"}},{"$error":"#N/A"},{"$error":"#N/A"},{"$error":"#N/A"},{"$error":"#N/A"},{"$error":"#N/A"},{"$error":"#N/A"},{"$error":"#N/A"},{"$f":"IF(AL$3=\"OK\",(21600/(2*PI()))*ACOS(SIN($AA138)*SIN(AL$6)+COS(AL$6)*COS($AA138)*COS($AB138-AL$7)),\"-\")","v":{"$error":"#N/A"}},{"$error":"#N/A"},{"$error":"#N/A"},{"$error":"#N/A"},{"$error":"#N/A"},{"$error":"#N/A"},{"$error":"#N/A"},{"$error":"#N/A"},{"$error":"#N/A"},{"$error":"#N/A"},{"$f":"IF(AV$3=\"OK\",(21600/(2*PI()))*ACOS(SIN($AA138)*SIN(AV$6)+COS(AV$6)*COS($AA138)*COS($AB138-AV$7)),\"-\")","v":{"$error":"#N/A"}},{"$error":"#N/A"},{"$error":"#N/A"},{"$error":"#N/A"},{"$error":"#N/A"},{"$error":"#N/A"},{"$error":"#N/A"},{"$error":"#N/A"},{"$error":"#N/A"},{"$error":"#N/A"},{"$f":"IF(BF$3=\"OK\",(21600/(2*PI()))*ACOS(SIN($AA138)*SIN(BF$6)+COS(BF$6)*COS($AA138)*COS($AB138-BF$7)),\"-\")","v":{"$error":"#N/A"}},{"$error":"#N/A"},{"$error":"#N/A"},{"$error":"#N/A"},{"$error":"#N/A"},{"$error":"#N/A"},{"$error":"#N/A"},{"$error":"#N/A"},{"$error":"#N/A"},{"$error":"#N/A"},{"$f":"IF(BP$3=\"OK\",(21600/(2*PI()))*ACOS(SIN($AA138)*SIN(BP$6)+COS(BP$6)*COS($AA138)*COS($AB138-BP$7)),\"-\")","v":{"$error":"#N/A"}},{"$error":"#N/A"},{"$error":"#N/A"},{"$error":"#N/A"},{"$error":"#N/A"},{"$error":"#N/A"},{"$error":"#N/A"},{"$error":"#N/A"},{"$error":"#N/A"},{"$error":"#N/A"},{"$f":"IF(BZ$3=\"OK\",(21600/(2*PI()))*ACOS(SIN($AA138)*SIN(BZ$6)+COS(BZ$6)*COS($AA138)*COS($AB138-BZ$7)),\"-\")","v":{"$error":"#N/A"}},{"$error":"#N/A"},{"$error":"#N/A"},{"$error":"#N/A"},{"$error":"#N/A"},{"$error":"#N/A"},{"$error":"#N/A"},{"$error":"#N/A"},{"$error":"#N/A"},{"$error":"#N/A"},{"$f":"IF(CJ$3=\"OK\",(21600/(2*PI()))*ACOS(SIN($AA138)*SIN(CJ$6)+COS(CJ$6)*COS($AA138)*COS($AB138-CJ$7)),\"-\")","v":{"$error":"#N/A"}},{"$error":"#N/A"},{"$error":"#N/A"},{"$error":"#N/A"},{"$error":"#N/A"},{"$error":"#N/A"},{"$error":"#N/A"},{"$error":"#N/A"},{"$error":"#N/A"},{"$error":"#N/A"},{"$f":"IF(CT$3=\"OK\",(21600/(2*PI()))*ACOS(SIN($AA138)*SIN(CT$6)+COS(CT$6)*COS($AA138)*COS($AB138-CT$7)),\"-\")","v":{"$error":"#N/A"}},{"$error":"#N/A"},{"$error":"#N/A"},{"$error":"#N/A"},{"$error":"#N/A"},{"$error":"#N/A"},{"$error":"#N/A"},{"$error":"#N/A"},{"$error":"#N/A"},{"$error":"#N/A"},{"$error":"#N/A"},{"$error":"#N/A"},{"$error":"#N/A"},{"$error":"#N/A"},{"$error":"#N/A"},{"$error":"#N/A"},{"$error":"#N/A"},{"$error":"#N/A"},{"$error":"#N/A"},{"$error":"#N/A"},{"$error":"#N/A"},{"$error":"#N/A"},{"$error":"#N/A"},{"$error":"#N/A"},{"$error":"#N/A"},{"$error":"#N/A"},{"$error":"#N/A"},{"$error":"#N/A"},{"$error":"#N/A"},{"$error":"#N/A"},{"$error":"#N/A"},{"$error":"#N/A"},{"$error":"#N/A"},{"$error":"#N/A"},{"$error":"#N/A"},{"$error":"#N/A"},{"$error":"#N/A"},{"$error":"#N/A"},{"$error":"#N/A"}]
[null,null,null,null,null,null,null,null,null,null,null,{"$error":"#N/A"},122,{"$f":"VLOOKUP($M139,Funknavigation!$A$2:$AC$185,N$17,FALSE)","v":"Muenchen"},{"$f":"VLOOKUP($M139,Funknavigation!$A$2:$AC$185,O$17,FALSE)","v":"LO "},{"$f":"VLOOKUP($M139,Funknavigation!$A$2:$AC$185,P$17,FALSE)","v":"MNW"},{"$f":"VLOOKUP($M139,Funknavigation!$A$2:$AC$185,Q$17,FALSE)","v":"− −   − ·   · − −"},{"$f":"VLOOKUP($M139,Funknavigation!$A$2:$AC$185,R$17,FALSE)","v":122},{"$f":"VLOOKUP($M139,Funknavigation!$A$2:$AC$185,S$17,FALSE)","v":48.374200000000002},{"$f":"VLOOKUP($M139,Funknavigation!$A$2:$AC$185,T$17,FALSE)","v":11.914199999999999},{"$f":"VLOOKUP($M139,Funknavigation!$A$2:$AC$185,U$17,FALSE)","v":""},{"$f":"VLOOKUP($M139,Funknavigation!$A$2:$AC$185,V$17,FALSE)","v":338},{"$f":"VLOOKUP($M139,Funknavigation!$A$2:$AC$185,W$17,FALSE)","v":""},{"$f":"VLOOKUP($M139,Funknavigation!$A$2:$AC$185,X$17,FALSE)","v":25},null,null,0.84428906301824092,0.20794201774110838,{"$f":"IF(AG139=1,MAX(MAX(AC$18:$AC138),MAX($AD$18:$AD$193))+1,\"-\")","v":{"$error":"#N/A"}},{"$f":"IF(AH139=1,MAX($AD$18:AD138)+1,\"-\")","v":{"$error":"#N/A"}},{"$error":"#N/A"},{"$error":"#N/A"},{"$error":"#N/A"},{"$error":"#N/A"},{"$error":"#N/A"},{"$error":"#N/A"},{"$error":"#N/A"},{"$error":"#N/A"},{"$error":"#N/A"},{"$error":"#N/A"},{"$error":"#N/A"},{"$error":"#N/A"},{"$error":"#N/A"},{"$error":"#N/A"},{"$error":"#N/A"},{"$error":"#N/A"},{"$error":"#N/A"},{"$error":"#N/A"},{"$error":"#N/A"},{"$error":"#N/A"},{"$error":"#N/A"},{"$error":"#N/A"},{"$error":"#N/A"},{"$error":"#N/A"},{"$error":"#N/A"},{"$error":"#N/A"},{"$error":"#N/A"},{"$error":"#N/A"},{"$error":"#N/A"},{"$error":"#N/A"},{"$error":"#N/A"},{"$error":"#N/A"},{"$error":"#N/A"},{"$error":"#N/A"},{"$error":"#N/A"},{"$error":"#N/A"},{"$error":"#N/A"},{"$error":"#N/A"},{"$error":"#N/A"},{"$error":"#N/A"},{"$error":"#N/A"},{"$error":"#N/A"},{"$error":"#N/A"},{"$error":"#N/A"},{"$error":"#N/A"},{"$error":"#N/A"},{"$error":"#N/A"},{"$error":"#N/A"},{"$error":"#N/A"},{"$error":"#N/A"},{"$error":"#N/A"},{"$error":"#N/A"},{"$error":"#N/A"},{"$error":"#N/A"},{"$error":"#N/A"},{"$error":"#N/A"},{"$error":"#N/A"},{"$error":"#N/A"},{"$error":"#N/A"},{"$error":"#N/A"},{"$error":"#N/A"},{"$error":"#N/A"},{"$error":"#N/A"},{"$error":"#N/A"},{"$error":"#N/A"},{"$error":"#N/A"},{"$error":"#N/A"},{"$error":"#N/A"},{"$error":"#N/A"},{"$error":"#N/A"},{"$error":"#N/A"},{"$error":"#N/A"},{"$error":"#N/A"},{"$error":"#N/A"},{"$error":"#N/A"},{"$error":"#N/A"},{"$error":"#N/A"},{"$error":"#N/A"},{"$error":"#N/A"},{"$error":"#N/A"},{"$error":"#N/A"},{"$error":"#N/A"},{"$error":"#N/A"},{"$error":"#N/A"},{"$error":"#N/A"},{"$error":"#N/A"},{"$error":"#N/A"},{"$error":"#N/A"},{"$error":"#N/A"},{"$error":"#N/A"},{"$error":"#N/A"},{"$error":"#N/A"},{"$error":"#N/A"},{"$error":"#N/A"},{"$error":"#N/A"},{"$error":"#N/A"},{"$error":"#N/A"},{"$error":"#N/A"},{"$error":"#N/A"},{"$error":"#N/A"},{"$error":"#N/A"},{"$error":"#N/A"},{"$error":"#N/A"},{"$error":"#N/A"},{"$error":"#N/A"},{"$error":"#N/A"}]
[null,null,null,null,null,null,null,null,null,null,null,{"$error":"#N/A"},123,{"$f":"VLOOKUP($M140,Funknavigation!$A$2:$AC$185,N$17,FALSE)","v":"Muenchen"},{"$f":"VLOOKUP($M140,Funknavigation!$A$2:$AC$185,O$17,FALSE)","v":"LO"},{"$f":"VLOOKUP($M140,Funknavigation!$A$2:$AC$185,P$17,FALSE)","v":"MSW"},{"$f":"VLOOKUP($M140,Funknavigation!$A$2:$AC$185,Q$17,FALSE)","v":"− −   · · ·   · − −"},{"$f":"VLOOKUP($M140,Funknavigation!$A$2:$AC$185,R$17,FALSE)","v":123},{"$f":"VLOOKUP($M140,Funknavigation!$A$2:$AC$185,S$17,FALSE)","v":48.352499999999999},{"$f":"VLOOKUP($M140,Funknavigation!$A$2:$AC$185,T$17,FALSE)","v":11.9039},{"$f":"VLOOKUP($M140,Funknavigation!$A$2:$AC$185,U$17,FALSE)","v":""},{"$f":"VLOOKUP($M140,Funknavigation!$A$2:$AC$185,V$17,FALSE)","v":400},{"$f":"VLOOKUP($M140,Funknavigation!$A$2:$AC$185,W$17,FALSE)","v":""},{"$f":"VLOOKUP($M140,Funknavigation!$A$2:$AC$185,X$17,FALSE)","v":24},null,null,0.8439103265705582,0.20776224882815297,{"$f":"IF(AG140=1,MAX(MAX(AC$18:$AC139),MAX($AD$18:$AD$193))+1,\"-\")","v":{"$error":"#N/A"}},{"$f":"IF(AH140=1,MAX($AD$18:AD139)+1,\"-\")","v":{"$error":"#N/A"}},{"$error":"#N/A"},{"$error":"#N/A"},{"$error":"#N/A"},{"$error":"#N/A"},{"$error":"#N/A"},{"$error":"#N/A"},{"$error":"#N/A"},{"$error":"#N/A"},{"$error":"#N/A"},{"$error":"#N/A"},{"$error":"#N/A"},{"$error":"#N/A"},{"$error":"#N/A"},{"$error":"#N/A"},{"$error":"#N/A"},{"$error":"#N/A"},{"$error":"#N/A"},{"$error":"#N/A"},{"$error":"#N/A"},{"$error":"#N/A"},{"$error":"#N/A"},{"$error":"#N/A"},{"$error":"#N/A"},{"$error":"#N/A"},{"$error":"#N/A"},{"$error":"#N/A"},{"$error":"#N/A"},{"$error":"#N/A"},{"$error":"#N/A"},{"$error":"#N/A"},{"$error":"#N/A"},{"$error":"#N/A"},{"$error":"#N/A"},{"$error":"#N/A"},{"$error":"#N/A"},{"$error":"#N/A"},{"$error":"#N/A"},{"$error":"#N/A"},{"$error":"#N/A"},{"$error":"#N/A"},{"$error":"#N/A"},{"$error":"#N/A"},{"$error":"#N/A"},{"$error":"#N/A"},{"$error":"#N/A"},{"$error":"#N/A"},{"$error":"#N/A"},{"$error":"#N/A"},{"$error":"#N/A"},{"$error":"#N/A"},{"$error":"#N/A"},{"$error":"#N/A"},{"$error":"#N/A"},{"$error":"#N/A"},{"$error":"#N/A"},{"$error":"#N/A"},{"$error":"#N/A"},{"$error":"#N/A"},{"$error":"#N/A"},{"$error":"#N/A"},{"$error":"#N/A"},{"$error":"#N/A"},{"$error":"#N/A"},{"$error":"#N/A"},{"$error":"#N/A"},{"$error":"#N/A"},{"$error":"#N/A"},{"$error":"#N/A"},{"$error":"#N/A"},{"$error":"#N/A"},{"$error":"#N/A"},{"$error":"#N/A"},{"$error":"#N/A"},{"$error":"#N/A"},{"$error":"#N/A"},{"$error":"#N/A"},{"$error":"#N/A"},{"$error":"#N/A"},{"$error":"#N/A"},{"$error":"#N/A"},{"$error":"#N/A"},{"$error":"#N/A"},{"$error":"#N/A"},{"$error":"#N/A"},{"$error":"#N/A"},{"$error":"#N/A"},{"$error":"#N/A"},{"$error":"#N/A"},{"$error":"#N/A"},{"$error":"#N/A"},{"$error":"#N/A"},{"$error":"#N/A"},{"$error":"#N/A"},{"$error":"#N/A"},{"$error":"#N/A"},{"$error":"#N/A"},{"$error":"#N/A"},{"$error":"#N/A"},{"$error":"#N/A"},{"$error":"#N/A"},{"$error":"#N/A"},{"$error":"#N/A"},{"$error":"#N/A"},{"$error":"#N/A"},{"$error":"#N/A"},{"$error":"#N/A"}]
[null,null,null,null,null,null,null,null,null,null,null,{"$error":"#N/A"},124,{"$f":"VLOOKUP($M141,Funknavigation!$A$2:$AC$185,N$17,FALSE)","v":"Muenster/Osnabrueck "},{"$f":"VLOOKUP($M141,Funknavigation!$A$2:$AC$185,O$17,FALSE)","v":"NDB "},{"$f":"VLOOKUP($M141,Funknavigation!$A$2:$AC$185,P$17,FALSE)","v":"MYN"},{"$f":"VLOOKUP($M141,Funknavigation!$A$2:$AC$185,Q$17,FALSE)","v":"− −   − · − −   − ·"},{"$f":"VLOOKUP($M141,Funknavigation!$A$2:$AC$185,R$17,FALSE)","v":124},{"$f":"VLOOKUP($M141,Funknavigation!$A$2:$AC$185,S$17,FALSE)","v":52.159399999999998},{"$f":"VLOOKUP($M141,Funknavigation!$A$2:$AC$185,T$17,FALSE)","v":7.8},{"$f":"VLOOKUP($M141,Funknavigation!$A$2:$AC$185,U$17,FALSE)","v":""},{"$f":"VLOOKUP($M141,Funknavigation!$A$2:$AC$185,V$17,FALSE)","v":371},{"$f":"VLOOKUP($M141,Funknavigation!$A$2:$AC$185,W$17,FALSE)","v":""},{"$f":"VLOOKUP($M141,Funknavigation!$A$2:$AC$185,X$17,FALSE)","v":17},null,null,0.9103532658647302,0.1361356816555577,{"$f":"IF(AG141=1,MAX(MAX(AC$18:$AC140),MAX($AD$18:$AD$193))+1,\"-\")","v":{"$error":"#N/A"}},{"$f":"IF(AH141=1,MAX($AD$18:AD140)+1,\"-\")","v":{"$error":"#N/A"}},{"$error":"#N/A"},{"$error":"#N/A"},{"$error":"#N/A"},{"$error":"#N/A"},{"$error":"#N/A"},{"$error":"#N/A"},{"$error":"#N/A"},{"$error":"#N/A"},{"$error":"#N/A"},{"$error":"#N/A"},{"$error":"#N/A"},{"$error":"#N/A"},{"$error":"#N/A"},{"$error":"#N/A"},{"$error":"#N/A"},{"$error":"#N/A"},{"$error":"#N/A"},{"$error":"#N/A"},{"$error":"#N/A"},{"$error":"#N/A"},{"$error":"#N/A"},{"$error":"#N/A"},{"$error":"#N/A"},{"$error":"#N/A"},{"$error":"#N/A"},{"$error":"#N/A"},{"$error":"#N/A"},{"$error":"#N/A"},{"$error":"#N/A"},{"$error":"#N/A"},{"$error":"#N/A"},{"$error":"#N/A"},{"$error":"#N/A"},{"$error":"#N/A"},{"$error":"#N/A"},{"$error":"#N/A"},{"$error":"#N/A"},{"$error":"#N/A"},{"$error":"#N/A"},{"$error":"#N/A"},{"$error":"#N/A"},{"$error":"#N/A"},{"$error":"#N/A"},{"$error":"#N/A"},{"$error":"#N/A"},{"$error":"#N/A"},{"$error":"#N/A"},{"$error":"#N/A"},{"$error":"#N/A"},{"$error":"#N/A"},{"$error":"#N/A"},{"$error":"#N/A"},{"$error":"#N/A"},{"$error":"#N/A"},{"$error":"#N/A"},{"$error":"#N/A"},{"$error":"#N/A"},{"$error":"#N/A"},{"$error":"#N/A"},{"$error":"#N/A"},{"$error":"#N/A"},{"$error":"#N/A"},{"$error":"#N/A"},{"$error":"#N/A"},{"$error":"#N/A"},{"$error":"#N/A"},{"$error":"#N/A"},{"$error":"#N/A"},{"$error":"#N/A"},{"$error":"#N/A"},{"$error":"#N/A"},{"$error":"#N/A"},{"$error":"#N/A"},{"$error":"#N/A"},{"$error":"#N/A"},{"$error":"#N/A"},{"$error":"#N/A"},{"$error":"#N/A"},{"$error":"#N/A"},{"$error":"#N/A"},{"$error":"#N/A"},{"$error":"#N/A"},{"$error":"#N/A"},{"$error":"#N/A"},{"$error":"#N/A"},{"$error":"#N/A"},{"$error":"#N/A"},{"$error":"#N/A"},{"$error":"#N/A"},{"$error":"#N/A"},{"$error":"#N/A"},{"$error":"#N/A"},{"$error":"#N/A"},{"$error":"#N/A"},{"$error":"#N/A"},{"$error":"#N/A"},{"$error":"#N/A"},{"$error":"#N/A"},{"$error":"#N/A"},{"$error":"#N/A"},{"$error":"#N/A"},{"$error":"#N/A"},{"$error":"#N/A"},{"$error":"#N/A"},{"$error":"#N/A"},{"$error":"#N/A"}]
[null,null,null,null,null,null,null,null,null,null,null,{"$error":"#N/A"},125,{"$f":"VLOOKUP($M142,Funknavigation!$A$2:$AC$185,N$17,FALSE)","v":"Muenster/Osnabrueck"},{"$f":"VLOOKUP($M142,Funknavigation!$A$2:$AC$185,O$17,FALSE)","v":"DME "},{"$f":"VLOOKUP($M142,Funknavigation!$A$2:$AC$185,P$17,FALSE)","v":"MOD"},{"$f":"VLOOKUP($M142,Funknavigation!$A$2:$AC$185,Q$17,FALSE)","v":"− −   − − −   − · ·"},{"$f":"VLOOKUP($M142,Funknavigation!$A$2:$AC$185,R$17,FALSE)","v":125},{"$f":"VLOOKUP($M142,Funknavigation!$A$2:$AC$185,S$17,FALSE)","v":52.138100000000001},{"$f":"VLOOKUP($M142,Funknavigation!$A$2:$AC$185,T$17,FALSE)","v":7.6871999999999998},{"$f":"VLOOKUP($M142,Funknavigation!$A$2:$AC$185,U$17,FALSE)","v":"114.05"},{"$f":"VLOOKUP($M142,Funknavigation!$A$2:$AC$185,V$17,FALSE)","v":""},{"$f":"VLOOKUP($M142,Funknavigation!$A$2:$AC$185,W$17,FALSE)","v":"Ch 87y (*) "},{"$f":"VLOOKUP($M142,Funknavigation!$A$2:$AC$185,X$17,FALSE)","v":25},null,null,0.90998151073405564,0.13416695025930811,{"$f":"IF(AG142=1,MAX(MAX(AC$18:$AC141),MAX($AD$18:$AD$193))+1,\"-\")","v":{"$error":"#N/A"}},{"$f":"IF(AH142=1,MAX($AD$18:AD141)+1,\"-\")","v":{"$error":"#N/A"}},{"$error":"#N/A"},{"$error":"#N/A"},{"$error":"#N/A"},{"$error":"#N/A"},{"$error":"#N/A"},{"$error":"#N/A"},{"$error":"#N/A"},{"$error":"#N/A"},{"$error":"#N/A"},{"$error":"#N/A"},{"$error":"#N/A"},{"$error":"#N/A"},{"$error":"#N/A"},{"$error":"#N/A"},{"$error":"#N/A"},{"$error":"#N/A"},{"$error":"#N/A"},{"$error":"#N/A"},{"$error":"#N/A"},{"$error":"#N/A"},{"$error":"#N/A"},{"$error":"#N/A"},{"$error":"#N/A"},{"$error":"#N/A"},{"$error":"#N/A"},{"$error":"#N/A"},{"$error":"#N/A"},{"$error":"#N/A"},{"$error":"#N/A"},{"$error":"#N/A"},{"$error":"#N/A"},{"$error":"#N/A"},{"$error":"#N/A"},{"$error":"#N/A"},{"$error":"#N/A"},{"$error":"#N/A"},{"$error":"#N/A"},{"$error":"#N/A"},{"$error":"#N/A"},{"$error":"#N/A"},{"$error":"#N/A"},{"$error":"#N/A"},{"$error":"#N/A"},{"$error":"#N/A"},{"$error":"#N/A"},{"$error":"#N/A"},{"$error":"#N/A"},{"$error":"#N/A"},{"$error":"#N/A"},{"$error":"#N/A"},{"$error":"#N/A"},{"$error":"#N/A"},{"$error":"#N/A"},{"$error":"#N/A"},{"$error":"#N/A"},{"$error":"#N/A"},{"$error":"#N/A"},{"$error":"#N/A"},{"$error":"#N/A"},{"$error":"#N/A"},{"$error":"#N/A"},{"$error":"#N/A"},{"$error":"#N/A"},{"$error":"#N/A"},{"$error":"#N/A"},{"$error":"#N/A"},{"$error":"#N/A"},{"$error":"#N/A"},{"$error":"#N/A"},{"$error":"#N/A"},{"$error":"#N/A"},{"$error":"#N/A"},{"$error":"#N/A"},{"$error":"#N/A"},{"$error":"#N/A"},{"$error":"#N/A"},{"$error":"#N/A"},{"$error":"#N/A"},{"$error":"#N/A"},{"$error":"#N/A"},{"$error":"#N/A"},{"$error":"#N/A"},{"$error":"#N/A"},{"$error":"#N/A"},{"$error":"#N/A"},{"$error":"#N/A"},{"$error":"#N/A"},{"$error":"#N/A"},{"$error":"#N/A"},{"$error":"#N/A"},{"$error":"#N/A"},{"$error":"#N/A"},{"$error":"#N/A"},{"$error":"#N/A"},{"$error":"#N/A"},{"$error":"#N/A"},{"$f":"IF(DW$3=\"OK\",(21600/(2*PI()))*ACOS(SIN($AA142)*SIN(DW$6)+COS(DW$6)*COS($AA142)*COS($AB142-DW$7)),\"-\")","v":{"$error":"#N/A"}},{"$error":"#N/A"},{"$error":"#N/A"},{"$error":"#N/A"},{"$error":"#N/A"},{"$error":"#N/A"},{"$error":"#N/A"},{"$error":"#N/A"},{"$error":"#N/A"},{"$error":"#N/A"}]
[null,null,null,null,null,null,null,null,null,null,null,{"$error":"#N/A"},126,{"$f":"VLOOKUP($M143,Funknavigation!$A$2:$AC$185,N$17,FALSE)","v":"Nattenheim "},{"$f":"VLOOKUP($M143,Funknavigation!$A$2:$AC$185,O$17,FALSE)","v":"VORTACAN "},{"$f":"VLOOKUP($M143,Funknavigation!$A$2:$AC$185,P$17,FALSE)","v":"NTM"},{"$f":"VLOOKUP($M143,Funknavigation!$A$2:$AC$185,Q$17,FALSE)","v":"− ·   −   − −"},{"$f":"VLOOKUP($M143,Funknavigation!$A$2:$AC$185,R$17,FALSE)","v":126},{"$f":"VLOOKUP($M143,Funknavigation!$A$2:$AC$185,S$17,FALSE)","v":50.015799999999999},{"$f":"VLOOKUP($M143,Funknavigation!$A$2:$AC$185,T$17,FALSE)","v":6.5316999999999998},{"$f":"VLOOKUP($M143,Funknavigation!$A$2:$AC$185,U$17,FALSE)","v":"115.30"},{"$f":"VLOOKUP($M143,Funknavigation!$A$2:$AC$185,V$17,FALSE)","v":""},{"$f":"VLOOKUP($M143,Funknavigation!$A$2:$AC$185,W$17,FALSE)","v":"Ch 100x "},{"$f":"VLOOKUP($M143,Funknavigation!$A$2:$AC$185,X$17,FALSE)","v":60},null,null,0.87294038801897988,0.11399967075251362,{"$f":"IF(AG143=1,MAX(MAX(AC$18:$AC142),MAX($AD$18:$AD$193))+1,\"-\")","v":{"$error":"#N/A"}},{"$f":"IF(AH143=1,MAX($AD$18:AD142)+1,\"-\")","v":{"$error":"#N/A"}},{"$error":"#N/A"},{"$error":"#N/A"},{"$error":"#N/A"},{"$error":"#N/A"},{"$error":"#N/A"},{"$error":"#N/A"},{"$error":"#N/A"},{"$error":"#N/A"},{"$error":"#N/A"},{"$error":"#N/A"},{"$error":"#N/A"},{"$error":"#N/A"},{"$error":"#N/A"},{"$error":"#N/A"},{"$error":"#N/A"},{"$error":"#N/A"},{"$error":"#N/A"},{"$error":"#N/A"},{"$error":"#N/A"},{"$error":"#N/A"},{"$error":"#N/A"},{"$error":"#N/A"},{"$error":"#N/A"},{"$error":"#N/A"},{"$error":"#N/A"},{"$error":"#N/A"},{"$error":"#N/A"},{"$error":"#N/A"},{"$error":"#N/A"},{"$error":"#N/A"},{"$error":"#N/A"},{"$error":"#N/A"},{"$error":"#N/A"},{"$error":"#N/A"},{"$error":"#N/A"},{"$error":"#N/A"},{"$error":"#N/A"},{"$error":"#N/A"},{"$error":"#N/A"},{"$error":"#N/A"},{"$error":"#N/A"},{"$error":"#N/A"},{"$error":"#N/A"},{"$error":"#N/A"},{"$error":"#N/A"},{"$error":"#N/A"},{"$error":"#N/A"},{"$error":"#N/A"},{"$error":"#N/A"},{"$error":"#N/A"},{"$error":"#N/A"},{"$error":"#N/A"},{"$error":"#N/A"},{"$error":"#N/A"},{"$error":"#N/A"},{"$error":"#N/A"},{"$error":"#N/A"},{"$error":"#N/A"},{"$error":"#N/A"},{"$error":"#N/A"},{"$error":"#N/A"},{"$error":"#N/A"},{"$error":"#N/A"},{"$error":"#N/A"},{"$error":"#N/A"},{"$error":"#N/A"},{"$error":"#N/A"},{"$error":"#N/A"},{"$error":"#N/A"},{"$error":"#N/A"},{"$error":"#N/A"},{"$error":"#N/A"},{"$error":"#N/A"},{"$error":"#N/A"},{"$error":"#N/A"},{"$error":"#N/A"},{"$error":"#N/A"},{"$error":"#N/A"},{"$error":"#N/A"},{"$error":"#N/A"},{"$error":"#N/A"},{"$error":"#N/A"},{"$error":"#N/A"},{"$error":"#N/A"},{"$error":"#N/A"},{"$error":"#N/A"},{"$error":"#N/A"},{"$error":"#N/A"},{"$error":"#N/A"},{"$error":"#N/A"},{"$error":"#N/A"},{"$error":"#N/A"},{"$error":"#N/A"},{"$error":"#N/A"},{"$error":"#N/A"},{"$error":"#N/A"},{"$error":"#N/A"},{"$error":"#N/A"},{"$error":"#N/A"},{"$error":"#N/A"},{"$error":"#N/A"},{"$error":"#N/A"},{"$error":"#N/A"},{"$error":"#N/A"},{"$error":"#N/A"},{"$error":"#N/A"}]
[null,null,null,null,null,null,null,null,null,null,null,{"$error":"#N/A"},127,{"$f":"VLOOKUP($M144,Funknavigation!$A$2:$AC$185,N$17,FALSE)","v":"Nauheim "},{"$f":"VLOOKUP($M144,Funknavigation!$A$2:$AC$185,O$17,FALSE)","v":"DVOR "},{"$f":"VLOOKUP($M144,Funknavigation!$A$2:$AC$185,P$17,FALSE)","v":"VFM"},{"$f":"VLOOKUP($M144,Funknavigation!$A$2:$AC$185,Q$17,FALSE)","v":"· · · −   · · − ·   − −"},{"$f":"VLOOKUP($M144,Funknavigation!$A$2:$AC$185,R$17,FALSE)","v":127},{"$f":"VLOOKUP($M144,Funknavigation!$A$2:$AC$185,S$17,FALSE)","v":49.9619},{"$f":"VLOOKUP($M144,Funknavigation!$A$2:$AC$185,T$17,FALSE)","v":8.4710999999999999},{"$f":"VLOOKUP($M144,Funknavigation!$A$2:$AC$185,U$17,FALSE)","v":"113.75"},{"$f":"VLOOKUP($M144,Funknavigation!$A$2:$AC$185,V$17,FALSE)","v":""},{"$f":"VLOOKUP($M144,Funknavigation!$A$2:$AC$185,W$17,FALSE)","v":""},{"$f":"VLOOKUP($M144,Funknavigation!$A$2:$AC$185,X$17,FALSE)","v":3},null,null,0.87199965555215486,0.14784858626569164,{"$f":"IF(AG144=1,MAX(MAX(AC$18:$AC143),MAX($AD$18:$AD$193))+1,\"-\")","v":{"$error":"#N/A"}},{"$f":"IF(AH144=1,MAX($AD$18:AD143)+1,\"-\")","v":{"$error":"#N/A"}},{"$error":"#N/A"},{"$error":"#N/A"},{"$error":"#N/A"},{"$error":"#N/A"},{"$error":"#N/A"},{"$error":"#N/A"},{"$error":"#N/A"},{"$error":"#N/A"},{"$error":"#N/A"},{"$error":"#N/A"},{"$error":"#N/A"},{"$error":"#N/A"},{"$error":"#N/A"},{"$error":"#N/A"},{"$error":"#N/A"},{"$error":"#N/A"},{"$error":"#N/A"},{"$error":"#N/A"},{"$error":"#N/A"},{"$error":"#N/A"},{"$error":"#N/A"},{"$error":"#N/A"},{"$error":"#N/A"},{"$error":"#N/A"},{"$error":"#N/A"},{"$error":"#N/A"},{"$error":"#N/A"},{"$error":"#N/A"},{"$error":"#N/A"},{"$error":"#N/A"},{"$error":"#N/A"},{"$error":"#N/A"},{"$error":"#N/A"},{"$error":"#N/A"},{"$error":"#N/A"},{"$error":"#N/A"},{"$error":"#N/A"},{"$error":"#N/A"},{"$error":"#N/A"},{"$error":"#N/A"},{"$error":"#N/A"},{"$error":"#N/A"},{"$error":"#N/A"},{"$error":"#N/A"},{"$error":"#N/A"},{"$error":"#N/A"},{"$error":"#N/A"},{"$error":"#N/A"},{"$error":"#N/A"},{"$error":"#N/A"},{"$error":"#N/A"},{"$error":"#N/A"},{"$error":"#N/A"},{"$error":"#N/A"},{"$error":"#N/A"},{"$error":"#N/A"},{"$error":"#N/A"},{"$error":"#N/A"},{"$error":"#N/A"},{"$error":"#N/A"},{"$error":"#N/A"},{"$error":"#N/A"},{"$error":"#N/A"},{"$error":"#N/A"},{"$error":"#N/A"},{"$error":"#N/A"},{"$error":"#N/A"},{"$error":"#N/A"},{"$error":"#N/A"},{"$error":"#N/A"},{"$error":"#N/A"},{"$error":"#N/A"},{"$error":"#N/A"},{"$error":"#N/A"},{"$error":"#N/A"},{"$error":"#N/A"},{"$error":"#N/A"},{"$error":"#N/A"},{"$error":"#N/A"},{"$error":"#N/A"},{"$error":"#N/A"},{"$error":"#N/A"},{"$error":"#N/A"},{"$error":"#N/A"},{"$error":"#N/A"},{"$error":"#N/A"},{"$error":"#N/A"},{"$error":"#N/A"},{"$error":"#N/A"},{"$error":"#N/A"},{"$error":"#N/A"},{"$error":"#N/A"},{"$error":"#N/A"},{"$error":"#N/A"},{"$error":"#N/A"},{"$error":"#N/A"},{"$error":"#N/A"},{"$error":"#N/A"},{"$error":"#N/A"},{"$error":"#N/A"},{"$error":"#N/A"},{"$error":"#N/A"},{"$error":"#N/A"},{"$error":"#N/A"},{"$error":"#N/A"},{"$error":"#N/A"}]
[null,null,null,null,null,null,null,null,null,null,null,{"$error":"#N/A"},128,{"$f":"VLOOKUP($M145,Funknavigation!$A$2:$AC$185,N$17,FALSE)","v":"Neckar "},{"$f":"VLOOKUP($M145,Funknavigation!$A$2:$AC$185,O$17,FALSE)","v":"NDB "},{"$f":"VLOOKUP($M145,Funknavigation!$A$2:$AC$185,P$17,FALSE)","v":"NKR"},{"$f":"VLOOKUP($M145,Funknavigation!$A$2:$AC$185,Q$17,FALSE)","v":"− ·   − · −   · − ·"},{"$f":"VLOOKUP($M145,Funknavigation!$A$2:$AC$185,R$17,FALSE)","v":128},{"$f":"VLOOKUP($M145,Funknavigation!$A$2:$AC$185,S$17,FALSE)","v":49.3367},{"$f":"VLOOKUP($M145,Funknavigation!$A$2:$AC$185,T$17,FALSE)","v":8.7327999999999992},{"$f":"VLOOKUP($M145,Funknavigation!$A$2:$AC$185,U$17,FALSE)","v":""},{"$f":"VLOOKUP($M145,Funknavigation!$A$2:$AC$185,V$17,FALSE)","v":292},{"$f":"VLOOKUP($M145,Funknavigation!$A$2:$AC$185,W$17,FALSE)","v":""},{"$f":"VLOOKUP($M145,Funknavigation!$A$2:$AC$185,X$17,FALSE)","v":25},null,null,0.8610878570686864,0.15241611291816079,{"$f":"IF(AG145=1,MAX(MAX(AC$18:$AC144),MAX($AD$18:$AD$193))+1,\"-\")","v":{"$error":"#N/A"}},{"$f":"IF(AH145=1,MAX($AD$18:AD144)+1,\"-\")","v":{"$error":"#N/A"}},{"$error":"#N/A"},{"$error":"#N/A"},{"$error":"#N/A"},{"$error":"#N/A"},{"$error":"#N/A"},{"$error":"#N/A"},{"$error":"#N/A"},{"$error":"#N/A"},{"$error":"#N/A"},{"$error":"#N/A"},{"$error":"#N/A"},{"$error":"#N/A"},{"$error":"#N/A"},{"$error":"#N/A"},{"$error":"#N/A"},{"$error":"#N/A"},{"$error":"#N/A"},{"$error":"#N/A"},{"$error":"#N/A"},{"$error":"#N/A"},{"$error":"#N/A"},{"$error":"#N/A"},{"$error":"#N/A"},{"$error":"#N/A"},{"$error":"#N/A"},{"$error":"#N/A"},{"$error":"#N/A"},{"$error":"#N/A"},{"$error":"#N/A"},{"$error":"#N/A"},{"$error":"#N/A"},{"$error":"#N/A"},{"$error":"#N/A"},{"$error":"#N/A"},{"$error":"#N/A"},{"$error":"#N/A"},{"$error":"#N/A"},{"$error":"#N/A"},{"$error":"#N/A"},{"$error":"#N/A"},{"$error":"#N/A"},{"$error":"#N/A"},{"$error":"#N/A"},{"$error":"#N/A"},{"$error":"#N/A"},{"$error":"#N/A"},{"$error":"#N/A"},{"$error":"#N/A"},{"$error":"#N/A"},{"$error":"#N/A"},{"$error":"#N/A"},{"$error":"#N/A"},{"$error":"#N/A"},{"$error":"#N/A"},{"$error":"#N/A"},{"$error":"#N/A"},{"$error":"#N/A"},{"$error":"#N/A"},{"$error":"#N/A"},{"$error":"#N/A"},{"$error":"#N/A"},{"$error":"#N/A"},{"$error":"#N/A"},{"$error":"#N/A"},{"$error":"#N/A"},{"$error":"#N/A"},{"$error":"#N/A"},{"$error":"#N/A"},{"$error":"#N/A"},{"$error":"#N/A"},{"$error":"#N/A"},{"$error":"#N/A"},{"$error":"#N/A"},{"$error":"#N/A"},{"$error":"#N/A"},{"$error":"#N/A"},{"$error":"#N/A"},{"$error":"#N/A"},{"$error":"#N/A"},{"$error":"#N/A"},{"$error":"#N/A"},{"$error":"#N/A"},{"$error":"#N/A"},{"$error":"#N/A"},{"$error":"#N/A"},{"$error":"#N/A"},{"$error":"#N/A"},{"$error":"#N/A"},{"$error":"#N/A"},{"$error":"#N/A"},{"$error":"#N/A"},{"$error":"#N/A"},{"$error":"#N/A"},{"$error":"#N/A"},{"$error":"#N/A"},{"$error":"#N/A"},{"$error":"#N/A"},{"$error":"#N/A"},{"$error":"#N/A"},{"$error":"#N/A"},{"$error":"#N/A"},{"$error":"#N/A"},{"$error":"#N/A"},{"$error":"#N/A"},{"$error":"#N/A"},{"$error":"#N/A"}]
[null,null,null,null,null,null,null,null,null,null,null,{"$error":"#N/A"},129,{"$f":"VLOOKUP($M146,Funknavigation!$A$2:$AC$185,N$17,FALSE)","v":"Niederrhein "},{"$f":"VLOOKUP($M146,Funknavigation!$A$2:$AC$185,O$17,FALSE)","v":"NDB "},{"$f":"VLOOKUP($M146,Funknavigation!$A$2:$AC$185,P$17,FALSE)","v":"LAA"},{"$f":"VLOOKUP($M146,Funknavigation!$A$2:$AC$185,Q$17,FALSE)","v":"· − · ·   · −   · −"},{"$f":"VLOOKUP($M146,Funknavigation!$A$2:$AC$185,R$17,FALSE)","v":129},{"$f":"VLOOKUP($M146,Funknavigation!$A$2:$AC$185,S$17,FALSE)","v":51.601700000000001},{"$f":"VLOOKUP($M146,Funknavigation!$A$2:$AC$185,T$17,FALSE)","v":6.1727999999999996},{"$f":"VLOOKUP($M146,Funknavigation!$A$2:$AC$185,U$17,FALSE)","v":""},{"$f":"VLOOKUP($M146,Funknavigation!$A$2:$AC$185,V$17,FALSE)","v":352},{"$f":"VLOOKUP($M146,Funknavigation!$A$2:$AC$185,W$17,FALSE)","v":""},{"$f":"VLOOKUP($M146,Funknavigation!$A$2:$AC$185,X$17,FALSE)","v":23},null,null,0.90061956462635795,0.10773568406710597,{"$f":"IF(AG146=1,MAX(MAX(AC$18:$AC145),MAX($AD$18:$AD$193))+1,\"-\")","v":{"$error":"#N/A"}},{"$f":"IF(AH146=1,MAX($AD$18:AD145)+1,\"-\")","v":{"$error":"#N/A"}},{"$error":"#N/A"},{"$error":"#N/A"},{"$error":"#N/A"},{"$f":"IF(MIN(AJ146:EF146)<(X146/$AH$16),1,0)","v":{"$error":"#N/A"}},{"$f":"IF(MIN(AJ146:EF146)<X146,1,0)","v":{"$error":"#N/A"}},{"$error":"#N/A"},{"$error":"#N/A"},{"$error":"#N/A"},{"$error":"#N/A"},{"$error":"#N/A"},{"$error":"#N/A"},{"$error":"#N/A"},{"$error":"#N/A"},{"$error":"#N/A"},{"$error":"#N/A"},{"$error":"#N/A"},{"$error":"#N/A"},{"$error":"#N/A"},{"$error":"#N/A"},{"$error":"#N/A"},{"$error":"#N/A"},{"$error":"#N/A"},{"$error":"#N/A"},{"$error":"#N/A"},{"$error":"#N/A"},{"$error":"#N/A"},{"$error":"#N/A"},{"$error":"#N/A"},{"$error":"#N/A"},{"$error":"#N/A"},{"$error":"#N/A"},{"$error":"#N/A"},{"$error":"#N/A"},{"$error":"#N/A"},{"$error":"#N/A"},{"$error":"#N/A"},{"$error":"#N/A"},{"$error":"#N/A"},{"$error":"#N/A"},{"$error":"#N/A"},{"$error":"#N/A"},{"$error":"#N/A"},{"$error":"#N/A"},{"$error":"#N/A"},{"$error":"#N/A"},{"$error":"#N/A"},{"$error":"#N/A"},{"$error":"#N/A"},{"$error":"#N/A"},{"$error":"#N/A"},{"$error":"#N/A"},{"$error":"#N/A"},{"$error":"#N/A"},{"$error":"#N/A"},{"$error":"#N/A"},{"$error":"#N/A"},{"$error":"#N/A"},{"$error":"#N/A"},{"$error":"#N/A"},{"$error":"#N/A"},{"$error":"#N/A"},{"$error":"#N/A"},{"$error":"#N/A"},{"$error":"#N/A"},{"$error":"#N/A"},{"$error":"#N/A"},{"$error":"#N/A"},{"$error":"#N/A"},{"$error":"#N/A"},{"$error":"#N/A"},{"$error":"#N/A"},{"$error":"#N/A"},{"$error":"#N/A"},{"$error":"#N/A"},{"$error":"#N/A"},{"$error":"#N/A"},{"$error":"#N/A"},{"$error":"#N/A"},{"$error":"#N/A"},{"$error":"#N/A"},{"$error":"#N/A"},{"$error":"#N/A"},{"$error":"#N/A"},{"$error":"#N/A"},{"$error":"#N/A"},{"$error":"#N/A"},{"$error":"#N/A"},{"$error":"#N/A"},{"$error":"#N/A"},{"$error":"#N/A"},{"$error":"#N/A"},{"$error":"#N/A"},{"$error":"#N/A"},{"$error":"#N/A"},{"$error":"#N/A"},{"$error":"#N/A"},{"$error":"#N/A"},{"$error":"#N/A"},{"$error":"#N/A"},{"$error":"#N/A"},{"$error":"#N/A"},{"$error":"#N/A"},{"$error":"#N/A"},{"$error":"#N/A"},{"$error":"#N/A"},{"$error":"#N/A"}]
[null,null,null,null,null,null,null,null,null,null,null,{"$f":"MAX(AC147:AD147)","v":{"$error":"#N/A"}},130,{"$f":"VLOOKUP($M147,Funknavigation!$A$2:$AC$185,N$17,FALSE)","v":"Niederrhein"},{"$f":"VLOOKUP($M147,Funknavigation!$A$2:$AC$185,O$17,FALSE)","v":"DME"},{"$f":"VLOOKUP($M147,Funknavigation!$A$2:$AC$185,P$17,FALSE)","v":"NID"},{"$f":"VLOOKUP($M147,Funknavigation!$A$2:$AC$185,Q$17,FALSE)","v":"− ·   · ·   − · ·"},{"$f":"VLOOKUP($M147,Funknavigation!$A$2:$AC$185,R$17,FALSE)","v":130},{"$f":"VLOOKUP($M147,Funknavigation!$A$2:$AC$185,S$17,FALSE)","v":51.6},{"$f":"VLOOKUP($M147,Funknavigation!$A$2:$AC$185,T$17,FALSE)","v":6.1414},{"$f":"VLOOKUP($M147,Funknavigation!$A$2:$AC$185,U$17,FALSE)","v":"115.50"},{"$f":"VLOOKUP($M147,Funknavigation!$A$2:$AC$185,V$17,FALSE)","v":""},{"$f":"VLOOKUP($M147,Funknavigation!$A$2:$AC$185,W$17,FALSE)","v":"Ch 102x (*) "},{"$f":"VLOOKUP($M147,Funknavigation!$A$2:$AC$185,X$17,FALSE)","v":25},null,null,{"$f":"S147*PI()/180","v":0.90058989402907408},{"$f":"T147*PI()/180","v":0.10718765068197976},{"$f":"IF(AG147=1,MAX(MAX(AC$18:$AC146),MAX($AD$18:$AD$193))+1,\"-\")","v":{"$error":"#N/A"}},{"$f":"IF(AH147=1,MAX($AD$18:AD146)+1,\"-\")","v":{"$error":"#N/A"}},{"$f":"IF(AH147=1,AF147,\"-\")","v":{"$error":"#N/A"}},{"$f":"MIN(AJ147:EF147)","v":{"$error":"#N/A"}},{"$f":"IF(AND(AI147=1,AH147<>1),1,0)","v":{"$error":"#N/A"}},{"$error":"#N/A"},{"$error":"#N/A"},{"$f":"(21600/(2*PI()))*ACOS(SIN($AA147)*SIN(AJ$6)+COS(AJ$6)*COS($AA147)*COS($AB147-AJ$7))","v":{"$error":"#N/A"}},{"$f":"(21600/(2*PI()))*ACOS(SIN($AA147)*SIN(AK$6)+COS(AK$6)*COS($AA147)*COS($AB147-AK$7))","v":{"$error":"#N/A"}},{"$error":"#N/A"},{"$error":"#N/A"},{"$error":"#N/A"},{"$error":"#N/A"},{"$error":"#N/A"},{"$error":"#N/A"},{"$error":"#N/A"},{"$error":"#N/A"},{"$error":"#N/A"},{"$error":"#N/A"},{"$error":"#N/A"},{"$error":"#N/A"},{"$error":"#N/A"},{"$error":"#N/A"},{"$error":"#N/A"},{"$error":"#N/A"},{"$error":"#N/A"},{"$error":"#N/A"},{"$error":"#N/A"},{"$error":"#N/A"},{"$error":"#N/A"},{"$error":"#N/A"},{"$error":"#N/A"},{"$error":"#N/A"},{"$error":"#N/A"},{"$error":"#N/A"},{"$error":"#N/A"},{"$error":"#N/A"},{"$error":"#N/A"},{"$error":"#N/A"},{"$error":"#N/A"},{"$error":"#N/A"},{"$error":"#N/A"},{"$error":"#N/A"},{"$error":"#N/A"},{"$error":"#N/A"},{"$error":"#N/A"},{"$error":"#N/A"},{"$error":"#N/A"},{"$error":"#N/A"},{"$error":"#N/A"},{"$error":"#N/A"},{"$error":"#N/A"},{"$error":"#N/A"},{"$error":"#N/A"},{"$error":"#N/A"},{"$error":"#N/A"},{"$error":"#N/A"},{"$error":"#N/A"},{"$error":"#N/A"},{"$error":"#N/A"},{"$error":"#N/A"},{"$error":"#N/A"},{"$error":"#N/A"},{"$error":"#N/A"},{"$error":"#N/A"},{"$error":"#N/A"},{"$error":"#N/A"},{"$error":"#N/A"},{"$error":"#N/A"},{"$error":"#N/A"},{"$error":"#N/A"},{"$error":"#N/A"},{"$error":"#N/A"},{"$error":"#N/A"},{"$error":"#N/A"},{"$error":"#N/A"},{"$error":"#N/A"},{"$error":"#N/A"},{"$error":"#N/A"},{"$error":"#N/A"},{"$error":"#N/A"},{"$error":"#N/A"},{"$error":"#N/A"},{"$error":"#N/A"},{"$error":"#N/A"},{"$error":"#N/A"},{"$error":"#N/A"},{"$error":"#N/A"},{"$error":"#N/A"},{"$error":"#N/A"},{"$error":"#N/A"},{"$error":"#N/A"},{"$error":"#N/A"},{"$error":"#N/A"},{"$error":"#N/A"},{"$error":"#N/A"},{"$error":"#N/A"},{"$error":"#N/A"},{"$error":"#N/A"},{"$error":"#N/A"},{"$error":"#N/A"},{"$error":"#N/A"},{"$error":"#N/A"},{"$error":"#N/A"},{"$error":"#N/A"},{"$error":"#N/A"},{"$error":"#N/A"},{"$error":"#N/A"}]
[null,null,null,null,null,null,null,null,null,null,null,{"$error":"#N/A"},131,{"$f":"VLOOKUP($M148,Funknavigation!$A$2:$AC$185,N$17,FALSE)","v":"Niederstetten "},{"$f":"VLOOKUP($M148,Funknavigation!$A$2:$AC$185,O$17,FALSE)","v":"NDB "},{"$f":"VLOOKUP($M148,Funknavigation!$A$2:$AC$185,P$17,FALSE)","v":"NSN"},{"$f":"VLOOKUP($M148,Funknavigation!$A$2:$AC$185,Q$17,FALSE)","v":"− ·   · · ·   − ·"},{"$f":"VLOOKUP($M148,Funknavigation!$A$2:$AC$185,R$17,FALSE)","v":131},{"$f":"VLOOKUP($M148,Funknavigation!$A$2:$AC$185,S$17,FALSE)","v":49.3947},{"$f":"VLOOKUP($M148,Funknavigation!$A$2:$AC$185,T$17,FALSE)","v":9.9649999999999999},{"$f":"VLOOKUP($M148,Funknavigation!$A$2:$AC$185,U$17,FALSE)","v":""},{"$f":"VLOOKUP($M148,Funknavigation!$A$2:$AC$185,V$17,FALSE)","v":311},{"$f":"VLOOKUP($M148,Funknavigation!$A$2:$AC$185,W$17,FALSE)","v":""},{"$f":"VLOOKUP($M148,Funknavigation!$A$2:$AC$185,X$17,FALSE)","v":25},null,null,0.86210014803484303,0.17392205996123491,{"$f":"IF(AG148=1,MAX(MAX(AC$18:$AC147),MAX($AD$18:$AD$193))+1,\"-\")","v":{"$error":"#N/A"}},{"$f":"IF(AH148=1,MAX($AD$18:AD147)+1,\"-\")","v":{"$error":"#N/A"}},{"$error":"#N/A"},{"$error":"#N/A"},{"$error":"#N/A"},{"$error":"#N/A"},{"$error":"#N/A"},{"$error":"#N/A"},{"$error":"#N/A"},{"$f":"IF(AL$3=\"OK\",(21600/(2*PI()))*ACOS(SIN($AA148)*SIN(AL$6)+COS(AL$6)*COS($AA148)*COS($AB148-AL$7)),\"-\")","v":{"$error":"#N/A"}},{"$error":"#N/A"},{"$error":"#N/A"},{"$error":"#N/A"},{"$error":"#N/A"},{"$error":"#N/A"},{"$error":"#N/A"},{"$error":"#N/A"},{"$error":"#N/A"},{"$error":"#N/A"},{"$f":"IF(AV$3=\"OK\",(21600/(2*PI()))*ACOS(SIN($AA148)*SIN(AV$6)+COS(AV$6)*COS($AA148)*COS($AB148-AV$7)),\"-\")","v":{"$error":"#N/A"}},{"$error":"#N/A"},{"$error":"#N/A"},{"$error":"#N/A"},{"$error":"#N/A"},{"$error":"#N/A"},{"$error":"#N/A"},{"$error":"#N/A"},{"$error":"#N/A"},{"$error":"#N/A"},{"$f":"IF(BF$3=\"OK\",(21600/(2*PI()))*ACOS(SIN($AA148)*SIN(BF$6)+COS(BF$6)*COS($AA148)*COS($AB148-BF$7)),\"-\")","v":{"$error":"#N/A"}},{"$error":"#N/A"},{"$error":"#N/A"},{"$error":"#N/A"},{"$error":"#N/A"},{"$error":"#N/A"},{"$error":"#N/A"},{"$error":"#N/A"},{"$error":"#N/A"},{"$error":"#N/A"},{"$f":"IF(BP$3=\"OK\",(21600/(2*PI()))*ACOS(SIN($AA148)*SIN(BP$6)+COS(BP$6)*COS($AA148)*COS($AB148-BP$7)),\"-\")","v":{"$error":"#N/A"}},{"$error":"#N/A"},{"$error":"#N/A"},{"$error":"#N/A"},{"$error":"#N/A"},{"$error":"#N/A"},{"$error":"#N/A"},{"$error":"#N/A"},{"$error":"#N/A"},{"$error":"#N/A"},{"$f":"IF(BZ$3=\"OK\",(21600/(2*PI()))*ACOS(SIN($AA148)*SIN(BZ$6)+COS(BZ$6)*COS($AA148)*COS($AB148-BZ$7)),\"-\")","v":{"$error":"#N/A"}},{"$error":"#N/A"},{"$error":"#N/A"},{"$error":"#N/A"},{"$error":"#N/A"},{"$error":"#N/A"},{"$error":"#N/A"},{"$error":"#N/A"},{"$error":"#N/A"},{"$error":"#N/A"},{"$f":"IF(CJ$3=\"OK\",(21600/(2*PI()))*ACOS(SIN($AA148)*SIN(CJ$6)+COS(CJ$6)*COS($AA148)*COS($AB148-CJ$7)),\"-\")","v":{"$error":"#N/A"}},{"$error":"#N/A"},{"$error":"#N/A"},{"$error":"#N/A"},{"$error":"#N/A"},{"$error":"#N/A"},{"$error":"#N/A"},{"$error":"#N/A"},{"$error":"#N/A"},{"$error":"#N/A"},{"$f":"IF(CT$3=\"OK\",(21600/(2*PI()))*ACOS(SIN($AA148)*SIN(CT$6)+COS(CT$6)*COS($AA148)*COS($AB148-CT$7)),\"-\")","v":{"$error":"#N/A"}},{"$error":"#N/A"},{"$error":"#N/A"},{"$error":"#N/A"},{"$error":"#N/A"},{"$error":"#N/A"},{"$error":"#N/A"},{"$error":"#N/A"},{"$error":"#N/A"},{"$error":"#N/A"},{"$error":"#N/A"},{"$error":"#N/A"},{"$error":"#N/A"},{"$error":"#N/A"},{"$error":"#N/A"},{"$error":"#N/A"},{"$error":"#N/A"},{"$error":"#N/A"},{"$error":"#N/A"},{"$error":"#N/A"},{"$error":"#N/A"},{"$error":"#N/A"},{"$error":"#N/A"},{"$error":"#N/A"},{"$error":"#N/A"},{"$error":"#N/A"},{"$error":"#N/A"},{"$error":"#N/A"},{"$error":"#N/A"},{"$error":"#N/A"},{"$error":"#N/A"},{"$error":"#N/A"},{"$error":"#N/A"},{"$error":"#N/A"},{"$error":"#N/A"},{"$error":"#N/A"},{"$error":"#N/A"},{"$error":"#N/A"},{"$error":"#N/A"}]
[null,null,null,null,null,null,null,null,null,null,null,{"$error":"#N/A"},132,{"$f":"VLOOKUP($M149,Funknavigation!$A$2:$AC$185,N$17,FALSE)","v":"Niederstetten"},{"$f":"VLOOKUP($M149,Funknavigation!$A$2:$AC$185,O$17,FALSE)","v":"DME "},{"$f":"VLOOKUP($M149,Funknavigation!$A$2:$AC$185,P$17,FALSE)","v":"NDD"},{"$f":"VLOOKUP($M149,Funknavigation!$A$2:$AC$185,Q$17,FALSE)","v":"− ·   − · ·   − · ·"},{"$f":"VLOOKUP($M149,Funknavigation!$A$2:$AC$185,R$17,FALSE)","v":132},{"$f":"VLOOKUP($M149,Funknavigation!$A$2:$AC$185,S$17,FALSE)","v":49.393300000000004},{"$f":"VLOOKUP($M149,Funknavigation!$A$2:$AC$185,T$17,FALSE)","v":9.9608000000000008},{"$f":"VLOOKUP($M149,Funknavigation!$A$2:$AC$185,U$17,FALSE)","v":"108.70"},{"$f":"VLOOKUP($M149,Funknavigation!$A$2:$AC$185,V$17,FALSE)","v":""},{"$f":"VLOOKUP($M149,Funknavigation!$A$2:$AC$185,W$17,FALSE)","v":"Ch 24x (*) "},{"$f":"VLOOKUP($M149,Funknavigation!$A$2:$AC$185,X$17,FALSE)","v":0},null,null,0.86207571342531519,0.17384875613265119,{"$f":"IF(AG149=1,MAX(MAX(AC$18:$AC148),MAX($AD$18:$AD$193))+1,\"-\")","v":{"$error":"#N/A"}},{"$f":"IF(AH149=1,MAX($AD$18:AD148)+1,\"-\")","v":{"$error":"#N/A"}},{"$error":"#N/A"},{"$error":"#N/A"},{"$error":"#N/A"},{"$error":"#N/A"},{"$error":"#N/A"},{"$error":"#N/A"},{"$error":"#N/A"},{"$error":"#N/A"},{"$error":"#N/A"},{"$error":"#N/A"},{"$error":"#N/A"},{"$error":"#N/A"},{"$error":"#N/A"},{"$error":"#N/A"},{"$error":"#N/A"},{"$error":"#N/A"},{"$error":"#N/A"},{"$error":"#N/A"},{"$error":"#N/A"},{"$error":"#N/A"},{"$error":"#N/A"},{"$error":"#N/A"},{"$error":"#N/A"},{"$error":"#N/A"},{"$error":"#N/A"},{"$error":"#N/A"},{"$error":"#N/A"},{"$error":"#N/A"},{"$error":"#N/A"},{"$error":"#N/A"},{"$error":"#N/A"},{"$error":"#N/A"},{"$error":"#N/A"},{"$error":"#N/A"},{"$error":"#N/A"},{"$error":"#N/A"},{"$error":"#N/A"},{"$error":"#N/A"},{"$error":"#N/A"},{"$error":"#N/A"},{"$error":"#N/A"},{"$error":"#N/A"},{"$error":"#N/A"},{"$error":"#N/A"},{"$error":"#N/A"},{"$error":"#N/A"},{"$error":"#N/A"},{"$error":"#N/A"},{"$error":"#N/A"},{"$error":"#N/A"},{"$error":"#N/A"},{"$error":"#N/A"},{"$error":"#N/A"},{"$error":"#N/A"},{"$error":"#N/A"},{"$error":"#N/A"},{"$error":"#N/A"},{"$error":"#N/A"},{"$error":"#N/A"},{"$error":"#N/A"},{"$error":"#N/A"},{"$error":"#N/A"},{"$error":"#N/A"},{"$error":"#N/A"},{"$error":"#N/A"},{"$error":"#N/A"},{"$error":"#N/A"},{"$error":"#N/A"},{"$error":"#N/A"},{"$error":"#N/A"},{"$error":"#N/A"},{"$error":"#N/A"},{"$error":"#N/A"},{"$error":"#N/A"},{"$error":"#N/A"},{"$error":"#N/A"},{"$error":"#N/A"},{"$error":"#N/A"},{"$error":"#N/A"},{"$error":"#N/A"},{"$error":"#N/A"},{"$error":"#N/A"},{"$error":"#N/A"},{"$error":"#N/A"},{"$error":"#N/A"},{"$error":"#N/A"},{"$error":"#N/A"},{"$error":"#N/A"},{"$error":"#N/A"},{"$error":"#N/A"},{"$error":"#N/A"},{"$error":"#N/A"},{"$error":"#N/A"},{"$error":"#N/A"},{"$error":"#N/A"},{"$error":"#N/A"},{"$error":"#N/A"},{"$error":"#N/A"},{"$error":"#N/A"},{"$error":"#N/A"},{"$error":"#N/A"},{"$error":"#N/A"},{"$error":"#N/A"},{"$error":"#N/A"},{"$error":"#N/A"},{"$error":"#N/A"}]
[null,null,null,null,null,null,null,null,null,null,null,{"$error":"#N/A"},133,{"$f":"VLOOKUP($M150,Funknavigation!$A$2:$AC$185,N$17,FALSE)","v":"Nienburg "},{"$f":"VLOOKUP($M150,Funknavigation!$A$2:$AC$185,O$17,FALSE)","v":"VOR "},{"$f":"VLOOKUP($M150,Funknavigation!$A$2:$AC$185,P$17,FALSE)","v":"NIE"},{"$f":"VLOOKUP($M150,Funknavigation!$A$2:$AC$185,Q$17,FALSE)","v":"− ·   · ·   ·"},{"$f":"VLOOKUP($M150,Funknavigation!$A$2:$AC$185,R$17,FALSE)","v":133},{"$f":"VLOOKUP($M150,Funknavigation!$A$2:$AC$185,S$17,FALSE)","v":52.625799999999998},{"$f":"VLOOKUP($M150,Funknavigation!$A$2:$AC$185,T$17,FALSE)","v":9.3719000000000001},{"$f":"VLOOKUP($M150,Funknavigation!$A$2:$AC$185,U$17,FALSE)","v":"116.50"},{"$f":"VLOOKUP($M150,Funknavigation!$A$2:$AC$185,V$17,FALSE)","v":""},{"$f":"VLOOKUP($M150,Funknavigation!$A$2:$AC$185,W$17,FALSE)","v":""},{"$f":"VLOOKUP($M150,Funknavigation!$A$2:$AC$185,X$17,FALSE)","v":40},null,null,0.91849348149603172,0.16357051216765656,{"$f":"IF(AG150=1,MAX(MAX(AC$18:$AC149),MAX($AD$18:$AD$193))+1,\"-\")","v":{"$error":"#N/A"}},{"$f":"IF(AH150=1,MAX($AD$18:AD149)+1,\"-\")","v":{"$error":"#N/A"}},{"$error":"#N/A"},{"$error":"#N/A"},{"$error":"#N/A"},{"$error":"#N/A"},{"$error":"#N/A"},{"$error":"#N/A"},{"$error":"#N/A"},{"$error":"#N/A"},{"$error":"#N/A"},{"$error":"#N/A"},{"$error":"#N/A"},{"$error":"#N/A"},{"$error":"#N/A"},{"$error":"#N/A"},{"$error":"#N/A"},{"$error":"#N/A"},{"$error":"#N/A"},{"$error":"#N/A"},{"$error":"#N/A"},{"$error":"#N/A"},{"$error":"#N/A"},{"$error":"#N/A"},{"$error":"#N/A"},{"$error":"#N/A"},{"$error":"#N/A"},{"$error":"#N/A"},{"$error":"#N/A"},{"$error":"#N/A"},{"$error":"#N/A"},{"$error":"#N/A"},{"$error":"#N/A"},{"$error":"#N/A"},{"$error":"#N/A"},{"$error":"#N/A"},{"$error":"#N/A"},{"$error":"#N/A"},{"$error":"#N/A"},{"$error":"#N/A"},{"$error":"#N/A"},{"$error":"#N/A"},{"$error":"#N/A"},{"$error":"#N/A"},{"$error":"#N/A"},{"$error":"#N/A"},{"$error":"#N/A"},{"$error":"#N/A"},{"$error":"#N/A"},{"$error":"#N/A"},{"$error":"#N/A"},{"$error":"#N/A"},{"$error":"#N/A"},{"$error":"#N/A"},{"$error":"#N/A"},{"$error":"#N/A"},{"$error":"#N/A"},{"$error":"#N/A"},{"$error":"#N/A"},{"$error":"#N/A"},{"$error":"#N/A"},{"$error":"#N/A"},{"$error":"#N/A"},{"$error":"#N/A"},{"$error":"#N/A"},{"$error":"#N/A"},{"$error":"#N/A"},{"$error":"#N/A"},{"$error":"#N/A"},{"$error":"#N/A"},{"$error":"#N/A"},{"$error":"#N/A"},{"$error":"#N/A"},{"$error":"#N/A"},{"$error":"#N/A"},{"$error":"#N/A"},{"$error":"#N/A"},{"$error":"#N/A"},{"$error":"#N/A"},{"$error":"#N/A"},{"$error":"#N/A"},{"$error":"#N/A"},{"$error":"#N/A"},{"$error":"#N/A"},{"$error":"#N/A"},{"$error":"#N/A"},{"$error":"#N/A"},{"$error":"#N/A"},{"$error":"#N/A"},{"$error":"#N/A"},{"$error":"#N/A"},{"$error":"#N/A"},{"$error":"#N/A"},{"$error":"#N/A"},{"$error":"#N/A"},{"$error":"#N/A"},{"$error":"#N/A"},{"$error":"#N/A"},{"$error":"#N/A"},{"$error":"#N/A"},{"$error":"#N/A"},{"$error":"#N/A"},{"$error":"#N/A"},{"$error":"#N/A"},{"$error":"#N/A"},{"$error":"#N/A"},{"$error":"#N/A"},{"$error":"#N/A"}]
[null,null,null,null,null,null,null,null,null,null,null,{"$error":"#N/A"},134,{"$f":"VLOOKUP($M151,Funknavigation!$A$2:$AC$185,N$17,FALSE)","v":"Nordholz "},{"$f":"VLOOKUP($M151,Funknavigation!$A$2:$AC$185,O$17,FALSE)","v":"NDB "},{"$f":"VLOOKUP($M151,Funknavigation!$A$2:$AC$185,P$17,FALSE)","v":"NDO"},{"$f":"VLOOKUP($M151,Funknavigation!$A$2:$AC$185,Q$17,FALSE)","v":"− ·   − · ·   − − −"},{"$f":"VLOOKUP($M151,Funknavigation!$A$2:$AC$185,R$17,FALSE)","v":134},{"$f":"VLOOKUP($M151,Funknavigation!$A$2:$AC$185,S$17,FALSE)","v":53.785600000000002},{"$f":"VLOOKUP($M151,Funknavigation!$A$2:$AC$185,T$17,FALSE)","v":8.8066999999999993},{"$f":"VLOOKUP($M151,Funknavigation!$A$2:$AC$185,U$17,FALSE)","v":""},{"$f":"VLOOKUP($M151,Funknavigation!$A$2:$AC$185,V$17,FALSE)","v":372},{"$f":"VLOOKUP($M151,Funknavigation!$A$2:$AC$185,W$17,FALSE)","v":""},{"$f":"VLOOKUP($M151,Funknavigation!$A$2:$AC$185,X$17,FALSE)","v":30},null,null,0.9387358101606621,0.1537059112353846,{"$f":"IF(AG151=1,MAX(MAX(AC$18:$AC150),MAX($AD$18:$AD$193))+1,\"-\")","v":{"$error":"#N/A"}},{"$f":"IF(AH151=1,MAX($AD$18:AD150)+1,\"-\")","v":{"$error":"#N/A"}},{"$error":"#N/A"},{"$error":"#N/A"},{"$error":"#N/A"},{"$error":"#N/A"},{"$error":"#N/A"},{"$error":"#N/A"},{"$error":"#N/A"},{"$error":"#N/A"},{"$error":"#N/A"},{"$error":"#N/A"},{"$error":"#N/A"},{"$error":"#N/A"},{"$error":"#N/A"},{"$error":"#N/A"},{"$error":"#N/A"},{"$error":"#N/A"},{"$error":"#N/A"},{"$error":"#N/A"},{"$error":"#N/A"},{"$error":"#N/A"},{"$error":"#N/A"},{"$error":"#N/A"},{"$error":"#N/A"},{"$error":"#N/A"},{"$error":"#N/A"},{"$error":"#N/A"},{"$error":"#N/A"},{"$error":"#N/A"},{"$error":"#N/A"},{"$error":"#N/A"},{"$error":"#N/A"},{"$error":"#N/A"},{"$error":"#N/A"},{"$error":"#N/A"},{"$error":"#N/A"},{"$error":"#N/A"},{"$error":"#N/A"},{"$error":"#N/A"},{"$error":"#N/A"},{"$error":"#N/A"},{"$error":"#N/A"},{"$error":"#N/A"},{"$error":"#N/A"},{"$error":"#N/A"},{"$error":"#N/A"},{"$error":"#N/A"},{"$error":"#N/A"},{"$error":"#N/A"},{"$error":"#N/A"},{"$error":"#N/A"},{"$error":"#N/A"},{"$error":"#N/A"},{"$error":"#N/A"},{"$error":"#N/A"},{"$error":"#N/A"},{"$error":"#N/A"},{"$error":"#N/A"},{"$error":"#N/A"},{"$error":"#N/A"},{"$error":"#N/A"},{"$error":"#N/A"},{"$error":"#N/A"},{"$error":"#N/A"},{"$error":"#N/A"},{"$error":"#N/A"},{"$error":"#N/A"},{"$error":"#N/A"},{"$error":"#N/A"},{"$error":"#N/A"},{"$error":"#N/A"},{"$error":"#N/A"},{"$error":"#N/A"},{"$error":"#N/A"},{"$error":"#N/A"},{"$error":"#N/A"},{"$error":"#N/A"},{"$error":"#N/A"},{"$error":"#N/A"},{"$error":"#N/A"},{"$error":"#N/A"},{"$error":"#N/A"},{"$error":"#N/A"},{"$error":"#N/A"},{"$error":"#N/A"},{"$error":"#N/A"},{"$error":"#N/A"},{"$error":"#N/A"},{"$error":"#N/A"},{"$error":"#N/A"},{"$error":"#N/A"},{"$error":"#N/A"},{"$error":"#N/A"},{"$error":"#N/A"},{"$error":"#N/A"},{"$error":"#N/A"},{"$error":"#N/A"},{"$error":"#N/A"},{"$error":"#N/A"},{"$error":"#N/A"},{"$error":"#N/A"},{"$error":"#N/A"},{"$error":"#N/A"},{"$error":"#N/A"},{"$error":"#N/A"},{"$error":"#N/A"},{"$error":"#N/A"}]
[null,null,null,null,null,null,null,null,null,null,null,{"$error":"#N/A"},135,{"$f":"VLOOKUP($M152,Funknavigation!$A$2:$AC$185,N$17,FALSE)","v":"Noervenich "},{"$f":"VLOOKUP($M152,Funknavigation!$A$2:$AC$185,O$17,FALSE)","v":"VORTAC "},{"$f":"VLOOKUP($M152,Funknavigation!$A$2:$AC$185,P$17,FALSE)","v":"NVO"},{"$f":"VLOOKUP($M152,Funknavigation!$A$2:$AC$185,Q$17,FALSE)","v":"− ·   · · · −   − − −"},{"$f":"VLOOKUP($M152,Funknavigation!$A$2:$AC$185,R$17,FALSE)","v":135},{"$f":"VLOOKUP($M152,Funknavigation!$A$2:$AC$185,S$17,FALSE)","v":50.822499999999998},{"$f":"VLOOKUP($M152,Funknavigation!$A$2:$AC$185,T$17,FALSE)","v":6.6364000000000001},{"$f":"VLOOKUP($M152,Funknavigation!$A$2:$AC$185,U$17,FALSE)","v":"116.20"},{"$f":"VLOOKUP($M152,Funknavigation!$A$2:$AC$185,V$17,FALSE)","v":""},{"$f":"VLOOKUP($M152,Funknavigation!$A$2:$AC$185,W$17,FALSE)","v":"Ch 109x "},{"$f":"VLOOKUP($M152,Funknavigation!$A$2:$AC$185,X$17,FALSE)","v":60},null,null,0.88701995909481812,0.11582703047935168,{"$f":"IF(AG152=1,MAX(MAX(AC$18:$AC151),MAX($AD$18:$AD$193))+1,\"-\")","v":{"$error":"#N/A"}},{"$f":"IF(AH152=1,MAX($AD$18:AD151)+1,\"-\")","v":{"$error":"#N/A"}},{"$error":"#N/A"},{"$error":"#N/A"},{"$error":"#N/A"},{"$error":"#N/A"},{"$error":"#N/A"},{"$error":"#N/A"},{"$error":"#N/A"},{"$error":"#N/A"},{"$error":"#N/A"},{"$error":"#N/A"},{"$error":"#N/A"},{"$error":"#N/A"},{"$error":"#N/A"},{"$error":"#N/A"},{"$error":"#N/A"},{"$error":"#N/A"},{"$error":"#N/A"},{"$error":"#N/A"},{"$error":"#N/A"},{"$error":"#N/A"},{"$error":"#N/A"},{"$error":"#N/A"},{"$error":"#N/A"},{"$error":"#N/A"},{"$error":"#N/A"},{"$error":"#N/A"},{"$error":"#N/A"},{"$error":"#N/A"},{"$error":"#N/A"},{"$error":"#N/A"},{"$error":"#N/A"},{"$error":"#N/A"},{"$error":"#N/A"},{"$error":"#N/A"},{"$error":"#N/A"},{"$error":"#N/A"},{"$error":"#N/A"},{"$error":"#N/A"},{"$error":"#N/A"},{"$error":"#N/A"},{"$error":"#N/A"},{"$error":"#N/A"},{"$error":"#N/A"},{"$error":"#N/A"},{"$error":"#N/A"},{"$error":"#N/A"},{"$error":"#N/A"},{"$error":"#N/A"},{"$error":"#N/A"},{"$error":"#N/A"},{"$error":"#N/A"},{"$error":"#N/A"},{"$error":"#N/A"},{"$error":"#N/A"},{"$error":"#N/A"},{"$error":"#N/A"},{"$error":"#N/A"},{"$error":"#N/A"},{"$error":"#N/A"},{"$error":"#N/A"},{"$error":"#N/A"},{"$error":"#N/A"},{"$error":"#N/A"},{"$error":"#N/A"},{"$error":"#N/A"},{"$error":"#N/A"},{"$error":"#N/A"},{"$error":"#N/A"},{"$error":"#N/A"},{"$error":"#N/A"},{"$error":"#N/A"},{"$error":"#N/A"},{"$error":"#N/A"},{"$error":"#N/A"},{"$error":"#N/A"},{"$error":"#N/A"},{"$error":"#N/A"},{"$error":"#N/A"},{"$error":"#N/A"},{"$error":"#N/A"},{"$error":"#N/A"},{"$error":"#N/A"},{"$error":"#N/A"},{"$error":"#N/A"},{"$error":"#N/A"},{"$error":"#N/A"},{"$error":"#N/A"},{"$error":"#N/A"},{"$error":"#N/A"},{"$error":"#N/A"},{"$error":"#N/A"},{"$f":"IF(DR$3=\"OK\",(21600/(2*PI()))*ACOS(SIN($AA152)*SIN(DR$6)+COS(DR$6)*COS($AA152)*COS($AB152-DR$7)),\"-\")","v":{"$error":"#N/A"}},{"$error":"#N/A"},{"$error":"#N/A"},{"$error":"#N/A"},{"$error":"#N/A"},{"$error":"#N/A"},{"$error":"#N/A"},{"$error":"#N/A"},{"$error":"#N/A"},{"$error":"#N/A"},{"$error":"#N/A"},{"$error":"#N/A"},{"$error":"#N/A"},{"$error":"#N/A"},{"$error":"#N/A"}]
[null,null,null,null,null,null,null,null,null,null,null,{"$error":"#N/A"},136,{"$f":"VLOOKUP($M153,Funknavigation!$A$2:$AC$185,N$17,FALSE)","v":"Nuernberg "},{"$f":"VLOOKUP($M153,Funknavigation!$A$2:$AC$185,O$17,FALSE)","v":"DME "},{"$f":"VLOOKUP($M153,Funknavigation!$A$2:$AC$185,P$17,FALSE)","v":"NGD"},{"$f":"VLOOKUP($M153,Funknavigation!$A$2:$AC$185,Q$17,FALSE)","v":"− ·   − − ·   − · ·"},{"$f":"VLOOKUP($M153,Funknavigation!$A$2:$AC$185,R$17,FALSE)","v":136},{"$f":"VLOOKUP($M153,Funknavigation!$A$2:$AC$185,S$17,FALSE)","v":49.501100000000001},{"$f":"VLOOKUP($M153,Funknavigation!$A$2:$AC$185,T$17,FALSE)","v":11.080299999999999},{"$f":"VLOOKUP($M153,Funknavigation!$A$2:$AC$185,U$17,FALSE)","v":"113.10"},{"$f":"VLOOKUP($M153,Funknavigation!$A$2:$AC$185,V$17,FALSE)","v":""},{"$f":"VLOOKUP($M153,Funknavigation!$A$2:$AC$185,W$17,FALSE)","v":"Ch 78x (*) "},{"$f":"VLOOKUP($M153,Funknavigation!$A$2:$AC$185,X$17,FALSE)","v":25},null,null,0.86395717835896513,0.19338771710872768,{"$f":"IF(AG153=1,MAX(MAX(AC$18:$AC152),MAX($AD$18:$AD$193))+1,\"-\")","v":{"$error":"#N/A"}},{"$f":"IF(AH153=1,MAX($AD$18:AD152)+1,\"-\")","v":{"$error":"#N/A"}},{"$error":"#N/A"},{"$error":"#N/A"},{"$error":"#N/A"},{"$error":"#N/A"},{"$error":"#N/A"},{"$error":"#N/A"},{"$error":"#N/A"},{"$error":"#N/A"},{"$error":"#N/A"},{"$error":"#N/A"},{"$error":"#N/A"},{"$error":"#N/A"},{"$error":"#N/A"},{"$error":"#N/A"},{"$error":"#N/A"},{"$error":"#N/A"},{"$error":"#N/A"},{"$error":"#N/A"},{"$error":"#N/A"},{"$error":"#N/A"},{"$error":"#N/A"},{"$error":"#N/A"},{"$error":"#N/A"},{"$error":"#N/A"},{"$error":"#N/A"},{"$error":"#N/A"},{"$error":"#N/A"},{"$error":"#N/A"},{"$error":"#N/A"},{"$error":"#N/A"},{"$error":"#N/A"},{"$error":"#N/A"},{"$error":"#N/A"},{"$error":"#N/A"},{"$error":"#N/A"},{"$error":"#N/A"},{"$error":"#N/A"},{"$error":"#N/A"},{"$error":"#N/A"},{"$error":"#N/A"},{"$error":"#N/A"},{"$error":"#N/A"},{"$error":"#N/A"},{"$error":"#N/A"},{"$error":"#N/A"},{"$error":"#N/A"},{"$error":"#N/A"},{"$error":"#N/A"},{"$error":"#N/A"},{"$error":"#N/A"},{"$error":"#N/A"},{"$error":"#N/A"},{"$error":"#N/A"},{"$error":"#N/A"},{"$error":"#N/A"},{"$error":"#N/A"},{"$error":"#N/A"},{"$error":"#N/A"},{"$error":"#N/A"},{"$error":"#N/A"},{"$error":"#N/A"},{"$error":"#N/A"},{"$error":"#N/A"},{"$error":"#N/A"},{"$error":"#N/A"},{"$error":"#N/A"},{"$error":"#N/A"},{"$error":"#N/A"},{"$error":"#N/A"},{"$error":"#N/A"},{"$error":"#N/A"},{"$error":"#N/A"},{"$error":"#N/A"},{"$error":"#N/A"},{"$error":"#N/A"},{"$error":"#N/A"},{"$error":"#N/A"},{"$error":"#N/A"},{"$error":"#N/A"},{"$error":"#N/A"},{"$error":"#N/A"},{"$error":"#N/A"},{"$error":"#N/A"},{"$error":"#N/A"},{"$error":"#N/A"},{"$error":"#N/A"},{"$error":"#N/A"},{"$error":"#N/A"},{"$error":"#N/A"},{"$error":"#N/A"},{"$error":"#N/A"},{"$error":"#N/A"},{"$error":"#N/A"},{"$error":"#N/A"},{"$error":"#N/A"},{"$error":"#N/A"},{"$error":"#N/A"},{"$error":"#N/A"},{"$error":"#N/A"},{"$error":"#N/A"},{"$error":"#N/A"},{"$error":"#N/A"},{"$error":"#N/A"},{"$error":"#N/A"},{"$error":"#N/A"},{"$error":"#N/A"}]
[null,null,null,null,null,null,null,null,null,null,null,{"$error":"#N/A"},137,{"$f":"VLOOKUP($M154,Funknavigation!$A$2:$AC$185,N$17,FALSE)","v":"Nuernberg"},{"$f":"VLOOKUP($M154,Funknavigation!$A$2:$AC$185,O$17,FALSE)","v":"VOR/DME "},{"$f":"VLOOKUP($M154,Funknavigation!$A$2:$AC$185,P$17,FALSE)","v":"NUB"},{"$f":"VLOOKUP($M154,Funknavigation!$A$2:$AC$185,Q$17,FALSE)","v":"− ·   · · −   − · · ·"},{"$f":"VLOOKUP($M154,Funknavigation!$A$2:$AC$185,R$17,FALSE)","v":137},{"$f":"VLOOKUP($M154,Funknavigation!$A$2:$AC$185,S$17,FALSE)","v":49.503100000000003},{"$f":"VLOOKUP($M154,Funknavigation!$A$2:$AC$185,T$17,FALSE)","v":11.034700000000001},{"$f":"VLOOKUP($M154,Funknavigation!$A$2:$AC$185,U$17,FALSE)","v":"115.75"},{"$f":"VLOOKUP($M154,Funknavigation!$A$2:$AC$185,V$17,FALSE)","v":""},{"$f":"VLOOKUP($M154,Funknavigation!$A$2:$AC$185,W$17,FALSE)","v":"Ch CH104y "},{"$f":"VLOOKUP($M154,Funknavigation!$A$2:$AC$185,X$17,FALSE)","v":40},null,null,0.86399208494400503,0.19259184696981832,{"$f":"IF(AG154=1,MAX(MAX(AC$18:$AC153),MAX($AD$18:$AD$193))+1,\"-\")","v":{"$error":"#N/A"}},{"$f":"IF(AH154=1,MAX($AD$18:AD153)+1,\"-\")","v":{"$error":"#N/A"}},{"$error":"#N/A"},{"$error":"#N/A"},{"$error":"#N/A"},{"$error":"#N/A"},{"$error":"#N/A"},{"$error":"#N/A"},{"$error":"#N/A"},{"$error":"#N/A"},{"$error":"#N/A"},{"$error":"#N/A"},{"$error":"#N/A"},{"$error":"#N/A"},{"$error":"#N/A"},{"$error":"#N/A"},{"$error":"#N/A"},{"$error":"#N/A"},{"$error":"#N/A"},{"$error":"#N/A"},{"$error":"#N/A"},{"$error":"#N/A"},{"$error":"#N/A"},{"$error":"#N/A"},{"$error":"#N/A"},{"$error":"#N/A"},{"$error":"#N/A"},{"$error":"#N/A"},{"$error":"#N/A"},{"$error":"#N/A"},{"$error":"#N/A"},{"$error":"#N/A"},{"$error":"#N/A"},{"$error":"#N/A"},{"$error":"#N/A"},{"$error":"#N/A"},{"$error":"#N/A"},{"$error":"#N/A"},{"$error":"#N/A"},{"$error":"#N/A"},{"$error":"#N/A"},{"$error":"#N/A"},{"$error":"#N/A"},{"$error":"#N/A"},{"$error":"#N/A"},{"$error":"#N/A"},{"$error":"#N/A"},{"$error":"#N/A"},{"$error":"#N/A"},{"$error":"#N/A"},{"$error":"#N/A"},{"$error":"#N/A"},{"$error":"#N/A"},{"$error":"#N/A"},{"$error":"#N/A"},{"$error":"#N/A"},{"$error":"#N/A"},{"$error":"#N/A"},{"$error":"#N/A"},{"$error":"#N/A"},{"$error":"#N/A"},{"$error":"#N/A"},{"$error":"#N/A"},{"$error":"#N/A"},{"$error":"#N/A"},{"$error":"#N/A"},{"$error":"#N/A"},{"$error":"#N/A"},{"$error":"#N/A"},{"$error":"#N/A"},{"$error":"#N/A"},{"$error":"#N/A"},{"$error":"#N/A"},{"$error":"#N/A"},{"$error":"#N/A"},{"$error":"#N/A"},{"$error":"#N/A"},{"$error":"#N/A"},{"$error":"#N/A"},{"$error":"#N/A"},{"$error":"#N/A"},{"$error":"#N/A"},{"$error":"#N/A"},{"$error":"#N/A"},{"$error":"#N/A"},{"$error":"#N/A"},{"$error":"#N/A"},{"$error":"#N/A"},{"$error":"#N/A"},{"$error":"#N/A"},{"$error":"#N/A"},{"$error":"#N/A"},{"$error":"#N/A"},{"$error":"#N/A"},{"$error":"#N/A"},{"$error":"#N/A"},{"$error":"#N/A"},{"$error":"#N/A"},{"$error":"#N/A"},{"$error":"#N/A"},{"$error":"#N/A"},{"$error":"#N/A"},{"$error":"#N/A"},{"$error":"#N/A"},{"$error":"#N/A"},{"$error":"#N/A"},{"$error":"#N/A"},{"$error":"#N/A"}]
[null,null,null,null,null,null,null,null,null,null,null,{"$error":"#N/A"},138,{"$f":"VLOOKUP($M155,Funknavigation!$A$2:$AC$185,N$17,FALSE)","v":"Oberpfaffenhofen "},{"$f":"VLOOKUP($M155,Funknavigation!$A$2:$AC$185,O$17,FALSE)","v":"NDB "},{"$f":"VLOOKUP($M155,Funknavigation!$A$2:$AC$185,P$17,FALSE)","v":"OBI"},{"$f":"VLOOKUP($M155,Funknavigation!$A$2:$AC$185,Q$17,FALSE)","v":"− − −   − · · ·   · ·"},{"$f":"VLOOKUP($M155,Funknavigation!$A$2:$AC$185,R$17,FALSE)","v":138},{"$f":"VLOOKUP($M155,Funknavigation!$A$2:$AC$185,S$17,FALSE)","v":48.080599999999997},{"$f":"VLOOKUP($M155,Funknavigation!$A$2:$AC$185,T$17,FALSE)","v":11.285299999999999},{"$f":"VLOOKUP($M155,Funknavigation!$A$2:$AC$185,U$17,FALSE)","v":""},{"$f":"VLOOKUP($M155,Funknavigation!$A$2:$AC$185,V$17,FALSE)","v":429},{"$f":"VLOOKUP($M155,Funknavigation!$A$2:$AC$185,W$17,FALSE)","v":""},{"$f":"VLOOKUP($M155,Funknavigation!$A$2:$AC$185,X$17,FALSE)","v":20},null,null,0.83916477633438546,0.19696564207531606,{"$f":"IF(AG155=1,MAX(MAX(AC$18:$AC154),MAX($AD$18:$AD$193))+1,\"-\")","v":{"$error":"#N/A"}},{"$f":"IF(AH155=1,MAX($AD$18:AD154)+1,\"-\")","v":{"$error":"#N/A"}},{"$error":"#N/A"},{"$error":"#N/A"},{"$error":"#N/A"},{"$error":"#N/A"},{"$error":"#N/A"},{"$error":"#N/A"},{"$error":"#N/A"},{"$error":"#N/A"},{"$error":"#N/A"},{"$error":"#N/A"},{"$error":"#N/A"},{"$error":"#N/A"},{"$error":"#N/A"},{"$error":"#N/A"},{"$error":"#N/A"},{"$error":"#N/A"},{"$error":"#N/A"},{"$error":"#N/A"},{"$error":"#N/A"},{"$error":"#N/A"},{"$error":"#N/A"},{"$error":"#N/A"},{"$error":"#N/A"},{"$error":"#N/A"},{"$error":"#N/A"},{"$error":"#N/A"},{"$error":"#N/A"},{"$error":"#N/A"},{"$error":"#N/A"},{"$error":"#N/A"},{"$error":"#N/A"},{"$error":"#N/A"},{"$error":"#N/A"},{"$error":"#N/A"},{"$error":"#N/A"},{"$error":"#N/A"},{"$error":"#N/A"},{"$error":"#N/A"},{"$error":"#N/A"},{"$error":"#N/A"},{"$error":"#N/A"},{"$error":"#N/A"},{"$error":"#N/A"},{"$error":"#N/A"},{"$error":"#N/A"},{"$error":"#N/A"},{"$error":"#N/A"},{"$error":"#N/A"},{"$error":"#N/A"},{"$error":"#N/A"},{"$error":"#N/A"},{"$error":"#N/A"},{"$error":"#N/A"},{"$error":"#N/A"},{"$error":"#N/A"},{"$error":"#N/A"},{"$error":"#N/A"},{"$error":"#N/A"},{"$error":"#N/A"},{"$error":"#N/A"},{"$error":"#N/A"},{"$error":"#N/A"},{"$error":"#N/A"},{"$error":"#N/A"},{"$error":"#N/A"},{"$error":"#N/A"},{"$error":"#N/A"},{"$error":"#N/A"},{"$error":"#N/A"},{"$error":"#N/A"},{"$error":"#N/A"},{"$error":"#N/A"},{"$error":"#N/A"},{"$error":"#N/A"},{"$error":"#N/A"},{"$error":"#N/A"},{"$error":"#N/A"},{"$error":"#N/A"},{"$error":"#N/A"},{"$error":"#N/A"},{"$error":"#N/A"},{"$error":"#N/A"},{"$error":"#N/A"},{"$error":"#N/A"},{"$error":"#N/A"},{"$error":"#N/A"},{"$error":"#N/A"},{"$error":"#N/A"},{"$error":"#N/A"},{"$error":"#N/A"},{"$error":"#N/A"},{"$error":"#N/A"},{"$error":"#N/A"},{"$error":"#N/A"},{"$error":"#N/A"},{"$error":"#N/A"},{"$error":"#N/A"},{"$error":"#N/A"},{"$error":"#N/A"},{"$error":"#N/A"},{"$error":"#N/A"},{"$error":"#N/A"},{"$error":"#N/A"},{"$error":"#N/A"},{"$error":"#N/A"},{"$error":"#N/A"}]
[null,null,null,null,null,null,null,null,null,null,null,{"$error":"#N/A"},139,{"$f":"VLOOKUP($M156,Funknavigation!$A$2:$AC$185,N$17,FALSE)","v":"Oberpfaffenhofen"},{"$f":"VLOOKUP($M156,Funknavigation!$A$2:$AC$185,O$17,FALSE)","v":"DME "},{"$f":"VLOOKUP($M156,Funknavigation!$A$2:$AC$185,P$17,FALSE)","v":"OBI"},{"$f":"VLOOKUP($M156,Funknavigation!$A$2:$AC$185,Q$17,FALSE)","v":"− − −   − · · ·   · ·"},{"$f":"VLOOKUP($M156,Funknavigation!$A$2:$AC$185,R$17,FALSE)","v":139},{"$f":"VLOOKUP($M156,Funknavigation!$A$2:$AC$185,S$17,FALSE)","v":48.080599999999997},{"$f":"VLOOKUP($M156,Funknavigation!$A$2:$AC$185,T$17,FALSE)","v":11.285299999999999},{"$f":"VLOOKUP($M156,Funknavigation!$A$2:$AC$185,U$17,FALSE)","v":"110.50"},{"$f":"VLOOKUP($M156,Funknavigation!$A$2:$AC$185,V$17,FALSE)","v":""},{"$f":"VLOOKUP($M156,Funknavigation!$A$2:$AC$185,W$17,FALSE)","v":"Ch 42x (*)"},{"$f":"VLOOKUP($M156,Funknavigation!$A$2:$AC$185,X$17,FALSE)","v":10},null,null,0.83916477633438546,0.19696564207531606,{"$f":"IF(AG156=1,MAX(MAX(AC$18:$AC155),MAX($AD$18:$AD$193))+1,\"-\")","v":{"$error":"#N/A"}},{"$f":"IF(AH156=1,MAX($AD$18:AD155)+1,\"-\")","v":{"$error":"#N/A"}},{"$error":"#N/A"},{"$error":"#N/A"},{"$error":"#N/A"},{"$error":"#N/A"},{"$error":"#N/A"},{"$error":"#N/A"},{"$error":"#N/A"},{"$error":"#N/A"},{"$error":"#N/A"},{"$error":"#N/A"},{"$error":"#N/A"},{"$error":"#N/A"},{"$error":"#N/A"},{"$error":"#N/A"},{"$error":"#N/A"},{"$error":"#N/A"},{"$error":"#N/A"},{"$error":"#N/A"},{"$error":"#N/A"},{"$error":"#N/A"},{"$error":"#N/A"},{"$error":"#N/A"},{"$error":"#N/A"},{"$error":"#N/A"},{"$error":"#N/A"},{"$error":"#N/A"},{"$error":"#N/A"},{"$error":"#N/A"},{"$error":"#N/A"},{"$error":"#N/A"},{"$error":"#N/A"},{"$error":"#N/A"},{"$error":"#N/A"},{"$error":"#N/A"},{"$error":"#N/A"},{"$error":"#N/A"},{"$error":"#N/A"},{"$error":"#N/A"},{"$error":"#N/A"},{"$error":"#N/A"},{"$error":"#N/A"},{"$error":"#N/A"},{"$error":"#N/A"},{"$error":"#N/A"},{"$error":"#N/A"},{"$error":"#N/A"},{"$error":"#N/A"},{"$error":"#N/A"},{"$error":"#N/A"},{"$error":"#N/A"},{"$error":"#N/A"},{"$error":"#N/A"},{"$error":"#N/A"},{"$error":"#N/A"},{"$error":"#N/A"},{"$error":"#N/A"},{"$error":"#N/A"},{"$error":"#N/A"},{"$error":"#N/A"},{"$error":"#N/A"},{"$error":"#N/A"},{"$error":"#N/A"},{"$error":"#N/A"},{"$error":"#N/A"},{"$error":"#N/A"},{"$error":"#N/A"},{"$error":"#N/A"},{"$error":"#N/A"},{"$error":"#N/A"},{"$error":"#N/A"},{"$error":"#N/A"},{"$error":"#N/A"},{"$error":"#N/A"},{"$error":"#N/A"},{"$error":"#N/A"},{"$error":"#N/A"},{"$error":"#N/A"},{"$error":"#N/A"},{"$error":"#N/A"},{"$error":"#N/A"},{"$error":"#N/A"},{"$error":"#N/A"},{"$error":"#N/A"},{"$error":"#N/A"},{"$error":"#N/A"},{"$error":"#N/A"},{"$error":"#N/A"},{"$error":"#N/A"},{"$error":"#N/A"},{"$error":"#N/A"},{"$error":"#N/A"},{"$error":"#N/A"},{"$error":"#N/A"},{"$error":"#N/A"},{"$error":"#N/A"},{"$error":"#N/A"},{"$error":"#N/A"},{"$error":"#N/A"},{"$error":"#N/A"},{"$error":"#N/A"},{"$error":"#N/A"},{"$error":"#N/A"},{"$error":"#N/A"},{"$error":"#N/A"},{"$error":"#N/A"},{"$error":"#N/A"}]
[null,null,null,null,null,null,null,null,null,null,null,{"$error":"#N/A"},140,{"$f":"VLOOKUP($M157,Funknavigation!$A$2:$AC$185,N$17,FALSE)","v":"Osnabrueck "},{"$f":"VLOOKUP($M157,Funknavigation!$A$2:$AC$185,O$17,FALSE)","v":"DVOR "},{"$f":"VLOOKUP($M157,Funknavigation!$A$2:$AC$185,P$17,FALSE)","v":"OSN"},{"$f":"VLOOKUP($M157,Funknavigation!$A$2:$AC$185,Q$17,FALSE)","v":"− − −   · · ·   − ·"},{"$f":"VLOOKUP($M157,Funknavigation!$A$2:$AC$185,R$17,FALSE)","v":140},{"$f":"VLOOKUP($M157,Funknavigation!$A$2:$AC$185,S$17,FALSE)","v":52.2},{"$f":"VLOOKUP($M157,Funknavigation!$A$2:$AC$185,T$17,FALSE)","v":8.2856000000000005},{"$f":"VLOOKUP($M157,Funknavigation!$A$2:$AC$185,U$17,FALSE)","v":"114.30"},{"$f":"VLOOKUP($M157,Funknavigation!$A$2:$AC$185,V$17,FALSE)","v":""},{"$f":"VLOOKUP($M157,Funknavigation!$A$2:$AC$185,W$17,FALSE)","v":""},{"$f":"VLOOKUP($M157,Funknavigation!$A$2:$AC$185,X$17,FALSE)","v":60},null,null,0.91106186954104007,0.14461100050324219,{"$f":"IF(AG157=1,MAX(MAX(AC$18:$AC156),MAX($AD$18:$AD$193))+1,\"-\")","v":{"$error":"#N/A"}},{"$f":"IF(AH157=1,MAX($AD$18:AD156)+1,\"-\")","v":{"$error":"#N/A"}},{"$error":"#N/A"},{"$error":"#N/A"},{"$error":"#N/A"},{"$error":"#N/A"},{"$error":"#N/A"},{"$error":"#N/A"},{"$error":"#N/A"},{"$error":"#N/A"},{"$error":"#N/A"},{"$error":"#N/A"},{"$error":"#N/A"},{"$error":"#N/A"},{"$error":"#N/A"},{"$error":"#N/A"},{"$error":"#N/A"},{"$error":"#N/A"},{"$error":"#N/A"},{"$error":"#N/A"},{"$error":"#N/A"},{"$error":"#N/A"},{"$error":"#N/A"},{"$error":"#N/A"},{"$error":"#N/A"},{"$error":"#N/A"},{"$error":"#N/A"},{"$error":"#N/A"},{"$error":"#N/A"},{"$error":"#N/A"},{"$error":"#N/A"},{"$error":"#N/A"},{"$error":"#N/A"},{"$error":"#N/A"},{"$error":"#N/A"},{"$error":"#N/A"},{"$error":"#N/A"},{"$error":"#N/A"},{"$error":"#N/A"},{"$error":"#N/A"},{"$error":"#N/A"},{"$error":"#N/A"},{"$error":"#N/A"},{"$error":"#N/A"},{"$error":"#N/A"},{"$error":"#N/A"},{"$error":"#N/A"},{"$error":"#N/A"},{"$error":"#N/A"},{"$error":"#N/A"},{"$error":"#N/A"},{"$error":"#N/A"},{"$error":"#N/A"},{"$error":"#N/A"},{"$error":"#N/A"},{"$error":"#N/A"},{"$error":"#N/A"},{"$error":"#N/A"},{"$error":"#N/A"},{"$error":"#N/A"},{"$error":"#N/A"},{"$error":"#N/A"},{"$error":"#N/A"},{"$error":"#N/A"},{"$error":"#N/A"},{"$error":"#N/A"},{"$error":"#N/A"},{"$error":"#N/A"},{"$error":"#N/A"},{"$error":"#N/A"},{"$error":"#N/A"},{"$error":"#N/A"},{"$error":"#N/A"},{"$error":"#N/A"},{"$error":"#N/A"},{"$error":"#N/A"},{"$error":"#N/A"},{"$error":"#N/A"},{"$error":"#N/A"},{"$error":"#N/A"},{"$error":"#N/A"},{"$error":"#N/A"},{"$error":"#N/A"},{"$error":"#N/A"},{"$error":"#N/A"},{"$error":"#N/A"},{"$error":"#N/A"},{"$error":"#N/A"},{"$error":"#N/A"},{"$error":"#N/A"},{"$error":"#N/A"},{"$error":"#N/A"},{"$error":"#N/A"},{"$error":"#N/A"},{"$error":"#N/A"},{"$error":"#N/A"},{"$error":"#N/A"},{"$error":"#N/A"},{"$error":"#N/A"},{"$error":"#N/A"},{"$error":"#N/A"},{"$error":"#N/A"},{"$error":"#N/A"},{"$error":"#N/A"},{"$error":"#N/A"},{"$error":"#N/A"},{"$error":"#N/A"},{"$error":"#N/A"}]
[null,null,null,null,null,null,null,null,null,null,null,{"$error":"#N/A"},141,{"$f":"VLOOKUP($M158,Funknavigation!$A$2:$AC$185,N$17,FALSE)","v":"Paderborn/Lippstadt "},{"$f":"VLOOKUP($M158,Funknavigation!$A$2:$AC$185,O$17,FALSE)","v":"NDB "},{"$f":"VLOOKUP($M158,Funknavigation!$A$2:$AC$185,P$17,FALSE)","v":"PAD"},{"$f":"VLOOKUP($M158,Funknavigation!$A$2:$AC$185,Q$17,FALSE)","v":"· − − ·   · −   − · ·"},{"$f":"VLOOKUP($M158,Funknavigation!$A$2:$AC$185,R$17,FALSE)","v":141},{"$f":"VLOOKUP($M158,Funknavigation!$A$2:$AC$185,S$17,FALSE)","v":51.623600000000003},{"$f":"VLOOKUP($M158,Funknavigation!$A$2:$AC$185,T$17,FALSE)","v":8.6394000000000002},{"$f":"VLOOKUP($M158,Funknavigation!$A$2:$AC$185,U$17,FALSE)","v":""},{"$f":"VLOOKUP($M158,Funknavigation!$A$2:$AC$185,V$17,FALSE)","v":354},{"$f":"VLOOKUP($M158,Funknavigation!$A$2:$AC$185,W$17,FALSE)","v":""},{"$f":"VLOOKUP($M158,Funknavigation!$A$2:$AC$185,X$17,FALSE)","v":12},null,null,0.9010017917325448,0.15078597539679811,{"$f":"IF(AG158=1,MAX(MAX(AC$18:$AC157),MAX($AD$18:$AD$193))+1,\"-\")","v":{"$error":"#N/A"}},{"$f":"IF(AH158=1,MAX($AD$18:AD157)+1,\"-\")","v":{"$error":"#N/A"}},{"$error":"#N/A"},{"$error":"#N/A"},{"$error":"#N/A"},{"$error":"#N/A"},{"$error":"#N/A"},{"$error":"#N/A"},{"$error":"#N/A"},{"$f":"IF(AL$3=\"OK\",(21600/(2*PI()))*ACOS(SIN($AA158)*SIN(AL$6)+COS(AL$6)*COS($AA158)*COS($AB158-AL$7)),\"-\")","v":{"$error":"#N/A"}},{"$error":"#N/A"},{"$error":"#N/A"},{"$error":"#N/A"},{"$error":"#N/A"},{"$error":"#N/A"},{"$error":"#N/A"},{"$error":"#N/A"},{"$error":"#N/A"},{"$error":"#N/A"},{"$f":"IF(AV$3=\"OK\",(21600/(2*PI()))*ACOS(SIN($AA158)*SIN(AV$6)+COS(AV$6)*COS($AA158)*COS($AB158-AV$7)),\"-\")","v":{"$error":"#N/A"}},{"$error":"#N/A"},{"$error":"#N/A"},{"$error":"#N/A"},{"$error":"#N/A"},{"$error":"#N/A"},{"$error":"#N/A"},{"$error":"#N/A"},{"$error":"#N/A"},{"$error":"#N/A"},{"$f":"IF(BF$3=\"OK\",(21600/(2*PI()))*ACOS(SIN($AA158)*SIN(BF$6)+COS(BF$6)*COS($AA158)*COS($AB158-BF$7)),\"-\")","v":{"$error":"#N/A"}},{"$error":"#N/A"},{"$error":"#N/A"},{"$error":"#N/A"},{"$error":"#N/A"},{"$error":"#N/A"},{"$error":"#N/A"},{"$error":"#N/A"},{"$error":"#N/A"},{"$error":"#N/A"},{"$f":"IF(BP$3=\"OK\",(21600/(2*PI()))*ACOS(SIN($AA158)*SIN(BP$6)+COS(BP$6)*COS($AA158)*COS($AB158-BP$7)),\"-\")","v":{"$error":"#N/A"}},{"$error":"#N/A"},{"$error":"#N/A"},{"$error":"#N/A"},{"$error":"#N/A"},{"$error":"#N/A"},{"$error":"#N/A"},{"$error":"#N/A"},{"$error":"#N/A"},{"$error":"#N/A"},{"$f":"IF(BZ$3=\"OK\",(21600/(2*PI()))*ACOS(SIN($AA158)*SIN(BZ$6)+COS(BZ$6)*COS($AA158)*COS($AB158-BZ$7)),\"-\")","v":{"$error":"#N/A"}},{"$error":"#N/A"},{"$error":"#N/A"},{"$error":"#N/A"},{"$error":"#N/A"},{"$error":"#N/A"},{"$error":"#N/A"},{"$error":"#N/A"},{"$error":"#N/A"},{"$error":"#N/A"},{"$f":"IF(CJ$3=\"OK\",(21600/(2*PI()))*ACOS(SIN($AA158)*SIN(CJ$6)+COS(CJ$6)*COS($AA158)*COS($AB158-CJ$7)),\"-\")","v":{"$error":"#N/A"}},{"$error":"#N/A"},{"$error":"#N/A"},{"$error":"#N/A"},{"$error":"#N/A"},{"$error":"#N/A"},{"$error":"#N/A"},{"$error":"#N/A"},{"$error":"#N/A"},{"$error":"#N/A"},{"$f":"IF(CT$3=\"OK\",(21600/(2*PI()))*ACOS(SIN($AA158)*SIN(CT$6)+COS(CT$6)*COS($AA158)*COS($AB158-CT$7)),\"-\")","v":{"$error":"#N/A"}},{"$error":"#N/A"},{"$error":"#N/A"},{"$error":"#N/A"},{"$error":"#N/A"},{"$error":"#N/A"},{"$error":"#N/A"},{"$error":"#N/A"},{"$error":"#N/A"},{"$error":"#N/A"},{"$error":"#N/A"},{"$error":"#N/A"},{"$error":"#N/A"},{"$error":"#N/A"},{"$error":"#N/A"},{"$error":"#N/A"},{"$error":"#N/A"},{"$error":"#N/A"},{"$error":"#N/A"},{"$error":"#N/A"},{"$error":"#N/A"},{"$error":"#N/A"},{"$error":"#N/A"},{"$error":"#N/A"},{"$error":"#N/A"},{"$error":"#N/A"},{"$error":"#N/A"},{"$error":"#N/A"},{"$error":"#N/A"},{"$error":"#N/A"},{"$error":"#N/A"},{"$error":"#N/A"},{"$error":"#N/A"},{"$error":"#N/A"},{"$error":"#N/A"},{"$error":"#N/A"},{"$error":"#N/A"},{"$error":"#N/A"},{"$error":"#N/A"}]
[null,null,null,null,null,null,null,null,null,null,null,{"$error":"#N/A"},142,{"$f":"VLOOKUP($M159,Funknavigation!$A$2:$AC$185,N$17,FALSE)","v":"Paderborn/Lippstadt"},{"$f":"VLOOKUP($M159,Funknavigation!$A$2:$AC$185,O$17,FALSE)","v":"DME "},{"$f":"VLOOKUP($M159,Funknavigation!$A$2:$AC$185,P$17,FALSE)","v":"PAD"},{"$f":"VLOOKUP($M159,Funknavigation!$A$2:$AC$185,Q$17,FALSE)","v":"· − − ·   · −   − · ·"},{"$f":"VLOOKUP($M159,Funknavigation!$A$2:$AC$185,R$17,FALSE)","v":142},{"$f":"VLOOKUP($M159,Funknavigation!$A$2:$AC$185,S$17,FALSE)","v":51.610300000000002},{"$f":"VLOOKUP($M159,Funknavigation!$A$2:$AC$185,T$17,FALSE)","v":8.6186000000000007},{"$f":"VLOOKUP($M159,Funknavigation!$A$2:$AC$185,U$17,FALSE)","v":"108.50"},{"$f":"VLOOKUP($M159,Funknavigation!$A$2:$AC$185,V$17,FALSE)","v":""},{"$f":"VLOOKUP($M159,Funknavigation!$A$2:$AC$185,W$17,FALSE)","v":"Ch 22x (*) "},{"$f":"VLOOKUP($M159,Funknavigation!$A$2:$AC$185,X$17,FALSE)","v":25},null,null,0.90076966294202943,0.15042294691238331,{"$f":"IF(AG159=1,MAX(MAX(AC$18:$AC158),MAX($AD$18:$AD$193))+1,\"-\")","v":{"$error":"#N/A"}},{"$f":"IF(AH159=1,MAX($AD$18:AD158)+1,\"-\")","v":{"$error":"#N/A"}},{"$error":"#N/A"},{"$error":"#N/A"},{"$error":"#N/A"},{"$error":"#N/A"},{"$error":"#N/A"},{"$error":"#N/A"},{"$error":"#N/A"},{"$error":"#N/A"},{"$error":"#N/A"},{"$error":"#N/A"},{"$error":"#N/A"},{"$error":"#N/A"},{"$error":"#N/A"},{"$error":"#N/A"},{"$error":"#N/A"},{"$error":"#N/A"},{"$error":"#N/A"},{"$error":"#N/A"},{"$error":"#N/A"},{"$error":"#N/A"},{"$error":"#N/A"},{"$error":"#N/A"},{"$error":"#N/A"},{"$error":"#N/A"},{"$error":"#N/A"},{"$error":"#N/A"},{"$error":"#N/A"},{"$error":"#N/A"},{"$error":"#N/A"},{"$error":"#N/A"},{"$error":"#N/A"},{"$error":"#N/A"},{"$error":"#N/A"},{"$error":"#N/A"},{"$error":"#N/A"},{"$error":"#N/A"},{"$error":"#N/A"},{"$error":"#N/A"},{"$error":"#N/A"},{"$error":"#N/A"},{"$error":"#N/A"},{"$error":"#N/A"},{"$error":"#N/A"},{"$error":"#N/A"},{"$error":"#N/A"},{"$error":"#N/A"},{"$error":"#N/A"},{"$error":"#N/A"},{"$error":"#N/A"},{"$error":"#N/A"},{"$error":"#N/A"},{"$error":"#N/A"},{"$error":"#N/A"},{"$error":"#N/A"},{"$error":"#N/A"},{"$error":"#N/A"},{"$error":"#N/A"},{"$error":"#N/A"},{"$error":"#N/A"},{"$error":"#N/A"},{"$error":"#N/A"},{"$error":"#N/A"},{"$error":"#N/A"},{"$error":"#N/A"},{"$error":"#N/A"},{"$error":"#N/A"},{"$error":"#N/A"},{"$error":"#N/A"},{"$error":"#N/A"},{"$error":"#N/A"},{"$error":"#N/A"},{"$error":"#N/A"},{"$error":"#N/A"},{"$error":"#N/A"},{"$error":"#N/A"},{"$error":"#N/A"},{"$error":"#N/A"},{"$error":"#N/A"},{"$error":"#N/A"},{"$error":"#N/A"},{"$error":"#N/A"},{"$error":"#N/A"},{"$error":"#N/A"},{"$error":"#N/A"},{"$error":"#N/A"},{"$error":"#N/A"},{"$error":"#N/A"},{"$error":"#N/A"},{"$error":"#N/A"},{"$error":"#N/A"},{"$error":"#N/A"},{"$error":"#N/A"},{"$error":"#N/A"},{"$error":"#N/A"},{"$error":"#N/A"},{"$error":"#N/A"},{"$error":"#N/A"},{"$error":"#N/A"},{"$error":"#N/A"},{"$error":"#N/A"},{"$error":"#N/A"},{"$error":"#N/A"},{"$error":"#N/A"},{"$error":"#N/A"},{"$error":"#N/A"},{"$error":"#N/A"}]
[null,null,null,null,null,null,null,null,null,null,null,{"$error":"#N/A"},143,{"$f":"VLOOKUP($M160,Funknavigation!$A$2:$AC$185,N$17,FALSE)","v":"Rheine-Bentlage "},{"$f":"VLOOKUP($M160,Funknavigation!$A$2:$AC$185,O$17,FALSE)","v":"NDB "},{"$f":"VLOOKUP($M160,Funknavigation!$A$2:$AC$185,P$17,FALSE)","v":"BET"},{"$f":"VLOOKUP($M160,Funknavigation!$A$2:$AC$185,Q$17,FALSE)","v":"− · · ·   ·   −"},{"$f":"VLOOKUP($M160,Funknavigation!$A$2:$AC$185,R$17,FALSE)","v":143},{"$f":"VLOOKUP($M160,Funknavigation!$A$2:$AC$185,S$17,FALSE)","v":52.287799999999997},{"$f":"VLOOKUP($M160,Funknavigation!$A$2:$AC$185,T$17,FALSE)","v":7.3856000000000002},{"$f":"VLOOKUP($M160,Funknavigation!$A$2:$AC$185,U$17,FALSE)","v":""},{"$f":"VLOOKUP($M160,Funknavigation!$A$2:$AC$185,V$17,FALSE)","v":401.5},{"$f":"VLOOKUP($M160,Funknavigation!$A$2:$AC$185,W$17,FALSE)","v":""},{"$f":"VLOOKUP($M160,Funknavigation!$A$2:$AC$185,X$17,FALSE)","v":25},null,null,0.91259426862429094,0.1289030372352932,{"$f":"IF(AG160=1,MAX(MAX(AC$18:$AC159),MAX($AD$18:$AD$193))+1,\"-\")","v":{"$error":"#N/A"}},{"$f":"IF(AH160=1,MAX($AD$18:AD159)+1,\"-\")","v":{"$error":"#N/A"}},{"$error":"#N/A"},{"$error":"#N/A"},{"$error":"#N/A"},{"$error":"#N/A"},{"$error":"#N/A"},{"$error":"#N/A"},{"$error":"#N/A"},{"$error":"#N/A"},{"$error":"#N/A"},{"$error":"#N/A"},{"$error":"#N/A"},{"$error":"#N/A"},{"$error":"#N/A"},{"$error":"#N/A"},{"$error":"#N/A"},{"$error":"#N/A"},{"$error":"#N/A"},{"$error":"#N/A"},{"$error":"#N/A"},{"$error":"#N/A"},{"$error":"#N/A"},{"$error":"#N/A"},{"$error":"#N/A"},{"$error":"#N/A"},{"$error":"#N/A"},{"$error":"#N/A"},{"$error":"#N/A"},{"$error":"#N/A"},{"$error":"#N/A"},{"$error":"#N/A"},{"$error":"#N/A"},{"$error":"#N/A"},{"$error":"#N/A"},{"$error":"#N/A"},{"$error":"#N/A"},{"$error":"#N/A"},{"$error":"#N/A"},{"$error":"#N/A"},{"$error":"#N/A"},{"$error":"#N/A"},{"$error":"#N/A"},{"$error":"#N/A"},{"$error":"#N/A"},{"$error":"#N/A"},{"$error":"#N/A"},{"$error":"#N/A"},{"$error":"#N/A"},{"$error":"#N/A"},{"$error":"#N/A"},{"$error":"#N/A"},{"$error":"#N/A"},{"$error":"#N/A"},{"$error":"#N/A"},{"$error":"#N/A"},{"$error":"#N/A"},{"$error":"#N/A"},{"$error":"#N/A"},{"$error":"#N/A"},{"$error":"#N/A"},{"$error":"#N/A"},{"$error":"#N/A"},{"$error":"#N/A"},{"$error":"#N/A"},{"$error":"#N/A"},{"$error":"#N/A"},{"$error":"#N/A"},{"$error":"#N/A"},{"$error":"#N/A"},{"$error":"#N/A"},{"$error":"#N/A"},{"$error":"#N/A"},{"$error":"#N/A"},{"$error":"#N/A"},{"$error":"#N/A"},{"$error":"#N/A"},{"$error":"#N/A"},{"$error":"#N/A"},{"$error":"#N/A"},{"$error":"#N/A"},{"$error":"#N/A"},{"$error":"#N/A"},{"$error":"#N/A"},{"$error":"#N/A"},{"$error":"#N/A"},{"$error":"#N/A"},{"$error":"#N/A"},{"$error":"#N/A"},{"$error":"#N/A"},{"$error":"#N/A"},{"$error":"#N/A"},{"$error":"#N/A"},{"$error":"#N/A"},{"$error":"#N/A"},{"$error":"#N/A"},{"$error":"#N/A"},{"$error":"#N/A"},{"$error":"#N/A"},{"$error":"#N/A"},{"$error":"#N/A"},{"$error":"#N/A"},{"$error":"#N/A"},{"$error":"#N/A"},{"$error":"#N/A"},{"$error":"#N/A"},{"$error":"#N/A"},{"$error":"#N/A"}]
[null,null,null,null,null,null,null,null,null,null,null,{"$error":"#N/A"},144,{"$f":"VLOOKUP($M161,Funknavigation!$A$2:$AC$185,N$17,FALSE)","v":"Ried "},{"$f":"VLOOKUP($M161,Funknavigation!$A$2:$AC$185,O$17,FALSE)","v":"DVOR/DME "},{"$f":"VLOOKUP($M161,Funknavigation!$A$2:$AC$185,P$17,FALSE)","v":"RID"},{"$f":"VLOOKUP($M161,Funknavigation!$A$2:$AC$185,Q$17,FALSE)","v":"· − ·   · ·   − · ·"},{"$f":"VLOOKUP($M161,Funknavigation!$A$2:$AC$185,R$17,FALSE)","v":144},{"$f":"VLOOKUP($M161,Funknavigation!$A$2:$AC$185,S$17,FALSE)","v":49.781700000000001},{"$f":"VLOOKUP($M161,Funknavigation!$A$2:$AC$185,T$17,FALSE)","v":8.5413999999999994},{"$f":"VLOOKUP($M161,Funknavigation!$A$2:$AC$185,U$17,FALSE)","v":"112.20"},{"$f":"VLOOKUP($M161,Funknavigation!$A$2:$AC$185,V$17,FALSE)","v":""},{"$f":"VLOOKUP($M161,Funknavigation!$A$2:$AC$185,W$17,FALSE)","v":"Ch 59x "},{"$f":"VLOOKUP($M161,Funknavigation!$A$2:$AC$185,X$17,FALSE)","v":40},null,null,0.86885457224006113,0.14907555272984366,{"$f":"IF(AG161=1,MAX(MAX(AC$18:$AC160),MAX($AD$18:$AD$193))+1,\"-\")","v":{"$error":"#N/A"}},{"$f":"IF(AH161=1,MAX($AD$18:AD160)+1,\"-\")","v":{"$error":"#N/A"}},{"$error":"#N/A"},{"$error":"#N/A"},{"$error":"#N/A"},{"$error":"#N/A"},{"$error":"#N/A"},{"$error":"#N/A"},{"$error":"#N/A"},{"$error":"#N/A"},{"$error":"#N/A"},{"$error":"#N/A"},{"$error":"#N/A"},{"$error":"#N/A"},{"$error":"#N/A"},{"$error":"#N/A"},{"$error":"#N/A"},{"$error":"#N/A"},{"$error":"#N/A"},{"$error":"#N/A"},{"$error":"#N/A"},{"$error":"#N/A"},{"$error":"#N/A"},{"$error":"#N/A"},{"$error":"#N/A"},{"$error":"#N/A"},{"$error":"#N/A"},{"$error":"#N/A"},{"$error":"#N/A"},{"$error":"#N/A"},{"$error":"#N/A"},{"$error":"#N/A"},{"$error":"#N/A"},{"$error":"#N/A"},{"$error":"#N/A"},{"$error":"#N/A"},{"$error":"#N/A"},{"$error":"#N/A"},{"$error":"#N/A"},{"$error":"#N/A"},{"$error":"#N/A"},{"$error":"#N/A"},{"$error":"#N/A"},{"$error":"#N/A"},{"$error":"#N/A"},{"$error":"#N/A"},{"$error":"#N/A"},{"$error":"#N/A"},{"$error":"#N/A"},{"$error":"#N/A"},{"$error":"#N/A"},{"$error":"#N/A"},{"$error":"#N/A"},{"$error":"#N/A"},{"$error":"#N/A"},{"$error":"#N/A"},{"$error":"#N/A"},{"$error":"#N/A"},{"$error":"#N/A"},{"$error":"#N/A"},{"$error":"#N/A"},{"$error":"#N/A"},{"$error":"#N/A"},{"$error":"#N/A"},{"$error":"#N/A"},{"$error":"#N/A"},{"$error":"#N/A"},{"$error":"#N/A"},{"$error":"#N/A"},{"$error":"#N/A"},{"$error":"#N/A"},{"$error":"#N/A"},{"$error":"#N/A"},{"$error":"#N/A"},{"$error":"#N/A"},{"$error":"#N/A"},{"$error":"#N/A"},{"$error":"#N/A"},{"$error":"#N/A"},{"$error":"#N/A"},{"$error":"#N/A"},{"$error":"#N/A"},{"$error":"#N/A"},{"$error":"#N/A"},{"$error":"#N/A"},{"$error":"#N/A"},{"$error":"#N/A"},{"$error":"#N/A"},{"$error":"#N/A"},{"$error":"#N/A"},{"$error":"#N/A"},{"$error":"#N/A"},{"$error":"#N/A"},{"$error":"#N/A"},{"$error":"#N/A"},{"$error":"#N/A"},{"$error":"#N/A"},{"$error":"#N/A"},{"$error":"#N/A"},{"$error":"#N/A"},{"$error":"#N/A"},{"$error":"#N/A"},{"$error":"#N/A"},{"$error":"#N/A"},{"$error":"#N/A"},{"$error":"#N/A"},{"$error":"#N/A"},{"$error":"#N/A"}]
[null,null,null,null,null,null,null,null,null,null,null,{"$error":"#N/A"},145,{"$f":"VLOOKUP($M162,Funknavigation!$A$2:$AC$185,N$17,FALSE)","v":"Roding "},{"$f":"VLOOKUP($M162,Funknavigation!$A$2:$AC$185,O$17,FALSE)","v":"DVOR/DME "},{"$f":"VLOOKUP($M162,Funknavigation!$A$2:$AC$185,P$17,FALSE)","v":"RDG"},{"$f":"VLOOKUP($M162,Funknavigation!$A$2:$AC$185,Q$17,FALSE)","v":"· − ·   − · ·   − − ·"},{"$f":"VLOOKUP($M162,Funknavigation!$A$2:$AC$185,R$17,FALSE)","v":145},{"$f":"VLOOKUP($M162,Funknavigation!$A$2:$AC$185,S$17,FALSE)","v":49.040300000000002},{"$f":"VLOOKUP($M162,Funknavigation!$A$2:$AC$185,T$17,FALSE)","v":12.5267},{"$f":"VLOOKUP($M162,Funknavigation!$A$2:$AC$185,U$17,FALSE)","v":"114.70"},{"$f":"VLOOKUP($M162,Funknavigation!$A$2:$AC$185,V$17,FALSE)","v":""},{"$f":"VLOOKUP($M162,Funknavigation!$A$2:$AC$185,W$17,FALSE)","v":"Ch 94x "},{"$f":"VLOOKUP($M162,Funknavigation!$A$2:$AC$185,X$17,FALSE)","v":60},null,null,0.85591470116577517,0.21863215940957367,{"$f":"IF(AG162=1,MAX(MAX(AC$18:$AC161),MAX($AD$18:$AD$193))+1,\"-\")","v":{"$error":"#N/A"}},{"$f":"IF(AH162=1,MAX($AD$18:AD161)+1,\"-\")","v":{"$error":"#N/A"}},{"$error":"#N/A"},{"$error":"#N/A"},{"$error":"#N/A"},{"$error":"#N/A"},{"$error":"#N/A"},{"$error":"#N/A"},{"$error":"#N/A"},{"$error":"#N/A"},{"$error":"#N/A"},{"$error":"#N/A"},{"$error":"#N/A"},{"$error":"#N/A"},{"$error":"#N/A"},{"$error":"#N/A"},{"$error":"#N/A"},{"$error":"#N/A"},{"$error":"#N/A"},{"$error":"#N/A"},{"$error":"#N/A"},{"$error":"#N/A"},{"$error":"#N/A"},{"$error":"#N/A"},{"$error":"#N/A"},{"$error":"#N/A"},{"$error":"#N/A"},{"$error":"#N/A"},{"$error":"#N/A"},{"$error":"#N/A"},{"$error":"#N/A"},{"$error":"#N/A"},{"$error":"#N/A"},{"$error":"#N/A"},{"$error":"#N/A"},{"$error":"#N/A"},{"$error":"#N/A"},{"$error":"#N/A"},{"$error":"#N/A"},{"$error":"#N/A"},{"$error":"#N/A"},{"$error":"#N/A"},{"$error":"#N/A"},{"$error":"#N/A"},{"$error":"#N/A"},{"$error":"#N/A"},{"$error":"#N/A"},{"$error":"#N/A"},{"$error":"#N/A"},{"$error":"#N/A"},{"$error":"#N/A"},{"$error":"#N/A"},{"$error":"#N/A"},{"$error":"#N/A"},{"$error":"#N/A"},{"$error":"#N/A"},{"$error":"#N/A"},{"$error":"#N/A"},{"$error":"#N/A"},{"$error":"#N/A"},{"$error":"#N/A"},{"$error":"#N/A"},{"$error":"#N/A"},{"$error":"#N/A"},{"$error":"#N/A"},{"$error":"#N/A"},{"$error":"#N/A"},{"$error":"#N/A"},{"$error":"#N/A"},{"$error":"#N/A"},{"$error":"#N/A"},{"$error":"#N/A"},{"$error":"#N/A"},{"$error":"#N/A"},{"$error":"#N/A"},{"$error":"#N/A"},{"$error":"#N/A"},{"$error":"#N/A"},{"$error":"#N/A"},{"$error":"#N/A"},{"$error":"#N/A"},{"$error":"#N/A"},{"$error":"#N/A"},{"$error":"#N/A"},{"$error":"#N/A"},{"$error":"#N/A"},{"$error":"#N/A"},{"$error":"#N/A"},{"$f":"IF(DM$3=\"OK\",(21600/(2*PI()))*ACOS(SIN($AA162)*SIN(DM$6)+COS(DM$6)*COS($AA162)*COS($AB162-DM$7)),\"-\")","v":{"$error":"#N/A"}},{"$error":"#N/A"},{"$error":"#N/A"},{"$error":"#N/A"},{"$error":"#N/A"},{"$error":"#N/A"},{"$error":"#N/A"},{"$error":"#N/A"},{"$error":"#N/A"},{"$error":"#N/A"},{"$error":"#N/A"},{"$error":"#N/A"},{"$error":"#N/A"},{"$error":"#N/A"},{"$error":"#N/A"},{"$error":"#N/A"},{"$error":"#N/A"},{"$error":"#N/A"},{"$error":"#N/A"},{"$error":"#N/A"}]
[null,null,null,null,null,null,null,null,null,null,null,{"$error":"#N/A"},146,{"$f":"VLOOKUP($M163,Funknavigation!$A$2:$AC$185,N$17,FALSE)","v":"Roethenbach "},{"$f":"VLOOKUP($M163,Funknavigation!$A$2:$AC$185,O$17,FALSE)","v":"NDB "},{"$f":"VLOOKUP($M163,Funknavigation!$A$2:$AC$185,P$17,FALSE)","v":"RTB"},{"$f":"VLOOKUP($M163,Funknavigation!$A$2:$AC$185,Q$17,FALSE)","v":"· − ·   −   − · · ·"},{"$f":"VLOOKUP($M163,Funknavigation!$A$2:$AC$185,R$17,FALSE)","v":146},{"$f":"VLOOKUP($M163,Funknavigation!$A$2:$AC$185,S$17,FALSE)","v":49.482799999999997},{"$f":"VLOOKUP($M163,Funknavigation!$A$2:$AC$185,T$17,FALSE)","v":11.252800000000001},{"$f":"VLOOKUP($M163,Funknavigation!$A$2:$AC$185,U$17,FALSE)","v":""},{"$f":"VLOOKUP($M163,Funknavigation!$A$2:$AC$185,V$17,FALSE)","v":415},{"$f":"VLOOKUP($M163,Funknavigation!$A$2:$AC$185,W$17,FALSE)","v":""},{"$f":"VLOOKUP($M163,Funknavigation!$A$2:$AC$185,X$17,FALSE)","v":10},null,null,0.86363778310585004,0.19639841006841791,{"$f":"IF(AG163=1,MAX(MAX(AC$18:$AC162),MAX($AD$18:$AD$193))+1,\"-\")","v":{"$error":"#N/A"}},{"$f":"IF(AH163=1,MAX($AD$18:AD162)+1,\"-\")","v":{"$error":"#N/A"}},{"$error":"#N/A"},{"$error":"#N/A"},{"$error":"#N/A"},{"$error":"#N/A"},{"$error":"#N/A"},{"$error":"#N/A"},{"$error":"#N/A"},{"$error":"#N/A"},{"$error":"#N/A"},{"$error":"#N/A"},{"$error":"#N/A"},{"$error":"#N/A"},{"$error":"#N/A"},{"$error":"#N/A"},{"$error":"#N/A"},{"$error":"#N/A"},{"$error":"#N/A"},{"$error":"#N/A"},{"$error":"#N/A"},{"$error":"#N/A"},{"$error":"#N/A"},{"$error":"#N/A"},{"$error":"#N/A"},{"$error":"#N/A"},{"$error":"#N/A"},{"$error":"#N/A"},{"$error":"#N/A"},{"$error":"#N/A"},{"$error":"#N/A"},{"$error":"#N/A"},{"$error":"#N/A"},{"$error":"#N/A"},{"$error":"#N/A"},{"$error":"#N/A"},{"$error":"#N/A"},{"$error":"#N/A"},{"$error":"#N/A"},{"$error":"#N/A"},{"$error":"#N/A"},{"$error":"#N/A"},{"$error":"#N/A"},{"$error":"#N/A"},{"$error":"#N/A"},{"$error":"#N/A"},{"$error":"#N/A"},{"$error":"#N/A"},{"$error":"#N/A"},{"$error":"#N/A"},{"$error":"#N/A"},{"$error":"#N/A"},{"$error":"#N/A"},{"$error":"#N/A"},{"$error":"#N/A"},{"$error":"#N/A"},{"$error":"#N/A"},{"$error":"#N/A"},{"$error":"#N/A"},{"$error":"#N/A"},{"$error":"#N/A"},{"$error":"#N/A"},{"$error":"#N/A"},{"$error":"#N/A"},{"$error":"#N/A"},{"$error":"#N/A"},{"$error":"#N/A"},{"$error":"#N/A"},{"$error":"#N/A"},{"$error":"#N/A"},{"$error":"#N/A"},{"$error":"#N/A"},{"$error":"#N/A"},{"$error":"#N/A"},{"$error":"#N/A"},{"$error":"#N/A"},{"$error":"#N/A"},{"$error":"#N/A"},{"$error":"#N/A"},{"$error":"#N/A"},{"$error":"#N/A"},{"$error":"#N/A"},{"$f":"IF(DG$3=\"OK\",(21600/(2*PI()))*ACOS(SIN($AA163)*SIN(DG$6)+COS(DG$6)*COS($AA163)*COS($AB163-DG$7)),\"-\")","v":{"$error":"#N/A"}},{"$error":"#N/A"},{"$error":"#N/A"},{"$error":"#N/A"},{"$error":"#N/A"},{"$error":"#N/A"},{"$error":"#N/A"},{"$error":"#N/A"},{"$error":"#N/A"},{"$error":"#N/A"},{"$error":"#N/A"},{"$error":"#N/A"},{"$error":"#N/A"},{"$error":"#N/A"},{"$error":"#N/A"},{"$error":"#N/A"},{"$error":"#N/A"},{"$error":"#N/A"},{"$error":"#N/A"},{"$error":"#N/A"},{"$error":"#N/A"},{"$error":"#N/A"},{"$error":"#N/A"},{"$error":"#N/A"},{"$error":"#N/A"},{"$error":"#N/A"}]
[null,null,null,null,null,null,null,null,null,null,null,{"$error":"#N/A"},147,{"$f":"VLOOKUP($M164,Funknavigation!$A$2:$AC$185,N$17,FALSE)","v":"Saarbruecken "},{"$f":"VLOOKUP($M164,Funknavigation!$A$2:$AC$185,O$17,FALSE)","v":"NDB "},{"$f":"VLOOKUP($M164,Funknavigation!$A$2:$AC$185,P$17,FALSE)","v":"SBN"},{"$f":"VLOOKUP($M164,Funknavigation!$A$2:$AC$185,Q$17,FALSE)","v":"· · ·   − · · ·   − ·"},{"$f":"VLOOKUP($M164,Funknavigation!$A$2:$AC$185,R$17,FALSE)","v":147},{"$f":"VLOOKUP($M164,Funknavigation!$A$2:$AC$185,S$17,FALSE)","v":49.218899999999998},{"$f":"VLOOKUP($M164,Funknavigation!$A$2:$AC$185,T$17,FALSE)","v":7.1182999999999996},{"$f":"VLOOKUP($M164,Funknavigation!$A$2:$AC$185,U$17,FALSE)","v":""},{"$f":"VLOOKUP($M164,Funknavigation!$A$2:$AC$185,V$17,FALSE)","v":343},{"$f":"VLOOKUP($M164,Funknavigation!$A$2:$AC$185,W$17,FALSE)","v":""},{"$f":"VLOOKUP($M164,Funknavigation!$A$2:$AC$185,X$17,FALSE)","v":34},null,null,0.85903185920983705,0.12423777214471235,{"$f":"IF(AG164=1,MAX(MAX(AC$18:$AC163),MAX($AD$18:$AD$193))+1,\"-\")","v":{"$error":"#N/A"}},{"$f":"IF(AH164=1,MAX($AD$18:AD163)+1,\"-\")","v":{"$error":"#N/A"}},{"$error":"#N/A"},{"$error":"#N/A"},{"$error":"#N/A"},{"$error":"#N/A"},{"$error":"#N/A"},{"$error":"#N/A"},{"$error":"#N/A"},{"$error":"#N/A"},{"$error":"#N/A"},{"$error":"#N/A"},{"$error":"#N/A"},{"$error":"#N/A"},{"$error":"#N/A"},{"$error":"#N/A"},{"$error":"#N/A"},{"$error":"#N/A"},{"$error":"#N/A"},{"$error":"#N/A"},{"$error":"#N/A"},{"$error":"#N/A"},{"$error":"#N/A"},{"$error":"#N/A"},{"$error":"#N/A"},{"$error":"#N/A"},{"$error":"#N/A"},{"$error":"#N/A"},{"$error":"#N/A"},{"$error":"#N/A"},{"$error":"#N/A"},{"$error":"#N/A"},{"$error":"#N/A"},{"$error":"#N/A"},{"$error":"#N/A"},{"$error":"#N/A"},{"$error":"#N/A"},{"$error":"#N/A"},{"$error":"#N/A"},{"$error":"#N/A"},{"$error":"#N/A"},{"$error":"#N/A"},{"$error":"#N/A"},{"$error":"#N/A"},{"$error":"#N/A"},{"$error":"#N/A"},{"$error":"#N/A"},{"$error":"#N/A"},{"$error":"#N/A"},{"$error":"#N/A"},{"$error":"#N/A"},{"$error":"#N/A"},{"$error":"#N/A"},{"$error":"#N/A"},{"$error":"#N/A"},{"$error":"#N/A"},{"$error":"#N/A"},{"$error":"#N/A"},{"$error":"#N/A"},{"$error":"#N/A"},{"$error":"#N/A"},{"$error":"#N/A"},{"$error":"#N/A"},{"$error":"#N/A"},{"$error":"#N/A"},{"$error":"#N/A"},{"$error":"#N/A"},{"$error":"#N/A"},{"$error":"#N/A"},{"$error":"#N/A"},{"$error":"#N/A"},{"$error":"#N/A"},{"$error":"#N/A"},{"$error":"#N/A"},{"$error":"#N/A"},{"$error":"#N/A"},{"$error":"#N/A"},{"$error":"#N/A"},{"$error":"#N/A"},{"$error":"#N/A"},{"$error":"#N/A"},{"$error":"#N/A"},{"$error":"#N/A"},{"$error":"#N/A"},{"$error":"#N/A"},{"$error":"#N/A"},{"$error":"#N/A"},{"$error":"#N/A"},{"$error":"#N/A"},{"$error":"#N/A"},{"$error":"#N/A"},{"$error":"#N/A"},{"$error":"#N/A"},{"$error":"#N/A"},{"$error":"#N/A"},{"$error":"#N/A"},{"$error":"#N/A"},{"$error":"#N/A"},{"$error":"#N/A"},{"$error":"#N/A"},{"$error":"#N/A"},{"$error":"#N/A"},{"$error":"#N/A"},{"$error":"#N/A"},{"$error":"#N/A"},{"$error":"#N/A"},{"$error":"#N/A"},{"$error":"#N/A"}]
[null,null,null,null,null,null,null,null,null,null,null,{"$error":"#N/A"},148,{"$f":"VLOOKUP($M165,Funknavigation!$A$2:$AC$185,N$17,FALSE)","v":"Saarbruecken"},{"$f":"VLOOKUP($M165,Funknavigation!$A$2:$AC$185,O$17,FALSE)","v":"DME "},{"$f":"VLOOKUP($M165,Funknavigation!$A$2:$AC$185,P$17,FALSE)","v":"SAD"},{"$f":"VLOOKUP($M165,Funknavigation!$A$2:$AC$185,Q$17,FALSE)","v":"· · ·   · −   − · ·"},{"$f":"VLOOKUP($M165,Funknavigation!$A$2:$AC$185,R$17,FALSE)","v":148},{"$f":"VLOOKUP($M165,Funknavigation!$A$2:$AC$185,S$17,FALSE)","v":49.212499999999999},{"$f":"VLOOKUP($M165,Funknavigation!$A$2:$AC$185,T$17,FALSE)","v":7.1161000000000003},{"$f":"VLOOKUP($M165,Funknavigation!$A$2:$AC$185,U$17,FALSE)","v":"116.75"},{"$f":"VLOOKUP($M165,Funknavigation!$A$2:$AC$185,V$17,FALSE)","v":""},{"$f":"VLOOKUP($M165,Funknavigation!$A$2:$AC$185,W$17,FALSE)","v":"Ch 114y (*) "},{"$f":"VLOOKUP($M165,Funknavigation!$A$2:$AC$185,X$17,FALSE)","v":25},null,null,0.85892015813770939,0.12419937490116849,{"$f":"IF(AG165=1,MAX(MAX(AC$18:$AC164),MAX($AD$18:$AD$193))+1,\"-\")","v":{"$error":"#N/A"}},{"$f":"IF(AH165=1,MAX($AD$18:AD164)+1,\"-\")","v":{"$error":"#N/A"}},{"$error":"#N/A"},{"$error":"#N/A"},{"$error":"#N/A"},{"$error":"#N/A"},{"$error":"#N/A"},{"$error":"#N/A"},{"$error":"#N/A"},{"$error":"#N/A"},{"$error":"#N/A"},{"$error":"#N/A"},{"$error":"#N/A"},{"$error":"#N/A"},{"$error":"#N/A"},{"$error":"#N/A"},{"$error":"#N/A"},{"$error":"#N/A"},{"$error":"#N/A"},{"$error":"#N/A"},{"$error":"#N/A"},{"$error":"#N/A"},{"$error":"#N/A"},{"$error":"#N/A"},{"$error":"#N/A"},{"$error":"#N/A"},{"$error":"#N/A"},{"$error":"#N/A"},{"$error":"#N/A"},{"$error":"#N/A"},{"$error":"#N/A"},{"$error":"#N/A"},{"$error":"#N/A"},{"$error":"#N/A"},{"$error":"#N/A"},{"$error":"#N/A"},{"$error":"#N/A"},{"$error":"#N/A"},{"$error":"#N/A"},{"$error":"#N/A"},{"$error":"#N/A"},{"$error":"#N/A"},{"$error":"#N/A"},{"$error":"#N/A"},{"$error":"#N/A"},{"$error":"#N/A"},{"$error":"#N/A"},{"$error":"#N/A"},{"$error":"#N/A"},{"$error":"#N/A"},{"$error":"#N/A"},{"$error":"#N/A"},{"$error":"#N/A"},{"$error":"#N/A"},{"$error":"#N/A"},{"$error":"#N/A"},{"$error":"#N/A"},{"$error":"#N/A"},{"$error":"#N/A"},{"$error":"#N/A"},{"$error":"#N/A"},{"$error":"#N/A"},{"$error":"#N/A"},{"$error":"#N/A"},{"$error":"#N/A"},{"$error":"#N/A"},{"$error":"#N/A"},{"$error":"#N/A"},{"$error":"#N/A"},{"$error":"#N/A"},{"$error":"#N/A"},{"$error":"#N/A"},{"$error":"#N/A"},{"$error":"#N/A"},{"$error":"#N/A"},{"$error":"#N/A"},{"$error":"#N/A"},{"$error":"#N/A"},{"$error":"#N/A"},{"$error":"#N/A"},{"$error":"#N/A"},{"$error":"#N/A"},{"$error":"#N/A"},{"$error":"#N/A"},{"$error":"#N/A"},{"$error":"#N/A"},{"$error":"#N/A"},{"$error":"#N/A"},{"$error":"#N/A"},{"$error":"#N/A"},{"$error":"#N/A"},{"$error":"#N/A"},{"$error":"#N/A"},{"$error":"#N/A"},{"$error":"#N/A"},{"$error":"#N/A"},{"$error":"#N/A"},{"$error":"#N/A"},{"$error":"#N/A"},{"$error":"#N/A"},{"$error":"#N/A"},{"$error":"#N/A"},{"$error":"#N/A"},{"$error":"#N/A"},{"$error":"#N/A"},{"$error":"#N/A"},{"$error":"#N/A"},{"$error":"#N/A"}]
[null,null,null,null,null,null,null,null,null,null,null,{"$error":"#N/A"},149,{"$f":"VLOOKUP($M166,Funknavigation!$A$2:$AC$185,N$17,FALSE)","v":"Saarbruecken"},{"$f":"VLOOKUP($M166,Funknavigation!$A$2:$AC$185,O$17,FALSE)","v":"LO "},{"$f":"VLOOKUP($M166,Funknavigation!$A$2:$AC$185,P$17,FALSE)","v":"SR"},{"$f":"VLOOKUP($M166,Funknavigation!$A$2:$AC$185,Q$17,FALSE)","v":"· · ·   · − ·"},{"$f":"VLOOKUP($M166,Funknavigation!$A$2:$AC$185,R$17,FALSE)","v":149},{"$f":"VLOOKUP($M166,Funknavigation!$A$2:$AC$185,S$17,FALSE)","v":49.217799999999997},{"$f":"VLOOKUP($M166,Funknavigation!$A$2:$AC$185,T$17,FALSE)","v":7.2194000000000003},{"$f":"VLOOKUP($M166,Funknavigation!$A$2:$AC$185,U$17,FALSE)","v":""},{"$f":"VLOOKUP($M166,Funknavigation!$A$2:$AC$185,V$17,FALSE)","v":360},{"$f":"VLOOKUP($M166,Funknavigation!$A$2:$AC$185,W$17,FALSE)","v":""},{"$f":"VLOOKUP($M166,Funknavigation!$A$2:$AC$185,X$17,FALSE)","v":10},null,null,0.85901266058806514,0.12600230001847862,{"$f":"IF(AG166=1,MAX(MAX(AC$18:$AC165),MAX($AD$18:$AD$193))+1,\"-\")","v":{"$error":"#N/A"}},{"$f":"IF(AH166=1,MAX($AD$18:AD165)+1,\"-\")","v":{"$error":"#N/A"}},{"$error":"#N/A"},{"$error":"#N/A"},{"$error":"#N/A"},{"$error":"#N/A"},{"$error":"#N/A"},{"$error":"#N/A"},{"$error":"#N/A"},{"$error":"#N/A"},{"$error":"#N/A"},{"$error":"#N/A"},{"$error":"#N/A"},{"$error":"#N/A"},{"$error":"#N/A"},{"$error":"#N/A"},{"$error":"#N/A"},{"$error":"#N/A"},{"$error":"#N/A"},{"$error":"#N/A"},{"$error":"#N/A"},{"$error":"#N/A"},{"$error":"#N/A"},{"$error":"#N/A"},{"$error":"#N/A"},{"$error":"#N/A"},{"$error":"#N/A"},{"$error":"#N/A"},{"$error":"#N/A"},{"$error":"#N/A"},{"$error":"#N/A"},{"$error":"#N/A"},{"$error":"#N/A"},{"$error":"#N/A"},{"$error":"#N/A"},{"$error":"#N/A"},{"$error":"#N/A"},{"$error":"#N/A"},{"$error":"#N/A"},{"$error":"#N/A"},{"$error":"#N/A"},{"$error":"#N/A"},{"$error":"#N/A"},{"$error":"#N/A"},{"$error":"#N/A"},{"$error":"#N/A"},{"$error":"#N/A"},{"$error":"#N/A"},{"$error":"#N/A"},{"$error":"#N/A"},{"$error":"#N/A"},{"$error":"#N/A"},{"$error":"#N/A"},{"$error":"#N/A"},{"$error":"#N/A"},{"$error":"#N/A"},{"$error":"#N/A"},{"$error":"#N/A"},{"$error":"#N/A"},{"$error":"#N/A"},{"$error":"#N/A"},{"$error":"#N/A"},{"$error":"#N/A"},{"$error":"#N/A"},{"$error":"#N/A"},{"$error":"#N/A"},{"$error":"#N/A"},{"$error":"#N/A"},{"$error":"#N/A"},{"$error":"#N/A"},{"$error":"#N/A"},{"$error":"#N/A"},{"$error":"#N/A"},{"$error":"#N/A"},{"$error":"#N/A"},{"$error":"#N/A"},{"$error":"#N/A"},{"$error":"#N/A"},{"$error":"#N/A"},{"$error":"#N/A"},{"$error":"#N/A"},{"$error":"#N/A"},{"$error":"#N/A"},{"$error":"#N/A"},{"$error":"#N/A"},{"$error":"#N/A"},{"$error":"#N/A"},{"$error":"#N/A"},{"$error":"#N/A"},{"$error":"#N/A"},{"$error":"#N/A"},{"$error":"#N/A"},{"$error":"#N/A"},{"$error":"#N/A"},{"$error":"#N/A"},{"$error":"#N/A"},{"$error":"#N/A"},{"$error":"#N/A"},{"$error":"#N/A"},{"$error":"#N/A"},{"$error":"#N/A"},{"$error":"#N/A"},{"$error":"#N/A"},{"$error":"#N/A"},{"$error":"#N/A"},{"$error":"#N/A"},{"$error":"#N/A"},{"$error":"#N/A"}]
[null,null,null,null,null,null,null,null,null,null,null,{"$error":"#N/A"},150,{"$f":"VLOOKUP($M167,Funknavigation!$A$2:$AC$185,N$17,FALSE)","v":"Schkeuditz "},{"$f":"VLOOKUP($M167,Funknavigation!$A$2:$AC$185,O$17,FALSE)","v":"NDB "},{"$f":"VLOOKUP($M167,Funknavigation!$A$2:$AC$185,P$17,FALSE)","v":"SKZ"},{"$f":"VLOOKUP($M167,Funknavigation!$A$2:$AC$185,Q$17,FALSE)","v":"· · ·   − · −   − − · ·"},{"$f":"VLOOKUP($M167,Funknavigation!$A$2:$AC$185,R$17,FALSE)","v":150},{"$f":"VLOOKUP($M167,Funknavigation!$A$2:$AC$185,S$17,FALSE)","v":51.414999999999999},{"$f":"VLOOKUP($M167,Funknavigation!$A$2:$AC$185,T$17,FALSE)","v":12.2714},{"$f":"VLOOKUP($M167,Funknavigation!$A$2:$AC$185,U$17,FALSE)","v":""},{"$f":"VLOOKUP($M167,Funknavigation!$A$2:$AC$185,V$17,FALSE)","v":357},{"$f":"VLOOKUP($M167,Funknavigation!$A$2:$AC$185,W$17,FALSE)","v":""},{"$f":"VLOOKUP($M167,Funknavigation!$A$2:$AC$185,X$17,FALSE)","v":15},null,null,0.89736103491288444,0.21417633382923212,{"$f":"IF(AG167=1,MAX(MAX(AC$18:$AC166),MAX($AD$18:$AD$193))+1,\"-\")","v":{"$error":"#N/A"}},{"$f":"IF(AH167=1,MAX($AD$18:AD166)+1,\"-\")","v":{"$error":"#N/A"}},{"$error":"#N/A"},{"$error":"#N/A"},{"$error":"#N/A"},{"$error":"#N/A"},{"$error":"#N/A"},{"$error":"#N/A"},{"$error":"#N/A"},{"$error":"#N/A"},{"$error":"#N/A"},{"$error":"#N/A"},{"$error":"#N/A"},{"$error":"#N/A"},{"$error":"#N/A"},{"$error":"#N/A"},{"$error":"#N/A"},{"$error":"#N/A"},{"$error":"#N/A"},{"$error":"#N/A"},{"$error":"#N/A"},{"$error":"#N/A"},{"$error":"#N/A"},{"$error":"#N/A"},{"$error":"#N/A"},{"$error":"#N/A"},{"$error":"#N/A"},{"$error":"#N/A"},{"$error":"#N/A"},{"$error":"#N/A"},{"$error":"#N/A"},{"$error":"#N/A"},{"$error":"#N/A"},{"$error":"#N/A"},{"$error":"#N/A"},{"$error":"#N/A"},{"$error":"#N/A"},{"$error":"#N/A"},{"$error":"#N/A"},{"$error":"#N/A"},{"$error":"#N/A"},{"$error":"#N/A"},{"$error":"#N/A"},{"$error":"#N/A"},{"$error":"#N/A"},{"$error":"#N/A"},{"$error":"#N/A"},{"$error":"#N/A"},{"$error":"#N/A"},{"$error":"#N/A"},{"$error":"#N/A"},{"$error":"#N/A"},{"$error":"#N/A"},{"$error":"#N/A"},{"$error":"#N/A"},{"$error":"#N/A"},{"$error":"#N/A"},{"$error":"#N/A"},{"$error":"#N/A"},{"$error":"#N/A"},{"$error":"#N/A"},{"$error":"#N/A"},{"$error":"#N/A"},{"$error":"#N/A"},{"$error":"#N/A"},{"$error":"#N/A"},{"$error":"#N/A"},{"$error":"#N/A"},{"$error":"#N/A"},{"$error":"#N/A"},{"$error":"#N/A"},{"$error":"#N/A"},{"$error":"#N/A"},{"$error":"#N/A"},{"$error":"#N/A"},{"$error":"#N/A"},{"$error":"#N/A"},{"$error":"#N/A"},{"$error":"#N/A"},{"$error":"#N/A"},{"$error":"#N/A"},{"$error":"#N/A"},{"$error":"#N/A"},{"$error":"#N/A"},{"$error":"#N/A"},{"$error":"#N/A"},{"$error":"#N/A"},{"$error":"#N/A"},{"$error":"#N/A"},{"$error":"#N/A"},{"$error":"#N/A"},{"$error":"#N/A"},{"$error":"#N/A"},{"$error":"#N/A"},{"$error":"#N/A"},{"$error":"#N/A"},{"$error":"#N/A"},{"$error":"#N/A"},{"$error":"#N/A"},{"$error":"#N/A"},{"$error":"#N/A"},{"$error":"#N/A"},{"$error":"#N/A"},{"$error":"#N/A"},{"$error":"#N/A"},{"$error":"#N/A"},{"$error":"#N/A"},{"$error":"#N/A"}]
[null,null,null,null,null,null,null,null,null,null,null,{"$error":"#N/A"},151,{"$f":"VLOOKUP($M168,Funknavigation!$A$2:$AC$185,N$17,FALSE)","v":"Schkeuditz Nord "},{"$f":"VLOOKUP($M168,Funknavigation!$A$2:$AC$185,O$17,FALSE)","v":"DME "},{"$f":"VLOOKUP($M168,Funknavigation!$A$2:$AC$185,P$17,FALSE)","v":"LND"},{"$f":"VLOOKUP($M168,Funknavigation!$A$2:$AC$185,Q$17,FALSE)","v":"· − · ·   − ·   − · ·"},{"$f":"VLOOKUP($M168,Funknavigation!$A$2:$AC$185,R$17,FALSE)","v":151},{"$f":"VLOOKUP($M168,Funknavigation!$A$2:$AC$185,S$17,FALSE)","v":51.434399999999997},{"$f":"VLOOKUP($M168,Funknavigation!$A$2:$AC$185,T$17,FALSE)","v":12.2258},{"$f":"VLOOKUP($M168,Funknavigation!$A$2:$AC$185,U$17,FALSE)","v":"113.50"},{"$f":"VLOOKUP($M168,Funknavigation!$A$2:$AC$185,V$17,FALSE)","v":""},{"$f":"VLOOKUP($M168,Funknavigation!$A$2:$AC$185,W$17,FALSE)","v":"Ch 82x (*) "},{"$f":"VLOOKUP($M168,Funknavigation!$A$2:$AC$185,X$17,FALSE)","v":25},null,null,0.89769962878777143,0.21338046369032274,{"$f":"IF(AG168=1,MAX(MAX(AC$18:$AC167),MAX($AD$18:$AD$193))+1,\"-\")","v":{"$error":"#N/A"}},{"$f":"IF(AH168=1,MAX($AD$18:AD167)+1,\"-\")","v":{"$error":"#N/A"}},{"$error":"#N/A"},{"$error":"#N/A"},{"$error":"#N/A"},{"$error":"#N/A"},{"$error":"#N/A"},{"$error":"#N/A"},{"$error":"#N/A"},{"$f":"IF(AL$3=\"OK\",(21600/(2*PI()))*ACOS(SIN($AA168)*SIN(AL$6)+COS(AL$6)*COS($AA168)*COS($AB168-AL$7)),\"-\")","v":{"$error":"#N/A"}},{"$error":"#N/A"},{"$error":"#N/A"},{"$error":"#N/A"},{"$error":"#N/A"},{"$error":"#N/A"},{"$error":"#N/A"},{"$error":"#N/A"},{"$error":"#N/A"},{"$error":"#N/A"},{"$f":"IF(AV$3=\"OK\",(21600/(2*PI()))*ACOS(SIN($AA168)*SIN(AV$6)+COS(AV$6)*COS($AA168)*COS($AB168-AV$7)),\"-\")","v":{"$error":"#N/A"}},{"$error":"#N/A"},{"$error":"#N/A"},{"$error":"#N/A"},{"$error":"#N/A"},{"$error":"#N/A"},{"$error":"#N/A"},{"$error":"#N/A"},{"$error":"#N/A"},{"$error":"#N/A"},{"$f":"IF(BF$3=\"OK\",(21600/(2*PI()))*ACOS(SIN($AA168)*SIN(BF$6)+COS(BF$6)*COS($AA168)*COS($AB168-BF$7)),\"-\")","v":{"$error":"#N/A"}},{"$error":"#N/A"},{"$error":"#N/A"},{"$error":"#N/A"},{"$error":"#N/A"},{"$error":"#N/A"},{"$error":"#N/A"},{"$error":"#N/A"},{"$error":"#N/A"},{"$error":"#N/A"},{"$f":"IF(BP$3=\"OK\",(21600/(2*PI()))*ACOS(SIN($AA168)*SIN(BP$6)+COS(BP$6)*COS($AA168)*COS($AB168-BP$7)),\"-\")","v":{"$error":"#N/A"}},{"$error":"#N/A"},{"$error":"#N/A"},{"$error":"#N/A"},{"$error":"#N/A"},{"$error":"#N/A"},{"$error":"#N/A"},{"$error":"#N/A"},{"$error":"#N/A"},{"$error":"#N/A"},{"$f":"IF(BZ$3=\"OK\",(21600/(2*PI()))*ACOS(SIN($AA168)*SIN(BZ$6)+COS(BZ$6)*COS($AA168)*COS($AB168-BZ$7)),\"-\")","v":{"$error":"#N/A"}},{"$error":"#N/A"},{"$error":"#N/A"},{"$error":"#N/A"},{"$error":"#N/A"},{"$error":"#N/A"},{"$error":"#N/A"},{"$error":"#N/A"},{"$error":"#N/A"},{"$error":"#N/A"},{"$f":"IF(CJ$3=\"OK\",(21600/(2*PI()))*ACOS(SIN($AA168)*SIN(CJ$6)+COS(CJ$6)*COS($AA168)*COS($AB168-CJ$7)),\"-\")","v":{"$error":"#N/A"}},{"$error":"#N/A"},{"$error":"#N/A"},{"$error":"#N/A"},{"$error":"#N/A"},{"$error":"#N/A"},{"$error":"#N/A"},{"$error":"#N/A"},{"$error":"#N/A"},{"$error":"#N/A"},{"$f":"IF(CT$3=\"OK\",(21600/(2*PI()))*ACOS(SIN($AA168)*SIN(CT$6)+COS(CT$6)*COS($AA168)*COS($AB168-CT$7)),\"-\")","v":{"$error":"#N/A"}},{"$error":"#N/A"},{"$error":"#N/A"},{"$error":"#N/A"},{"$error":"#N/A"},{"$error":"#N/A"},{"$error":"#N/A"},{"$error":"#N/A"},{"$error":"#N/A"},{"$error":"#N/A"},{"$error":"#N/A"},{"$error":"#N/A"},{"$error":"#N/A"},{"$error":"#N/A"},{"$error":"#N/A"},{"$error":"#N/A"},{"$error":"#N/A"},{"$error":"#N/A"},{"$error":"#N/A"},{"$error":"#N/A"},{"$error":"#N/A"},{"$error":"#N/A"},{"$error":"#N/A"},{"$error":"#N/A"},{"$error":"#N/A"},{"$error":"#N/A"},{"$error":"#N/A"},{"$error":"#N/A"},{"$error":"#N/A"},{"$error":"#N/A"},{"$error":"#N/A"},{"$error":"#N/A"},{"$error":"#N/A"},{"$error":"#N/A"},{"$error":"#N/A"},{"$error":"#N/A"},{"$error":"#N/A"},{"$error":"#N/A"},{"$error":"#N/A"}]
[null,null,null,null,null,null,null,null,null,null,null,{"$error":"#N/A"},152,{"$f":"VLOOKUP($M169,Funknavigation!$A$2:$AC$185,N$17,FALSE)","v":"Schkeuditz Sued "},{"$f":"VLOOKUP($M169,Funknavigation!$A$2:$AC$185,O$17,FALSE)","v":"DME "},{"$f":"VLOOKUP($M169,Funknavigation!$A$2:$AC$185,P$17,FALSE)","v":"LLD"},{"$f":"VLOOKUP($M169,Funknavigation!$A$2:$AC$185,Q$17,FALSE)","v":"· − · ·   · − · ·   − · ·"},{"$f":"VLOOKUP($M169,Funknavigation!$A$2:$AC$185,R$17,FALSE)","v":152},{"$f":"VLOOKUP($M169,Funknavigation!$A$2:$AC$185,S$17,FALSE)","v":51.414999999999999},{"$f":"VLOOKUP($M169,Funknavigation!$A$2:$AC$185,T$17,FALSE)","v":12.2303},{"$f":"VLOOKUP($M169,Funknavigation!$A$2:$AC$185,U$17,FALSE)","v":"112.15"},{"$f":"VLOOKUP($M169,Funknavigation!$A$2:$AC$185,V$17,FALSE)","v":""},{"$f":"VLOOKUP($M169,Funknavigation!$A$2:$AC$185,W$17,FALSE)","v":"Ch 58y (*) "},{"$f":"VLOOKUP($M169,Funknavigation!$A$2:$AC$185,X$17,FALSE)","v":25},null,null,0.89736103491288444,0.21345900350666247,{"$f":"IF(AG169=1,MAX(MAX(AC$18:$AC168),MAX($AD$18:$AD$193))+1,\"-\")","v":{"$error":"#N/A"}},{"$f":"IF(AH169=1,MAX($AD$18:AD168)+1,\"-\")","v":{"$error":"#N/A"}},{"$error":"#N/A"},{"$error":"#N/A"},{"$error":"#N/A"},{"$error":"#N/A"},{"$error":"#N/A"},{"$error":"#N/A"},{"$error":"#N/A"},{"$error":"#N/A"},{"$error":"#N/A"},{"$error":"#N/A"},{"$error":"#N/A"},{"$error":"#N/A"},{"$error":"#N/A"},{"$error":"#N/A"},{"$error":"#N/A"},{"$error":"#N/A"},{"$error":"#N/A"},{"$error":"#N/A"},{"$error":"#N/A"},{"$error":"#N/A"},{"$error":"#N/A"},{"$error":"#N/A"},{"$error":"#N/A"},{"$error":"#N/A"},{"$error":"#N/A"},{"$error":"#N/A"},{"$error":"#N/A"},{"$error":"#N/A"},{"$error":"#N/A"},{"$error":"#N/A"},{"$error":"#N/A"},{"$error":"#N/A"},{"$error":"#N/A"},{"$error":"#N/A"},{"$error":"#N/A"},{"$error":"#N/A"},{"$error":"#N/A"},{"$error":"#N/A"},{"$error":"#N/A"},{"$error":"#N/A"},{"$error":"#N/A"},{"$error":"#N/A"},{"$error":"#N/A"},{"$error":"#N/A"},{"$error":"#N/A"},{"$error":"#N/A"},{"$error":"#N/A"},{"$error":"#N/A"},{"$error":"#N/A"},{"$error":"#N/A"},{"$error":"#N/A"},{"$error":"#N/A"},{"$error":"#N/A"},{"$error":"#N/A"},{"$error":"#N/A"},{"$error":"#N/A"},{"$error":"#N/A"},{"$error":"#N/A"},{"$error":"#N/A"},{"$error":"#N/A"},{"$error":"#N/A"},{"$error":"#N/A"},{"$error":"#N/A"},{"$error":"#N/A"},{"$error":"#N/A"},{"$error":"#N/A"},{"$error":"#N/A"},{"$error":"#N/A"},{"$error":"#N/A"},{"$error":"#N/A"},{"$error":"#N/A"},{"$error":"#N/A"},{"$error":"#N/A"},{"$error":"#N/A"},{"$error":"#N/A"},{"$error":"#N/A"},{"$error":"#N/A"},{"$error":"#N/A"},{"$error":"#N/A"},{"$error":"#N/A"},{"$error":"#N/A"},{"$error":"#N/A"},{"$error":"#N/A"},{"$error":"#N/A"},{"$error":"#N/A"},{"$error":"#N/A"},{"$error":"#N/A"},{"$error":"#N/A"},{"$error":"#N/A"},{"$error":"#N/A"},{"$error":"#N/A"},{"$error":"#N/A"},{"$error":"#N/A"},{"$error":"#N/A"},{"$error":"#N/A"},{"$error":"#N/A"},{"$error":"#N/A"},{"$error":"#N/A"},{"$error":"#N/A"},{"$error":"#N/A"},{"$error":"#N/A"},{"$error":"#N/A"},{"$error":"#N/A"},{"$error":"#N/A"},{"$error":"#N/A"},{"$error":"#N/A"}]
[null,null,null,null,null,null,null,null,null,null,null,{"$error":"#N/A"},153,{"$f":"VLOOKUP($M170,Funknavigation!$A$2:$AC$185,N$17,FALSE)","v":"Schwaebisch Hall "},{"$f":"VLOOKUP($M170,Funknavigation!$A$2:$AC$185,O$17,FALSE)","v":"DME "},{"$f":"VLOOKUP($M170,Funknavigation!$A$2:$AC$185,P$17,FALSE)","v":"SHD"},{"$f":"VLOOKUP($M170,Funknavigation!$A$2:$AC$185,Q$17,FALSE)","v":"· · ·   · · · ·   − · ·"},{"$f":"VLOOKUP($M170,Funknavigation!$A$2:$AC$185,R$17,FALSE)","v":153},{"$f":"VLOOKUP($M170,Funknavigation!$A$2:$AC$185,S$17,FALSE)","v":49.116399999999999},{"$f":"VLOOKUP($M170,Funknavigation!$A$2:$AC$185,T$17,FALSE)","v":9.7781000000000002},{"$f":"VLOOKUP($M170,Funknavigation!$A$2:$AC$185,U$17,FALSE)","v":"108.05"},{"$f":"VLOOKUP($M170,Funknavigation!$A$2:$AC$185,V$17,FALSE)","v":""},{"$f":"VLOOKUP($M170,Funknavigation!$A$2:$AC$185,W$17,FALSE)","v":"Ch 17y "},{"$f":"VLOOKUP($M170,Funknavigation!$A$2:$AC$185,X$17,FALSE)","v":14},null,null,0.85724289672654286,0.17066003958925752,{"$f":"IF(AG170=1,MAX(MAX(AC$18:$AC169),MAX($AD$18:$AD$193))+1,\"-\")","v":{"$error":"#N/A"}},{"$f":"IF(AH170=1,MAX($AD$18:AD169)+1,\"-\")","v":{"$error":"#N/A"}},{"$error":"#N/A"},{"$error":"#N/A"},{"$error":"#N/A"},{"$error":"#N/A"},{"$error":"#N/A"},{"$error":"#N/A"},{"$error":"#N/A"},{"$error":"#N/A"},{"$error":"#N/A"},{"$error":"#N/A"},{"$error":"#N/A"},{"$error":"#N/A"},{"$error":"#N/A"},{"$error":"#N/A"},{"$error":"#N/A"},{"$error":"#N/A"},{"$error":"#N/A"},{"$error":"#N/A"},{"$error":"#N/A"},{"$error":"#N/A"},{"$error":"#N/A"},{"$error":"#N/A"},{"$error":"#N/A"},{"$error":"#N/A"},{"$error":"#N/A"},{"$error":"#N/A"},{"$error":"#N/A"},{"$error":"#N/A"},{"$error":"#N/A"},{"$error":"#N/A"},{"$error":"#N/A"},{"$error":"#N/A"},{"$error":"#N/A"},{"$error":"#N/A"},{"$error":"#N/A"},{"$error":"#N/A"},{"$error":"#N/A"},{"$error":"#N/A"},{"$error":"#N/A"},{"$error":"#N/A"},{"$error":"#N/A"},{"$error":"#N/A"},{"$error":"#N/A"},{"$error":"#N/A"},{"$error":"#N/A"},{"$error":"#N/A"},{"$error":"#N/A"},{"$error":"#N/A"},{"$error":"#N/A"},{"$error":"#N/A"},{"$error":"#N/A"},{"$error":"#N/A"},{"$error":"#N/A"},{"$error":"#N/A"},{"$error":"#N/A"},{"$error":"#N/A"},{"$error":"#N/A"},{"$error":"#N/A"},{"$error":"#N/A"},{"$error":"#N/A"},{"$error":"#N/A"},{"$error":"#N/A"},{"$error":"#N/A"},{"$error":"#N/A"},{"$error":"#N/A"},{"$error":"#N/A"},{"$error":"#N/A"},{"$error":"#N/A"},{"$error":"#N/A"},{"$error":"#N/A"},{"$error":"#N/A"},{"$error":"#N/A"},{"$error":"#N/A"},{"$error":"#N/A"},{"$error":"#N/A"},{"$error":"#N/A"},{"$error":"#N/A"},{"$error":"#N/A"},{"$error":"#N/A"},{"$error":"#N/A"},{"$error":"#N/A"},{"$error":"#N/A"},{"$error":"#N/A"},{"$error":"#N/A"},{"$error":"#N/A"},{"$error":"#N/A"},{"$error":"#N/A"},{"$error":"#N/A"},{"$error":"#N/A"},{"$error":"#N/A"},{"$error":"#N/A"},{"$error":"#N/A"},{"$error":"#N/A"},{"$error":"#N/A"},{"$error":"#N/A"},{"$error":"#N/A"},{"$error":"#N/A"},{"$error":"#N/A"},{"$error":"#N/A"},{"$error":"#N/A"},{"$error":"#N/A"},{"$error":"#N/A"},{"$error":"#N/A"},{"$error":"#N/A"},{"$error":"#N/A"},{"$error":"#N/A"}]
[null,null,null,null,null,null,null,null,null,null,null,{"$error":"#N/A"},154,{"$f":"VLOOKUP($M171,Funknavigation!$A$2:$AC$185,N$17,FALSE)","v":"Schwerin-Parchim "},{"$f":"VLOOKUP($M171,Funknavigation!$A$2:$AC$185,O$17,FALSE)","v":"NDB "},{"$f":"VLOOKUP($M171,Funknavigation!$A$2:$AC$185,P$17,FALSE)","v":"PI"},{"$f":"VLOOKUP($M171,Funknavigation!$A$2:$AC$185,Q$17,FALSE)","v":"· − − ·   · ·"},{"$f":"VLOOKUP($M171,Funknavigation!$A$2:$AC$185,R$17,FALSE)","v":154},{"$f":"VLOOKUP($M171,Funknavigation!$A$2:$AC$185,S$17,FALSE)","v":53.461399999999998},{"$f":"VLOOKUP($M171,Funknavigation!$A$2:$AC$185,T$17,FALSE)","v":11.9072},{"$f":"VLOOKUP($M171,Funknavigation!$A$2:$AC$185,U$17,FALSE)","v":""},{"$f":"VLOOKUP($M171,Funknavigation!$A$2:$AC$185,V$17,FALSE)","v":333},{"$f":"VLOOKUP($M171,Funknavigation!$A$2:$AC$185,W$17,FALSE)","v":""},{"$f":"VLOOKUP($M171,Funknavigation!$A$2:$AC$185,X$17,FALSE)","v":0},null,null,0.93307745272569653,0.20781984469346881,{"$f":"IF(AG171=1,MAX(MAX(AC$18:$AC170),MAX($AD$18:$AD$193))+1,\"-\")","v":{"$error":"#N/A"}},{"$f":"IF(AH171=1,MAX($AD$18:AD170)+1,\"-\")","v":{"$error":"#N/A"}},{"$error":"#N/A"},{"$error":"#N/A"},{"$error":"#N/A"},{"$error":"#N/A"},{"$error":"#N/A"},{"$error":"#N/A"},{"$error":"#N/A"},{"$error":"#N/A"},{"$error":"#N/A"},{"$error":"#N/A"},{"$error":"#N/A"},{"$error":"#N/A"},{"$error":"#N/A"},{"$error":"#N/A"},{"$error":"#N/A"},{"$error":"#N/A"},{"$error":"#N/A"},{"$error":"#N/A"},{"$error":"#N/A"},{"$error":"#N/A"},{"$error":"#N/A"},{"$error":"#N/A"},{"$error":"#N/A"},{"$error":"#N/A"},{"$error":"#N/A"},{"$error":"#N/A"},{"$error":"#N/A"},{"$error":"#N/A"},{"$error":"#N/A"},{"$error":"#N/A"},{"$error":"#N/A"},{"$error":"#N/A"},{"$error":"#N/A"},{"$error":"#N/A"},{"$error":"#N/A"},{"$error":"#N/A"},{"$error":"#N/A"},{"$error":"#N/A"},{"$error":"#N/A"},{"$error":"#N/A"},{"$error":"#N/A"},{"$error":"#N/A"},{"$error":"#N/A"},{"$error":"#N/A"},{"$error":"#N/A"},{"$error":"#N/A"},{"$error":"#N/A"},{"$error":"#N/A"},{"$error":"#N/A"},{"$error":"#N/A"},{"$error":"#N/A"},{"$error":"#N/A"},{"$error":"#N/A"},{"$error":"#N/A"},{"$error":"#N/A"},{"$error":"#N/A"},{"$error":"#N/A"},{"$error":"#N/A"},{"$error":"#N/A"},{"$error":"#N/A"},{"$error":"#N/A"},{"$error":"#N/A"},{"$error":"#N/A"},{"$error":"#N/A"},{"$error":"#N/A"},{"$error":"#N/A"},{"$error":"#N/A"},{"$error":"#N/A"},{"$error":"#N/A"},{"$error":"#N/A"},{"$error":"#N/A"},{"$error":"#N/A"},{"$error":"#N/A"},{"$error":"#N/A"},{"$error":"#N/A"},{"$error":"#N/A"},{"$error":"#N/A"},{"$error":"#N/A"},{"$error":"#N/A"},{"$error":"#N/A"},{"$error":"#N/A"},{"$error":"#N/A"},{"$error":"#N/A"},{"$error":"#N/A"},{"$error":"#N/A"},{"$error":"#N/A"},{"$error":"#N/A"},{"$error":"#N/A"},{"$error":"#N/A"},{"$error":"#N/A"},{"$error":"#N/A"},{"$error":"#N/A"},{"$error":"#N/A"},{"$error":"#N/A"},{"$error":"#N/A"},{"$error":"#N/A"},{"$error":"#N/A"},{"$error":"#N/A"},{"$error":"#N/A"},{"$error":"#N/A"},{"$error":"#N/A"},{"$error":"#N/A"},{"$error":"#N/A"},{"$error":"#N/A"},{"$error":"#N/A"},{"$error":"#N/A"}]
[null,null,null,null,null,null,null,null,null,null,null,{"$error":"#N/A"},155,{"$f":"VLOOKUP($M172,Funknavigation!$A$2:$AC$185,N$17,FALSE)","v":"Schwerin-Parchim"},{"$f":"VLOOKUP($M172,Funknavigation!$A$2:$AC$185,O$17,FALSE)","v":"NDB "},{"$f":"VLOOKUP($M172,Funknavigation!$A$2:$AC$185,P$17,FALSE)","v":"PAH"},{"$f":"VLOOKUP($M172,Funknavigation!$A$2:$AC$185,Q$17,FALSE)","v":"· − − ·   · −   · · · ·"},{"$f":"VLOOKUP($M172,Funknavigation!$A$2:$AC$185,R$17,FALSE)","v":155},{"$f":"VLOOKUP($M172,Funknavigation!$A$2:$AC$185,S$17,FALSE)","v":53.394199999999998},{"$f":"VLOOKUP($M172,Funknavigation!$A$2:$AC$185,T$17,FALSE)","v":11.665800000000001},{"$f":"VLOOKUP($M172,Funknavigation!$A$2:$AC$185,U$17,FALSE)","v":""},{"$f":"VLOOKUP($M172,Funknavigation!$A$2:$AC$185,V$17,FALSE)","v":315},{"$f":"VLOOKUP($M172,Funknavigation!$A$2:$AC$185,W$17,FALSE)","v":""},{"$f":"VLOOKUP($M172,Funknavigation!$A$2:$AC$185,X$17,FALSE)","v":0},null,null,0.93190459146835625,0.20360661987915449,{"$f":"IF(AG172=1,MAX(MAX(AC$18:$AC171),MAX($AD$18:$AD$193))+1,\"-\")","v":{"$error":"#N/A"}},{"$f":"IF(AH172=1,MAX($AD$18:AD171)+1,\"-\")","v":{"$error":"#N/A"}},{"$error":"#N/A"},{"$error":"#N/A"},{"$error":"#N/A"},{"$error":"#N/A"},{"$error":"#N/A"},{"$error":"#N/A"},{"$error":"#N/A"},{"$error":"#N/A"},{"$error":"#N/A"},{"$error":"#N/A"},{"$error":"#N/A"},{"$error":"#N/A"},{"$error":"#N/A"},{"$error":"#N/A"},{"$error":"#N/A"},{"$error":"#N/A"},{"$error":"#N/A"},{"$error":"#N/A"},{"$error":"#N/A"},{"$error":"#N/A"},{"$error":"#N/A"},{"$error":"#N/A"},{"$error":"#N/A"},{"$error":"#N/A"},{"$error":"#N/A"},{"$error":"#N/A"},{"$error":"#N/A"},{"$error":"#N/A"},{"$error":"#N/A"},{"$error":"#N/A"},{"$error":"#N/A"},{"$error":"#N/A"},{"$error":"#N/A"},{"$error":"#N/A"},{"$error":"#N/A"},{"$error":"#N/A"},{"$error":"#N/A"},{"$error":"#N/A"},{"$error":"#N/A"},{"$error":"#N/A"},{"$error":"#N/A"},{"$error":"#N/A"},{"$error":"#N/A"},{"$error":"#N/A"},{"$error":"#N/A"},{"$error":"#N/A"},{"$error":"#N/A"},{"$error":"#N/A"},{"$error":"#N/A"},{"$error":"#N/A"},{"$error":"#N/A"},{"$error":"#N/A"},{"$error":"#N/A"},{"$error":"#N/A"},{"$error":"#N/A"},{"$error":"#N/A"},{"$error":"#N/A"},{"$error":"#N/A"},{"$error":"#N/A"},{"$error":"#N/A"},{"$error":"#N/A"},{"$error":"#N/A"},{"$error":"#N/A"},{"$error":"#N/A"},{"$error":"#N/A"},{"$error":"#N/A"},{"$error":"#N/A"},{"$error":"#N/A"},{"$error":"#N/A"},{"$error":"#N/A"},{"$error":"#N/A"},{"$error":"#N/A"},{"$error":"#N/A"},{"$error":"#N/A"},{"$error":"#N/A"},{"$error":"#N/A"},{"$error":"#N/A"},{"$error":"#N/A"},{"$error":"#N/A"},{"$error":"#N/A"},{"$error":"#N/A"},{"$error":"#N/A"},{"$error":"#N/A"},{"$error":"#N/A"},{"$error":"#N/A"},{"$error":"#N/A"},{"$error":"#N/A"},{"$error":"#N/A"},{"$error":"#N/A"},{"$error":"#N/A"},{"$error":"#N/A"},{"$error":"#N/A"},{"$error":"#N/A"},{"$error":"#N/A"},{"$error":"#N/A"},{"$error":"#N/A"},{"$error":"#N/A"},{"$error":"#N/A"},{"$error":"#N/A"},{"$error":"#N/A"},{"$error":"#N/A"},{"$f":"IF(EB$3=\"OK\",(21600/(2*PI()))*ACOS(SIN($AA172)*SIN(EB$6)+COS(EB$6)*COS($AA172)*COS($AB172-EB$7)),\"-\")","v":{"$error":"#N/A"}},{"$error":"#N/A"},{"$error":"#N/A"},{"$error":"#N/A"},{"$error":"#N/A"}]
[null,null,null,null,null,null,null,null,null,null,null,{"$error":"#N/A"},156,{"$f":"VLOOKUP($M173,Funknavigation!$A$2:$AC$185,N$17,FALSE)","v":"Schwerin-Parchim"},{"$f":"VLOOKUP($M173,Funknavigation!$A$2:$AC$185,O$17,FALSE)","v":"DME "},{"$f":"VLOOKUP($M173,Funknavigation!$A$2:$AC$185,P$17,FALSE)","v":"PMD"},{"$f":"VLOOKUP($M173,Funknavigation!$A$2:$AC$185,Q$17,FALSE)","v":"· − − ·   − −   − · ·"},{"$f":"VLOOKUP($M173,Funknavigation!$A$2:$AC$185,R$17,FALSE)","v":156},{"$f":"VLOOKUP($M173,Funknavigation!$A$2:$AC$185,S$17,FALSE)","v":53.424999999999997},{"$f":"VLOOKUP($M173,Funknavigation!$A$2:$AC$185,T$17,FALSE)","v":11.785},{"$f":"VLOOKUP($M173,Funknavigation!$A$2:$AC$185,U$17,FALSE)","v":"117.50"},{"$f":"VLOOKUP($M173,Funknavigation!$A$2:$AC$185,V$17,FALSE)","v":""},{"$f":"VLOOKUP($M173,Funknavigation!$A$2:$AC$185,W$17,FALSE)","v":"Ch 122x (*) "},{"$f":"VLOOKUP($M173,Funknavigation!$A$2:$AC$185,X$17,FALSE)","v":25},null,null,0.93244215287797039,0.20568705234753173,{"$f":"IF(AG173=1,MAX(MAX(AC$18:$AC172),MAX($AD$18:$AD$193))+1,\"-\")","v":{"$error":"#N/A"}},{"$f":"IF(AH173=1,MAX($AD$18:AD172)+1,\"-\")","v":{"$error":"#N/A"}},{"$error":"#N/A"},{"$error":"#N/A"},{"$error":"#N/A"},{"$error":"#N/A"},{"$error":"#N/A"},{"$error":"#N/A"},{"$error":"#N/A"},{"$error":"#N/A"},{"$error":"#N/A"},{"$error":"#N/A"},{"$error":"#N/A"},{"$error":"#N/A"},{"$error":"#N/A"},{"$error":"#N/A"},{"$error":"#N/A"},{"$error":"#N/A"},{"$error":"#N/A"},{"$error":"#N/A"},{"$error":"#N/A"},{"$error":"#N/A"},{"$error":"#N/A"},{"$error":"#N/A"},{"$error":"#N/A"},{"$error":"#N/A"},{"$error":"#N/A"},{"$error":"#N/A"},{"$error":"#N/A"},{"$error":"#N/A"},{"$error":"#N/A"},{"$error":"#N/A"},{"$error":"#N/A"},{"$error":"#N/A"},{"$error":"#N/A"},{"$error":"#N/A"},{"$error":"#N/A"},{"$error":"#N/A"},{"$error":"#N/A"},{"$error":"#N/A"},{"$error":"#N/A"},{"$error":"#N/A"},{"$error":"#N/A"},{"$error":"#N/A"},{"$error":"#N/A"},{"$error":"#N/A"},{"$error":"#N/A"},{"$error":"#N/A"},{"$error":"#N/A"},{"$error":"#N/A"},{"$error":"#N/A"},{"$error":"#N/A"},{"$error":"#N/A"},{"$error":"#N/A"},{"$error":"#N/A"},{"$error":"#N/A"},{"$error":"#N/A"},{"$error":"#N/A"},{"$error":"#N/A"},{"$error":"#N/A"},{"$error":"#N/A"},{"$error":"#N/A"},{"$error":"#N/A"},{"$error":"#N/A"},{"$error":"#N/A"},{"$error":"#N/A"},{"$error":"#N/A"},{"$error":"#N/A"},{"$error":"#N/A"},{"$error":"#N/A"},{"$error":"#N/A"},{"$error":"#N/A"},{"$error":"#N/A"},{"$error":"#N/A"},{"$error":"#N/A"},{"$error":"#N/A"},{"$error":"#N/A"},{"$error":"#N/A"},{"$error":"#N/A"},{"$error":"#N/A"},{"$error":"#N/A"},{"$error":"#N/A"},{"$error":"#N/A"},{"$error":"#N/A"},{"$error":"#N/A"},{"$error":"#N/A"},{"$error":"#N/A"},{"$error":"#N/A"},{"$error":"#N/A"},{"$error":"#N/A"},{"$error":"#N/A"},{"$error":"#N/A"},{"$error":"#N/A"},{"$error":"#N/A"},{"$error":"#N/A"},{"$error":"#N/A"},{"$error":"#N/A"},{"$error":"#N/A"},{"$error":"#N/A"},{"$error":"#N/A"},{"$error":"#N/A"},{"$error":"#N/A"},{"$error":"#N/A"},{"$error":"#N/A"},{"$error":"#N/A"},{"$error":"#N/A"},{"$error":"#N/A"},{"$error":"#N/A"}]
[null,null,null,null,null,null,null,null,null,null,null,{"$error":"#N/A"},157,{"$f":"VLOOKUP($M174,Funknavigation!$A$2:$AC$185,N$17,FALSE)","v":"Siegerland "},{"$f":"VLOOKUP($M174,Funknavigation!$A$2:$AC$185,O$17,FALSE)","v":"L "},{"$f":"VLOOKUP($M174,Funknavigation!$A$2:$AC$185,P$17,FALSE)","v":"SIL"},{"$f":"VLOOKUP($M174,Funknavigation!$A$2:$AC$185,Q$17,FALSE)","v":"· · ·   · ·   · − · ·"},{"$f":"VLOOKUP($M174,Funknavigation!$A$2:$AC$185,R$17,FALSE)","v":157},{"$f":"VLOOKUP($M174,Funknavigation!$A$2:$AC$185,S$17,FALSE)","v":50.68},{"$f":"VLOOKUP($M174,Funknavigation!$A$2:$AC$185,T$17,FALSE)","v":8.1386000000000003},{"$f":"VLOOKUP($M174,Funknavigation!$A$2:$AC$185,U$17,FALSE)","v":""},{"$f":"VLOOKUP($M174,Funknavigation!$A$2:$AC$185,V$17,FALSE)","v":489},{"$f":"VLOOKUP($M174,Funknavigation!$A$2:$AC$185,W$17,FALSE)","v":""},{"$f":"VLOOKUP($M174,Funknavigation!$A$2:$AC$185,X$17,FALSE)","v":20},null,null,0.88453286491072625,0.14204536650281049,{"$f":"IF(AG174=1,MAX(MAX(AC$18:$AC173),MAX($AD$18:$AD$193))+1,\"-\")","v":{"$error":"#N/A"}},{"$f":"IF(AH174=1,MAX($AD$18:AD173)+1,\"-\")","v":{"$error":"#N/A"}},{"$error":"#N/A"},{"$error":"#N/A"},{"$error":"#N/A"},{"$error":"#N/A"},{"$error":"#N/A"},{"$error":"#N/A"},{"$error":"#N/A"},{"$error":"#N/A"},{"$error":"#N/A"},{"$error":"#N/A"},{"$error":"#N/A"},{"$error":"#N/A"},{"$error":"#N/A"},{"$error":"#N/A"},{"$error":"#N/A"},{"$error":"#N/A"},{"$error":"#N/A"},{"$error":"#N/A"},{"$error":"#N/A"},{"$error":"#N/A"},{"$error":"#N/A"},{"$error":"#N/A"},{"$error":"#N/A"},{"$error":"#N/A"},{"$error":"#N/A"},{"$error":"#N/A"},{"$error":"#N/A"},{"$error":"#N/A"},{"$error":"#N/A"},{"$error":"#N/A"},{"$error":"#N/A"},{"$error":"#N/A"},{"$error":"#N/A"},{"$error":"#N/A"},{"$error":"#N/A"},{"$error":"#N/A"},{"$error":"#N/A"},{"$error":"#N/A"},{"$error":"#N/A"},{"$error":"#N/A"},{"$error":"#N/A"},{"$error":"#N/A"},{"$error":"#N/A"},{"$error":"#N/A"},{"$error":"#N/A"},{"$error":"#N/A"},{"$error":"#N/A"},{"$error":"#N/A"},{"$error":"#N/A"},{"$error":"#N/A"},{"$error":"#N/A"},{"$error":"#N/A"},{"$error":"#N/A"},{"$error":"#N/A"},{"$error":"#N/A"},{"$error":"#N/A"},{"$error":"#N/A"},{"$error":"#N/A"},{"$error":"#N/A"},{"$error":"#N/A"},{"$error":"#N/A"},{"$error":"#N/A"},{"$error":"#N/A"},{"$error":"#N/A"},{"$error":"#N/A"},{"$error":"#N/A"},{"$error":"#N/A"},{"$error":"#N/A"},{"$error":"#N/A"},{"$error":"#N/A"},{"$error":"#N/A"},{"$error":"#N/A"},{"$error":"#N/A"},{"$error":"#N/A"},{"$error":"#N/A"},{"$error":"#N/A"},{"$error":"#N/A"},{"$error":"#N/A"},{"$error":"#N/A"},{"$error":"#N/A"},{"$error":"#N/A"},{"$error":"#N/A"},{"$error":"#N/A"},{"$error":"#N/A"},{"$error":"#N/A"},{"$error":"#N/A"},{"$error":"#N/A"},{"$error":"#N/A"},{"$error":"#N/A"},{"$error":"#N/A"},{"$error":"#N/A"},{"$error":"#N/A"},{"$error":"#N/A"},{"$error":"#N/A"},{"$error":"#N/A"},{"$error":"#N/A"},{"$error":"#N/A"},{"$error":"#N/A"},{"$error":"#N/A"},{"$error":"#N/A"},{"$error":"#N/A"},{"$error":"#N/A"},{"$error":"#N/A"},{"$error":"#N/A"},{"$error":"#N/A"},{"$error":"#N/A"}]
[null,null,null,null,null,null,null,null,null,null,null,{"$error":"#N/A"},158,{"$f":"VLOOKUP($M175,Funknavigation!$A$2:$AC$185,N$17,FALSE)","v":"Siegerland"},{"$f":"VLOOKUP($M175,Funknavigation!$A$2:$AC$185,O$17,FALSE)","v":"DME "},{"$f":"VLOOKUP($M175,Funknavigation!$A$2:$AC$185,P$17,FALSE)","v":"SLD"},{"$f":"VLOOKUP($M175,Funknavigation!$A$2:$AC$185,Q$17,FALSE)","v":"· · ·   · − · ·   − · ·"},{"$f":"VLOOKUP($M175,Funknavigation!$A$2:$AC$185,R$17,FALSE)","v":158},{"$f":"VLOOKUP($M175,Funknavigation!$A$2:$AC$185,S$17,FALSE)","v":50.706699999999998},{"$f":"VLOOKUP($M175,Funknavigation!$A$2:$AC$185,T$17,FALSE)","v":8.0785999999999998},{"$f":"VLOOKUP($M175,Funknavigation!$A$2:$AC$185,U$17,FALSE)","v":"108.05"},{"$f":"VLOOKUP($M175,Funknavigation!$A$2:$AC$185,V$17,FALSE)","v":""},{"$f":"VLOOKUP($M175,Funknavigation!$A$2:$AC$185,W$17,FALSE)","v":"Ch 17y (*) "},{"$f":"VLOOKUP($M175,Funknavigation!$A$2:$AC$185,X$17,FALSE)","v":20},null,null,0.88499886782100867,0.14099816895161391,{"$f":"IF(AG175=1,MAX(MAX(AC$18:$AC174),MAX($AD$18:$AD$193))+1,\"-\")","v":{"$error":"#N/A"}},{"$f":"IF(AH175=1,MAX($AD$18:AD174)+1,\"-\")","v":{"$error":"#N/A"}},{"$error":"#N/A"},{"$error":"#N/A"},{"$error":"#N/A"},{"$error":"#N/A"},{"$error":"#N/A"},{"$error":"#N/A"},{"$error":"#N/A"},{"$error":"#N/A"},{"$error":"#N/A"},{"$error":"#N/A"},{"$error":"#N/A"},{"$error":"#N/A"},{"$error":"#N/A"},{"$error":"#N/A"},{"$error":"#N/A"},{"$error":"#N/A"},{"$error":"#N/A"},{"$error":"#N/A"},{"$error":"#N/A"},{"$error":"#N/A"},{"$error":"#N/A"},{"$error":"#N/A"},{"$error":"#N/A"},{"$error":"#N/A"},{"$error":"#N/A"},{"$error":"#N/A"},{"$error":"#N/A"},{"$error":"#N/A"},{"$error":"#N/A"},{"$error":"#N/A"},{"$error":"#N/A"},{"$error":"#N/A"},{"$error":"#N/A"},{"$error":"#N/A"},{"$error":"#N/A"},{"$error":"#N/A"},{"$error":"#N/A"},{"$error":"#N/A"},{"$error":"#N/A"},{"$error":"#N/A"},{"$error":"#N/A"},{"$error":"#N/A"},{"$error":"#N/A"},{"$error":"#N/A"},{"$error":"#N/A"},{"$error":"#N/A"},{"$error":"#N/A"},{"$error":"#N/A"},{"$error":"#N/A"},{"$error":"#N/A"},{"$error":"#N/A"},{"$error":"#N/A"},{"$error":"#N/A"},{"$error":"#N/A"},{"$error":"#N/A"},{"$error":"#N/A"},{"$error":"#N/A"},{"$error":"#N/A"},{"$error":"#N/A"},{"$error":"#N/A"},{"$error":"#N/A"},{"$error":"#N/A"},{"$error":"#N/A"},{"$error":"#N/A"},{"$error":"#N/A"},{"$error":"#N/A"},{"$error":"#N/A"},{"$error":"#N/A"},{"$error":"#N/A"},{"$error":"#N/A"},{"$error":"#N/A"},{"$error":"#N/A"},{"$error":"#N/A"},{"$error":"#N/A"},{"$error":"#N/A"},{"$error":"#N/A"},{"$error":"#N/A"},{"$error":"#N/A"},{"$error":"#N/A"},{"$error":"#N/A"},{"$error":"#N/A"},{"$error":"#N/A"},{"$error":"#N/A"},{"$error":"#N/A"},{"$error":"#N/A"},{"$error":"#N/A"},{"$error":"#N/A"},{"$error":"#N/A"},{"$error":"#N/A"},{"$error":"#N/A"},{"$error":"#N/A"},{"$error":"#N/A"},{"$error":"#N/A"},{"$error":"#N/A"},{"$error":"#N/A"},{"$error":"#N/A"},{"$error":"#N/A"},{"$error":"#N/A"},{"$error":"#N/A"},{"$error":"#N/A"},{"$error":"#N/A"},{"$error":"#N/A"},{"$error":"#N/A"},{"$error":"#N/A"},{"$error":"#N/A"},{"$error":"#N/A"}]
[null,null,null,null,null,null,null,null,null,null,null,{"$error":"#N/A"},159,{"$f":"VLOOKUP($M176,Funknavigation!$A$2:$AC$185,N$17,FALSE)","v":"Spessart "},{"$f":"VLOOKUP($M176,Funknavigation!$A$2:$AC$185,O$17,FALSE)","v":"NDB "},{"$f":"VLOOKUP($M176,Funknavigation!$A$2:$AC$185,P$17,FALSE)","v":"PSA"},{"$f":"VLOOKUP($M176,Funknavigation!$A$2:$AC$185,Q$17,FALSE)","v":"· − − ·   · · ·   · −"},{"$f":"VLOOKUP($M176,Funknavigation!$A$2:$AC$185,R$17,FALSE)","v":159},{"$f":"VLOOKUP($M176,Funknavigation!$A$2:$AC$185,S$17,FALSE)","v":49.862200000000001},{"$f":"VLOOKUP($M176,Funknavigation!$A$2:$AC$185,T$17,FALSE)","v":9.3483000000000001},{"$f":"VLOOKUP($M176,Funknavigation!$A$2:$AC$185,U$17,FALSE)","v":""},{"$f":"VLOOKUP($M176,Funknavigation!$A$2:$AC$185,V$17,FALSE)","v":370},{"$f":"VLOOKUP($M176,Funknavigation!$A$2:$AC$185,W$17,FALSE)","v":""},{"$f":"VLOOKUP($M176,Funknavigation!$A$2:$AC$185,X$17,FALSE)","v":13},null,null,0.87025956228791668,0.16315861446418589,{"$f":"IF(AG176=1,MAX(MAX(AC$18:$AC175),MAX($AD$18:$AD$193))+1,\"-\")","v":{"$error":"#N/A"}},{"$f":"IF(AH176=1,MAX($AD$18:AD175)+1,\"-\")","v":{"$error":"#N/A"}},{"$error":"#N/A"},{"$error":"#N/A"},{"$error":"#N/A"},{"$error":"#N/A"},{"$error":"#N/A"},{"$error":"#N/A"},{"$error":"#N/A"},{"$error":"#N/A"},{"$error":"#N/A"},{"$error":"#N/A"},{"$error":"#N/A"},{"$error":"#N/A"},{"$error":"#N/A"},{"$error":"#N/A"},{"$error":"#N/A"},{"$error":"#N/A"},{"$error":"#N/A"},{"$error":"#N/A"},{"$error":"#N/A"},{"$error":"#N/A"},{"$error":"#N/A"},{"$error":"#N/A"},{"$error":"#N/A"},{"$error":"#N/A"},{"$error":"#N/A"},{"$error":"#N/A"},{"$error":"#N/A"},{"$error":"#N/A"},{"$error":"#N/A"},{"$error":"#N/A"},{"$error":"#N/A"},{"$error":"#N/A"},{"$error":"#N/A"},{"$error":"#N/A"},{"$error":"#N/A"},{"$error":"#N/A"},{"$error":"#N/A"},{"$error":"#N/A"},{"$error":"#N/A"},{"$error":"#N/A"},{"$error":"#N/A"},{"$error":"#N/A"},{"$error":"#N/A"},{"$error":"#N/A"},{"$error":"#N/A"},{"$error":"#N/A"},{"$error":"#N/A"},{"$error":"#N/A"},{"$error":"#N/A"},{"$error":"#N/A"},{"$error":"#N/A"},{"$error":"#N/A"},{"$error":"#N/A"},{"$error":"#N/A"},{"$error":"#N/A"},{"$error":"#N/A"},{"$error":"#N/A"},{"$error":"#N/A"},{"$error":"#N/A"},{"$error":"#N/A"},{"$error":"#N/A"},{"$error":"#N/A"},{"$error":"#N/A"},{"$error":"#N/A"},{"$error":"#N/A"},{"$error":"#N/A"},{"$error":"#N/A"},{"$error":"#N/A"},{"$error":"#N/A"},{"$error":"#N/A"},{"$error":"#N/A"},{"$error":"#N/A"},{"$error":"#N/A"},{"$error":"#N/A"},{"$error":"#N/A"},{"$error":"#N/A"},{"$error":"#N/A"},{"$error":"#N/A"},{"$error":"#N/A"},{"$error":"#N/A"},{"$error":"#N/A"},{"$error":"#N/A"},{"$error":"#N/A"},{"$error":"#N/A"},{"$error":"#N/A"},{"$error":"#N/A"},{"$error":"#N/A"},{"$error":"#N/A"},{"$error":"#N/A"},{"$error":"#N/A"},{"$error":"#N/A"},{"$error":"#N/A"},{"$error":"#N/A"},{"$error":"#N/A"},{"$error":"#N/A"},{"$error":"#N/A"},{"$error":"#N/A"},{"$error":"#N/A"},{"$error":"#N/A"},{"$error":"#N/A"},{"$error":"#N/A"},{"$error":"#N/A"},{"$error":"#N/A"},{"$error":"#N/A"},{"$error":"#N/A"},{"$error":"#N/A"}]
[null,null,null,null,null,null,null,null,null,null,null,{"$error":"#N/A"},160,{"$f":"VLOOKUP($M177,Funknavigation!$A$2:$AC$185,N$17,FALSE)","v":"Stuttgart "},{"$f":"VLOOKUP($M177,Funknavigation!$A$2:$AC$185,O$17,FALSE)","v":"DVOR/DME "},{"$f":"VLOOKUP($M177,Funknavigation!$A$2:$AC$185,P$17,FALSE)","v":"STG"},{"$f":"VLOOKUP($M177,Funknavigation!$A$2:$AC$185,Q$17,FALSE)","v":"· · ·   −   − − ·"},{"$f":"VLOOKUP($M177,Funknavigation!$A$2:$AC$185,R$17,FALSE)","v":160},{"$f":"VLOOKUP($M177,Funknavigation!$A$2:$AC$185,S$17,FALSE)","v":48.696399999999997},{"$f":"VLOOKUP($M177,Funknavigation!$A$2:$AC$185,T$17,FALSE)","v":9.2567000000000004},{"$f":"VLOOKUP($M177,Funknavigation!$A$2:$AC$185,U$17,FALSE)","v":"116.85"},{"$f":"VLOOKUP($M177,Funknavigation!$A$2:$AC$185,V$17,FALSE)","v":""},{"$f":"VLOOKUP($M177,Funknavigation!$A$2:$AC$185,W$17,FALSE)","v":"Ch 115y () "},{"$f":"VLOOKUP($M177,Funknavigation!$A$2:$AC$185,X$17,FALSE)","v":40},null,null,0.84991251386816657,0.1615598928693591,{"$f":"IF(AG177=1,MAX(MAX(AC$18:$AC176),MAX($AD$18:$AD$193))+1,\"-\")","v":{"$error":"#N/A"}},{"$f":"IF(AH177=1,MAX($AD$18:AD176)+1,\"-\")","v":{"$error":"#N/A"}},{"$error":"#N/A"},{"$error":"#N/A"},{"$error":"#N/A"},{"$error":"#N/A"},{"$error":"#N/A"},{"$error":"#N/A"},{"$error":"#N/A"},{"$error":"#N/A"},{"$error":"#N/A"},{"$error":"#N/A"},{"$error":"#N/A"},{"$error":"#N/A"},{"$error":"#N/A"},{"$error":"#N/A"},{"$error":"#N/A"},{"$error":"#N/A"},{"$error":"#N/A"},{"$error":"#N/A"},{"$error":"#N/A"},{"$error":"#N/A"},{"$error":"#N/A"},{"$error":"#N/A"},{"$error":"#N/A"},{"$error":"#N/A"},{"$error":"#N/A"},{"$error":"#N/A"},{"$error":"#N/A"},{"$error":"#N/A"},{"$error":"#N/A"},{"$error":"#N/A"},{"$error":"#N/A"},{"$error":"#N/A"},{"$error":"#N/A"},{"$error":"#N/A"},{"$error":"#N/A"},{"$error":"#N/A"},{"$error":"#N/A"},{"$error":"#N/A"},{"$error":"#N/A"},{"$error":"#N/A"},{"$error":"#N/A"},{"$error":"#N/A"},{"$error":"#N/A"},{"$error":"#N/A"},{"$error":"#N/A"},{"$error":"#N/A"},{"$error":"#N/A"},{"$error":"#N/A"},{"$error":"#N/A"},{"$error":"#N/A"},{"$error":"#N/A"},{"$error":"#N/A"},{"$error":"#N/A"},{"$error":"#N/A"},{"$error":"#N/A"},{"$error":"#N/A"},{"$error":"#N/A"},{"$error":"#N/A"},{"$error":"#N/A"},{"$error":"#N/A"},{"$error":"#N/A"},{"$error":"#N/A"},{"$error":"#N/A"},{"$error":"#N/A"},{"$error":"#N/A"},{"$error":"#N/A"},{"$error":"#N/A"},{"$error":"#N/A"},{"$error":"#N/A"},{"$error":"#N/A"},{"$error":"#N/A"},{"$error":"#N/A"},{"$error":"#N/A"},{"$error":"#N/A"},{"$error":"#N/A"},{"$error":"#N/A"},{"$error":"#N/A"},{"$error":"#N/A"},{"$error":"#N/A"},{"$error":"#N/A"},{"$error":"#N/A"},{"$error":"#N/A"},{"$error":"#N/A"},{"$error":"#N/A"},{"$error":"#N/A"},{"$error":"#N/A"},{"$error":"#N/A"},{"$error":"#N/A"},{"$error":"#N/A"},{"$error":"#N/A"},{"$error":"#N/A"},{"$error":"#N/A"},{"$error":"#N/A"},{"$error":"#N/A"},{"$error":"#N/A"},{"$error":"#N/A"},{"$error":"#N/A"},{"$error":"#N/A"},{"$error":"#N/A"},{"$error":"#N/A"},{"$error":"#N/A"},{"$error":"#N/A"},{"$error":"#N/A"},{"$error":"#N/A"},{"$error":"#N/A"},{"$error":"#N/A"}]
[null,null,null,null,null,null,null,null,null,null,null,{"$error":"#N/A"},161,{"$f":"VLOOKUP($M178,Funknavigation!$A$2:$AC$185,N$17,FALSE)","v":"Stuttgart"},{"$f":"VLOOKUP($M178,Funknavigation!$A$2:$AC$185,O$17,FALSE)","v":"DME "},{"$f":"VLOOKUP($M178,Funknavigation!$A$2:$AC$185,P$17,FALSE)","v":"SGD"},{"$f":"VLOOKUP($M178,Funknavigation!$A$2:$AC$185,Q$17,FALSE)","v":"· · ·   − − ·   − · ·"},{"$f":"VLOOKUP($M178,Funknavigation!$A$2:$AC$185,R$17,FALSE)","v":161},{"$f":"VLOOKUP($M178,Funknavigation!$A$2:$AC$185,S$17,FALSE)","v":48.688099999999999},{"$f":"VLOOKUP($M178,Funknavigation!$A$2:$AC$185,T$17,FALSE)","v":9.2241999999999997},{"$f":"VLOOKUP($M178,Funknavigation!$A$2:$AC$185,U$17,FALSE)","v":"115.45"},{"$f":"VLOOKUP($M178,Funknavigation!$A$2:$AC$185,V$17,FALSE)","v":""},{"$f":"VLOOKUP($M178,Funknavigation!$A$2:$AC$185,W$17,FALSE)","v":"Ch 101y (*) "},{"$f":"VLOOKUP($M178,Funknavigation!$A$2:$AC$185,X$17,FALSE)","v":25},null,null,0.84976765154025113,0.16099266086246095,{"$f":"IF(AG178=1,MAX(MAX(AC$18:$AC177),MAX($AD$18:$AD$193))+1,\"-\")","v":{"$error":"#N/A"}},{"$f":"IF(AH178=1,MAX($AD$18:AD177)+1,\"-\")","v":{"$error":"#N/A"}},{"$error":"#N/A"},{"$error":"#N/A"},{"$error":"#N/A"},{"$f":"IF(MIN(AJ178:EF178)<(X178/$AH$16),1,0)","v":{"$error":"#N/A"}},{"$f":"IF(MIN(AJ178:EF178)<X178,1,0)","v":{"$error":"#N/A"}},{"$error":"#N/A"},{"$error":"#N/A"},{"$f":"IF(AL$3=\"OK\",(21600/(2*PI()))*ACOS(SIN($AA178)*SIN(AL$6)+COS(AL$6)*COS($AA178)*COS($AB178-AL$7)),\"-\")","v":{"$error":"#N/A"}},{"$error":"#N/A"},{"$error":"#N/A"},{"$error":"#N/A"},{"$error":"#N/A"},{"$error":"#N/A"},{"$error":"#N/A"},{"$error":"#N/A"},{"$error":"#N/A"},{"$error":"#N/A"},{"$f":"IF(AV$3=\"OK\",(21600/(2*PI()))*ACOS(SIN($AA178)*SIN(AV$6)+COS(AV$6)*COS($AA178)*COS($AB178-AV$7)),\"-\")","v":{"$error":"#N/A"}},{"$error":"#N/A"},{"$error":"#N/A"},{"$error":"#N/A"},{"$error":"#N/A"},{"$error":"#N/A"},{"$error":"#N/A"},{"$error":"#N/A"},{"$error":"#N/A"},{"$error":"#N/A"},{"$f":"IF(BF$3=\"OK\",(21600/(2*PI()))*ACOS(SIN($AA178)*SIN(BF$6)+COS(BF$6)*COS($AA178)*COS($AB178-BF$7)),\"-\")","v":{"$error":"#N/A"}},{"$error":"#N/A"},{"$error":"#N/A"},{"$error":"#N/A"},{"$error":"#N/A"},{"$error":"#N/A"},{"$error":"#N/A"},{"$error":"#N/A"},{"$error":"#N/A"},{"$error":"#N/A"},{"$f":"IF(BP$3=\"OK\",(21600/(2*PI()))*ACOS(SIN($AA178)*SIN(BP$6)+COS(BP$6)*COS($AA178)*COS($AB178-BP$7)),\"-\")","v":{"$error":"#N/A"}},{"$error":"#N/A"},{"$error":"#N/A"},{"$error":"#N/A"},{"$error":"#N/A"},{"$error":"#N/A"},{"$error":"#N/A"},{"$error":"#N/A"},{"$error":"#N/A"},{"$error":"#N/A"},{"$f":"IF(BZ$3=\"OK\",(21600/(2*PI()))*ACOS(SIN($AA178)*SIN(BZ$6)+COS(BZ$6)*COS($AA178)*COS($AB178-BZ$7)),\"-\")","v":{"$error":"#N/A"}},{"$error":"#N/A"},{"$error":"#N/A"},{"$error":"#N/A"},{"$error":"#N/A"},{"$error":"#N/A"},{"$error":"#N/A"},{"$error":"#N/A"},{"$error":"#N/A"},{"$error":"#N/A"},{"$f":"IF(CJ$3=\"OK\",(21600/(2*PI()))*ACOS(SIN($AA178)*SIN(CJ$6)+COS(CJ$6)*COS($AA178)*COS($AB178-CJ$7)),\"-\")","v":{"$error":"#N/A"}},{"$error":"#N/A"},{"$error":"#N/A"},{"$error":"#N/A"},{"$error":"#N/A"},{"$error":"#N/A"},{"$error":"#N/A"},{"$error":"#N/A"},{"$error":"#N/A"},{"$error":"#N/A"},{"$f":"IF(CT$3=\"OK\",(21600/(2*PI()))*ACOS(SIN($AA178)*SIN(CT$6)+COS(CT$6)*COS($AA178)*COS($AB178-CT$7)),\"-\")","v":{"$error":"#N/A"}},{"$error":"#N/A"},{"$error":"#N/A"},{"$error":"#N/A"},{"$error":"#N/A"},{"$error":"#N/A"},{"$error":"#N/A"},{"$error":"#N/A"},{"$error":"#N/A"},{"$error":"#N/A"},{"$error":"#N/A"},{"$error":"#N/A"},{"$error":"#N/A"},{"$error":"#N/A"},{"$error":"#N/A"},{"$error":"#N/A"},{"$error":"#N/A"},{"$error":"#N/A"},{"$error":"#N/A"},{"$error":"#N/A"},{"$error":"#N/A"},{"$error":"#N/A"},{"$error":"#N/A"},{"$error":"#N/A"},{"$error":"#N/A"},{"$error":"#N/A"},{"$error":"#N/A"},{"$error":"#N/A"},{"$error":"#N/A"},{"$error":"#N/A"},{"$error":"#N/A"},{"$error":"#N/A"},{"$error":"#N/A"},{"$error":"#N/A"},{"$error":"#N/A"},{"$error":"#N/A"},{"$error":"#N/A"},{"$error":"#N/A"},{"$error":"#N/A"}]
[null,null,null,null,null,null,null,null,null,null,null,{"$error":"#N/A"},162,{"$f":"VLOOKUP($M179,Funknavigation!$A$2:$AC$185,N$17,FALSE)","v":"Sulz "},{"$f":"VLOOKUP($M179,Funknavigation!$A$2:$AC$185,O$17,FALSE)","v":"DVOR "},{"$f":"VLOOKUP($M179,Funknavigation!$A$2:$AC$185,P$17,FALSE)","v":"SUL"},{"$f":"VLOOKUP($M179,Funknavigation!$A$2:$AC$185,Q$17,FALSE)","v":"· · ·   · · −   · − · ·"},{"$f":"VLOOKUP($M179,Funknavigation!$A$2:$AC$185,R$17,FALSE)","v":162},{"$f":"VLOOKUP($M179,Funknavigation!$A$2:$AC$185,S$17,FALSE)","v":48.381700000000002},{"$f":"VLOOKUP($M179,Funknavigation!$A$2:$AC$185,T$17,FALSE)","v":8.6447000000000003},{"$f":"VLOOKUP($M179,Funknavigation!$A$2:$AC$185,U$17,FALSE)","v":"116.10"},{"$f":"VLOOKUP($M179,Funknavigation!$A$2:$AC$185,V$17,FALSE)","v":""},{"$f":"VLOOKUP($M179,Funknavigation!$A$2:$AC$185,W$17,FALSE)","v":""},{"$f":"VLOOKUP($M179,Funknavigation!$A$2:$AC$185,X$17,FALSE)","v":60},null,null,0.84441996271214048,0.1508784778471538,{"$f":"IF(AG179=1,MAX(MAX(AC$18:$AC178),MAX($AD$18:$AD$193))+1,\"-\")","v":{"$error":"#N/A"}},{"$f":"IF(AH179=1,MAX($AD$18:AD178)+1,\"-\")","v":{"$error":"#N/A"}},{"$error":"#N/A"},{"$error":"#N/A"},{"$error":"#N/A"},{"$error":"#N/A"},{"$error":"#N/A"},{"$error":"#N/A"},{"$error":"#N/A"},{"$error":"#N/A"},{"$error":"#N/A"},{"$error":"#N/A"},{"$error":"#N/A"},{"$error":"#N/A"},{"$error":"#N/A"},{"$error":"#N/A"},{"$error":"#N/A"},{"$error":"#N/A"},{"$error":"#N/A"},{"$error":"#N/A"},{"$error":"#N/A"},{"$error":"#N/A"},{"$error":"#N/A"},{"$error":"#N/A"},{"$error":"#N/A"},{"$error":"#N/A"},{"$error":"#N/A"},{"$error":"#N/A"},{"$error":"#N/A"},{"$error":"#N/A"},{"$error":"#N/A"},{"$error":"#N/A"},{"$error":"#N/A"},{"$error":"#N/A"},{"$error":"#N/A"},{"$error":"#N/A"},{"$error":"#N/A"},{"$error":"#N/A"},{"$error":"#N/A"},{"$error":"#N/A"},{"$error":"#N/A"},{"$error":"#N/A"},{"$error":"#N/A"},{"$error":"#N/A"},{"$error":"#N/A"},{"$error":"#N/A"},{"$error":"#N/A"},{"$error":"#N/A"},{"$error":"#N/A"},{"$error":"#N/A"},{"$error":"#N/A"},{"$error":"#N/A"},{"$error":"#N/A"},{"$error":"#N/A"},{"$error":"#N/A"},{"$error":"#N/A"},{"$error":"#N/A"},{"$error":"#N/A"},{"$error":"#N/A"},{"$error":"#N/A"},{"$error":"#N/A"},{"$error":"#N/A"},{"$error":"#N/A"},{"$error":"#N/A"},{"$error":"#N/A"},{"$error":"#N/A"},{"$error":"#N/A"},{"$error":"#N/A"},{"$error":"#N/A"},{"$error":"#N/A"},{"$error":"#N/A"},{"$error":"#N/A"},{"$error":"#N/A"},{"$error":"#N/A"},{"$error":"#N/A"},{"$error":"#N/A"},{"$error":"#N/A"},{"$error":"#N/A"},{"$error":"#N/A"},{"$error":"#N/A"},{"$error":"#N/A"},{"$error":"#N/A"},{"$error":"#N/A"},{"$error":"#N/A"},{"$error":"#N/A"},{"$error":"#N/A"},{"$error":"#N/A"},{"$error":"#N/A"},{"$error":"#N/A"},{"$error":"#N/A"},{"$error":"#N/A"},{"$error":"#N/A"},{"$error":"#N/A"},{"$error":"#N/A"},{"$error":"#N/A"},{"$error":"#N/A"},{"$error":"#N/A"},{"$error":"#N/A"},{"$error":"#N/A"},{"$error":"#N/A"},{"$error":"#N/A"},{"$error":"#N/A"},{"$error":"#N/A"},{"$error":"#N/A"},{"$error":"#N/A"},{"$error":"#N/A"},{"$error":"#N/A"},{"$error":"#N/A"}]
[null,null,null,null,null,null,null,null,null,null,null,{"$error":"#N/A"},163,{"$f":"VLOOKUP($M180,Funknavigation!$A$2:$AC$185,N$17,FALSE)","v":"Taunus "},{"$f":"VLOOKUP($M180,Funknavigation!$A$2:$AC$185,O$17,FALSE)","v":"DVORTAC "},{"$f":"VLOOKUP($M180,Funknavigation!$A$2:$AC$185,P$17,FALSE)","v":"TAU"},{"$f":"VLOOKUP($M180,Funknavigation!$A$2:$AC$185,Q$17,FALSE)","v":"−   · −   · · −"},{"$f":"VLOOKUP($M180,Funknavigation!$A$2:$AC$185,R$17,FALSE)","v":163},{"$f":"VLOOKUP($M180,Funknavigation!$A$2:$AC$185,S$17,FALSE)","v":50.250599999999999},{"$f":"VLOOKUP($M180,Funknavigation!$A$2:$AC$185,T$17,FALSE)","v":8.1624999999999996},{"$f":"VLOOKUP($M180,Funknavigation!$A$2:$AC$185,U$17,FALSE)","v":"116.70"},{"$f":"VLOOKUP($M180,Funknavigation!$A$2:$AC$185,V$17,FALSE)","v":""},{"$f":"VLOOKUP($M180,Funknavigation!$A$2:$AC$185,W$17,FALSE)","v":"Ch 114x "},{"$f":"VLOOKUP($M180,Funknavigation!$A$2:$AC$185,X$17,FALSE)","v":40},null,null,0.8770384211026625,0.14246250019403714,{"$f":"IF(AG180=1,MAX(MAX(AC$18:$AC179),MAX($AD$18:$AD$193))+1,\"-\")","v":{"$error":"#N/A"}},{"$f":"IF(AH180=1,MAX($AD$18:AD179)+1,\"-\")","v":{"$error":"#N/A"}},{"$error":"#N/A"},{"$error":"#N/A"},{"$error":"#N/A"},{"$error":"#N/A"},{"$error":"#N/A"},{"$error":"#N/A"},{"$error":"#N/A"},{"$error":"#N/A"},{"$error":"#N/A"},{"$error":"#N/A"},{"$error":"#N/A"},{"$error":"#N/A"},{"$error":"#N/A"},{"$error":"#N/A"},{"$error":"#N/A"},{"$error":"#N/A"},{"$error":"#N/A"},{"$error":"#N/A"},{"$error":"#N/A"},{"$error":"#N/A"},{"$error":"#N/A"},{"$error":"#N/A"},{"$error":"#N/A"},{"$error":"#N/A"},{"$error":"#N/A"},{"$error":"#N/A"},{"$error":"#N/A"},{"$error":"#N/A"},{"$error":"#N/A"},{"$error":"#N/A"},{"$error":"#N/A"},{"$error":"#N/A"},{"$error":"#N/A"},{"$error":"#N/A"},{"$error":"#N/A"},{"$error":"#N/A"},{"$error":"#N/A"},{"$error":"#N/A"},{"$error":"#N/A"},{"$error":"#N/A"},{"$error":"#N/A"},{"$error":"#N/A"},{"$error":"#N/A"},{"$error":"#N/A"},{"$error":"#N/A"},{"$error":"#N/A"},{"$error":"#N/A"},{"$error":"#N/A"},{"$error":"#N/A"},{"$error":"#N/A"},{"$error":"#N/A"},{"$error":"#N/A"},{"$error":"#N/A"},{"$error":"#N/A"},{"$error":"#N/A"},{"$error":"#N/A"},{"$error":"#N/A"},{"$error":"#N/A"},{"$error":"#N/A"},{"$error":"#N/A"},{"$error":"#N/A"},{"$error":"#N/A"},{"$error":"#N/A"},{"$error":"#N/A"},{"$error":"#N/A"},{"$error":"#N/A"},{"$error":"#N/A"},{"$error":"#N/A"},{"$error":"#N/A"},{"$error":"#N/A"},{"$error":"#N/A"},{"$error":"#N/A"},{"$error":"#N/A"},{"$error":"#N/A"},{"$error":"#N/A"},{"$error":"#N/A"},{"$error":"#N/A"},{"$error":"#N/A"},{"$error":"#N/A"},{"$error":"#N/A"},{"$error":"#N/A"},{"$error":"#N/A"},{"$error":"#N/A"},{"$error":"#N/A"},{"$error":"#N/A"},{"$error":"#N/A"},{"$error":"#N/A"},{"$error":"#N/A"},{"$error":"#N/A"},{"$error":"#N/A"},{"$error":"#N/A"},{"$error":"#N/A"},{"$error":"#N/A"},{"$error":"#N/A"},{"$error":"#N/A"},{"$error":"#N/A"},{"$error":"#N/A"},{"$error":"#N/A"},{"$error":"#N/A"},{"$error":"#N/A"},{"$error":"#N/A"},{"$error":"#N/A"},{"$error":"#N/A"},{"$error":"#N/A"},{"$error":"#N/A"},{"$error":"#N/A"}]
[null,null,null,null,null,null,null,null,null,null,null,{"$error":"#N/A"},164,{"$f":"VLOOKUP($M181,Funknavigation!$A$2:$AC$185,N$17,FALSE)","v":"Trent "},{"$f":"VLOOKUP($M181,Funknavigation!$A$2:$AC$185,O$17,FALSE)","v":"VOR/DME"},{"$f":"VLOOKUP($M181,Funknavigation!$A$2:$AC$185,P$17,FALSE)","v":"TRT"},{"$f":"VLOOKUP($M181,Funknavigation!$A$2:$AC$185,Q$17,FALSE)","v":"−   · − ·   −"},{"$f":"VLOOKUP($M181,Funknavigation!$A$2:$AC$185,R$17,FALSE)","v":164},{"$f":"VLOOKUP($M181,Funknavigation!$A$2:$AC$185,S$17,FALSE)","v":54.510800000000003},{"$f":"VLOOKUP($M181,Funknavigation!$A$2:$AC$185,T$17,FALSE)","v":13.2494},{"$f":"VLOOKUP($M181,Funknavigation!$A$2:$AC$185,U$17,FALSE)","v":"108.45"},{"$f":"VLOOKUP($M181,Funknavigation!$A$2:$AC$185,V$17,FALSE)","v":""},{"$f":"VLOOKUP($M181,Funknavigation!$A$2:$AC$185,W$17,FALSE)","v":"Ch 21y "},{"$f":"VLOOKUP($M181,Funknavigation!$A$2:$AC$185,X$17,FALSE)","v":60},null,null,0.95139293789612511,0.23124565391373669,{"$f":"IF(AG181=1,MAX(MAX(AC$18:$AC180),MAX($AD$18:$AD$193))+1,\"-\")","v":{"$error":"#N/A"}},{"$f":"IF(AH181=1,MAX($AD$18:AD180)+1,\"-\")","v":{"$error":"#N/A"}},{"$error":"#N/A"},{"$error":"#N/A"},{"$error":"#N/A"},{"$error":"#N/A"},{"$error":"#N/A"},{"$error":"#N/A"},{"$error":"#N/A"},{"$error":"#N/A"},{"$error":"#N/A"},{"$error":"#N/A"},{"$error":"#N/A"},{"$error":"#N/A"},{"$error":"#N/A"},{"$error":"#N/A"},{"$error":"#N/A"},{"$error":"#N/A"},{"$error":"#N/A"},{"$error":"#N/A"},{"$error":"#N/A"},{"$error":"#N/A"},{"$error":"#N/A"},{"$error":"#N/A"},{"$error":"#N/A"},{"$error":"#N/A"},{"$error":"#N/A"},{"$error":"#N/A"},{"$error":"#N/A"},{"$error":"#N/A"},{"$error":"#N/A"},{"$error":"#N/A"},{"$error":"#N/A"},{"$error":"#N/A"},{"$error":"#N/A"},{"$error":"#N/A"},{"$error":"#N/A"},{"$error":"#N/A"},{"$error":"#N/A"},{"$error":"#N/A"},{"$error":"#N/A"},{"$error":"#N/A"},{"$error":"#N/A"},{"$error":"#N/A"},{"$error":"#N/A"},{"$error":"#N/A"},{"$error":"#N/A"},{"$error":"#N/A"},{"$error":"#N/A"},{"$error":"#N/A"},{"$error":"#N/A"},{"$error":"#N/A"},{"$error":"#N/A"},{"$error":"#N/A"},{"$error":"#N/A"},{"$error":"#N/A"},{"$error":"#N/A"},{"$error":"#N/A"},{"$error":"#N/A"},{"$error":"#N/A"},{"$error":"#N/A"},{"$error":"#N/A"},{"$error":"#N/A"},{"$error":"#N/A"},{"$error":"#N/A"},{"$error":"#N/A"},{"$error":"#N/A"},{"$error":"#N/A"},{"$error":"#N/A"},{"$error":"#N/A"},{"$error":"#N/A"},{"$error":"#N/A"},{"$error":"#N/A"},{"$error":"#N/A"},{"$error":"#N/A"},{"$error":"#N/A"},{"$error":"#N/A"},{"$error":"#N/A"},{"$error":"#N/A"},{"$error":"#N/A"},{"$error":"#N/A"},{"$error":"#N/A"},{"$error":"#N/A"},{"$error":"#N/A"},{"$error":"#N/A"},{"$error":"#N/A"},{"$error":"#N/A"},{"$error":"#N/A"},{"$error":"#N/A"},{"$error":"#N/A"},{"$error":"#N/A"},{"$error":"#N/A"},{"$error":"#N/A"},{"$error":"#N/A"},{"$error":"#N/A"},{"$error":"#N/A"},{"$error":"#N/A"},{"$error":"#N/A"},{"$error":"#N/A"},{"$error":"#N/A"},{"$error":"#N/A"},{"$error":"#N/A"},{"$error":"#N/A"},{"$error":"#N/A"},{"$error":"#N/A"},{"$error":"#N/A"},{"$error":"#N/A"},{"$error":"#N/A"}]
[null,null,null,null,null,null,null,null,null,null,null,{"$error":"#N/A"},165,{"$f":"VLOOKUP($M182,Funknavigation!$A$2:$AC$185,N$17,FALSE)","v":"Walda "},{"$f":"VLOOKUP($M182,Funknavigation!$A$2:$AC$185,O$17,FALSE)","v":"DVOR/DME "},{"$f":"VLOOKUP($M182,Funknavigation!$A$2:$AC$185,P$17,FALSE)","v":"WLD"},{"$f":"VLOOKUP($M182,Funknavigation!$A$2:$AC$185,Q$17,FALSE)","v":"· − −   · − · ·   − · ·"},{"$f":"VLOOKUP($M182,Funknavigation!$A$2:$AC$185,R$17,FALSE)","v":165},{"$f":"VLOOKUP($M182,Funknavigation!$A$2:$AC$185,S$17,FALSE)","v":48.5794},{"$f":"VLOOKUP($M182,Funknavigation!$A$2:$AC$185,T$17,FALSE)","v":11.1294},{"$f":"VLOOKUP($M182,Funknavigation!$A$2:$AC$185,U$17,FALSE)","v":"112.80"},{"$f":"VLOOKUP($M182,Funknavigation!$A$2:$AC$185,V$17,FALSE)","v":""},{"$f":"VLOOKUP($M182,Funknavigation!$A$2:$AC$185,W$17,FALSE)","v":"Ch 75x "},{"$f":"VLOOKUP($M182,Funknavigation!$A$2:$AC$185,X$17,FALSE)","v":60},null,null,0.8478704786433332,0.19424467377145693,{"$f":"IF(AG182=1,MAX(MAX(AC$18:$AC181),MAX($AD$18:$AD$193))+1,\"-\")","v":{"$error":"#N/A"}},{"$f":"IF(AH182=1,MAX($AD$18:AD181)+1,\"-\")","v":{"$error":"#N/A"}},{"$error":"#N/A"},{"$error":"#N/A"},{"$error":"#N/A"},{"$error":"#N/A"},{"$error":"#N/A"},{"$error":"#N/A"},{"$error":"#N/A"},{"$error":"#N/A"},{"$error":"#N/A"},{"$error":"#N/A"},{"$error":"#N/A"},{"$error":"#N/A"},{"$error":"#N/A"},{"$error":"#N/A"},{"$error":"#N/A"},{"$error":"#N/A"},{"$error":"#N/A"},{"$error":"#N/A"},{"$error":"#N/A"},{"$error":"#N/A"},{"$error":"#N/A"},{"$error":"#N/A"},{"$error":"#N/A"},{"$error":"#N/A"},{"$error":"#N/A"},{"$error":"#N/A"},{"$error":"#N/A"},{"$error":"#N/A"},{"$error":"#N/A"},{"$error":"#N/A"},{"$error":"#N/A"},{"$error":"#N/A"},{"$error":"#N/A"},{"$error":"#N/A"},{"$error":"#N/A"},{"$error":"#N/A"},{"$error":"#N/A"},{"$error":"#N/A"},{"$error":"#N/A"},{"$error":"#N/A"},{"$error":"#N/A"},{"$error":"#N/A"},{"$error":"#N/A"},{"$error":"#N/A"},{"$error":"#N/A"},{"$error":"#N/A"},{"$error":"#N/A"},{"$error":"#N/A"},{"$error":"#N/A"},{"$error":"#N/A"},{"$error":"#N/A"},{"$error":"#N/A"},{"$error":"#N/A"},{"$error":"#N/A"},{"$error":"#N/A"},{"$error":"#N/A"},{"$error":"#N/A"},{"$error":"#N/A"},{"$error":"#N/A"},{"$error":"#N/A"},{"$error":"#N/A"},{"$error":"#N/A"},{"$error":"#N/A"},{"$error":"#N/A"},{"$error":"#N/A"},{"$error":"#N/A"},{"$error":"#N/A"},{"$error":"#N/A"},{"$error":"#N/A"},{"$error":"#N/A"},{"$error":"#N/A"},{"$error":"#N/A"},{"$error":"#N/A"},{"$error":"#N/A"},{"$error":"#N/A"},{"$error":"#N/A"},{"$error":"#N/A"},{"$error":"#N/A"},{"$error":"#N/A"},{"$error":"#N/A"},{"$error":"#N/A"},{"$error":"#N/A"},{"$error":"#N/A"},{"$error":"#N/A"},{"$error":"#N/A"},{"$error":"#N/A"},{"$error":"#N/A"},{"$error":"#N/A"},{"$error":"#N/A"},{"$error":"#N/A"},{"$error":"#N/A"},{"$error":"#N/A"},{"$error":"#N/A"},{"$error":"#N/A"},{"$error":"#N/A"},{"$error":"#N/A"},{"$f":"IF(DW$3=\"OK\",(21600/(2*PI()))*ACOS(SIN($AA182)*SIN(DW$6)+COS(DW$6)*COS($AA182)*COS($AB182-DW$7)),\"-\")","v":{"$error":"#N/A"}},{"$error":"#N/A"},{"$error":"#N/A"},{"$error":"#N/A"},{"$error":"#N/A"},{"$error":"#N/A"},{"$error":"#N/A"},{"$error":"#N/A"},{"$error":"#N/A"},{"$error":"#N/A"}]
[null,null,null,null,null,null,null,null,null,null,null,{"$error":"#N/A"},166,{"$f":"VLOOKUP($M183,Funknavigation!$A$2:$AC$185,N$17,FALSE)","v":"Warburg "},{"$f":"VLOOKUP($M183,Funknavigation!$A$2:$AC$185,O$17,FALSE)","v":"DVOR/DME "},{"$f":"VLOOKUP($M183,Funknavigation!$A$2:$AC$185,P$17,FALSE)","v":"WRB"},{"$f":"VLOOKUP($M183,Funknavigation!$A$2:$AC$185,Q$17,FALSE)","v":"· − −   · − ·   − · · ·"},{"$f":"VLOOKUP($M183,Funknavigation!$A$2:$AC$185,R$17,FALSE)","v":166},{"$f":"VLOOKUP($M183,Funknavigation!$A$2:$AC$185,S$17,FALSE)","v":51.505800000000001},{"$f":"VLOOKUP($M183,Funknavigation!$A$2:$AC$185,T$17,FALSE)","v":9.1107999999999993},{"$f":"VLOOKUP($M183,Funknavigation!$A$2:$AC$185,U$17,FALSE)","v":"113.70"},{"$f":"VLOOKUP($M183,Funknavigation!$A$2:$AC$185,V$17,FALSE)","v":""},{"$f":"VLOOKUP($M183,Funknavigation!$A$2:$AC$185,W$17,FALSE)","v":"Ch 84x "},{"$f":"VLOOKUP($M183,Funknavigation!$A$2:$AC$185,X$17,FALSE)","v":80},null,null,0.89894579387369533,0.15901345749069937,{"$f":"IF(AG183=1,MAX(MAX(AC$18:$AC182),MAX($AD$18:$AD$193))+1,\"-\")","v":{"$error":"#N/A"}},{"$f":"IF(AH183=1,MAX($AD$18:AD182)+1,\"-\")","v":{"$error":"#N/A"}},{"$error":"#N/A"},{"$error":"#N/A"},{"$error":"#N/A"},{"$error":"#N/A"},{"$error":"#N/A"},{"$error":"#N/A"},{"$error":"#N/A"},{"$error":"#N/A"},{"$error":"#N/A"},{"$error":"#N/A"},{"$error":"#N/A"},{"$error":"#N/A"},{"$error":"#N/A"},{"$error":"#N/A"},{"$error":"#N/A"},{"$error":"#N/A"},{"$error":"#N/A"},{"$error":"#N/A"},{"$error":"#N/A"},{"$error":"#N/A"},{"$error":"#N/A"},{"$error":"#N/A"},{"$error":"#N/A"},{"$error":"#N/A"},{"$error":"#N/A"},{"$error":"#N/A"},{"$error":"#N/A"},{"$error":"#N/A"},{"$error":"#N/A"},{"$error":"#N/A"},{"$error":"#N/A"},{"$error":"#N/A"},{"$error":"#N/A"},{"$error":"#N/A"},{"$error":"#N/A"},{"$error":"#N/A"},{"$error":"#N/A"},{"$error":"#N/A"},{"$error":"#N/A"},{"$error":"#N/A"},{"$error":"#N/A"},{"$error":"#N/A"},{"$error":"#N/A"},{"$error":"#N/A"},{"$error":"#N/A"},{"$error":"#N/A"},{"$error":"#N/A"},{"$error":"#N/A"},{"$error":"#N/A"},{"$error":"#N/A"},{"$error":"#N/A"},{"$error":"#N/A"},{"$error":"#N/A"},{"$error":"#N/A"},{"$error":"#N/A"},{"$error":"#N/A"},{"$error":"#N/A"},{"$error":"#N/A"},{"$error":"#N/A"},{"$error":"#N/A"},{"$error":"#N/A"},{"$error":"#N/A"},{"$error":"#N/A"},{"$error":"#N/A"},{"$error":"#N/A"},{"$error":"#N/A"},{"$error":"#N/A"},{"$error":"#N/A"},{"$error":"#N/A"},{"$error":"#N/A"},{"$error":"#N/A"},{"$error":"#N/A"},{"$error":"#N/A"},{"$error":"#N/A"},{"$error":"#N/A"},{"$error":"#N/A"},{"$error":"#N/A"},{"$error":"#N/A"},{"$error":"#N/A"},{"$error":"#N/A"},{"$error":"#N/A"},{"$error":"#N/A"},{"$error":"#N/A"},{"$error":"#N/A"},{"$error":"#N/A"},{"$error":"#N/A"},{"$error":"#N/A"},{"$error":"#N/A"},{"$error":"#N/A"},{"$error":"#N/A"},{"$error":"#N/A"},{"$error":"#N/A"},{"$error":"#N/A"},{"$error":"#N/A"},{"$error":"#N/A"},{"$error":"#N/A"},{"$error":"#N/A"},{"$error":"#N/A"},{"$error":"#N/A"},{"$error":"#N/A"},{"$error":"#N/A"},{"$error":"#N/A"},{"$error":"#N/A"},{"$error":"#N/A"},{"$error":"#N/A"},{"$error":"#N/A"}]
[null,null,null,null,null,null,null,null,null,null,null,{"$error":"#N/A"},167,{"$f":"VLOOKUP($M184,Funknavigation!$A$2:$AC$185,N$17,FALSE)","v":"Wax "},{"$f":"VLOOKUP($M184,Funknavigation!$A$2:$AC$185,O$17,FALSE)","v":"DME "},{"$f":"VLOOKUP($M184,Funknavigation!$A$2:$AC$185,P$17,FALSE)","v":"DND"},{"$f":"VLOOKUP($M184,Funknavigation!$A$2:$AC$185,Q$17,FALSE)","v":"− · ·   − ·   − · ·"},{"$f":"VLOOKUP($M184,Funknavigation!$A$2:$AC$185,R$17,FALSE)","v":167},{"$f":"VLOOKUP($M184,Funknavigation!$A$2:$AC$185,S$17,FALSE)","v":51.129399999999997},{"$f":"VLOOKUP($M184,Funknavigation!$A$2:$AC$185,T$17,FALSE)","v":13.7575},{"$f":"VLOOKUP($M184,Funknavigation!$A$2:$AC$185,U$17,FALSE)","v":"115.40"},{"$f":"VLOOKUP($M184,Funknavigation!$A$2:$AC$185,V$17,FALSE)","v":""},{"$f":"VLOOKUP($M184,Funknavigation!$A$2:$AC$185,W$17,FALSE)","v":"Ch 101x (*) "},{"$f":"VLOOKUP($M184,Funknavigation!$A$2:$AC$185,X$17,FALSE)","v":25},null,null,0.89237637456918861,0.24011367184311988,{"$f":"IF(AG184=1,MAX(MAX(AC$18:$AC183),MAX($AD$18:$AD$193))+1,\"-\")","v":{"$error":"#N/A"}},{"$f":"IF(AH184=1,MAX($AD$18:AD183)+1,\"-\")","v":{"$error":"#N/A"}},{"$error":"#N/A"},{"$error":"#N/A"},{"$error":"#N/A"},{"$error":"#N/A"},{"$error":"#N/A"},{"$error":"#N/A"},{"$error":"#N/A"},{"$error":"#N/A"},{"$error":"#N/A"},{"$error":"#N/A"},{"$error":"#N/A"},{"$error":"#N/A"},{"$error":"#N/A"},{"$error":"#N/A"},{"$error":"#N/A"},{"$error":"#N/A"},{"$error":"#N/A"},{"$error":"#N/A"},{"$error":"#N/A"},{"$error":"#N/A"},{"$error":"#N/A"},{"$error":"#N/A"},{"$error":"#N/A"},{"$error":"#N/A"},{"$error":"#N/A"},{"$error":"#N/A"},{"$error":"#N/A"},{"$error":"#N/A"},{"$error":"#N/A"},{"$error":"#N/A"},{"$error":"#N/A"},{"$error":"#N/A"},{"$error":"#N/A"},{"$error":"#N/A"},{"$error":"#N/A"},{"$error":"#N/A"},{"$error":"#N/A"},{"$error":"#N/A"},{"$error":"#N/A"},{"$error":"#N/A"},{"$error":"#N/A"},{"$error":"#N/A"},{"$error":"#N/A"},{"$error":"#N/A"},{"$error":"#N/A"},{"$error":"#N/A"},{"$error":"#N/A"},{"$error":"#N/A"},{"$error":"#N/A"},{"$error":"#N/A"},{"$error":"#N/A"},{"$error":"#N/A"},{"$error":"#N/A"},{"$error":"#N/A"},{"$error":"#N/A"},{"$error":"#N/A"},{"$error":"#N/A"},{"$error":"#N/A"},{"$error":"#N/A"},{"$error":"#N/A"},{"$error":"#N/A"},{"$error":"#N/A"},{"$error":"#N/A"},{"$error":"#N/A"},{"$error":"#N/A"},{"$error":"#N/A"},{"$error":"#N/A"},{"$error":"#N/A"},{"$error":"#N/A"},{"$error":"#N/A"},{"$error":"#N/A"},{"$error":"#N/A"},{"$error":"#N/A"},{"$error":"#N/A"},{"$error":"#N/A"},{"$error":"#N/A"},{"$error":"#N/A"},{"$error":"#N/A"},{"$error":"#N/A"},{"$error":"#N/A"},{"$error":"#N/A"},{"$error":"#N/A"},{"$error":"#N/A"},{"$error":"#N/A"},{"$error":"#N/A"},{"$error":"#N/A"},{"$error":"#N/A"},{"$error":"#N/A"},{"$error":"#N/A"},{"$error":"#N/A"},{"$error":"#N/A"},{"$error":"#N/A"},{"$error":"#N/A"},{"$error":"#N/A"},{"$error":"#N/A"},{"$error":"#N/A"},{"$error":"#N/A"},{"$error":"#N/A"},{"$error":"#N/A"},{"$error":"#N/A"},{"$error":"#N/A"},{"$error":"#N/A"},{"$error":"#N/A"},{"$error":"#N/A"},{"$error":"#N/A"},{"$error":"#N/A"}]
[null,null,null,null,null,null,null,null,null,null,null,{"$error":"#N/A"},168,{"$f":"VLOOKUP($M185,Funknavigation!$A$2:$AC$185,N$17,FALSE)","v":"Weser "},{"$f":"VLOOKUP($M185,Funknavigation!$A$2:$AC$185,O$17,FALSE)","v":"NDB "},{"$f":"VLOOKUP($M185,Funknavigation!$A$2:$AC$185,P$17,FALSE)","v":"WSN"},{"$f":"VLOOKUP($M185,Funknavigation!$A$2:$AC$185,Q$17,FALSE)","v":"· − −   · · ·   − ·"},{"$f":"VLOOKUP($M185,Funknavigation!$A$2:$AC$185,R$17,FALSE)","v":168},{"$f":"VLOOKUP($M185,Funknavigation!$A$2:$AC$185,S$17,FALSE)","v":53.347200000000001},{"$f":"VLOOKUP($M185,Funknavigation!$A$2:$AC$185,T$17,FALSE)","v":8.8747000000000007},{"$f":"VLOOKUP($M185,Funknavigation!$A$2:$AC$185,U$17,FALSE)","v":""},{"$f":"VLOOKUP($M185,Funknavigation!$A$2:$AC$185,V$17,FALSE)","v":378},{"$f":"VLOOKUP($M185,Funknavigation!$A$2:$AC$185,W$17,FALSE)","v":""},{"$f":"VLOOKUP($M185,Funknavigation!$A$2:$AC$185,X$17,FALSE)","v":60},null,null,0.93108428671991894,0.15489273512674076,{"$f":"IF(AG185=1,MAX(MAX(AC$18:$AC184),MAX($AD$18:$AD$193))+1,\"-\")","v":{"$error":"#N/A"}},{"$f":"IF(AH185=1,MAX($AD$18:AD184)+1,\"-\")","v":{"$error":"#N/A"}},{"$error":"#N/A"},{"$error":"#N/A"},{"$error":"#N/A"},{"$error":"#N/A"},{"$error":"#N/A"},{"$error":"#N/A"},{"$error":"#N/A"},{"$error":"#N/A"},{"$error":"#N/A"},{"$error":"#N/A"},{"$error":"#N/A"},{"$error":"#N/A"},{"$error":"#N/A"},{"$error":"#N/A"},{"$error":"#N/A"},{"$error":"#N/A"},{"$error":"#N/A"},{"$error":"#N/A"},{"$error":"#N/A"},{"$error":"#N/A"},{"$error":"#N/A"},{"$error":"#N/A"},{"$error":"#N/A"},{"$error":"#N/A"},{"$error":"#N/A"},{"$error":"#N/A"},{"$error":"#N/A"},{"$error":"#N/A"},{"$error":"#N/A"},{"$error":"#N/A"},{"$error":"#N/A"},{"$error":"#N/A"},{"$error":"#N/A"},{"$error":"#N/A"},{"$error":"#N/A"},{"$error":"#N/A"},{"$error":"#N/A"},{"$error":"#N/A"},{"$error":"#N/A"},{"$error":"#N/A"},{"$error":"#N/A"},{"$error":"#N/A"},{"$error":"#N/A"},{"$error":"#N/A"},{"$error":"#N/A"},{"$error":"#N/A"},{"$error":"#N/A"},{"$error":"#N/A"},{"$error":"#N/A"},{"$error":"#N/A"},{"$error":"#N/A"},{"$error":"#N/A"},{"$error":"#N/A"},{"$error":"#N/A"},{"$error":"#N/A"},{"$error":"#N/A"},{"$error":"#N/A"},{"$error":"#N/A"},{"$error":"#N/A"},{"$error":"#N/A"},{"$error":"#N/A"},{"$error":"#N/A"},{"$error":"#N/A"},{"$error":"#N/A"},{"$error":"#N/A"},{"$error":"#N/A"},{"$error":"#N/A"},{"$error":"#N/A"},{"$error":"#N/A"},{"$error":"#N/A"},{"$error":"#N/A"},{"$error":"#N/A"},{"$error":"#N/A"},{"$error":"#N/A"},{"$error":"#N/A"},{"$error":"#N/A"},{"$error":"#N/A"},{"$error":"#N/A"},{"$error":"#N/A"},{"$error":"#N/A"},{"$error":"#N/A"},{"$error":"#N/A"},{"$error":"#N/A"},{"$error":"#N/A"},{"$error":"#N/A"},{"$error":"#N/A"},{"$error":"#N/A"},{"$error":"#N/A"},{"$error":"#N/A"},{"$error":"#N/A"},{"$error":"#N/A"},{"$error":"#N/A"},{"$error":"#N/A"},{"$error":"#N/A"},{"$error":"#N/A"},{"$error":"#N/A"},{"$error":"#N/A"},{"$error":"#N/A"},{"$error":"#N/A"},{"$error":"#N/A"},{"$error":"#N/A"},{"$error":"#N/A"},{"$error":"#N/A"},{"$error":"#N/A"},{"$error":"#N/A"},{"$error":"#N/A"}]
[null,null,null,null,null,null,null,null,null,null,null,{"$error":"#N/A"},169,{"$f":"VLOOKUP($M186,Funknavigation!$A$2:$AC$185,N$17,FALSE)","v":"Westerland/Sylt "},{"$f":"VLOOKUP($M186,Funknavigation!$A$2:$AC$185,O$17,FALSE)","v":"NDB "},{"$f":"VLOOKUP($M186,Funknavigation!$A$2:$AC$185,P$17,FALSE)","v":"SLT"},{"$f":"VLOOKUP($M186,Funknavigation!$A$2:$AC$185,Q$17,FALSE)","v":"· · ·   · − · ·   −"},{"$f":"VLOOKUP($M186,Funknavigation!$A$2:$AC$185,R$17,FALSE)","v":169},{"$f":"VLOOKUP($M186,Funknavigation!$A$2:$AC$185,S$17,FALSE)","v":54.856900000000003},{"$f":"VLOOKUP($M186,Funknavigation!$A$2:$AC$185,T$17,FALSE)","v":8.41},{"$f":"VLOOKUP($M186,Funknavigation!$A$2:$AC$185,U$17,FALSE)","v":""},{"$f":"VLOOKUP($M186,Funknavigation!$A$2:$AC$185,V$17,FALSE)","v":387},{"$f":"VLOOKUP($M186,Funknavigation!$A$2:$AC$185,W$17,FALSE)","v":""},{"$f":"VLOOKUP($M186,Funknavigation!$A$2:$AC$185,X$17,FALSE)","v":25},null,null,0.95743352243727742,0.14678219009272311,{"$f":"IF(AG186=1,MAX(MAX(AC$18:$AC185),MAX($AD$18:$AD$193))+1,\"-\")","v":{"$error":"#N/A"}},{"$f":"IF(AH186=1,MAX($AD$18:AD185)+1,\"-\")","v":{"$error":"#N/A"}},{"$error":"#N/A"},{"$error":"#N/A"},{"$error":"#N/A"},{"$error":"#N/A"},{"$error":"#N/A"},{"$error":"#N/A"},{"$error":"#N/A"},{"$error":"#N/A"},{"$error":"#N/A"},{"$error":"#N/A"},{"$error":"#N/A"},{"$error":"#N/A"},{"$error":"#N/A"},{"$error":"#N/A"},{"$error":"#N/A"},{"$error":"#N/A"},{"$error":"#N/A"},{"$error":"#N/A"},{"$error":"#N/A"},{"$error":"#N/A"},{"$error":"#N/A"},{"$error":"#N/A"},{"$error":"#N/A"},{"$error":"#N/A"},{"$error":"#N/A"},{"$error":"#N/A"},{"$error":"#N/A"},{"$error":"#N/A"},{"$error":"#N/A"},{"$error":"#N/A"},{"$error":"#N/A"},{"$error":"#N/A"},{"$error":"#N/A"},{"$error":"#N/A"},{"$error":"#N/A"},{"$error":"#N/A"},{"$error":"#N/A"},{"$error":"#N/A"},{"$error":"#N/A"},{"$error":"#N/A"},{"$error":"#N/A"},{"$error":"#N/A"},{"$error":"#N/A"},{"$error":"#N/A"},{"$error":"#N/A"},{"$error":"#N/A"},{"$error":"#N/A"},{"$error":"#N/A"},{"$error":"#N/A"},{"$error":"#N/A"},{"$error":"#N/A"},{"$error":"#N/A"},{"$error":"#N/A"},{"$error":"#N/A"},{"$error":"#N/A"},{"$error":"#N/A"},{"$error":"#N/A"},{"$error":"#N/A"},{"$error":"#N/A"},{"$error":"#N/A"},{"$error":"#N/A"},{"$error":"#N/A"},{"$error":"#N/A"},{"$error":"#N/A"},{"$error":"#N/A"},{"$error":"#N/A"},{"$error":"#N/A"},{"$error":"#N/A"},{"$error":"#N/A"},{"$error":"#N/A"},{"$error":"#N/A"},{"$error":"#N/A"},{"$error":"#N/A"},{"$error":"#N/A"},{"$error":"#N/A"},{"$error":"#N/A"},{"$error":"#N/A"},{"$error":"#N/A"},{"$error":"#N/A"},{"$error":"#N/A"},{"$error":"#N/A"},{"$error":"#N/A"},{"$error":"#N/A"},{"$error":"#N/A"},{"$error":"#N/A"},{"$error":"#N/A"},{"$error":"#N/A"},{"$error":"#N/A"},{"$error":"#N/A"},{"$error":"#N/A"},{"$error":"#N/A"},{"$error":"#N/A"},{"$error":"#N/A"},{"$error":"#N/A"},{"$error":"#N/A"},{"$error":"#N/A"},{"$error":"#N/A"},{"$error":"#N/A"},{"$error":"#N/A"},{"$error":"#N/A"},{"$error":"#N/A"},{"$error":"#N/A"},{"$error":"#N/A"},{"$error":"#N/A"},{"$error":"#N/A"},{"$error":"#N/A"}]
[null,null,null,null,null,null,null,null,null,null,null,{"$error":"#N/A"},170,{"$f":"VLOOKUP($M187,Funknavigation!$A$2:$AC$185,N$17,FALSE)","v":"Westerland/Sylt "},{"$f":"VLOOKUP($M187,Funknavigation!$A$2:$AC$185,O$17,FALSE)","v":"DME/ILS "},{"$f":"VLOOKUP($M187,Funknavigation!$A$2:$AC$185,P$17,FALSE)","v":"WES"},{"$f":"VLOOKUP($M187,Funknavigation!$A$2:$AC$185,Q$17,FALSE)","v":"· − −   ·   · · ·"},{"$f":"VLOOKUP($M187,Funknavigation!$A$2:$AC$185,R$17,FALSE)","v":170},{"$f":"VLOOKUP($M187,Funknavigation!$A$2:$AC$185,S$17,FALSE)","v":54.910600000000002},{"$f":"VLOOKUP($M187,Funknavigation!$A$2:$AC$185,T$17,FALSE)","v":8.3397000000000006},{"$f":"VLOOKUP($M187,Funknavigation!$A$2:$AC$185,U$17,FALSE)","v":"111.50"},{"$f":"VLOOKUP($M187,Funknavigation!$A$2:$AC$185,V$17,FALSE)","v":""},{"$f":"VLOOKUP($M187,Funknavigation!$A$2:$AC$185,W$17,FALSE)","v":"Ch 52x "},{"$f":"VLOOKUP($M187,Funknavigation!$A$2:$AC$185,X$17,FALSE)","v":25},null,null,0.95837076424559831,0.1455552236285711,{"$f":"IF(AG187=1,MAX(MAX(AC$18:$AC186),MAX($AD$18:$AD$193))+1,\"-\")","v":{"$error":"#N/A"}},{"$f":"IF(AH187=1,MAX($AD$18:AD186)+1,\"-\")","v":{"$error":"#N/A"}},{"$error":"#N/A"},{"$error":"#N/A"},{"$error":"#N/A"},{"$error":"#N/A"},{"$error":"#N/A"},{"$error":"#N/A"},{"$error":"#N/A"},{"$error":"#N/A"},{"$error":"#N/A"},{"$error":"#N/A"},{"$error":"#N/A"},{"$error":"#N/A"},{"$error":"#N/A"},{"$error":"#N/A"},{"$error":"#N/A"},{"$error":"#N/A"},{"$error":"#N/A"},{"$error":"#N/A"},{"$error":"#N/A"},{"$error":"#N/A"},{"$error":"#N/A"},{"$error":"#N/A"},{"$error":"#N/A"},{"$error":"#N/A"},{"$error":"#N/A"},{"$error":"#N/A"},{"$error":"#N/A"},{"$error":"#N/A"},{"$error":"#N/A"},{"$error":"#N/A"},{"$error":"#N/A"},{"$error":"#N/A"},{"$error":"#N/A"},{"$error":"#N/A"},{"$error":"#N/A"},{"$error":"#N/A"},{"$error":"#N/A"},{"$error":"#N/A"},{"$error":"#N/A"},{"$error":"#N/A"},{"$error":"#N/A"},{"$error":"#N/A"},{"$error":"#N/A"},{"$error":"#N/A"},{"$error":"#N/A"},{"$error":"#N/A"},{"$error":"#N/A"},{"$error":"#N/A"},{"$error":"#N/A"},{"$error":"#N/A"},{"$error":"#N/A"},{"$error":"#N/A"},{"$error":"#N/A"},{"$error":"#N/A"},{"$error":"#N/A"},{"$error":"#N/A"},{"$error":"#N/A"},{"$error":"#N/A"},{"$error":"#N/A"},{"$error":"#N/A"},{"$error":"#N/A"},{"$error":"#N/A"},{"$error":"#N/A"},{"$error":"#N/A"},{"$error":"#N/A"},{"$error":"#N/A"},{"$error":"#N/A"},{"$error":"#N/A"},{"$error":"#N/A"},{"$error":"#N/A"},{"$error":"#N/A"},{"$error":"#N/A"},{"$error":"#N/A"},{"$error":"#N/A"},{"$error":"#N/A"},{"$error":"#N/A"},{"$error":"#N/A"},{"$error":"#N/A"},{"$error":"#N/A"},{"$error":"#N/A"},{"$error":"#N/A"},{"$error":"#N/A"},{"$error":"#N/A"},{"$error":"#N/A"},{"$error":"#N/A"},{"$error":"#N/A"},{"$error":"#N/A"},{"$error":"#N/A"},{"$error":"#N/A"},{"$error":"#N/A"},{"$error":"#N/A"},{"$error":"#N/A"},{"$error":"#N/A"},{"$error":"#N/A"},{"$error":"#N/A"},{"$error":"#N/A"},{"$error":"#N/A"},{"$error":"#N/A"},{"$error":"#N/A"},{"$error":"#N/A"},{"$error":"#N/A"},{"$error":"#N/A"},{"$error":"#N/A"},{"$error":"#N/A"},{"$error":"#N/A"},{"$error":"#N/A"}]
[null,null,null,null,null,null,null,null,null,null,null,{"$error":"#N/A"},171,{"$f":"VLOOKUP($M188,Funknavigation!$A$2:$AC$185,N$17,FALSE)","v":"Wickede "},{"$f":"VLOOKUP($M188,Funknavigation!$A$2:$AC$185,O$17,FALSE)","v":"DVOR/DME"},{"$f":"VLOOKUP($M188,Funknavigation!$A$2:$AC$185,P$17,FALSE)","v":"DOR"},{"$f":"VLOOKUP($M188,Funknavigation!$A$2:$AC$185,Q$17,FALSE)","v":"− · ·   − − −   · − ·"},{"$f":"VLOOKUP($M188,Funknavigation!$A$2:$AC$185,R$17,FALSE)","v":171},{"$f":"VLOOKUP($M188,Funknavigation!$A$2:$AC$185,S$17,FALSE)","v":51.525300000000001},{"$f":"VLOOKUP($M188,Funknavigation!$A$2:$AC$185,T$17,FALSE)","v":7.6311},{"$f":"VLOOKUP($M188,Funknavigation!$A$2:$AC$185,U$17,FALSE)","v":"108.65"},{"$f":"VLOOKUP($M188,Funknavigation!$A$2:$AC$185,V$17,FALSE)","v":""},{"$f":"VLOOKUP($M188,Funknavigation!$A$2:$AC$185,W$17,FALSE)","v":"Ch 23y "},{"$f":"VLOOKUP($M188,Funknavigation!$A$2:$AC$185,X$17,FALSE)","v":25},null,null,0.89928613307783423,0.1331878205489393,{"$f":"IF(AG188=1,MAX(MAX(AC$18:$AC187),MAX($AD$18:$AD$193))+1,\"-\")","v":{"$error":"#N/A"}},{"$f":"IF(AH188=1,MAX($AD$18:AD187)+1,\"-\")","v":{"$error":"#N/A"}},{"$error":"#N/A"},{"$error":"#N/A"},{"$error":"#N/A"},{"$error":"#N/A"},{"$error":"#N/A"},{"$error":"#N/A"},{"$error":"#N/A"},{"$f":"IF(AL$3=\"OK\",(21600/(2*PI()))*ACOS(SIN($AA188)*SIN(AL$6)+COS(AL$6)*COS($AA188)*COS($AB188-AL$7)),\"-\")","v":{"$error":"#N/A"}},{"$error":"#N/A"},{"$error":"#N/A"},{"$error":"#N/A"},{"$error":"#N/A"},{"$error":"#N/A"},{"$error":"#N/A"},{"$error":"#N/A"},{"$error":"#N/A"},{"$error":"#N/A"},{"$f":"IF(AV$3=\"OK\",(21600/(2*PI()))*ACOS(SIN($AA188)*SIN(AV$6)+COS(AV$6)*COS($AA188)*COS($AB188-AV$7)),\"-\")","v":{"$error":"#N/A"}},{"$error":"#N/A"},{"$error":"#N/A"},{"$error":"#N/A"},{"$error":"#N/A"},{"$error":"#N/A"},{"$error":"#N/A"},{"$error":"#N/A"},{"$error":"#N/A"},{"$error":"#N/A"},{"$f":"IF(BF$3=\"OK\",(21600/(2*PI()))*ACOS(SIN($AA188)*SIN(BF$6)+COS(BF$6)*COS($AA188)*COS($AB188-BF$7)),\"-\")","v":{"$error":"#N/A"}},{"$error":"#N/A"},{"$error":"#N/A"},{"$error":"#N/A"},{"$error":"#N/A"},{"$error":"#N/A"},{"$error":"#N/A"},{"$error":"#N/A"},{"$error":"#N/A"},{"$error":"#N/A"},{"$f":"IF(BP$3=\"OK\",(21600/(2*PI()))*ACOS(SIN($AA188)*SIN(BP$6)+COS(BP$6)*COS($AA188)*COS($AB188-BP$7)),\"-\")","v":{"$error":"#N/A"}},{"$error":"#N/A"},{"$error":"#N/A"},{"$error":"#N/A"},{"$error":"#N/A"},{"$error":"#N/A"},{"$error":"#N/A"},{"$error":"#N/A"},{"$error":"#N/A"},{"$error":"#N/A"},{"$f":"IF(BZ$3=\"OK\",(21600/(2*PI()))*ACOS(SIN($AA188)*SIN(BZ$6)+COS(BZ$6)*COS($AA188)*COS($AB188-BZ$7)),\"-\")","v":{"$error":"#N/A"}},{"$error":"#N/A"},{"$error":"#N/A"},{"$error":"#N/A"},{"$error":"#N/A"},{"$error":"#N/A"},{"$error":"#N/A"},{"$error":"#N/A"},{"$error":"#N/A"},{"$error":"#N/A"},{"$f":"IF(CJ$3=\"OK\",(21600/(2*PI()))*ACOS(SIN($AA188)*SIN(CJ$6)+COS(CJ$6)*COS($AA188)*COS($AB188-CJ$7)),\"-\")","v":{"$error":"#N/A"}},{"$error":"#N/A"},{"$error":"#N/A"},{"$error":"#N/A"},{"$error":"#N/A"},{"$error":"#N/A"},{"$error":"#N/A"},{"$error":"#N/A"},{"$error":"#N/A"},{"$error":"#N/A"},{"$f":"IF(CT$3=\"OK\",(21600/(2*PI()))*ACOS(SIN($AA188)*SIN(CT$6)+COS(CT$6)*COS($AA188)*COS($AB188-CT$7)),\"-\")","v":{"$error":"#N/A"}},{"$error":"#N/A"},{"$error":"#N/A"},{"$error":"#N/A"},{"$error":"#N/A"},{"$error":"#N/A"},{"$error":"#N/A"},{"$error":"#N/A"},{"$error":"#N/A"},{"$error":"#N/A"},{"$error":"#N/A"},{"$error":"#N/A"},{"$error":"#N/A"},{"$error":"#N/A"},{"$error":"#N/A"},{"$error":"#N/A"},{"$error":"#N/A"},{"$error":"#N/A"},{"$error":"#N/A"},{"$error":"#N/A"},{"$error":"#N/A"},{"$error":"#N/A"},{"$error":"#N/A"},{"$error":"#N/A"},{"$error":"#N/A"},{"$error":"#N/A"},{"$error":"#N/A"},{"$error":"#N/A"},{"$error":"#N/A"},{"$error":"#N/A"},{"$error":"#N/A"},{"$error":"#N/A"},{"$error":"#N/A"},{"$error":"#N/A"},{"$error":"#N/A"},{"$error":"#N/A"},{"$error":"#N/A"},{"$error":"#N/A"},{"$error":"#N/A"}]
[null,null,null,null,null,null,null,null,null,null,null,{"$error":"#N/A"},172,{"$f":"VLOOKUP($M189,Funknavigation!$A$2:$AC$185,N$17,FALSE)","v":"Wiesbaden "},{"$f":"VLOOKUP($M189,Funknavigation!$A$2:$AC$185,O$17,FALSE)","v":"NDB "},{"$f":"VLOOKUP($M189,Funknavigation!$A$2:$AC$185,P$17,FALSE)","v":"WBD"},{"$f":"VLOOKUP($M189,Funknavigation!$A$2:$AC$185,Q$17,FALSE)","v":"· − −   − · · ·   − · ·"},{"$f":"VLOOKUP($M189,Funknavigation!$A$2:$AC$185,R$17,FALSE)","v":172},{"$f":"VLOOKUP($M189,Funknavigation!$A$2:$AC$185,S$17,FALSE)","v":50.049199999999999},{"$f":"VLOOKUP($M189,Funknavigation!$A$2:$AC$185,T$17,FALSE)","v":8.3285999999999998},{"$f":"VLOOKUP($M189,Funknavigation!$A$2:$AC$185,U$17,FALSE)","v":""},{"$f":"VLOOKUP($M189,Funknavigation!$A$2:$AC$185,V$17,FALSE)","v":399},{"$f":"VLOOKUP($M189,Funknavigation!$A$2:$AC$185,W$17,FALSE)","v":""},{"$f":"VLOOKUP($M189,Funknavigation!$A$2:$AC$185,X$17,FALSE)","v":25},null,null,0.873523327989146,0.14536149208159974,{"$f":"IF(AG189=1,MAX(MAX(AC$18:$AC188),MAX($AD$18:$AD$193))+1,\"-\")","v":{"$error":"#N/A"}},{"$f":"IF(AH189=1,MAX($AD$18:AD188)+1,\"-\")","v":{"$error":"#N/A"}},{"$error":"#N/A"},{"$error":"#N/A"},{"$error":"#N/A"},{"$error":"#N/A"},{"$error":"#N/A"},{"$error":"#N/A"},{"$error":"#N/A"},{"$error":"#N/A"},{"$error":"#N/A"},{"$error":"#N/A"},{"$error":"#N/A"},{"$error":"#N/A"},{"$error":"#N/A"},{"$error":"#N/A"},{"$error":"#N/A"},{"$error":"#N/A"},{"$error":"#N/A"},{"$error":"#N/A"},{"$error":"#N/A"},{"$error":"#N/A"},{"$error":"#N/A"},{"$error":"#N/A"},{"$error":"#N/A"},{"$error":"#N/A"},{"$error":"#N/A"},{"$error":"#N/A"},{"$error":"#N/A"},{"$error":"#N/A"},{"$error":"#N/A"},{"$error":"#N/A"},{"$error":"#N/A"},{"$error":"#N/A"},{"$error":"#N/A"},{"$error":"#N/A"},{"$error":"#N/A"},{"$error":"#N/A"},{"$error":"#N/A"},{"$error":"#N/A"},{"$error":"#N/A"},{"$error":"#N/A"},{"$error":"#N/A"},{"$error":"#N/A"},{"$error":"#N/A"},{"$error":"#N/A"},{"$error":"#N/A"},{"$error":"#N/A"},{"$error":"#N/A"},{"$error":"#N/A"},{"$error":"#N/A"},{"$error":"#N/A"},{"$error":"#N/A"},{"$error":"#N/A"},{"$error":"#N/A"},{"$error":"#N/A"},{"$error":"#N/A"},{"$error":"#N/A"},{"$error":"#N/A"},{"$error":"#N/A"},{"$error":"#N/A"},{"$error":"#N/A"},{"$error":"#N/A"},{"$error":"#N/A"},{"$error":"#N/A"},{"$error":"#N/A"},{"$error":"#N/A"},{"$error":"#N/A"},{"$error":"#N/A"},{"$error":"#N/A"},{"$error":"#N/A"},{"$error":"#N/A"},{"$error":"#N/A"},{"$error":"#N/A"},{"$error":"#N/A"},{"$error":"#N/A"},{"$error":"#N/A"},{"$error":"#N/A"},{"$error":"#N/A"},{"$error":"#N/A"},{"$error":"#N/A"},{"$error":"#N/A"},{"$error":"#N/A"},{"$error":"#N/A"},{"$error":"#N/A"},{"$error":"#N/A"},{"$error":"#N/A"},{"$error":"#N/A"},{"$error":"#N/A"},{"$error":"#N/A"},{"$error":"#N/A"},{"$error":"#N/A"},{"$error":"#N/A"},{"$error":"#N/A"},{"$error":"#N/A"},{"$error":"#N/A"},{"$error":"#N/A"},{"$error":"#N/A"},{"$error":"#N/A"},{"$error":"#N/A"},{"$error":"#N/A"},{"$error":"#N/A"},{"$error":"#N/A"},{"$error":"#N/A"},{"$error":"#N/A"},{"$error":"#N/A"},{"$error":"#N/A"},{"$error":"#N/A"}]
[null,null,null,null,null,null,null,null,null,null,null,{"$error":"#N/A"},173,{"$f":"VLOOKUP($M190,Funknavigation!$A$2:$AC$185,N$17,FALSE)","v":"Wipper "},{"$f":"VLOOKUP($M190,Funknavigation!$A$2:$AC$185,O$17,FALSE)","v":"VOR "},{"$f":"VLOOKUP($M190,Funknavigation!$A$2:$AC$185,P$17,FALSE)","v":"WYP"},{"$f":"VLOOKUP($M190,Funknavigation!$A$2:$AC$185,Q$17,FALSE)","v":"· − −   − · − −   · − − ·"},{"$f":"VLOOKUP($M190,Funknavigation!$A$2:$AC$185,R$17,FALSE)","v":173},{"$f":"VLOOKUP($M190,Funknavigation!$A$2:$AC$185,S$17,FALSE)","v":51.048299999999998},{"$f":"VLOOKUP($M190,Funknavigation!$A$2:$AC$185,T$17,FALSE)","v":7.28},{"$f":"VLOOKUP($M190,Funknavigation!$A$2:$AC$185,U$17,FALSE)","v":"109.60"},{"$f":"VLOOKUP($M190,Funknavigation!$A$2:$AC$185,V$17,FALSE)","v":""},{"$f":"VLOOKUP($M190,Funknavigation!$A$2:$AC$185,W$17,FALSE)","v":""},{"$f":"VLOOKUP($M190,Funknavigation!$A$2:$AC$185,X$17,FALSE)","v":25},null,null,0.89096091254582133,0.1270599695451872,{"$f":"IF(AG190=1,MAX(MAX(AC$18:$AC189),MAX($AD$18:$AD$193))+1,\"-\")","v":{"$error":"#N/A"}},{"$f":"IF(AH190=1,MAX($AD$18:AD189)+1,\"-\")","v":{"$error":"#N/A"}},{"$error":"#N/A"},{"$error":"#N/A"},{"$error":"#N/A"},{"$error":"#N/A"},{"$error":"#N/A"},{"$error":"#N/A"},{"$error":"#N/A"},{"$error":"#N/A"},{"$error":"#N/A"},{"$error":"#N/A"},{"$error":"#N/A"},{"$error":"#N/A"},{"$error":"#N/A"},{"$error":"#N/A"},{"$error":"#N/A"},{"$error":"#N/A"},{"$error":"#N/A"},{"$error":"#N/A"},{"$error":"#N/A"},{"$error":"#N/A"},{"$error":"#N/A"},{"$error":"#N/A"},{"$error":"#N/A"},{"$error":"#N/A"},{"$error":"#N/A"},{"$error":"#N/A"},{"$error":"#N/A"},{"$error":"#N/A"},{"$error":"#N/A"},{"$error":"#N/A"},{"$error":"#N/A"},{"$error":"#N/A"},{"$error":"#N/A"},{"$error":"#N/A"},{"$error":"#N/A"},{"$error":"#N/A"},{"$error":"#N/A"},{"$error":"#N/A"},{"$error":"#N/A"},{"$error":"#N/A"},{"$error":"#N/A"},{"$error":"#N/A"},{"$error":"#N/A"},{"$error":"#N/A"},{"$error":"#N/A"},{"$error":"#N/A"},{"$error":"#N/A"},{"$error":"#N/A"},{"$error":"#N/A"},{"$error":"#N/A"},{"$error":"#N/A"},{"$error":"#N/A"},{"$error":"#N/A"},{"$error":"#N/A"},{"$error":"#N/A"},{"$error":"#N/A"},{"$error":"#N/A"},{"$error":"#N/A"},{"$error":"#N/A"},{"$error":"#N/A"},{"$error":"#N/A"},{"$error":"#N/A"},{"$error":"#N/A"},{"$error":"#N/A"},{"$error":"#N/A"},{"$error":"#N/A"},{"$error":"#N/A"},{"$error":"#N/A"},{"$error":"#N/A"},{"$error":"#N/A"},{"$error":"#N/A"},{"$error":"#N/A"},{"$error":"#N/A"},{"$error":"#N/A"},{"$error":"#N/A"},{"$error":"#N/A"},{"$error":"#N/A"},{"$error":"#N/A"},{"$error":"#N/A"},{"$error":"#N/A"},{"$error":"#N/A"},{"$error":"#N/A"},{"$error":"#N/A"},{"$error":"#N/A"},{"$error":"#N/A"},{"$error":"#N/A"},{"$error":"#N/A"},{"$error":"#N/A"},{"$error":"#N/A"},{"$error":"#N/A"},{"$error":"#N/A"},{"$error":"#N/A"},{"$error":"#N/A"},{"$error":"#N/A"},{"$error":"#N/A"},{"$error":"#N/A"},{"$error":"#N/A"},{"$error":"#N/A"},{"$error":"#N/A"},{"$error":"#N/A"},{"$error":"#N/A"},{"$error":"#N/A"},{"$error":"#N/A"},{"$error":"#N/A"},{"$error":"#N/A"},{"$error":"#N/A"}]
[null,null,null,null,null,null,null,null,null,null,null,{"$error":"#N/A"},174,{"$f":"VLOOKUP($M191,Funknavigation!$A$2:$AC$185,N$17,FALSE)","v":"Wunstorf "},{"$f":"VLOOKUP($M191,Funknavigation!$A$2:$AC$185,O$17,FALSE)","v":"NDB "},{"$f":"VLOOKUP($M191,Funknavigation!$A$2:$AC$185,P$17,FALSE)","v":"WUN"},{"$f":"VLOOKUP($M191,Funknavigation!$A$2:$AC$185,Q$17,FALSE)","v":"· − −   · · −   − ·"},{"$f":"VLOOKUP($M191,Funknavigation!$A$2:$AC$185,R$17,FALSE)","v":174},{"$f":"VLOOKUP($M191,Funknavigation!$A$2:$AC$185,S$17,FALSE)","v":52.459400000000002},{"$f":"VLOOKUP($M191,Funknavigation!$A$2:$AC$185,T$17,FALSE)","v":9.4547000000000008},{"$f":"VLOOKUP($M191,Funknavigation!$A$2:$AC$185,U$17,FALSE)","v":""},{"$f":"VLOOKUP($M191,Funknavigation!$A$2:$AC$185,V$17,FALSE)","v":419},{"$f":"VLOOKUP($M191,Funknavigation!$A$2:$AC$185,W$17,FALSE)","v":""},{"$f":"VLOOKUP($M191,Funknavigation!$A$2:$AC$185,X$17,FALSE)","v":25},null,null,0.91558925362071331,0.16501564478830788,{"$f":"IF(AG191=1,MAX(MAX(AC$18:$AC190),MAX($AD$18:$AD$193))+1,\"-\")","v":{"$error":"#N/A"}},{"$f":"IF(AH191=1,MAX($AD$18:AD190)+1,\"-\")","v":{"$error":"#N/A"}},{"$error":"#N/A"},{"$error":"#N/A"},{"$error":"#N/A"},{"$error":"#N/A"},{"$error":"#N/A"},{"$error":"#N/A"},{"$error":"#N/A"},{"$error":"#N/A"},{"$error":"#N/A"},{"$error":"#N/A"},{"$error":"#N/A"},{"$error":"#N/A"},{"$error":"#N/A"},{"$error":"#N/A"},{"$error":"#N/A"},{"$error":"#N/A"},{"$error":"#N/A"},{"$error":"#N/A"},{"$error":"#N/A"},{"$error":"#N/A"},{"$error":"#N/A"},{"$error":"#N/A"},{"$error":"#N/A"},{"$error":"#N/A"},{"$error":"#N/A"},{"$error":"#N/A"},{"$error":"#N/A"},{"$error":"#N/A"},{"$error":"#N/A"},{"$error":"#N/A"},{"$error":"#N/A"},{"$error":"#N/A"},{"$error":"#N/A"},{"$error":"#N/A"},{"$error":"#N/A"},{"$error":"#N/A"},{"$error":"#N/A"},{"$error":"#N/A"},{"$error":"#N/A"},{"$error":"#N/A"},{"$error":"#N/A"},{"$error":"#N/A"},{"$error":"#N/A"},{"$error":"#N/A"},{"$error":"#N/A"},{"$error":"#N/A"},{"$error":"#N/A"},{"$error":"#N/A"},{"$error":"#N/A"},{"$error":"#N/A"},{"$error":"#N/A"},{"$error":"#N/A"},{"$error":"#N/A"},{"$error":"#N/A"},{"$error":"#N/A"},{"$error":"#N/A"},{"$error":"#N/A"},{"$error":"#N/A"},{"$error":"#N/A"},{"$error":"#N/A"},{"$error":"#N/A"},{"$error":"#N/A"},{"$error":"#N/A"},{"$error":"#N/A"},{"$error":"#N/A"},{"$error":"#N/A"},{"$error":"#N/A"},{"$error":"#N/A"},{"$error":"#N/A"},{"$error":"#N/A"},{"$error":"#N/A"},{"$error":"#N/A"},{"$error":"#N/A"},{"$error":"#N/A"},{"$error":"#N/A"},{"$error":"#N/A"},{"$error":"#N/A"},{"$error":"#N/A"},{"$error":"#N/A"},{"$error":"#N/A"},{"$error":"#N/A"},{"$error":"#N/A"},{"$error":"#N/A"},{"$error":"#N/A"},{"$error":"#N/A"},{"$error":"#N/A"},{"$error":"#N/A"},{"$error":"#N/A"},{"$error":"#N/A"},{"$error":"#N/A"},{"$error":"#N/A"},{"$error":"#N/A"},{"$error":"#N/A"},{"$error":"#N/A"},{"$error":"#N/A"},{"$error":"#N/A"},{"$error":"#N/A"},{"$error":"#N/A"},{"$error":"#N/A"},{"$error":"#N/A"},{"$error":"#N/A"},{"$error":"#N/A"},{"$error":"#N/A"},{"$error":"#N/A"},{"$error":"#N/A"},{"$error":"#N/A"}]
[null,null,null,null,null,null,null,null,null,null,null,{"$error":"#N/A"},175,{"$f":"VLOOKUP($M192,Funknavigation!$A$2:$AC$185,N$17,FALSE)","v":"Wuerzburg "},{"$f":"VLOOKUP($M192,Funknavigation!$A$2:$AC$185,O$17,FALSE)","v":"VOR "},{"$f":"VLOOKUP($M192,Funknavigation!$A$2:$AC$185,P$17,FALSE)","v":"WUR"},{"$f":"VLOOKUP($M192,Funknavigation!$A$2:$AC$185,Q$17,FALSE)","v":"· − −   · · −   · − ·"},{"$f":"VLOOKUP($M192,Funknavigation!$A$2:$AC$185,R$17,FALSE)","v":175},{"$f":"VLOOKUP($M192,Funknavigation!$A$2:$AC$185,S$17,FALSE)","v":49.717500000000001},{"$f":"VLOOKUP($M192,Funknavigation!$A$2:$AC$185,T$17,FALSE)","v":9.9468999999999994},{"$f":"VLOOKUP($M192,Funknavigation!$A$2:$AC$185,U$17,FALSE)","v":"110.20"},{"$f":"VLOOKUP($M192,Funknavigation!$A$2:$AC$185,V$17,FALSE)","v":""},{"$f":"VLOOKUP($M192,Funknavigation!$A$2:$AC$185,W$17,FALSE)","v":""},{"$f":"VLOOKUP($M192,Funknavigation!$A$2:$AC$185,X$17,FALSE)","v":60},null,null,0.86773407086028087,0.17360615536662397,{"$f":"IF(AG192=1,MAX(MAX(AC$18:$AC191),MAX($AD$18:$AD$193))+1,\"-\")","v":{"$error":"#N/A"}},{"$f":"IF(AH192=1,MAX($AD$18:AD191)+1,\"-\")","v":{"$error":"#N/A"}},{"$error":"#N/A"},{"$error":"#N/A"},{"$error":"#N/A"},{"$error":"#N/A"},{"$error":"#N/A"},{"$error":"#N/A"},{"$error":"#N/A"},{"$error":"#N/A"},{"$error":"#N/A"},{"$error":"#N/A"},{"$error":"#N/A"},{"$error":"#N/A"},{"$error":"#N/A"},{"$error":"#N/A"},{"$error":"#N/A"},{"$error":"#N/A"},{"$error":"#N/A"},{"$error":"#N/A"},{"$error":"#N/A"},{"$error":"#N/A"},{"$error":"#N/A"},{"$error":"#N/A"},{"$error":"#N/A"},{"$error":"#N/A"},{"$error":"#N/A"},{"$error":"#N/A"},{"$error":"#N/A"},{"$error":"#N/A"},{"$error":"#N/A"},{"$error":"#N/A"},{"$error":"#N/A"},{"$error":"#N/A"},{"$error":"#N/A"},{"$error":"#N/A"},{"$error":"#N/A"},{"$error":"#N/A"},{"$error":"#N/A"},{"$error":"#N/A"},{"$error":"#N/A"},{"$error":"#N/A"},{"$error":"#N/A"},{"$error":"#N/A"},{"$error":"#N/A"},{"$error":"#N/A"},{"$error":"#N/A"},{"$error":"#N/A"},{"$error":"#N/A"},{"$error":"#N/A"},{"$error":"#N/A"},{"$error":"#N/A"},{"$error":"#N/A"},{"$error":"#N/A"},{"$error":"#N/A"},{"$error":"#N/A"},{"$error":"#N/A"},{"$error":"#N/A"},{"$error":"#N/A"},{"$error":"#N/A"},{"$error":"#N/A"},{"$error":"#N/A"},{"$error":"#N/A"},{"$error":"#N/A"},{"$error":"#N/A"},{"$error":"#N/A"},{"$error":"#N/A"},{"$error":"#N/A"},{"$error":"#N/A"},{"$error":"#N/A"},{"$error":"#N/A"},{"$error":"#N/A"},{"$error":"#N/A"},{"$error":"#N/A"},{"$error":"#N/A"},{"$error":"#N/A"},{"$error":"#N/A"},{"$error":"#N/A"},{"$error":"#N/A"},{"$error":"#N/A"},{"$error":"#N/A"},{"$error":"#N/A"},{"$error":"#N/A"},{"$error":"#N/A"},{"$error":"#N/A"},{"$error":"#N/A"},{"$error":"#N/A"},{"$error":"#N/A"},{"$error":"#N/A"},{"$error":"#N/A"},{"$error":"#N/A"},{"$error":"#N/A"},{"$error":"#N/A"},{"$f":"IF(DR$3=\"OK\",(21600/(2*PI()))*ACOS(SIN($AA192)*SIN(DR$6)+COS(DR$6)*COS($AA192)*COS($AB192-DR$7)),\"-\")","v":{"$error":"#N/A"}},{"$error":"#N/A"},{"$error":"#N/A"},{"$error":"#N/A"},{"$error":"#N/A"},{"$error":"#N/A"},{"$error":"#N/A"},{"$error":"#N/A"},{"$error":"#N/A"},{"$error":"#N/A"},{"$error":"#N/A"},{"$error":"#N/A"},{"$error":"#N/A"},{"$error":"#N/A"},{"$error":"#N/A"}]
[null,null,null,null,null,null,null,null,null,null,null,{"$error":"#N/A"},176,{"$f":"VLOOKUP($M193,Funknavigation!$A$2:$AC$185,N$17,FALSE)","v":"Zweibruecken "},{"$f":"VLOOKUP($M193,Funknavigation!$A$2:$AC$185,O$17,FALSE)","v":"DVOR/DME "},{"$f":"VLOOKUP($M193,Funknavigation!$A$2:$AC$185,P$17,FALSE)","v":"ZWN"},{"$f":"VLOOKUP($M193,Funknavigation!$A$2:$AC$185,Q$17,FALSE)","v":"− − · ·   · − −   − ·"},{"$f":"VLOOKUP($M193,Funknavigation!$A$2:$AC$185,R$17,FALSE)","v":176},{"$f":"VLOOKUP($M193,Funknavigation!$A$2:$AC$185,S$17,FALSE)","v":49.229199999999999},{"$f":"VLOOKUP($M193,Funknavigation!$A$2:$AC$185,T$17,FALSE)","v":7.4177999999999997},{"$f":"VLOOKUP($M193,Funknavigation!$A$2:$AC$185,U$17,FALSE)","v":"114.80"},{"$f":"VLOOKUP($M193,Funknavigation!$A$2:$AC$185,V$17,FALSE)","v":""},{"$f":"VLOOKUP($M193,Funknavigation!$A$2:$AC$185,W$17,FALSE)","v":"Ch 95x "},{"$f":"VLOOKUP($M193,Funknavigation!$A$2:$AC$185,X$17,FALSE)","v":60},null,null,0.85921162812279239,0.12946503325443537,{"$f":"IF(AG193=1,MAX(MAX(AC$18:$AC192),MAX($AD$18:$AD$193))+1,\"-\")","v":{"$error":"#N/A"}},{"$f":"IF(AH193=1,MAX($AD$18:AD192)+1,\"-\")","v":{"$error":"#N/A"}},{"$error":"#N/A"},{"$error":"#N/A"},{"$error":"#N/A"},{"$error":"#N/A"},{"$error":"#N/A"},{"$error":"#N/A"},{"$error":"#N/A"},{"$error":"#N/A"},{"$error":"#N/A"},{"$error":"#N/A"},{"$error":"#N/A"},{"$error":"#N/A"},{"$error":"#N/A"},{"$error":"#N/A"},{"$error":"#N/A"},{"$error":"#N/A"},{"$error":"#N/A"},{"$error":"#N/A"},{"$error":"#N/A"},{"$error":"#N/A"},{"$error":"#N/A"},{"$error":"#N/A"},{"$error":"#N/A"},{"$error":"#N/A"},{"$error":"#N/A"},{"$error":"#N/A"},{"$error":"#N/A"},{"$error":"#N/A"},{"$error":"#N/A"},{"$error":"#N/A"},{"$error":"#N/A"},{"$error":"#N/A"},{"$error":"#N/A"},{"$error":"#N/A"},{"$error":"#N/A"},{"$error":"#N/A"},{"$error":"#N/A"},{"$error":"#N/A"},{"$error":"#N/A"},{"$error":"#N/A"},{"$error":"#N/A"},{"$error":"#N/A"},{"$error":"#N/A"},{"$error":"#N/A"},{"$error":"#N/A"},{"$error":"#N/A"},{"$error":"#N/A"},{"$error":"#N/A"},{"$error":"#N/A"},{"$error":"#N/A"},{"$error":"#N/A"},{"$error":"#N/A"},{"$error":"#N/A"},{"$error":"#N/A"},{"$error":"#N/A"},{"$error":"#N/A"},{"$error":"#N/A"},{"$error":"#N/A"},{"$error":"#N/A"},{"$error":"#N/A"},{"$error":"#N/A"},{"$error":"#N/A"},{"$error":"#N/A"},{"$error":"#N/A"},{"$error":"#N/A"},{"$error":"#N/A"},{"$error":"#N/A"},{"$error":"#N/A"},{"$error":"#N/A"},{"$error":"#N/A"},{"$error":"#N/A"},{"$error":"#N/A"},{"$error":"#N/A"},{"$error":"#N/A"},{"$error":"#N/A"},{"$error":"#N/A"},{"$error":"#N/A"},{"$error":"#N/A"},{"$error":"#N/A"},{"$error":"#N/A"},{"$error":"#N/A"},{"$error":"#N/A"},{"$error":"#N/A"},{"$error":"#N/A"},{"$error":"#N/A"},{"$error":"#N/A"},{"$error":"#N/A"},{"$error":"#N/A"},{"$error":"#N/A"},{"$error":"#N/A"},{"$error":"#N/A"},{"$error":"#N/A"},{"$error":"#N/A"},{"$error":"#N/A"},{"$error":"#N/A"},{"$error":"#N/A"},{"$error":"#N/A"},{"$error":"#N/A"},{"$error":"#N/A"},{"$error":"#N/A"},{"$error":"#N/A"},{"$error":"#N/A"},{"$error":"#N/A"},{"$error":"#N/A"},{"$error":"#N/A"},{"$error":"#N/A"}]

{"sheet":"Morse","index":16,"n_rows":37,"n_cols":2,"rows_kept":37,"cut":false,"hidden":true,"merged":[]}
[]
["A","· −"]
["B","− · · ·"]
["C","− · − ·"]
["D","− · ·"]
["E","·"]
["F","· · − ·"]
["G","− − ·"]
["H","· · · ·"]
["I","· ·"]
["J","· − − −"]
["K","− · −"]
["L","· − · ·"]
["M","− −"]
["N","− ·"]
["O","− − −"]
["P","· − − ·"]
["Q","− − · −"]
["R","· − ·"]
["S","· · ·"]
["T","−"]
["U","· · −"]
["V","· · · −"]
["W","· − −"]
["X","− · · −"]
["Y","− · − −"]
["Z","− − · ·"]
[0,"− − − − −"]
[1,"· − − − −"]
[2,"· · − − −"]
[3,"· · · − −"]
[4,"· · · · −"]
[5,"· · · · ·"]
[6,"− · · · ·"]
[7,"− − · · ·"]
[8,"− − − · ·"]
[9,"− − − − ·"]